{"text_format":"1","workbook":"xlsx","n_sheets":13,"sheets":["Offsets","Data","PictureList","Menu","Volume Summary","Vol Sum 30 Min","Vol Sum 60 Min","Class Summary","ARX Class Summary","Speed Summary","Vol Graph","ARX Key","Site Plans"],"not_rendered":{"charts":8,"images":11,"macros":1,"external_links":0,"defined_names":16,"comments":0,"pivot_tables":0},"unopened":[{"sheet":"Vol Graph","index":10,"reason":"not_a_worksheet"}],"bounds":{"document_bytes":16777216,"sheet_cells":100000,"rows_first":2000,"rows_last":500,"rows_between":2000,"halvings":0,"cell_chars":16384,"cell_head_chars":4096},"cells_cut":0,"cells_raw":0,"read":"whole","date_system":"1900"}

{"sheet":"Offsets","index":0,"n_rows":100,"n_cols":45,"rows_kept":100,"cut":false,"hidden":true,"merged":[]}
["Vol Sum Dir",null,null,null,null,null,"St Athan",null,"3185-WAL",null,null,"WYG"]
[{"$f":"OFFSET(A4,A3,0)","v":"Combined"},null,null,null,null,null,null,null,null,null,null,null,null,null,null,null,null,null,null,null,null,null,null,null,null,"Graph Data"]
[3,null,null,null,null,{"$f":"OFFSET(F4,$N$4,0)","v":1},"B4265","51.39833, -3.41253",1,{"$f":"OFFSET(J4,$N$4,0)","v":"Eastbound"},"Westbound",{"$f":"OFFSET(L4,$N$4,0)","v":"2016-06-07"},{"$f":"OFFSET(M4,$N$4,0)","v":40},"1. B4265 - 51.39833, -3.41253",null,{"$f":"OFFSET(P4,$N$4,0)","v":"2016-07-13"},{"$f":"OFFSET(Q4,$N$4,0)","v":"2016-06-07"},"2016-06-08","2016-06-09","2016-06-10","2016-06-11","2016-06-12",null,null,null,null,null,null,null,null,null,null,null,null,null,null,false,false,false,false,false,false,false,false,false]
["Direction",null,null,null,null,null,"Road","Location","Site No.","Dir 1","Dir 2","Start Date","Speed Limit",1,"Start Day","Mon","Tue","Wed","Thu","Fri","Sat","Sun",null,null,null,null,"Mon","Tue","Wed","Thu","Fri","Sat","Sun","5 Day Ave","7 Day Ave",null,"Mon","Tue","Wed","Thu","Fri","Sat","Sun","5 Day Ave","7 Day Ave"]
[{"$f":"+J3","v":"Eastbound"},null,null,null,null,1,"B4265","51.39833, -3.41253",1,"Eastbound",{"$f":"IF(J5=\"Northbound\",\"Southbound\",IF(J5=\"Eastbound\",\"Westbound\",IF(J5=\"Southbound\",\"Northbound\",IF(J5=\"Westbound\",\"Eastbound\"))))","v":"Westbound"},"2016-06-07",40,{"$f":"IF(ISBLANK(G5),0,I5&\". \"&G5&\" - \"&H5)","v":"1. B4265 - 51.39833, -3.41253"},{"$f":"TEXT(L5,\"dddd\")","v":"Tuesday"},"2016-07-13","2016-06-07","2016-06-08","2016-06-09","2016-06-10","2016-06-11","2016-06-12",null,null,null,0,{"$f":"OFFSET(Data!EC5,$A$37,$A$36)","v":16},{"$f":"OFFSET(Data!ED5,$A$37,$A$36)","v":14},{"$f":"OFFSET(Data!EE5,$A$37,$A$36)","v":14},{"$f":"OFFSET(Data!EF5,$A$37,$A$36)","v":17},{"$f":"OFFSET(Data!EG5,$A$37,$A$36)","v":23},{"$f":"OFFSET(Data!EH5,$A$37,$A$36)","v":26},{"$f":"OFFSET(Data!EI5,$A$37,$A$36)","v":38},{"$f":"SUM(AA5:AE5)/5","v":16.8},{"$f":"SUM(AA5:AG5)/7","v":21.142857142857142},0,{"$f":"IF(AK$3=TRUE,AA5,\"\")","v":""},{"$f":"IF(AL$3=TRUE,AB5,\"\")","v":""},"","","","","",{"$f":"IF(AR$3=TRUE,AH5,\"\")","v":""},{"$f":"IF(AS$3=TRUE,AI5,\"\")","v":""}]
[{"$f":"+K3","v":"Westbound"},null,null,null,null,2,"Gileston Road","51.40016, -3.41362",2,"Northbound",{"$f":"IF(J6=\"Northbound\",\"Southbound\",IF(J6=\"Eastbound\",\"Westbound\",IF(J6=\"Southbound\",\"Northbound\",IF(J6=\"Westbound\",\"Eastbound\"))))","v":"Southbound"},"2016-06-07",30,{"$f":"IF(ISBLANK(G6),0,I6&\". \"&G6&\" - \"&H6)","v":"2. Gileston Road - 51.40016, -3.41362"},{"$f":"TEXT(L6,\"dddd\")","v":"Tuesday"},"2016-07-13","2016-06-07","2016-06-08","2016-06-09","2016-06-10","2016-06-11","2016-06-12",null,null,null,15,{"$f":"OFFSET(Data!EC6,$A$37,$A$36)","v":10},{"$f":"OFFSET(Data!ED6,$A$37,$A$36)","v":13},{"$f":"OFFSET(Data!EE6,$A$37,$A$36)","v":10},{"$f":"OFFSET(Data!EF6,$A$37,$A$36)","v":13},{"$f":"OFFSET(Data!EG6,$A$37,$A$36)","v":22},{"$f":"OFFSET(Data!EH6,$A$37,$A$36)","v":21},{"$f":"OFFSET(Data!EI6,$A$37,$A$36)","v":40},{"$f":"SUM(AA6:AE6)/5","v":13.6},18.428571428571427,15,{"$f":"IF(AK$3=TRUE,AA6,\"\")","v":""},{"$f":"IF(AL$3=TRUE,AB6,\"\")","v":""},{"$f":"IF(AM$3=TRUE,AC6,\"\")","v":""},{"$f":"IF(AN$3=TRUE,AD6,\"\")","v":""},{"$f":"IF(AO$3=TRUE,AE6,\"\")","v":""},{"$f":"IF(AP$3=TRUE,AF6,\"\")","v":""},{"$f":"IF(AQ$3=TRUE,AG6,\"\")","v":""},{"$f":"IF(AR$3=TRUE,AH6,\"\")","v":""},{"$f":"IF(AS$3=TRUE,AI6,\"\")","v":""}]
["Combined",null,null,null,null,3,"St Athan Road","51.41599, -3.42599",3,"Northbound","Southbound","2016-06-07",30,"3. St Athan Road - 51.41599, -3.42599","Tuesday","2016-07-13","2016-06-07","2016-06-08","2016-06-09","2016-06-10","2016-06-11","2016-06-12",null,null,null,30,{"$f":"OFFSET(Data!EC7,$A$37,$A$36)","v":20},{"$f":"OFFSET(Data!ED7,$A$37,$A$36)","v":8},{"$f":"OFFSET(Data!EE7,$A$37,$A$36)","v":10},{"$f":"OFFSET(Data!EF7,$A$37,$A$36)","v":11},{"$f":"OFFSET(Data!EG7,$A$37,$A$36)","v":12},{"$f":"OFFSET(Data!EH7,$A$37,$A$36)","v":19},{"$f":"OFFSET(Data!EI7,$A$37,$A$36)","v":43},12.2,17.571428571428573,30,"","","","","","","","",""]
[null,null,null,null,null,4,"B4265","51.41063, -3.46588",4,"Eastbound","Westbound","2016-06-07",40,"4. B4265 - 51.41063, -3.46588","Tuesday","2016-07-13","2016-06-07","2016-06-08","2016-06-09","2016-06-10","2016-06-11","2016-06-12",null,null,null,45,{"$f":"OFFSET(Data!EC8,$A$37,$A$36)","v":16},{"$f":"OFFSET(Data!ED8,$A$37,$A$36)","v":5},{"$f":"OFFSET(Data!EE8,$A$37,$A$36)","v":8},{"$f":"OFFSET(Data!EF8,$A$37,$A$36)","v":7},{"$f":"OFFSET(Data!EG8,$A$37,$A$36)","v":8},{"$f":"OFFSET(Data!EH8,$A$37,$A$36)","v":26},{"$f":"OFFSET(Data!EI8,$A$37,$A$36)","v":37},8.8000000000000007,15.285714285714286,45,"","","","","","","","",""]
["Vol Sum Dir",null,null,null,null,5,"Eglwys-Brewis Road","51.40966, -3.45586",5,"Northbound","Southbound","2016-06-07",30,"5. Eglwys-Brewis Road - 51.40966, -3.45586","Tuesday","2016-07-13","2016-06-07","2016-06-08","2016-06-09","2016-06-10","2016-06-11","2016-06-12",null,null,null,100,{"$f":"OFFSET(Data!EC9,$A$37,$A$36)","v":11},{"$f":"OFFSET(Data!ED9,$A$37,$A$36)","v":12},{"$f":"OFFSET(Data!EE9,$A$37,$A$36)","v":3},{"$f":"OFFSET(Data!EF9,$A$37,$A$36)","v":14},{"$f":"OFFSET(Data!EG9,$A$37,$A$36)","v":6},{"$f":"OFFSET(Data!EH9,$A$37,$A$36)","v":24},{"$f":"OFFSET(Data!EI9,$A$37,$A$36)","v":33},9.1999999999999993,14.714285714285714,100,"","","","","","","","",""]
[{"$f":"SUM(A3-1)*7","v":14},"Col","Dir",null,null,6,null,null,6,null,false,null,null,0,"Saturday",null,null,null,null,null,null,null,null,null,null,115,{"$f":"OFFSET(Data!EC10,$A$37,$A$36)","v":11},{"$f":"OFFSET(Data!ED10,$A$37,$A$36)","v":5},{"$f":"OFFSET(Data!EE10,$A$37,$A$36)","v":5},{"$f":"OFFSET(Data!EF10,$A$37,$A$36)","v":9},{"$f":"OFFSET(Data!EG10,$A$37,$A$36)","v":8},{"$f":"OFFSET(Data!EH10,$A$37,$A$36)","v":14},{"$f":"OFFSET(Data!EI10,$A$37,$A$36)","v":27},7.6,11.285714285714286,115,"","","","","","","","",""]
[{"$f":"SUM($F$3-1)*867","v":0},"Row","Site",null,null,7,null,null,7,null,false,null,null,0,"Saturday",null,null,null,null,null,null,null,null,null,null,130,{"$f":"OFFSET(Data!EC11,$A$37,$A$36)","v":6},{"$f":"OFFSET(Data!ED11,$A$37,$A$36)","v":4},{"$f":"OFFSET(Data!EE11,$A$37,$A$36)","v":3},{"$f":"OFFSET(Data!EF11,$A$37,$A$36)","v":8},{"$f":"OFFSET(Data!EG11,$A$37,$A$36)","v":3},{"$f":"OFFSET(Data!EH11,$A$37,$A$36)","v":7},{"$f":"OFFSET(Data!EI11,$A$37,$A$36)","v":14},4.8,6.4285714285714288,130,"","","","","","","","",""]
[null,null,null,null,null,8,null,null,8,null,false,null,null,0,"Saturday",null,null,null,null,null,null,null,null,null,null,145,{"$f":"OFFSET(Data!EC12,$A$37,$A$36)","v":8},{"$f":"OFFSET(Data!ED12,$A$37,$A$36)","v":11},{"$f":"OFFSET(Data!EE12,$A$37,$A$36)","v":4},{"$f":"OFFSET(Data!EF12,$A$37,$A$36)","v":10},{"$f":"OFFSET(Data!EG12,$A$37,$A$36)","v":8},{"$f":"OFFSET(Data!EH12,$A$37,$A$36)","v":15},{"$f":"OFFSET(Data!EI12,$A$37,$A$36)","v":8},8.1999999999999993,9.1428571428571423,145,"","","","","","","","",""]
[null,null,null,null,null,9,null,null,9,null,false,null,null,0,"Saturday",null,null,null,null,null,null,null,null,null,null,200,{"$f":"OFFSET(Data!EC13,$A$37,$A$36)","v":6},{"$f":"OFFSET(Data!ED13,$A$37,$A$36)","v":13},{"$f":"OFFSET(Data!EE13,$A$37,$A$36)","v":2},{"$f":"OFFSET(Data!EF13,$A$37,$A$36)","v":6},{"$f":"OFFSET(Data!EG13,$A$37,$A$36)","v":11},{"$f":"OFFSET(Data!EH13,$A$37,$A$36)","v":16},{"$f":"OFFSET(Data!EI13,$A$37,$A$36)","v":8},7.6,8.8571428571428577,200,"","","","","","","","",""]
["Class Summ",null,null,null,null,10,null,null,10,null,false,null,null,0,"Saturday",null,null,null,null,null,null,null,null,null,null,215,{"$f":"OFFSET(Data!EC14,$A$37,$A$36)","v":8},{"$f":"OFFSET(Data!ED14,$A$37,$A$36)","v":7},{"$f":"OFFSET(Data!EE14,$A$37,$A$36)","v":11},{"$f":"OFFSET(Data!EF14,$A$37,$A$36)","v":9},{"$f":"OFFSET(Data!EG14,$A$37,$A$36)","v":6},{"$f":"OFFSET(Data!EH14,$A$37,$A$36)","v":11},{"$f":"OFFSET(Data!EI14,$A$37,$A$36)","v":13},8.1999999999999993,9.2857142857142865,215,"","","","","","","","",""]
[9,null,null,null,null,11,null,null,11,null,false,null,null,0,"Saturday",null,null,null,null,null,null,null,null,null,null,230,{"$f":"OFFSET(Data!EC15,$A$37,$A$36)","v":12},{"$f":"OFFSET(Data!ED15,$A$37,$A$36)","v":12},{"$f":"OFFSET(Data!EE15,$A$37,$A$36)","v":5},{"$f":"OFFSET(Data!EF15,$A$37,$A$36)","v":10},{"$f":"OFFSET(Data!EG15,$A$37,$A$36)","v":7},{"$f":"OFFSET(Data!EH15,$A$37,$A$36)","v":16},{"$f":"OFFSET(Data!EI15,$A$37,$A$36)","v":14},9.1999999999999993,10.857142857142858,230,"","","","","","","","",""]
["Monday",null,null,null,null,12,null,null,12,null,false,null,null,0,"Saturday",null,null,null,null,null,null,null,null,null,null,245,{"$f":"OFFSET(Data!EC16,$A$37,$A$36)","v":8},{"$f":"OFFSET(Data!ED16,$A$37,$A$36)","v":4},{"$f":"OFFSET(Data!EE16,$A$37,$A$36)","v":4},{"$f":"OFFSET(Data!EF16,$A$37,$A$36)","v":5},{"$f":"OFFSET(Data!EG16,$A$37,$A$36)","v":9},{"$f":"OFFSET(Data!EH16,$A$37,$A$36)","v":6},{"$f":"OFFSET(Data!EI16,$A$37,$A$36)","v":3},6,5.5714285714285712,245,"","","","","","","","",""]
["Tuesday",null,null,null,null,13,null,null,13,null,false,null,null,0,"Saturday",null,null,null,null,null,null,null,null,null,null,300,{"$f":"OFFSET(Data!EC17,$A$37,$A$36)","v":15},{"$f":"OFFSET(Data!ED17,$A$37,$A$36)","v":6},{"$f":"OFFSET(Data!EE17,$A$37,$A$36)","v":8},{"$f":"OFFSET(Data!EF17,$A$37,$A$36)","v":9},{"$f":"OFFSET(Data!EG17,$A$37,$A$36)","v":5},{"$f":"OFFSET(Data!EH17,$A$37,$A$36)","v":10},{"$f":"OFFSET(Data!EI17,$A$37,$A$36)","v":3},8.6,8,300,"","","","","","","","",""]
["Wednesday",null,null,null,null,14,null,null,14,null,false,null,null,0,"Saturday",null,null,null,null,null,null,null,null,null,null,315,{"$f":"OFFSET(Data!EC18,$A$37,$A$36)","v":18},{"$f":"OFFSET(Data!ED18,$A$37,$A$36)","v":13},{"$f":"OFFSET(Data!EE18,$A$37,$A$36)","v":3},{"$f":"OFFSET(Data!EF18,$A$37,$A$36)","v":15},{"$f":"OFFSET(Data!EG18,$A$37,$A$36)","v":10},{"$f":"OFFSET(Data!EH18,$A$37,$A$36)","v":17},{"$f":"OFFSET(Data!EI18,$A$37,$A$36)","v":10},11.8,12.285714285714286,315,"","","","","","","","",""]
["Thursday",null,null,null,null,15,null,null,15,null,false,null,null,0,"Saturday",null,null,null,null,null,null,null,null,null,null,330,{"$f":"OFFSET(Data!EC19,$A$37,$A$36)","v":8},{"$f":"OFFSET(Data!ED19,$A$37,$A$36)","v":15},{"$f":"OFFSET(Data!EE19,$A$37,$A$36)","v":7},{"$f":"OFFSET(Data!EF19,$A$37,$A$36)","v":11},{"$f":"OFFSET(Data!EG19,$A$37,$A$36)","v":4},{"$f":"OFFSET(Data!EH19,$A$37,$A$36)","v":15},{"$f":"OFFSET(Data!EI19,$A$37,$A$36)","v":15},9,10.714285714285714,330,"","","","","","","","",""]
["Friday",null,null,null,null,16,null,null,16,null,false,null,null,0,"Saturday",null,null,null,null,null,null,null,null,null,null,345,{"$f":"OFFSET(Data!EC20,$A$37,$A$36)","v":13},{"$f":"OFFSET(Data!ED20,$A$37,$A$36)","v":24},{"$f":"OFFSET(Data!EE20,$A$37,$A$36)","v":6},{"$f":"OFFSET(Data!EF20,$A$37,$A$36)","v":10},{"$f":"OFFSET(Data!EG20,$A$37,$A$36)","v":10},{"$f":"OFFSET(Data!EH20,$A$37,$A$36)","v":11},{"$f":"OFFSET(Data!EI20,$A$37,$A$36)","v":12},12.6,12.285714285714286,345,"","","","","","","","",""]
["Saturday",null,null,null,null,17,null,null,17,null,false,null,null,0,"Saturday",null,null,null,null,null,null,null,null,null,null,400,{"$f":"OFFSET(Data!EC21,$A$37,$A$36)","v":8},{"$f":"OFFSET(Data!ED21,$A$37,$A$36)","v":15},{"$f":"OFFSET(Data!EE21,$A$37,$A$36)","v":4},{"$f":"OFFSET(Data!EF21,$A$37,$A$36)","v":12},{"$f":"OFFSET(Data!EG21,$A$37,$A$36)","v":7},{"$f":"OFFSET(Data!EH21,$A$37,$A$36)","v":12},{"$f":"OFFSET(Data!EI21,$A$37,$A$36)","v":11},9.1999999999999993,9.8571428571428577,400,"","","","","","","","",""]
["Sunday",null,null,null,null,18,null,null,18,null,false,null,null,0,"Saturday",null,null,null,null,null,null,null,null,null,null,415,{"$f":"OFFSET(Data!EC22,$A$37,$A$36)","v":15},{"$f":"OFFSET(Data!ED22,$A$37,$A$36)","v":10},{"$f":"OFFSET(Data!EE22,$A$37,$A$36)","v":9},{"$f":"OFFSET(Data!EF22,$A$37,$A$36)","v":13},{"$f":"OFFSET(Data!EG22,$A$37,$A$36)","v":5},{"$f":"OFFSET(Data!EH22,$A$37,$A$36)","v":10},{"$f":"OFFSET(Data!EI22,$A$37,$A$36)","v":13},10.4,10.714285714285714,415,"","","","","","","","",""]
["Weekday Average",null,null,null,null,19,null,null,19,null,false,null,null,0,"Saturday",null,null,null,null,null,null,null,null,null,null,430,{"$f":"OFFSET(Data!EC23,$A$37,$A$36)","v":25},{"$f":"OFFSET(Data!ED23,$A$37,$A$36)","v":14},{"$f":"OFFSET(Data!EE23,$A$37,$A$36)","v":17},{"$f":"OFFSET(Data!EF23,$A$37,$A$36)","v":12},{"$f":"OFFSET(Data!EG23,$A$37,$A$36)","v":13},{"$f":"OFFSET(Data!EH23,$A$37,$A$36)","v":14},{"$f":"OFFSET(Data!EI23,$A$37,$A$36)","v":5},16.2,14.285714285714286,430,"","","","","","","","",""]
["7 Day Average",null,null,null,null,20,null,null,20,null,false,null,null,0,"Saturday",null,null,null,null,null,null,null,null,null,null,445,{"$f":"OFFSET(Data!EC24,$A$37,$A$36)","v":24},{"$f":"OFFSET(Data!ED24,$A$37,$A$36)","v":24},{"$f":"OFFSET(Data!EE24,$A$37,$A$36)","v":13},{"$f":"OFFSET(Data!EF24,$A$37,$A$36)","v":13},{"$f":"OFFSET(Data!EG24,$A$37,$A$36)","v":19},{"$f":"OFFSET(Data!EH24,$A$37,$A$36)","v":15},{"$f":"OFFSET(Data!EI24,$A$37,$A$36)","v":7},18.600000000000001,16.428571428571427,445,"","","","","","","","",""]
[null,null,null,null,null,null,null,null,null,null,null,null,null,null,null,null,null,null,null,null,null,null,null,null,null,500,{"$f":"OFFSET(Data!EC25,$A$37,$A$36)","v":28},{"$f":"OFFSET(Data!ED25,$A$37,$A$36)","v":16},{"$f":"OFFSET(Data!EE25,$A$37,$A$36)","v":24},{"$f":"OFFSET(Data!EF25,$A$37,$A$36)","v":17},{"$f":"OFFSET(Data!EG25,$A$37,$A$36)","v":27},{"$f":"OFFSET(Data!EH25,$A$37,$A$36)","v":29},{"$f":"OFFSET(Data!EI25,$A$37,$A$36)","v":18},22.4,22.714285714285715,500,"","","","","","","","",""]
["Class Summ",null,null,null,null,null,null,"PictureList Details:",null,null,null,null,null,null,null,null,null,null,null,null,null,null,null,null,null,515,{"$f":"OFFSET(Data!EC26,$A$37,$A$36)","v":37},{"$f":"OFFSET(Data!ED26,$A$37,$A$36)","v":29},{"$f":"OFFSET(Data!EE26,$A$37,$A$36)","v":38},{"$f":"OFFSET(Data!EF26,$A$37,$A$36)","v":32},{"$f":"OFFSET(Data!EG26,$A$37,$A$36)","v":32},{"$f":"OFFSET(Data!EH26,$A$37,$A$36)","v":24},{"$f":"OFFSET(Data!EI26,$A$37,$A$36)","v":26},33.6,31.142857142857142,515,"","","","","","","","",""]
[{"$f":"SUM(A15-1)*96","v":768},"Row 1","Day",null,null,null,null,"\"Select Site…\"","Road","Location","Site No.","Dir 1","Dir 2","Speed limit",null,null,null,null,null,null,null,null,null,null,null,530,{"$f":"OFFSET(Data!EC27,$A$37,$A$36)","v":46},{"$f":"OFFSET(Data!ED27,$A$37,$A$36)","v":43},{"$f":"OFFSET(Data!EE27,$A$37,$A$36)","v":36},{"$f":"OFFSET(Data!EF27,$A$37,$A$36)","v":39},{"$f":"OFFSET(Data!EG27,$A$37,$A$36)","v":46},{"$f":"OFFSET(Data!EH27,$A$37,$A$36)","v":46},{"$f":"OFFSET(Data!EI27,$A$37,$A$36)","v":35},42,41.571428571428569,530,"","","","","","","","",""]
[{"$f":"SUM(($F$3-1)*867)+A27","v":768},"Row 2","Site",null,null,null,null,{"$f":"N5","v":"1. B4265 - 51.39833, -3.41253"},{"$f":"G5","v":"B4265"},{"$f":"H5","v":"51.39833, -3.41253"},{"$f":"I5","v":1},{"$f":"J5","v":"Eastbound"},{"$f":"K5","v":"Westbound"},{"$f":"M5","v":40},null,null,null,null,null,null,null,null,null,null,null,545,{"$f":"OFFSET(Data!EC28,$A$37,$A$36)","v":51},{"$f":"OFFSET(Data!ED28,$A$37,$A$36)","v":70},{"$f":"OFFSET(Data!EE28,$A$37,$A$36)","v":71},{"$f":"OFFSET(Data!EF28,$A$37,$A$36)","v":78},{"$f":"OFFSET(Data!EG28,$A$37,$A$36)","v":61},{"$f":"OFFSET(Data!EH28,$A$37,$A$36)","v":52},{"$f":"OFFSET(Data!EI28,$A$37,$A$36)","v":46},66.2,61.285714285714285,545,"","","","","","","","",""]
[null,null,null,null,null,null,null,"2. Gileston Road - 51.40016, -3.41362","Gileston Road","51.40016, -3.41362",2,"Northbound","Southbound",30,null,null,null,null,null,null,null,null,null,null,null,600,{"$f":"OFFSET(Data!EC29,$A$37,$A$36)","v":77},{"$f":"OFFSET(Data!ED29,$A$37,$A$36)","v":102},{"$f":"OFFSET(Data!EE29,$A$37,$A$36)","v":86},{"$f":"OFFSET(Data!EF29,$A$37,$A$36)","v":95},{"$f":"OFFSET(Data!EG29,$A$37,$A$36)","v":95},{"$f":"OFFSET(Data!EH29,$A$37,$A$36)","v":47},{"$f":"OFFSET(Data!EI29,$A$37,$A$36)","v":50},{"$f":"SUM(AA29:AE29)/5","v":91},{"$f":"SUM(AA29:AG29)/7","v":78.857142857142861},600,"","","","","","","","",""]
["Speed Summary",null,null,null,null,null,null,"3. St Athan Road - 51.41599, -3.42599","St Athan Road","51.41599, -3.42599",3,"Northbound","Southbound",30,null,null,null,null,null,null,null,null,null,null,null,615,{"$f":"OFFSET(Data!EC30,$A$37,$A$36)","v":82},{"$f":"OFFSET(Data!ED30,$A$37,$A$36)","v":69},{"$f":"OFFSET(Data!EE30,$A$37,$A$36)","v":77},{"$f":"OFFSET(Data!EF30,$A$37,$A$36)","v":73},{"$f":"OFFSET(Data!EG30,$A$37,$A$36)","v":81},{"$f":"OFFSET(Data!EH30,$A$37,$A$36)","v":46},{"$f":"OFFSET(Data!EI30,$A$37,$A$36)","v":25},76.400000000000006,64.714285714285708,615,"","","","","","","","",""]
[{"$f":"SUM(A3-1)*38","v":76},"Col",null,null,null,null,null,"4. B4265 - 51.41063, -3.46588","B4265","51.41063, -3.46588",4,"Eastbound","Westbound",40,null,null,null,null,null,null,null,null,null,null,null,630,{"$f":"OFFSET(Data!EC31,$A$37,$A$36)","v":108},{"$f":"OFFSET(Data!ED31,$A$37,$A$36)","v":124},{"$f":"OFFSET(Data!EE31,$A$37,$A$36)","v":97},{"$f":"OFFSET(Data!EF31,$A$37,$A$36)","v":100},{"$f":"OFFSET(Data!EG31,$A$37,$A$36)","v":93},{"$f":"OFFSET(Data!EH31,$A$37,$A$36)","v":59},{"$f":"OFFSET(Data!EI31,$A$37,$A$36)","v":39},104.4,88.571428571428569,630,"","","","","","","","",""]
[{"$f":"SUM(A15-1)*96","v":768},"Row1",null,null,null,null,null,"5. Eglwys-Brewis Road - 51.40966, -3.45586","Eglwys-Brewis Road","51.40966, -3.45586",5,"Northbound","Southbound",30,null,null,null,null,null,null,null,null,null,null,null,645,{"$f":"OFFSET(Data!EC32,$A$37,$A$36)","v":101},{"$f":"OFFSET(Data!ED32,$A$37,$A$36)","v":88},{"$f":"OFFSET(Data!EE32,$A$37,$A$36)","v":111},{"$f":"OFFSET(Data!EF32,$A$37,$A$36)","v":126},{"$f":"OFFSET(Data!EG32,$A$37,$A$36)","v":113},{"$f":"OFFSET(Data!EH32,$A$37,$A$36)","v":45},{"$f":"OFFSET(Data!EI32,$A$37,$A$36)","v":42},107.8,89.428571428571431,645,"","","","","","","","",""]
[{"$f":"SUM(A32+A11)","v":768},"Row2",null,null,null,null,null,0,0,0,6,0,false,0,null,null,null,null,null,null,null,null,null,null,null,700,{"$f":"OFFSET(Data!EC33,$A$37,$A$36)","v":141},{"$f":"OFFSET(Data!ED33,$A$37,$A$36)","v":164},{"$f":"OFFSET(Data!EE33,$A$37,$A$36)","v":136},{"$f":"OFFSET(Data!EF33,$A$37,$A$36)","v":153},{"$f":"OFFSET(Data!EG33,$A$37,$A$36)","v":131},{"$f":"OFFSET(Data!EH33,$A$37,$A$36)","v":55},{"$f":"OFFSET(Data!EI33,$A$37,$A$36)","v":26},145,115.14285714285714,700,"","","","","","","","",""]
[null,null,null,null,null,null,null,0,0,0,7,0,false,0,null,null,null,null,null,null,null,null,null,null,null,715,{"$f":"OFFSET(Data!EC34,$A$37,$A$36)","v":161},{"$f":"OFFSET(Data!ED34,$A$37,$A$36)","v":184},{"$f":"OFFSET(Data!EE34,$A$37,$A$36)","v":188},{"$f":"OFFSET(Data!EF34,$A$37,$A$36)","v":176},{"$f":"OFFSET(Data!EG34,$A$37,$A$36)","v":171},{"$f":"OFFSET(Data!EH34,$A$37,$A$36)","v":51},{"$f":"OFFSET(Data!EI34,$A$37,$A$36)","v":29},176,137.14285714285714,715,"","","","","","","","",""]
["Vol Graph",null,null,null,null,null,null,0,0,0,8,0,false,0,null,null,null,null,null,null,null,null,null,null,null,730,{"$f":"OFFSET(Data!EC35,$A$37,$A$36)","v":235},{"$f":"OFFSET(Data!ED35,$A$37,$A$36)","v":242},{"$f":"OFFSET(Data!EE35,$A$37,$A$36)","v":266},{"$f":"OFFSET(Data!EF35,$A$37,$A$36)","v":223},{"$f":"OFFSET(Data!EG35,$A$37,$A$36)","v":241},{"$f":"OFFSET(Data!EH35,$A$37,$A$36)","v":57},{"$f":"OFFSET(Data!EI35,$A$37,$A$36)","v":39},241.4,186.14285714285714,730,"","","","","","","","",""]
[{"$f":"+A10","v":14},"Col",null,null,null,null,null,0,0,0,9,0,false,0,null,null,null,null,null,null,null,null,null,null,null,745,{"$f":"OFFSET(Data!EC36,$A$37,$A$36)","v":258},{"$f":"OFFSET(Data!ED36,$A$37,$A$36)","v":267},{"$f":"OFFSET(Data!EE36,$A$37,$A$36)","v":283},{"$f":"OFFSET(Data!EF36,$A$37,$A$36)","v":252},{"$f":"OFFSET(Data!EG36,$A$37,$A$36)","v":242},{"$f":"OFFSET(Data!EH36,$A$37,$A$36)","v":52},{"$f":"OFFSET(Data!EI36,$A$37,$A$36)","v":46},260.39999999999998,200,745,"","","","","","","","",""]
[{"$f":"+A11","v":0},"Row","Site",null,null,null,null,0,0,0,10,0,false,0,null,null,null,null,null,null,null,null,null,null,null,800,{"$f":"OFFSET(Data!EC37,$A$37,$A$36)","v":271},{"$f":"OFFSET(Data!ED37,$A$37,$A$36)","v":279},{"$f":"OFFSET(Data!EE37,$A$37,$A$36)","v":265},{"$f":"OFFSET(Data!EF37,$A$37,$A$36)","v":268},{"$f":"OFFSET(Data!EG37,$A$37,$A$36)","v":252},{"$f":"OFFSET(Data!EH37,$A$37,$A$36)","v":0},{"$f":"OFFSET(Data!EI37,$A$37,$A$36)","v":50},267,197.85714285714286,800,"","","","","","","","",""]
[null,null,null,null,null,null,null,0,0,0,11,0,false,0,null,null,null,null,null,null,null,null,null,null,null,815,{"$f":"OFFSET(Data!EC38,$A$37,$A$36)","v":260},{"$f":"OFFSET(Data!ED38,$A$37,$A$36)","v":277},{"$f":"OFFSET(Data!EE38,$A$37,$A$36)","v":249},{"$f":"OFFSET(Data!EF38,$A$37,$A$36)","v":299},{"$f":"OFFSET(Data!EG38,$A$37,$A$36)","v":252},{"$f":"OFFSET(Data!EH38,$A$37,$A$36)","v":0},{"$f":"OFFSET(Data!EI38,$A$37,$A$36)","v":64},267.39999999999998,200.14285714285714,815,"","","","","","","","",""]
[null,null,null,null,null,null,null,0,0,0,12,0,false,0,null,null,null,null,null,null,null,null,null,null,null,830,{"$f":"OFFSET(Data!EC39,$A$37,$A$36)","v":227},{"$f":"OFFSET(Data!ED39,$A$37,$A$36)","v":257},{"$f":"OFFSET(Data!EE39,$A$37,$A$36)","v":215},{"$f":"OFFSET(Data!EF39,$A$37,$A$36)","v":219},{"$f":"OFFSET(Data!EG39,$A$37,$A$36)","v":220},{"$f":"OFFSET(Data!EH39,$A$37,$A$36)","v":0},{"$f":"OFFSET(Data!EI39,$A$37,$A$36)","v":64},227.6,171.71428571428572,830,"","","","","","","","",""]
[null,null,null,null,null,null,null,0,0,0,13,0,false,0,null,null,null,null,null,null,null,null,null,null,null,845,{"$f":"OFFSET(Data!EC40,$A$37,$A$36)","v":185},{"$f":"OFFSET(Data!ED40,$A$37,$A$36)","v":205},{"$f":"OFFSET(Data!EE40,$A$37,$A$36)","v":190},{"$f":"OFFSET(Data!EF40,$A$37,$A$36)","v":195},{"$f":"OFFSET(Data!EG40,$A$37,$A$36)","v":189},{"$f":"OFFSET(Data!EH40,$A$37,$A$36)","v":96},{"$f":"OFFSET(Data!EI40,$A$37,$A$36)","v":63},192.8,160.42857142857142,845,"","","","","","","","",""]
[null,null,null,null,null,null,null,0,0,0,14,0,false,0,null,null,null,null,null,null,null,null,null,null,null,900,{"$f":"OFFSET(Data!EC41,$A$37,$A$36)","v":175},{"$f":"OFFSET(Data!ED41,$A$37,$A$36)","v":205},{"$f":"OFFSET(Data!EE41,$A$37,$A$36)","v":203},{"$f":"OFFSET(Data!EF41,$A$37,$A$36)","v":178},{"$f":"OFFSET(Data!EG41,$A$37,$A$36)","v":210},{"$f":"OFFSET(Data!EH41,$A$37,$A$36)","v":106},{"$f":"OFFSET(Data!EI41,$A$37,$A$36)","v":62},194.2,162.71428571428572,900,"","","","","","","","",""]
[null,null,null,null,null,null,null,0,0,0,15,0,false,0,null,null,null,null,null,null,null,null,null,null,null,915,{"$f":"OFFSET(Data!EC42,$A$37,$A$36)","v":180},{"$f":"OFFSET(Data!ED42,$A$37,$A$36)","v":167},{"$f":"OFFSET(Data!EE42,$A$37,$A$36)","v":183},{"$f":"OFFSET(Data!EF42,$A$37,$A$36)","v":186},{"$f":"OFFSET(Data!EG42,$A$37,$A$36)","v":181},{"$f":"OFFSET(Data!EH42,$A$37,$A$36)","v":95},{"$f":"OFFSET(Data!EI42,$A$37,$A$36)","v":75},179.4,152.42857142857142,915,"","","","","","","","",""]
[null,null,null,null,null,null,null,0,0,0,16,0,false,0,null,null,null,null,null,null,null,null,null,null,null,930,{"$f":"OFFSET(Data!EC43,$A$37,$A$36)","v":171},{"$f":"OFFSET(Data!ED43,$A$37,$A$36)","v":178},{"$f":"OFFSET(Data!EE43,$A$37,$A$36)","v":169},{"$f":"OFFSET(Data!EF43,$A$37,$A$36)","v":174},{"$f":"OFFSET(Data!EG43,$A$37,$A$36)","v":167},{"$f":"OFFSET(Data!EH43,$A$37,$A$36)","v":143},{"$f":"OFFSET(Data!EI43,$A$37,$A$36)","v":103},171.8,157.85714285714286,930,"","","","","","","","",""]
[null,null,null,null,null,null,null,0,0,0,17,0,false,0,null,null,null,null,null,null,null,null,null,null,null,945,{"$f":"OFFSET(Data!EC44,$A$37,$A$36)","v":172},{"$f":"OFFSET(Data!ED44,$A$37,$A$36)","v":162},{"$f":"OFFSET(Data!EE44,$A$37,$A$36)","v":159},{"$f":"OFFSET(Data!EF44,$A$37,$A$36)","v":167},{"$f":"OFFSET(Data!EG44,$A$37,$A$36)","v":177},{"$f":"OFFSET(Data!EH44,$A$37,$A$36)","v":132},{"$f":"OFFSET(Data!EI44,$A$37,$A$36)","v":111},167.4,154.28571428571428,945,"","","","","","","","",""]
[null,null,null,null,null,null,null,0,0,0,18,0,false,0,null,null,null,null,null,null,null,null,null,null,null,1000,{"$f":"OFFSET(Data!EC45,$A$37,$A$36)","v":125},{"$f":"OFFSET(Data!ED45,$A$37,$A$36)","v":157},{"$f":"OFFSET(Data!EE45,$A$37,$A$36)","v":161},{"$f":"OFFSET(Data!EF45,$A$37,$A$36)","v":131},{"$f":"OFFSET(Data!EG45,$A$37,$A$36)","v":171},{"$f":"OFFSET(Data!EH45,$A$37,$A$36)","v":126},{"$f":"OFFSET(Data!EI45,$A$37,$A$36)","v":123},149,142,1000,"","","","","","","","",""]
[null,null,null,null,null,null,null,0,0,0,19,0,false,0,null,null,null,null,null,null,null,null,null,null,null,1015,{"$f":"OFFSET(Data!EC46,$A$37,$A$36)","v":155},{"$f":"OFFSET(Data!ED46,$A$37,$A$36)","v":167},{"$f":"OFFSET(Data!EE46,$A$37,$A$36)","v":164},{"$f":"OFFSET(Data!EF46,$A$37,$A$36)","v":141},{"$f":"OFFSET(Data!EG46,$A$37,$A$36)","v":177},{"$f":"OFFSET(Data!EH46,$A$37,$A$36)","v":134},{"$f":"OFFSET(Data!EI46,$A$37,$A$36)","v":131},160.80000000000001,152.71428571428572,1015,"","","","","","","","",""]
[null,null,null,null,null,null,null,0,0,0,20,0,false,0,null,null,null,null,null,null,null,null,null,null,null,1030,{"$f":"OFFSET(Data!EC47,$A$37,$A$36)","v":158},{"$f":"OFFSET(Data!ED47,$A$37,$A$36)","v":183},{"$f":"OFFSET(Data!EE47,$A$37,$A$36)","v":162},{"$f":"OFFSET(Data!EF47,$A$37,$A$36)","v":197},{"$f":"OFFSET(Data!EG47,$A$37,$A$36)","v":190},{"$f":"OFFSET(Data!EH47,$A$37,$A$36)","v":163},{"$f":"OFFSET(Data!EI47,$A$37,$A$36)","v":145},178,171.14285714285714,1030,"","","","","","","","",""]
[null,null,null,null,null,null,null,null,null,null,null,null,null,null,null,null,null,null,null,null,null,null,null,null,null,1045,{"$f":"OFFSET(Data!EC48,$A$37,$A$36)","v":177},{"$f":"OFFSET(Data!ED48,$A$37,$A$36)","v":187},{"$f":"OFFSET(Data!EE48,$A$37,$A$36)","v":171},{"$f":"OFFSET(Data!EF48,$A$37,$A$36)","v":187},{"$f":"OFFSET(Data!EG48,$A$37,$A$36)","v":154},{"$f":"OFFSET(Data!EH48,$A$37,$A$36)","v":182},{"$f":"OFFSET(Data!EI48,$A$37,$A$36)","v":150},175.2,172.57142857142858,1045,"","","","","","","","",""]
[null,null,null,null,null,null,null,null,null,null,null,null,null,null,null,null,null,null,null,null,null,null,null,null,null,1100,{"$f":"OFFSET(Data!EC49,$A$37,$A$36)","v":188},{"$f":"OFFSET(Data!ED49,$A$37,$A$36)","v":153},{"$f":"OFFSET(Data!EE49,$A$37,$A$36)","v":144},{"$f":"OFFSET(Data!EF49,$A$37,$A$36)","v":160},{"$f":"OFFSET(Data!EG49,$A$37,$A$36)","v":166},{"$f":"OFFSET(Data!EH49,$A$37,$A$36)","v":162},{"$f":"OFFSET(Data!EI49,$A$37,$A$36)","v":150},162.19999999999999,160.42857142857142,1100,"","","","","","","","",""]
[null,null,null,null,null,null,null,null,null,null,null,null,null,null,null,null,null,null,null,null,null,null,null,null,null,1115,{"$f":"OFFSET(Data!EC50,$A$37,$A$36)","v":138},{"$f":"OFFSET(Data!ED50,$A$37,$A$36)","v":156},{"$f":"OFFSET(Data!EE50,$A$37,$A$36)","v":167},{"$f":"OFFSET(Data!EF50,$A$37,$A$36)","v":166},{"$f":"OFFSET(Data!EG50,$A$37,$A$36)","v":196},{"$f":"OFFSET(Data!EH50,$A$37,$A$36)","v":190},{"$f":"OFFSET(Data!EI50,$A$37,$A$36)","v":173},164.6,169.42857142857142,1115,"","","","","","","","",""]
[null,null,null,null,null,null,null,null,null,null,null,null,null,null,null,null,null,null,null,null,null,null,null,null,null,1130,{"$f":"OFFSET(Data!EC51,$A$37,$A$36)","v":168},{"$f":"OFFSET(Data!ED51,$A$37,$A$36)","v":200},{"$f":"OFFSET(Data!EE51,$A$37,$A$36)","v":183},{"$f":"OFFSET(Data!EF51,$A$37,$A$36)","v":162},{"$f":"OFFSET(Data!EG51,$A$37,$A$36)","v":171},{"$f":"OFFSET(Data!EH51,$A$37,$A$36)","v":198},{"$f":"OFFSET(Data!EI51,$A$37,$A$36)","v":147},176.8,175.57142857142858,1130,"","","","","","","","",""]
[null,null,null,null,null,null,null,null,null,null,null,null,null,null,null,null,null,null,null,null,null,null,null,null,null,1145,{"$f":"OFFSET(Data!EC52,$A$37,$A$36)","v":161},{"$f":"OFFSET(Data!ED52,$A$37,$A$36)","v":182},{"$f":"OFFSET(Data!EE52,$A$37,$A$36)","v":172},{"$f":"OFFSET(Data!EF52,$A$37,$A$36)","v":202},{"$f":"OFFSET(Data!EG52,$A$37,$A$36)","v":185},{"$f":"OFFSET(Data!EH52,$A$37,$A$36)","v":183},{"$f":"OFFSET(Data!EI52,$A$37,$A$36)","v":174},180.4,179.85714285714286,1145,"","","","","","","","",""]
[null,null,null,null,null,null,null,null,null,null,null,null,null,null,null,null,null,null,null,null,null,null,null,null,null,1200,{"$f":"OFFSET(Data!EC53,$A$37,$A$36)","v":150},{"$f":"OFFSET(Data!ED53,$A$37,$A$36)","v":190},{"$f":"OFFSET(Data!EE53,$A$37,$A$36)","v":175},{"$f":"OFFSET(Data!EF53,$A$37,$A$36)","v":169},{"$f":"OFFSET(Data!EG53,$A$37,$A$36)","v":192},{"$f":"OFFSET(Data!EH53,$A$37,$A$36)","v":177},{"$f":"OFFSET(Data!EI53,$A$37,$A$36)","v":168},175.2,174.42857142857142,1200,"","","","","","","","",""]
[null,null,null,null,null,null,null,null,null,null,null,null,null,null,null,null,null,null,null,null,null,null,null,null,null,1215,{"$f":"OFFSET(Data!EC54,$A$37,$A$36)","v":147},{"$f":"OFFSET(Data!ED54,$A$37,$A$36)","v":201},{"$f":"OFFSET(Data!EE54,$A$37,$A$36)","v":200},{"$f":"OFFSET(Data!EF54,$A$37,$A$36)","v":167},{"$f":"OFFSET(Data!EG54,$A$37,$A$36)","v":204},{"$f":"OFFSET(Data!EH54,$A$37,$A$36)","v":200},{"$f":"OFFSET(Data!EI54,$A$37,$A$36)","v":214},183.8,190.42857142857142,1215,"","","","","","","","",""]
[null,null,null,null,null,null,null,null,null,null,null,null,null,null,null,null,null,null,null,null,null,null,null,null,null,1230,{"$f":"OFFSET(Data!EC55,$A$37,$A$36)","v":168},{"$f":"OFFSET(Data!ED55,$A$37,$A$36)","v":182},{"$f":"OFFSET(Data!EE55,$A$37,$A$36)","v":198},{"$f":"OFFSET(Data!EF55,$A$37,$A$36)","v":201},{"$f":"OFFSET(Data!EG55,$A$37,$A$36)","v":203},{"$f":"OFFSET(Data!EH55,$A$37,$A$36)","v":230},{"$f":"OFFSET(Data!EI55,$A$37,$A$36)","v":190},190.4,196,1230,"","","","","","","","",""]
[null,null,null,null,null,null,null,null,null,null,null,null,null,null,null,null,null,null,null,null,null,null,null,null,null,1245,{"$f":"OFFSET(Data!EC56,$A$37,$A$36)","v":180},{"$f":"OFFSET(Data!ED56,$A$37,$A$36)","v":186},{"$f":"OFFSET(Data!EE56,$A$37,$A$36)","v":183},{"$f":"OFFSET(Data!EF56,$A$37,$A$36)","v":190},{"$f":"OFFSET(Data!EG56,$A$37,$A$36)","v":170},{"$f":"OFFSET(Data!EH56,$A$37,$A$36)","v":178},{"$f":"OFFSET(Data!EI56,$A$37,$A$36)","v":164},181.8,178.71428571428572,1245,"","","","","","","","",""]
[null,null,null,null,null,null,null,null,null,null,null,null,null,null,null,null,null,null,null,null,null,null,null,null,null,1300,{"$f":"OFFSET(Data!EC57,$A$37,$A$36)","v":177},{"$f":"OFFSET(Data!ED57,$A$37,$A$36)","v":184},{"$f":"OFFSET(Data!EE57,$A$37,$A$36)","v":169},{"$f":"OFFSET(Data!EF57,$A$37,$A$36)","v":170},{"$f":"OFFSET(Data!EG57,$A$37,$A$36)","v":223},{"$f":"OFFSET(Data!EH57,$A$37,$A$36)","v":182},{"$f":"OFFSET(Data!EI57,$A$37,$A$36)","v":192},184.6,185.28571428571428,1300,"","","","","","","","",""]
[null,null,null,null,null,null,null,null,null,null,null,null,null,null,null,null,null,null,null,null,null,null,null,null,null,1315,{"$f":"OFFSET(Data!EC58,$A$37,$A$36)","v":168},{"$f":"OFFSET(Data!ED58,$A$37,$A$36)","v":176},{"$f":"OFFSET(Data!EE58,$A$37,$A$36)","v":191},{"$f":"OFFSET(Data!EF58,$A$37,$A$36)","v":191},{"$f":"OFFSET(Data!EG58,$A$37,$A$36)","v":183},{"$f":"OFFSET(Data!EH58,$A$37,$A$36)","v":196},{"$f":"OFFSET(Data!EI58,$A$37,$A$36)","v":174},181.8,182.71428571428572,1315,"","","","","","","","",""]
[null,null,null,null,null,null,null,null,null,null,null,null,null,null,null,null,null,null,null,null,null,null,null,null,null,1330,{"$f":"OFFSET(Data!EC59,$A$37,$A$36)","v":150},{"$f":"OFFSET(Data!ED59,$A$37,$A$36)","v":173},{"$f":"OFFSET(Data!EE59,$A$37,$A$36)","v":182},{"$f":"OFFSET(Data!EF59,$A$37,$A$36)","v":174},{"$f":"OFFSET(Data!EG59,$A$37,$A$36)","v":227},{"$f":"OFFSET(Data!EH59,$A$37,$A$36)","v":201},{"$f":"OFFSET(Data!EI59,$A$37,$A$36)","v":187},181.2,184.85714285714286,1330,"","","","","","","","",""]
[null,null,null,null,null,null,null,null,null,null,null,null,null,null,null,null,null,null,null,null,null,null,null,null,null,1345,{"$f":"OFFSET(Data!EC60,$A$37,$A$36)","v":141},{"$f":"OFFSET(Data!ED60,$A$37,$A$36)","v":167},{"$f":"OFFSET(Data!EE60,$A$37,$A$36)","v":184},{"$f":"OFFSET(Data!EF60,$A$37,$A$36)","v":202},{"$f":"OFFSET(Data!EG60,$A$37,$A$36)","v":196},{"$f":"OFFSET(Data!EH60,$A$37,$A$36)","v":191},{"$f":"OFFSET(Data!EI60,$A$37,$A$36)","v":171},178,178.85714285714286,1345,"","","","","","","","",""]
[null,null,null,null,null,null,null,null,null,null,null,null,null,null,null,null,null,null,null,null,null,null,null,null,null,1400,{"$f":"OFFSET(Data!EC61,$A$37,$A$36)","v":177},{"$f":"OFFSET(Data!ED61,$A$37,$A$36)","v":187},{"$f":"OFFSET(Data!EE61,$A$37,$A$36)","v":191},{"$f":"OFFSET(Data!EF61,$A$37,$A$36)","v":162},{"$f":"OFFSET(Data!EG61,$A$37,$A$36)","v":201},{"$f":"OFFSET(Data!EH61,$A$37,$A$36)","v":193},{"$f":"OFFSET(Data!EI61,$A$37,$A$36)","v":184},183.6,185,1400,"","","","","","","","",""]
[null,null,null,null,null,null,null,null,null,null,null,null,null,null,null,null,null,null,null,null,null,null,null,null,null,1415,{"$f":"OFFSET(Data!EC62,$A$37,$A$36)","v":174},{"$f":"OFFSET(Data!ED62,$A$37,$A$36)","v":171},{"$f":"OFFSET(Data!EE62,$A$37,$A$36)","v":193},{"$f":"OFFSET(Data!EF62,$A$37,$A$36)","v":185},{"$f":"OFFSET(Data!EG62,$A$37,$A$36)","v":205},{"$f":"OFFSET(Data!EH62,$A$37,$A$36)","v":184},{"$f":"OFFSET(Data!EI62,$A$37,$A$36)","v":198},185.6,187.14285714285714,1415,"","","","","","","","",""]
[null,null,null,null,null,null,null,null,null,null,null,null,null,null,null,null,null,null,null,null,null,null,null,null,null,1430,{"$f":"OFFSET(Data!EC63,$A$37,$A$36)","v":183},{"$f":"OFFSET(Data!ED63,$A$37,$A$36)","v":195},{"$f":"OFFSET(Data!EE63,$A$37,$A$36)","v":208},{"$f":"OFFSET(Data!EF63,$A$37,$A$36)","v":239},{"$f":"OFFSET(Data!EG63,$A$37,$A$36)","v":191},{"$f":"OFFSET(Data!EH63,$A$37,$A$36)","v":191},{"$f":"OFFSET(Data!EI63,$A$37,$A$36)","v":163},203.2,195.71428571428572,1430,"","","","","","","","",""]
[null,null,null,null,null,null,null,null,null,null,null,null,null,null,null,null,null,null,null,null,null,null,null,null,null,1445,{"$f":"OFFSET(Data!EC64,$A$37,$A$36)","v":187},{"$f":"OFFSET(Data!ED64,$A$37,$A$36)","v":182},{"$f":"OFFSET(Data!EE64,$A$37,$A$36)","v":192},{"$f":"OFFSET(Data!EF64,$A$37,$A$36)","v":207},{"$f":"OFFSET(Data!EG64,$A$37,$A$36)","v":249},{"$f":"OFFSET(Data!EH64,$A$37,$A$36)","v":180},{"$f":"OFFSET(Data!EI64,$A$37,$A$36)","v":167},203.4,194.85714285714286,1445,"","","","","","","","",""]
[null,null,null,null,null,null,null,null,null,null,null,null,null,null,null,null,null,null,null,null,null,null,null,null,null,1500,{"$f":"OFFSET(Data!EC65,$A$37,$A$36)","v":210},{"$f":"OFFSET(Data!ED65,$A$37,$A$36)","v":192},{"$f":"OFFSET(Data!EE65,$A$37,$A$36)","v":233},{"$f":"OFFSET(Data!EF65,$A$37,$A$36)","v":196},{"$f":"OFFSET(Data!EG65,$A$37,$A$36)","v":239},{"$f":"OFFSET(Data!EH65,$A$37,$A$36)","v":154},{"$f":"OFFSET(Data!EI65,$A$37,$A$36)","v":165},214,198.42857142857142,1500,"","","","","","","","",""]
[null,null,null,null,null,null,null,null,null,null,null,null,null,null,null,null,null,null,null,null,null,null,null,null,null,1515,{"$f":"OFFSET(Data!EC66,$A$37,$A$36)","v":191},{"$f":"OFFSET(Data!ED66,$A$37,$A$36)","v":200},{"$f":"OFFSET(Data!EE66,$A$37,$A$36)","v":236},{"$f":"OFFSET(Data!EF66,$A$37,$A$36)","v":255},{"$f":"OFFSET(Data!EG66,$A$37,$A$36)","v":255},{"$f":"OFFSET(Data!EH66,$A$37,$A$36)","v":175},{"$f":"OFFSET(Data!EI66,$A$37,$A$36)","v":189},227.4,214.42857142857142,1515,"","","","","","","","",""]
[null,null,null,null,null,null,null,null,null,null,null,null,null,null,null,null,null,null,null,null,null,null,null,null,null,1530,{"$f":"OFFSET(Data!EC67,$A$37,$A$36)","v":215},{"$f":"OFFSET(Data!ED67,$A$37,$A$36)","v":255},{"$f":"OFFSET(Data!EE67,$A$37,$A$36)","v":250},{"$f":"OFFSET(Data!EF67,$A$37,$A$36)","v":212},{"$f":"OFFSET(Data!EG67,$A$37,$A$36)","v":288},{"$f":"OFFSET(Data!EH67,$A$37,$A$36)","v":151},{"$f":"OFFSET(Data!EI67,$A$37,$A$36)","v":176},244,221,1530,"","","","","","","","",""]
[null,null,null,null,null,null,null,null,null,null,null,null,null,null,null,null,null,null,null,null,null,null,null,null,null,1545,{"$f":"OFFSET(Data!EC68,$A$37,$A$36)","v":268},{"$f":"OFFSET(Data!ED68,$A$37,$A$36)","v":252},{"$f":"OFFSET(Data!EE68,$A$37,$A$36)","v":230},{"$f":"OFFSET(Data!EF68,$A$37,$A$36)","v":239},{"$f":"OFFSET(Data!EG68,$A$37,$A$36)","v":247},{"$f":"OFFSET(Data!EH68,$A$37,$A$36)","v":169},{"$f":"OFFSET(Data!EI68,$A$37,$A$36)","v":181},247.2,226.57142857142858,1545,"","","","","","","","",""]
[null,null,null,null,null,null,null,null,null,null,null,null,null,null,null,null,null,null,null,null,null,null,null,null,null,1600,{"$f":"OFFSET(Data!EC69,$A$37,$A$36)","v":234},{"$f":"OFFSET(Data!ED69,$A$37,$A$36)","v":278},{"$f":"OFFSET(Data!EE69,$A$37,$A$36)","v":283},{"$f":"OFFSET(Data!EF69,$A$37,$A$36)","v":252},{"$f":"OFFSET(Data!EG69,$A$37,$A$36)","v":255},{"$f":"OFFSET(Data!EH69,$A$37,$A$36)","v":169},{"$f":"OFFSET(Data!EI69,$A$37,$A$36)","v":180},260.39999999999998,235.85714285714286,1600,"","","","","","","","",""]
[null,null,null,null,null,null,null,null,null,null,null,null,null,null,null,null,null,null,null,null,null,null,null,null,null,1615,{"$f":"OFFSET(Data!EC70,$A$37,$A$36)","v":237},{"$f":"OFFSET(Data!ED70,$A$37,$A$36)","v":247},{"$f":"OFFSET(Data!EE70,$A$37,$A$36)","v":276},{"$f":"OFFSET(Data!EF70,$A$37,$A$36)","v":237},{"$f":"OFFSET(Data!EG70,$A$37,$A$36)","v":229},{"$f":"OFFSET(Data!EH70,$A$37,$A$36)","v":176},{"$f":"OFFSET(Data!EI70,$A$37,$A$36)","v":174},245.2,225.14285714285714,1615,{"$f":"IF(AK$3=TRUE,AA70,\"\")","v":""},{"$f":"IF(AL$3=TRUE,AB70,\"\")","v":""},{"$f":"IF(AM$3=TRUE,AC70,\"\")","v":""},{"$f":"IF(AN$3=TRUE,AD70,\"\")","v":""},{"$f":"IF(AO$3=TRUE,AE70,\"\")","v":""},{"$f":"IF(AP$3=TRUE,AF70,\"\")","v":""},{"$f":"IF(AQ$3=TRUE,AG70,\"\")","v":""},{"$f":"IF(AR$3=TRUE,AH70,\"\")","v":""},{"$f":"IF(AS$3=TRUE,AI70,\"\")","v":""}]
[null,null,null,null,null,null,null,null,null,null,null,null,null,null,null,null,null,null,null,null,null,null,null,null,null,1630,{"$f":"OFFSET(Data!EC71,$A$37,$A$36)","v":236},{"$f":"OFFSET(Data!ED71,$A$37,$A$36)","v":283},{"$f":"OFFSET(Data!EE71,$A$37,$A$36)","v":247},{"$f":"OFFSET(Data!EF71,$A$37,$A$36)","v":240},{"$f":"OFFSET(Data!EG71,$A$37,$A$36)","v":223},{"$f":"OFFSET(Data!EH71,$A$37,$A$36)","v":150},{"$f":"OFFSET(Data!EI71,$A$37,$A$36)","v":193},245.8,224.57142857142858,1630,"","","","","","","","",""]
[null,null,null,null,null,null,null,null,null,null,null,null,null,null,null,null,null,null,null,null,null,null,null,null,null,1645,{"$f":"OFFSET(Data!EC72,$A$37,$A$36)","v":240},{"$f":"OFFSET(Data!ED72,$A$37,$A$36)","v":233},{"$f":"OFFSET(Data!EE72,$A$37,$A$36)","v":228},{"$f":"OFFSET(Data!EF72,$A$37,$A$36)","v":240},{"$f":"OFFSET(Data!EG72,$A$37,$A$36)","v":245},{"$f":"OFFSET(Data!EH72,$A$37,$A$36)","v":151},{"$f":"OFFSET(Data!EI72,$A$37,$A$36)","v":170},237.2,215.28571428571428,1645,"","","","","","","","",""]
[null,null,null,null,null,null,null,null,null,null,null,null,null,null,null,null,null,null,null,null,null,null,null,null,null,1700,{"$f":"OFFSET(Data!EC73,$A$37,$A$36)","v":236},{"$f":"OFFSET(Data!ED73,$A$37,$A$36)","v":264},{"$f":"OFFSET(Data!EE73,$A$37,$A$36)","v":257},{"$f":"OFFSET(Data!EF73,$A$37,$A$36)","v":249},{"$f":"OFFSET(Data!EG73,$A$37,$A$36)","v":268},{"$f":"OFFSET(Data!EH73,$A$37,$A$36)","v":165},{"$f":"OFFSET(Data!EI73,$A$37,$A$36)","v":204},254.8,234.71428571428572,1700,"","","","","","","","",""]
[null,null,null,null,null,null,null,null,null,null,null,null,null,null,null,null,null,null,null,null,null,null,null,null,null,1715,{"$f":"OFFSET(Data!EC74,$A$37,$A$36)","v":230},{"$f":"OFFSET(Data!ED74,$A$37,$A$36)","v":252},{"$f":"OFFSET(Data!EE74,$A$37,$A$36)","v":261},{"$f":"OFFSET(Data!EF74,$A$37,$A$36)","v":241},{"$f":"OFFSET(Data!EG74,$A$37,$A$36)","v":230},{"$f":"OFFSET(Data!EH74,$A$37,$A$36)","v":173},{"$f":"OFFSET(Data!EI74,$A$37,$A$36)","v":174},242.8,223,1715,"","","","","","","","",""]
[null,null,null,null,null,null,null,null,null,null,null,null,null,null,null,null,null,null,null,null,null,null,null,null,null,1730,{"$f":"OFFSET(Data!EC75,$A$37,$A$36)","v":224},{"$f":"OFFSET(Data!ED75,$A$37,$A$36)","v":254},{"$f":"OFFSET(Data!EE75,$A$37,$A$36)","v":241},{"$f":"OFFSET(Data!EF75,$A$37,$A$36)","v":245},{"$f":"OFFSET(Data!EG75,$A$37,$A$36)","v":235},{"$f":"OFFSET(Data!EH75,$A$37,$A$36)","v":158},{"$f":"OFFSET(Data!EI75,$A$37,$A$36)","v":178},239.8,219.28571428571428,1730,"","","","","","","","",""]
[null,null,null,null,null,null,null,null,null,null,null,null,null,null,null,null,null,null,null,null,null,null,null,null,null,1745,{"$f":"OFFSET(Data!EC76,$A$37,$A$36)","v":189},{"$f":"OFFSET(Data!ED76,$A$37,$A$36)","v":233},{"$f":"OFFSET(Data!EE76,$A$37,$A$36)","v":216},{"$f":"OFFSET(Data!EF76,$A$37,$A$36)","v":245},{"$f":"OFFSET(Data!EG76,$A$37,$A$36)","v":201},{"$f":"OFFSET(Data!EH76,$A$37,$A$36)","v":140},{"$f":"OFFSET(Data!EI76,$A$37,$A$36)","v":135},216.8,194.14285714285714,1745,"","","","","","","","",""]
[null,null,null,null,null,null,null,null,null,null,null,null,null,null,null,null,null,null,null,null,null,null,null,null,null,1800,{"$f":"OFFSET(Data!EC77,$A$37,$A$36)","v":181},{"$f":"OFFSET(Data!ED77,$A$37,$A$36)","v":225},{"$f":"OFFSET(Data!EE77,$A$37,$A$36)","v":213},{"$f":"OFFSET(Data!EF77,$A$37,$A$36)","v":241},{"$f":"OFFSET(Data!EG77,$A$37,$A$36)","v":197},{"$f":"OFFSET(Data!EH77,$A$37,$A$36)","v":143},{"$f":"OFFSET(Data!EI77,$A$37,$A$36)","v":172},211.4,196,1800,"","","","","","","","",""]
[null,null,null,null,null,null,null,null,null,null,null,null,null,null,null,null,null,null,null,null,null,null,null,null,null,1815,{"$f":"OFFSET(Data!EC78,$A$37,$A$36)","v":183},{"$f":"OFFSET(Data!ED78,$A$37,$A$36)","v":183},{"$f":"OFFSET(Data!EE78,$A$37,$A$36)","v":195},{"$f":"OFFSET(Data!EF78,$A$37,$A$36)","v":168},{"$f":"OFFSET(Data!EG78,$A$37,$A$36)","v":178},{"$f":"OFFSET(Data!EH78,$A$37,$A$36)","v":117},{"$f":"OFFSET(Data!EI78,$A$37,$A$36)","v":125},181.4,164.14285714285714,1815,"","","","","","","","",""]
[null,null,null,null,null,null,null,null,null,null,null,null,null,null,null,null,null,null,null,null,null,null,null,null,null,1830,{"$f":"OFFSET(Data!EC79,$A$37,$A$36)","v":177},{"$f":"OFFSET(Data!ED79,$A$37,$A$36)","v":194},{"$f":"OFFSET(Data!EE79,$A$37,$A$36)","v":182},{"$f":"OFFSET(Data!EF79,$A$37,$A$36)","v":215},{"$f":"OFFSET(Data!EG79,$A$37,$A$36)","v":219},{"$f":"OFFSET(Data!EH79,$A$37,$A$36)","v":156},{"$f":"OFFSET(Data!EI79,$A$37,$A$36)","v":170},197.4,187.57142857142858,1830,"","","","","","","","",""]
[null,null,null,null,null,null,null,null,null,null,null,null,null,null,null,null,null,null,null,null,null,null,null,null,null,1845,{"$f":"OFFSET(Data!EC80,$A$37,$A$36)","v":158},{"$f":"OFFSET(Data!ED80,$A$37,$A$36)","v":201},{"$f":"OFFSET(Data!EE80,$A$37,$A$36)","v":180},{"$f":"OFFSET(Data!EF80,$A$37,$A$36)","v":162},{"$f":"OFFSET(Data!EG80,$A$37,$A$36)","v":165},{"$f":"OFFSET(Data!EH80,$A$37,$A$36)","v":106},{"$f":"OFFSET(Data!EI80,$A$37,$A$36)","v":170},173.2,163.14285714285714,1845,"","","","","","","","",""]
[null,null,null,null,null,null,null,null,null,null,null,null,null,null,null,null,null,null,null,null,null,null,null,null,null,1900,{"$f":"OFFSET(Data!EC81,$A$37,$A$36)","v":150},{"$f":"OFFSET(Data!ED81,$A$37,$A$36)","v":161},{"$f":"OFFSET(Data!EE81,$A$37,$A$36)","v":157},{"$f":"OFFSET(Data!EF81,$A$37,$A$36)","v":171},{"$f":"OFFSET(Data!EG81,$A$37,$A$36)","v":136},{"$f":"OFFSET(Data!EH81,$A$37,$A$36)","v":129},{"$f":"OFFSET(Data!EI81,$A$37,$A$36)","v":120},155,146.28571428571428,1900,"","","","","","","","",""]
[null,null,null,null,null,null,null,null,null,null,null,null,null,null,null,null,null,null,null,null,null,null,null,null,null,1915,{"$f":"OFFSET(Data!EC82,$A$37,$A$36)","v":115},{"$f":"OFFSET(Data!ED82,$A$37,$A$36)","v":134},{"$f":"OFFSET(Data!EE82,$A$37,$A$36)","v":153},{"$f":"OFFSET(Data!EF82,$A$37,$A$36)","v":133},{"$f":"OFFSET(Data!EG82,$A$37,$A$36)","v":123},{"$f":"OFFSET(Data!EH82,$A$37,$A$36)","v":101},{"$f":"OFFSET(Data!EI82,$A$37,$A$36)","v":102},131.6,123,1915,"","","","","","","","",""]
[null,null,null,null,null,null,null,null,null,null,null,null,null,null,null,null,null,null,null,null,null,null,null,null,null,1930,{"$f":"OFFSET(Data!EC83,$A$37,$A$36)","v":115},{"$f":"OFFSET(Data!ED83,$A$37,$A$36)","v":109},{"$f":"OFFSET(Data!EE83,$A$37,$A$36)","v":124},{"$f":"OFFSET(Data!EF83,$A$37,$A$36)","v":131},{"$f":"OFFSET(Data!EG83,$A$37,$A$36)","v":122},{"$f":"OFFSET(Data!EH83,$A$37,$A$36)","v":107},{"$f":"OFFSET(Data!EI83,$A$37,$A$36)","v":93},120.2,114.42857142857143,1930,"","","","","","","","",""]
[null,null,null,null,null,null,null,null,null,null,null,null,null,null,null,null,null,null,null,null,null,null,null,null,null,1945,{"$f":"OFFSET(Data!EC84,$A$37,$A$36)","v":93},{"$f":"OFFSET(Data!ED84,$A$37,$A$36)","v":125},{"$f":"OFFSET(Data!EE84,$A$37,$A$36)","v":106},{"$f":"OFFSET(Data!EF84,$A$37,$A$36)","v":121},{"$f":"OFFSET(Data!EG84,$A$37,$A$36)","v":95},{"$f":"OFFSET(Data!EH84,$A$37,$A$36)","v":96},{"$f":"OFFSET(Data!EI84,$A$37,$A$36)","v":87},108,103.28571428571429,1945,"","","","","","","","",""]
[null,null,null,null,null,null,null,null,null,null,null,null,null,null,null,null,null,null,null,null,null,null,null,null,null,2000,{"$f":"OFFSET(Data!EC85,$A$37,$A$36)","v":81},{"$f":"OFFSET(Data!ED85,$A$37,$A$36)","v":122},{"$f":"OFFSET(Data!EE85,$A$37,$A$36)","v":102},{"$f":"OFFSET(Data!EF85,$A$37,$A$36)","v":102},{"$f":"OFFSET(Data!EG85,$A$37,$A$36)","v":102},{"$f":"OFFSET(Data!EH85,$A$37,$A$36)","v":85},{"$f":"OFFSET(Data!EI85,$A$37,$A$36)","v":79},101.8,96.142857142857139,2000,"","","","","","","","",""]
[null,null,null,null,null,null,null,null,null,null,null,null,null,null,null,null,null,null,null,null,null,null,null,null,null,2015,{"$f":"OFFSET(Data!EC86,$A$37,$A$36)","v":91},{"$f":"OFFSET(Data!ED86,$A$37,$A$36)","v":111},{"$f":"OFFSET(Data!EE86,$A$37,$A$36)","v":109},{"$f":"OFFSET(Data!EF86,$A$37,$A$36)","v":111},{"$f":"OFFSET(Data!EG86,$A$37,$A$36)","v":92},{"$f":"OFFSET(Data!EH86,$A$37,$A$36)","v":70},{"$f":"OFFSET(Data!EI86,$A$37,$A$36)","v":77},102.8,94.428571428571431,2015,"","","","","","","","",""]
[null,null,null,null,null,null,null,null,null,null,null,null,null,null,null,null,null,null,null,null,null,null,null,null,null,2030,{"$f":"OFFSET(Data!EC87,$A$37,$A$36)","v":67},{"$f":"OFFSET(Data!ED87,$A$37,$A$36)","v":106},{"$f":"OFFSET(Data!EE87,$A$37,$A$36)","v":110},{"$f":"OFFSET(Data!EF87,$A$37,$A$36)","v":83},{"$f":"OFFSET(Data!EG87,$A$37,$A$36)","v":70},{"$f":"OFFSET(Data!EH87,$A$37,$A$36)","v":50},{"$f":"OFFSET(Data!EI87,$A$37,$A$36)","v":66},87.2,78.857142857142861,2030,"","","","","","","","",""]
[null,null,null,null,null,null,null,null,null,null,null,null,null,null,null,null,null,null,null,null,null,null,null,null,null,2045,{"$f":"OFFSET(Data!EC88,$A$37,$A$36)","v":86},{"$f":"OFFSET(Data!ED88,$A$37,$A$36)","v":100},{"$f":"OFFSET(Data!EE88,$A$37,$A$36)","v":87},{"$f":"OFFSET(Data!EF88,$A$37,$A$36)","v":86},{"$f":"OFFSET(Data!EG88,$A$37,$A$36)","v":85},{"$f":"OFFSET(Data!EH88,$A$37,$A$36)","v":68},{"$f":"OFFSET(Data!EI88,$A$37,$A$36)","v":51},88.8,80.428571428571431,2045,"","","","","","","","",""]
[null,null,null,null,null,null,null,null,null,null,null,null,null,null,null,null,null,null,null,null,null,null,null,null,null,2100,{"$f":"OFFSET(Data!EC89,$A$37,$A$36)","v":76},{"$f":"OFFSET(Data!ED89,$A$37,$A$36)","v":79},{"$f":"OFFSET(Data!EE89,$A$37,$A$36)","v":78},{"$f":"OFFSET(Data!EF89,$A$37,$A$36)","v":77},{"$f":"OFFSET(Data!EG89,$A$37,$A$36)","v":72},{"$f":"OFFSET(Data!EH89,$A$37,$A$36)","v":40},{"$f":"OFFSET(Data!EI89,$A$37,$A$36)","v":58},76.400000000000006,68.571428571428569,2100,"","","","","","","","",""]
[null,null,null,null,null,null,null,null,null,null,null,null,null,null,null,null,null,null,null,null,null,null,null,null,null,2115,{"$f":"OFFSET(Data!EC90,$A$37,$A$36)","v":53},{"$f":"OFFSET(Data!ED90,$A$37,$A$36)","v":83},{"$f":"OFFSET(Data!EE90,$A$37,$A$36)","v":82},{"$f":"OFFSET(Data!EF90,$A$37,$A$36)","v":74},{"$f":"OFFSET(Data!EG90,$A$37,$A$36)","v":70},{"$f":"OFFSET(Data!EH90,$A$37,$A$36)","v":55},{"$f":"OFFSET(Data!EI90,$A$37,$A$36)","v":53},72.400000000000006,67.142857142857139,2115,"","","","","","","","",""]
[null,null,null,null,null,null,null,null,null,null,null,null,null,null,null,null,null,null,null,null,null,null,null,null,null,2130,{"$f":"OFFSET(Data!EC91,$A$37,$A$36)","v":61},{"$f":"OFFSET(Data!ED91,$A$37,$A$36)","v":84},{"$f":"OFFSET(Data!EE91,$A$37,$A$36)","v":93},{"$f":"OFFSET(Data!EF91,$A$37,$A$36)","v":75},{"$f":"OFFSET(Data!EG91,$A$37,$A$36)","v":67},{"$f":"OFFSET(Data!EH91,$A$37,$A$36)","v":41},{"$f":"OFFSET(Data!EI91,$A$37,$A$36)","v":56},76,68.142857142857139,2130,"","","","","","","","",""]
[null,null,null,null,null,null,null,null,null,null,null,null,null,null,null,null,null,null,null,null,null,null,null,null,null,2145,{"$f":"OFFSET(Data!EC92,$A$37,$A$36)","v":62},{"$f":"OFFSET(Data!ED92,$A$37,$A$36)","v":72},{"$f":"OFFSET(Data!EE92,$A$37,$A$36)","v":79},{"$f":"OFFSET(Data!EF92,$A$37,$A$36)","v":72},{"$f":"OFFSET(Data!EG92,$A$37,$A$36)","v":71},{"$f":"OFFSET(Data!EH92,$A$37,$A$36)","v":52},{"$f":"OFFSET(Data!EI92,$A$37,$A$36)","v":60},71.2,66.857142857142861,2145,"","","","","","","","",""]
[null,null,null,null,null,null,null,null,null,null,null,null,null,null,null,null,null,null,null,null,null,null,null,null,null,2200,{"$f":"OFFSET(Data!EC93,$A$37,$A$36)","v":41},{"$f":"OFFSET(Data!ED93,$A$37,$A$36)","v":44},{"$f":"OFFSET(Data!EE93,$A$37,$A$36)","v":67},{"$f":"OFFSET(Data!EF93,$A$37,$A$36)","v":65},{"$f":"OFFSET(Data!EG93,$A$37,$A$36)","v":79},{"$f":"OFFSET(Data!EH93,$A$37,$A$36)","v":61},{"$f":"OFFSET(Data!EI93,$A$37,$A$36)","v":47},{"$f":"SUM(AA93:AE93)/5","v":59.2},{"$f":"SUM(AA93:AG93)/7","v":57.714285714285715},2200,"","","","","","","","",""]
[null,null,null,null,null,null,null,null,null,null,null,null,null,null,null,null,null,null,null,null,null,null,null,null,null,2215,{"$f":"OFFSET(Data!EC94,$A$37,$A$36)","v":34},{"$f":"OFFSET(Data!ED94,$A$37,$A$36)","v":68},{"$f":"OFFSET(Data!EE94,$A$37,$A$36)","v":45},{"$f":"OFFSET(Data!EF94,$A$37,$A$36)","v":52},{"$f":"OFFSET(Data!EG94,$A$37,$A$36)","v":60},{"$f":"OFFSET(Data!EH94,$A$37,$A$36)","v":65},{"$f":"OFFSET(Data!EI94,$A$37,$A$36)","v":55},51.8,54.142857142857146,2215,"","","","","","","","",""]
[null,null,null,null,null,null,null,null,null,null,null,null,null,null,null,null,null,null,null,null,null,null,null,null,null,2230,{"$f":"OFFSET(Data!EC95,$A$37,$A$36)","v":35},{"$f":"OFFSET(Data!ED95,$A$37,$A$36)","v":54},{"$f":"OFFSET(Data!EE95,$A$37,$A$36)","v":39},{"$f":"OFFSET(Data!EF95,$A$37,$A$36)","v":50},{"$f":"OFFSET(Data!EG95,$A$37,$A$36)","v":49},{"$f":"OFFSET(Data!EH95,$A$37,$A$36)","v":57},{"$f":"OFFSET(Data!EI95,$A$37,$A$36)","v":40},45.4,46.285714285714285,2230,"","","","","","","","",""]
[null,null,null,null,null,null,null,null,null,null,null,null,null,null,null,null,null,null,null,null,null,null,null,null,null,2245,{"$f":"OFFSET(Data!EC96,$A$37,$A$36)","v":30},{"$f":"OFFSET(Data!ED96,$A$37,$A$36)","v":47},{"$f":"OFFSET(Data!EE96,$A$37,$A$36)","v":37},{"$f":"OFFSET(Data!EF96,$A$37,$A$36)","v":38},{"$f":"OFFSET(Data!EG96,$A$37,$A$36)","v":63},{"$f":"OFFSET(Data!EH96,$A$37,$A$36)","v":37},{"$f":"OFFSET(Data!EI96,$A$37,$A$36)","v":38},43,41.428571428571431,2245,"","","","","","","","",""]
[null,null,null,null,null,null,null,null,null,null,null,null,null,null,null,null,null,null,null,null,null,null,null,null,null,2300,{"$f":"OFFSET(Data!EC97,$A$37,$A$36)","v":20},{"$f":"OFFSET(Data!ED97,$A$37,$A$36)","v":40},{"$f":"OFFSET(Data!EE97,$A$37,$A$36)","v":19},{"$f":"OFFSET(Data!EF97,$A$37,$A$36)","v":32},{"$f":"OFFSET(Data!EG97,$A$37,$A$36)","v":45},{"$f":"OFFSET(Data!EH97,$A$37,$A$36)","v":37},{"$f":"OFFSET(Data!EI97,$A$37,$A$36)","v":23},31.2,30.857142857142858,2300,"","","","","","","","",""]
[null,null,null,null,null,null,null,null,null,null,null,null,null,null,null,null,null,null,null,null,null,null,null,null,null,2315,{"$f":"OFFSET(Data!EC98,$A$37,$A$36)","v":22},{"$f":"OFFSET(Data!ED98,$A$37,$A$36)","v":28},{"$f":"OFFSET(Data!EE98,$A$37,$A$36)","v":20},{"$f":"OFFSET(Data!EF98,$A$37,$A$36)","v":48},{"$f":"OFFSET(Data!EG98,$A$37,$A$36)","v":35},{"$f":"OFFSET(Data!EH98,$A$37,$A$36)","v":41},{"$f":"OFFSET(Data!EI98,$A$37,$A$36)","v":32},30.6,32.285714285714285,2315,"","","","","","","","",""]
[null,null,null,null,null,null,null,null,null,null,null,null,null,null,null,null,null,null,null,null,null,null,null,null,null,2330,{"$f":"OFFSET(Data!EC99,$A$37,$A$36)","v":12},{"$f":"OFFSET(Data!ED99,$A$37,$A$36)","v":20},{"$f":"OFFSET(Data!EE99,$A$37,$A$36)","v":23},{"$f":"OFFSET(Data!EF99,$A$37,$A$36)","v":33},{"$f":"OFFSET(Data!EG99,$A$37,$A$36)","v":37},{"$f":"OFFSET(Data!EH99,$A$37,$A$36)","v":50},{"$f":"OFFSET(Data!EI99,$A$37,$A$36)","v":19},25,27.714285714285715,2330,"","","","","","","","",""]
[null,null,null,null,null,null,null,null,null,null,null,null,null,null,null,null,null,null,null,null,null,null,null,null,null,2345,{"$f":"OFFSET(Data!EC100,$A$37,$A$36)","v":21},{"$f":"OFFSET(Data!ED100,$A$37,$A$36)","v":20},{"$f":"OFFSET(Data!EE100,$A$37,$A$36)","v":20},{"$f":"OFFSET(Data!EF100,$A$37,$A$36)","v":27},{"$f":"OFFSET(Data!EG100,$A$37,$A$36)","v":32},{"$f":"OFFSET(Data!EH100,$A$37,$A$36)","v":41},{"$f":"OFFSET(Data!EI100,$A$37,$A$36)","v":11},24,24.571428571428573,2345,"","","","","","","","",""]

{"sheet":"Data","index":1,"n_rows":6070,"n_cols":190,"rows_kept":562,"cut":true,"hidden":true,"merged":[[200,153,201,153],[200,154,201,154],[200,160,201,160],[200,161,201,161],[200,167,201,167],[200,168,201,168],[101,168,102,168],[101,167,102,167],[101,161,102,161],[101,160,102,160],[101,154,102,154],[100,169,100,175],[100,176,100,182],[100,183,100,189],[1,176,1,182],[1,183,1,189],[101,153,102,153],[199,169,199,175],[199,176,199,182],[199,183,199,189],[2,168,3,168],[2,129,3,129],[1,78,1,109],[1,169,1,175],[1,139,1,145],[2,120,3,120],[1,120,1,125],[1,126,1,131],[1,132,1,138],[2,130,3,130],[2,121,3,121],[2,128,3,128],[1,146,1,152],[2,127,3,127],[2,131,3,131],[2,122,3,122],[2,153,3,153],[2,154,3,154],[2,160,3,160],[2,161,3,161],[2,167,3,167],[2,123,3,123],[2,124,3,124],[2,125,3,125],[2,126,3,126],[868,0,870,1],[868,2,868,33],[868,34,869,37],[868,40,868,71],[868,72,869,75],[2,119,3,119],[2,2,2,13],[2,14,2,33],[2,40,2,51],[2,52,2,71],[2,78,2,89],[1,72,2,75],[1,110,2,113],[1,0,3,1],[1,2,1,33],[1,40,1,71],[2,116,3,116],[1,114,1,119],[2,90,2,109],[2,114,3,114],[2,115,3,115],[1,34,2,37],[2,117,3,117],[2,118,3,118],[868,120,868,125],[868,126,868,131],[869,123,870,123],[869,124,870,124],[869,125,870,125],[869,126,870,126],[869,127,870,127],[869,128,870,128],[869,129,870,129],[869,130,870,130],[869,131,870,131],[868,183,868,189],[869,2,869,13],[869,14,869,33],[869,40,869,51],[869,52,869,71],[869,78,869,89],[869,90,869,109],[869,114,870,114],[869,115,870,115],[869,116,870,116],[869,117,870,117],[869,118,870,118],[869,119,870,119],[869,120,870,120],[869,121,870,121],[869,122,870,122],[868,132,868,138],[868,139,868,145],[868,146,868,152],[868,169,868,175],[868,176,868,182],[868,78,868,109],[868,110,869,113],[868,114,868,119],[869,168,870,168],[967,169,967,175],[967,176,967,182],[967,183,967,189],[968,153,969,153],[968,154,969,154],[968,160,969,160],[968,161,969,161],[968,167,969,167],[968,168,969,168],[869,153,870,153],[869,154,870,154],[869,160,870,160],[869,161,870,161],[869,167,870,167],[1066,169,1066,175],[1066,176,1066,182],[1066,183,1066,189],[1067,153,1068,153],[1067,154,1068,154],[1067,160,1068,160],[1067,161,1068,161],[1067,167,1068,167],[1067,168,1068,168],[1735,0,1737,1],[1735,2,1735,33],[1735,34,1736,37],[1735,40,1735,71],[1735,72,1736,75],[1735,120,1735,125],[1735,126,1735,131],[1736,123,1737,123],[1736,124,1737,124],[1736,125,1737,125],[1736,126,1737,126],[1736,127,1737,127],[1736,128,1737,128],[1736,129,1737,129],[1736,130,1737,130],[1736,2,1736,13],[1736,14,1736,33],[1736,40,1736,51],[1736,52,1736,71],[1736,78,1736,89],[1736,90,1736,109],[1736,114,1737,114],[1736,115,1737,115],[1736,116,1737,116],[1735,78,1735,109],[1735,110,1736,113],[1735,183,1735,189],[1736,117,1737,117],[1736,118,1737,118],[1736,119,1737,119],[1736,120,1737,120],[1736,121,1737,121],[1736,122,1737,122],[1735,169,1735,175],[1735,176,1735,182],[1735,114,1735,119],[1736,168,1737,168],[1736,153,1737,153],[1736,154,1737,154],[1736,160,1737,160],[1736,161,1737,161],[1736,167,1737,167],[1736,131,1737,131],[1735,132,1735,138],[1735,139,1735,145],[1735,146,1735,152],[1933,169,1933,175],[1933,176,1933,182],[1933,183,1933,189],[1834,169,1834,175],[1834,176,1834,182],[1834,183,1834,189],[1835,153,1836,153],[1835,154,1836,154],[1835,160,1836,160],[1835,161,1836,161],[1835,167,1836,167],[1835,168,1836,168],[1934,153,1935,153],[1934,154,1935,154],[1934,160,1935,160],[1934,161,1935,161],[1934,167,1935,167],[1934,168,1935,168],[2602,132,2602,138],[2602,139,2602,145],[2602,146,2602,152],[2602,0,2604,1],[2602,2,2602,33],[2602,34,2603,37],[2602,40,2602,71],[2602,72,2603,75],[2602,120,2602,125],[2602,126,2602,131],[2603,123,2604,123],[2603,124,2604,124],[2603,125,2604,125],[2603,126,2604,126],[2603,127,2604,127],[2603,128,2604,128],[2603,129,2604,129],[2603,130,2604,130],[2603,2,2603,13],[2603,14,2603,33],[2603,40,2603,51],[2603,52,2603,71],[2603,78,2603,89],[2603,90,2603,109],[2603,114,2604,114],[2603,115,2604,115],[2603,116,2604,116],[2701,169,2701,175],[2701,176,2701,182],[2701,183,2701,189],[2603,131,2604,131],[2602,183,2602,189],[2603,117,2604,117],[2603,118,2604,118],[2603,119,2604,119],[2603,120,2604,120],[2603,121,2604,121],[2603,122,2604,122],[2602,169,2602,175],[2602,176,2602,182],[2602,78,2602,109],[2602,110,2603,113],[2702,153,2703,153],[2702,154,2703,154],[2702,160,2703,160],[2702,161,2703,161],[2702,167,2703,167],[2702,168,2703,168],[2603,153,2604,153],[2603,154,2604,154],[2603,160,2604,160],[2603,161,2604,161],[2603,167,2604,167],[2602,114,2602,119],[2603,168,2604,168],[2800,169,2800,175],[2800,176,2800,182],[2800,183,2800,189],[2801,153,2802,153],[2801,154,2802,154],[2801,160,2802,160],[2801,161,2802,161],[2801,167,2802,167],[2801,168,2802,168],[3469,0,3471,1],[3469,2,3469,33],[3469,34,3470,37],[3469,40,3469,71],[3469,72,3470,75],[3469,120,3469,125],[3469,126,3469,131],[3470,123,3471,123],[3470,124,3471,124],[3470,125,3471,125],[3470,126,3471,126],[3470,127,3471,127],[3470,128,3471,128],[3470,129,3471,129],[3470,130,3471,130],[3470,2,3470,13],[3470,14,3470,33],[3470,40,3470,51],[3470,52,3470,71],[3470,78,3470,89],[3470,90,3470,109],[3470,114,3471,114],[3470,115,3471,115],[3470,116,3471,116],[3469,78,3469,109],[3469,110,3470,113],[3469,183,3469,189],[3470,117,3471,117],[3470,118,3471,118],[3470,119,3471,119],[3470,120,3471,120],[3470,121,3471,121],[3470,122,3471,122],[3469,169,3469,175],[3469,176,3469,182],[3469,114,3469,119],[3470,168,3471,168],[3470,153,3471,153],[3470,154,3471,154],[3470,160,3471,160],[3470,161,3471,161],[3470,167,3471,167],[3470,131,3471,131],[3469,132,3469,138],[3469,139,3469,145],[3469,146,3469,152],[3667,169,3667,175],[3667,176,3667,182],[3667,183,3667,189],[3568,169,3568,175],[3568,176,3568,182],[3568,183,3568,189],[3569,153,3570,153],[3569,154,3570,154],[3569,160,3570,160],[3569,161,3570,161],[3569,167,3570,167],[3569,168,3570,168],[3668,153,3669,153],[3668,154,3669,154],[3668,160,3669,160],[3668,161,3669,161],[3668,167,3669,167],[3668,168,3669,168],[4336,0,4338,1],[4336,2,4336,33],[4336,34,4337,37],[4336,40,4336,71],[4336,72,4337,75],[4336,78,4336,109],[4336,110,4337,113],[4336,114,4336,119],[4336,120,4336,125],[4336,126,4336,131],[4336,132,4336,138],[4336,139,4336,145],[4336,146,4336,152],[4337,129,4338,129],[4337,130,4338,130],[4337,131,4338,131],[4337,153,4338,153],[4337,154,4338,154],[4336,169,4336,175],[4336,176,4336,182],[4336,183,4336,189],[4337,2,4337,13],[4337,14,4337,33],[4337,40,4337,51],[4337,52,4337,71],[4337,78,4337,89],[4337,90,4337,109],[4337,114,4338,114],[4337,115,4338,115],[4337,116,4338,116],[4337,117,4338,117],[4337,118,4338,118],[4337,119,4338,119],[4337,120,4338,120],[4337,121,4338,121],[4337,122,4338,122],[4337,123,4338,123],[4337,124,4338,124],[4337,125,4338,125],[4337,126,4338,126],[4337,127,4338,127],[4337,128,4338,128],[4337,160,4338,160],[4337,161,4338,161],[4337,167,4338,167],[4337,168,4338,168],[4435,169,4435,175],[4435,176,4435,182],[4435,183,4435,189],[4436,153,4437,153],[4436,154,4437,154],[4436,160,4437,160],[4436,161,4437,161],[4436,167,4437,167],[4436,168,4437,168],[4534,169,4534,175],[4534,176,4534,182],[4534,183,4534,189],[4535,153,4536,153],[4535,154,4536,154],[4535,160,4536,160],[4535,161,4536,161],[4535,167,4536,167],[4535,168,4536,168],[5203,0,5205,1],[5203,2,5203,33],[5203,34,5204,37],[5203,40,5203,71],[5203,72,5204,75],[5203,78,5203,109],[5203,110,5204,113],[5203,114,5203,119],[5203,120,5203,125],[5204,125,5205,125],[5203,126,5203,131],[5203,132,5203,138],[5203,139,5203,145],[5203,146,5203,152],[5203,169,5203,175],[5203,176,5203,182],[5203,183,5203,189],[5204,2,5204,13],[5204,14,5204,33],[5204,40,5204,51],[5204,52,5204,71],[5204,78,5204,89],[5204,90,5204,109],[5204,114,5205,114],[5204,115,5205,115],[5204,116,5205,116],[5204,117,5205,117],[5204,118,5205,118],[5204,119,5205,119],[5204,120,5205,120],[5204,121,5205,121],[5204,122,5205,122],[5204,123,5205,123],[5204,124,5205,124],[5204,126,5205,126],[5204,127,5205,127],[5204,128,5205,128],[5204,129,5205,129],[5204,130,5205,130],[5204,131,5205,131],[5204,153,5205,153],[5204,154,5205,154],[5204,160,5205,160],[5204,161,5205,161],[5204,167,5205,167],[5204,168,5205,168],[5302,169,5302,175],[5302,176,5302,182],[5302,183,5302,189],[5303,153,5304,153],[5303,154,5304,154],[5303,160,5304,160],[5303,161,5304,161],[5303,167,5304,167],[5303,168,5304,168],[5401,169,5401,175],[5401,176,5401,182],[5401,183,5401,189],[5402,153,5403,153],[5402,154,5403,154],[5402,160,5403,160],[5402,161,5403,161],[5402,167,5403,167],[5402,168,5403,168]],"bounds":{"rows_first":250,"rows_last":62,"rows_between":250,"halvings":3}}
[]
[1,null,{"$f":"+Offsets!J5","v":"Eastbound"},null,null,null,null,null,null,null,null,null,null,null,null,null,null,null,null,null,null,null,null,null,null,null,null,null,null,null,null,null,null,null,"Speed",null,null,null,null,null,{"$f":"+Offsets!K5","v":"Westbound"},null,null,null,null,null,null,null,null,null,null,null,null,null,null,null,null,null,null,null,null,null,null,null,null,null,null,null,null,null,null,null,"Speed",null,null,null,null,null,"COMBINED",null,null,null,null,null,null,null,null,null,null,null,null,null,null,null,null,null,null,null,null,null,null,null,null,null,null,null,null,null,null,null,"Speed",null,null,null,{"$f":"+C2","v":"Eastbound"},null,null,null,null,null,{"$f":"+AO2","v":"Westbound"},null,null,null,null,null,"COMBINED",null,null,null,null,null,{"$f":"+DK2","v":"Eastbound"},null,null,null,null,null,null,{"$f":"+DQ2","v":"Westbound"},null,null,null,null,null,null,"COMBINED",null,null,null,null,null,null,null,null,null,null,null,null,null,null,null,null,null,null,null,null,null,null,{"$f":"EC2","v":"Eastbound"},null,null,null,null,null,null,{"$f":"EJ2","v":"Westbound"},null,null,null,null,null,null,{"$f":"EQ2","v":"COMBINED"}]
[null,null,"Vehicle Classification",null,null,null,null,null,null,null,null,null,null,null,"Vehicle Speed Bins",null,null,null,null,null,null,null,null,null,null,null,null,null,null,null,null,null,null,null,null,null,null,null,null,null,"Vehicle Classification",null,null,null,null,null,null,null,null,null,null,null,"Vehicle Speed Bins",null,null,null,null,null,null,null,null,null,null,null,null,null,null,null,null,null,null,null,null,null,null,null,null,null,"Vehicle Classification",null,null,null,null,null,null,null,null,null,null,null,"Vehicle Speed Bins",null,null,null,null,null,null,null,null,null,null,null,null,null,null,null,null,null,null,null,null,null,null,null,"M'Cycle & P'Cycle","Cars","LGV","OGV1 & PSV","OGV2","Total","M'Cycle & P'Cycle","Cars","LGV","OGV1 & PSV","OGV2","Total","M'Cycle & P'Cycle","Cars","LGV","OGV1 & PSV","OGV2","Total",null,null,null,null,null,null,null,null,null,null,null,null,null,null,null,null,null,null,null,null,null,"PRI 5","PRI 7",null,null,null,null,null,"SEC 5","SEC 7",null,null,null,null,null,"COM 5","COM 7"]
[null,null,1,2,3,4,5,6,7,8,9,10,11,12,"0-10","10-15","15-20","20-25","25-30","30-35","35-40","40-45","45-50","50-55","55-60","60-65","65-70","70-75","75-80","80-85","85-90","90-95","95-100","100+","Ave","85%ile","Min","Max",null,null,1,2,3,4,5,6,7,8,9,10,11,12,"010","1015","1520","2025","2530","3035","3540","4045","4550","5055","5560","6065","6570","7075","7580","8085","8590","9095","95100","100+","Ave","85%ile","Min","Max",null,null,1,2,3,4,5,6,7,8,9,10,11,12,"010","1015","1520","2025","2530","3035","3540","4045","4550","5055","5560","6065","6570","7075","7580","8085","8590","9095","95100","100+","Ave","85%ile","Min","Max",null,null,null,null,null,null,null,null,null,null,null,null,null,null,null,null,null,null,"Mon","Tue","Wed","Thu","Fri","Sat","Sun","Mon","Tue","Wed","Thu","Fri","Sat","Sun","Mon","Tue","Wed","Thu","Fri","Sat","Sun",null,null,null,null,null,null,null,null,null,null,null,null,null,null,null,null,"Mon","Tue","Wed","Thu","Fri","Sat","Sun","Mon","Tue","Wed","Thu","Fri","Sat","Sun","Mon","Tue","Wed","Thu","Fri","Sat","Sun"]
["Mon",0,0,1,0,2,0,0,0,0,0,0,0,0,0,0,0,1,0,0,2,0,0,0,0,0,0,0,0,0,0,0,0,0,32.700000000000003,"-",23.4,37.9,"Mon",0,1,12,0,0,0,0,0,0,0,0,0,0,0,0,0,0,1,1,4,3,2,0,2,0,0,0,0,0,0,0,0,0,41.7,49,25.2,57.2,"Mon",0,{"$f":"SUM(C5+AO5)","v":1},{"$f":"SUM(D5+AP5)","v":13},{"$f":"SUM(E5+AQ5)","v":0},{"$f":"SUM(F5+AR5)","v":2},{"$f":"SUM(G5+AS5)","v":0},{"$f":"SUM(H5+AT5)","v":0},{"$f":"SUM(I5+AU5)","v":0},{"$f":"SUM(J5+AV5)","v":0},{"$f":"SUM(K5+AW5)","v":0},{"$f":"SUM(L5+AX5)","v":0},{"$f":"SUM(M5+AY5)","v":0},{"$f":"SUM(N5+AZ5)","v":0},{"$f":"SUM(O5+BA5)","v":0},{"$f":"SUM(P5+BB5)","v":0},{"$f":"SUM(Q5+BC5)","v":0},{"$f":"SUM(R5+BD5)","v":1},{"$f":"SUM(S5+BE5)","v":1},{"$f":"SUM(T5+BF5)","v":1},{"$f":"SUM(U5+BG5)","v":6},{"$f":"SUM(V5+BH5)","v":3},{"$f":"SUM(W5+BI5)","v":2},{"$f":"SUM(X5+BJ5)","v":0},{"$f":"SUM(Y5+BK5)","v":2},{"$f":"SUM(Z5+BL5)","v":0},{"$f":"SUM(AA5+BM5)","v":0},{"$f":"SUM(AB5+BN5)","v":0},{"$f":"SUM(AC5+BO5)","v":0},{"$f":"SUM(AD5+BP5)","v":0},{"$f":"SUM(AE5+BQ5)","v":0},{"$f":"SUM(AF5+BR5)","v":0},{"$f":"SUM(AG5+BS5)","v":0},{"$f":"SUM(AH5+BT5)","v":0},{"$f":"IF(EB5=0,\"-\",IF(DP5=0,BU5,IF(DV5=0,AI5,SUM((AI5*DP5),(BU5*DV5))/EB5)))","v":40.012500000000003},{"$f":"IFERROR(IF(BV5=\"-\",IF(AJ5=\"-\",\"-\",AJ5),IF(AJ5=\"-\",BV5,AVERAGE(AJ5,BV5))), \"-\")","v":49},{"$f":"IF(MIN(AK5,BW5)=0,\"-\",MIN(AK5,BW5))","v":23.4},{"$f":"IF(MAX(AL5,BX5)=0,\"-\",MAX(AL5,BX5))","v":57.2},{"$f":"SUM(C5)","v":0},{"$f":"SUM(D5+E5)","v":1},{"$f":"F5","v":2},{"$f":"SUM(G5:H5)","v":0},{"$f":"SUM(I5:N5)","v":0},{"$f":"SUM(C5:N5)","v":3},{"$f":"SUM(AO5)","v":1},{"$f":"SUM(AP5+AQ5)","v":12},{"$f":"AR5","v":0},{"$f":"SUM(AS5:AT5)","v":0},{"$f":"SUM(AU5:AZ5)","v":0},{"$f":"SUM(AO5:AZ5)","v":13},{"$f":"SUM(DK5+DQ5)","v":1},{"$f":"SUM(DL5+DR5)","v":13},2,0,0,16,{"$f":"+DP5","v":3},{"$f":"+DP101","v":3},{"$f":"+DP197","v":4},{"$f":"+DP293","v":3},{"$f":"+DP389","v":4},{"$f":"+DP485","v":10},{"$f":"+DP581","v":20},{"$f":"+DV5","v":13},{"$f":"+DV101","v":11},{"$f":"+DV197","v":10},{"$f":"+DV293","v":14},{"$f":"+DV389","v":19},{"$f":"+DV485","v":16},{"$f":"+DV581","v":18},{"$f":"SUM(EC5+EJ5)","v":16},14,14,17,23,26,38,{"$f":"IF((SUM(FN5:FR5))>0,AVERAGE(FN5:FR5),0)","v":3.4},{"$f":"IF((SUM(FN5:FT5))>0,AVERAGE(FN5:FT5),0)","v":6.7142857142857144},null,null,null,null,null,{"$f":"IF((SUM(FU5:FY5))>0,AVERAGE(FU5:FY5),0)","v":13.4},{"$f":"IF((SUM(FU5:GA5))>0,AVERAGE(FU5:GA5),0)","v":14.428571428571429},null,null,null,null,null,{"$f":"IF((SUM(GB5:GF5))>0,AVERAGE(GB5:GF5),0)","v":16.8},{"$f":"IF((SUM(GB5:GH5))>0,AVERAGE(GB5:GH5),0)","v":21.142857142857142},{"$f":"IF(C5=\"\", \"-\", SUM(C5:N5))","v":3},{"$f":"IF(C101=\"\",\"-\",SUM(C101:N101))","v":3},{"$f":"IF(C197=\"\",\"-\",SUM(C197:N197))","v":4},{"$f":"IF(C293=\"\",\"-\",SUM(C293:N293))","v":3},{"$f":"IF(C389=\"\",\"-\",SUM(C389:N389))","v":4},{"$f":"IF(C485=\"\",\"-\",SUM(C485:N485))","v":10},{"$f":"IF(C581=\"\",\"-\",SUM(C581:N581))","v":20},{"$f":"IF(AO5=\"\",\"-\",SUM(AO5:AZ5))","v":13},{"$f":"IF(AO101=\"\",\"-\",SUM(AO101:AZ101))","v":11},{"$f":"IF(AO197=\"\",\"-\",SUM(AO197:AZ197))","v":10},{"$f":"IF(AO293=\"\",\"-\",SUM(AO293:AZ293))","v":14},{"$f":"IF(AO389=\"\",\"-\",SUM(AO389:AZ389))","v":19},{"$f":"IF(AO485=\"\",\"-\",SUM(AO485:AZ485))","v":16},{"$f":"IF(AO581=\"\",\"-\",SUM(AO581:AZ581))","v":18},{"$f":"IF(FN5=\"-\",\"-\",IF(FU5=\"-\",\"-\",FN5+FU5))","v":16},14,14,17,23,26,38]
[{"$f":"+A5","v":"Mon"},15,0,1,0,0,0,0,0,0,0,0,0,0,0,0,0,0,0,0,0,1,0,0,0,0,0,0,0,0,0,0,0,0,40.799999999999997,"-",40.799999999999997,40.799999999999997,"Mon",15,0,9,0,0,0,0,0,0,0,0,0,0,0,0,0,0,0,1,6,1,0,0,0,0,0,1,0,0,0,0,0,0,41.3,"-",33.5,70.3,"Mon",15,0,10,0,0,0,0,0,0,0,0,0,0,0,0,0,0,0,1,6,2,0,0,0,0,0,1,0,0,0,0,0,0,{"$f":"IF(EB6=0,\"-\",IF(DP6=0,BU6,IF(DV6=0,AI6,SUM((AI6*DP6),(BU6*DV6))/EB6)))","v":41.25},{"$f":"IFERROR(IF(BV6=\"-\",IF(AJ6=\"-\",\"-\",AJ6),IF(AJ6=\"-\",BV6,AVERAGE(AJ6,BV6))), \"-\")","v":"-"},{"$f":"IF(MIN(AK6,BW6)=0,\"-\",MIN(AK6,BW6))","v":33.5},{"$f":"IF(MAX(AL6,BX6)=0,\"-\",MAX(AL6,BX6))","v":70.3},{"$f":"SUM(C6)","v":0},{"$f":"SUM(D6+E6)","v":1},{"$f":"F6","v":0},{"$f":"SUM(G6:H6)","v":0},{"$f":"SUM(I6:N6)","v":0},{"$f":"SUM(C6:N6)","v":1},{"$f":"SUM(AO6)","v":0},{"$f":"SUM(AP6+AQ6)","v":9},{"$f":"AR6","v":0},{"$f":"SUM(AS6:AT6)","v":0},{"$f":"SUM(AU6:AZ6)","v":0},{"$f":"SUM(AO6:AZ6)","v":9},0,10,0,0,0,10,{"$f":"+DP6","v":1},{"$f":"+DP102","v":5},{"$f":"+DP198","v":5},{"$f":"+DP294","v":5},{"$f":"+DP390","v":4},{"$f":"+DP486","v":5},{"$f":"+DP582","v":5},{"$f":"+DV6","v":9},{"$f":"+DV102","v":8},{"$f":"+DV198","v":5},{"$f":"+DV294","v":8},{"$f":"+DV390","v":18},{"$f":"+DV486","v":16},{"$f":"+DV582","v":35},10,13,10,13,22,21,40,{"$f":"IF((SUM(FN6:FR6))>0,AVERAGE(FN6:FR6),0)","v":4},{"$f":"IF((SUM(FN6:FT6))>0,AVERAGE(FN6:FT6),0)","v":4.2857142857142856},null,null,null,null,null,{"$f":"IF((SUM(FU6:FY6))>0,AVERAGE(FU6:FY6),0)","v":9.6},{"$f":"IF((SUM(FU6:GA6))>0,AVERAGE(FU6:GA6),0)","v":14.142857142857142},null,null,null,null,null,{"$f":"IF((SUM(GB6:GF6))>0,AVERAGE(GB6:GF6),0)","v":13.6},{"$f":"IF((SUM(GB6:GH6))>0,AVERAGE(GB6:GH6),0)","v":18.428571428571427},{"$f":"IF(C6=\"\", \"-\", SUM(C6:N6))","v":1},{"$f":"IF(C102=\"\",\"-\",SUM(C102:N102))","v":5},{"$f":"IF(C198=\"\",\"-\",SUM(C198:N198))","v":5},{"$f":"IF(C294=\"\",\"-\",SUM(C294:N294))","v":5},{"$f":"IF(C390=\"\",\"-\",SUM(C390:N390))","v":4},{"$f":"IF(C486=\"\",\"-\",SUM(C486:N486))","v":5},{"$f":"IF(C582=\"\",\"-\",SUM(C582:N582))","v":5},{"$f":"IF(AO6=\"\",\"-\",SUM(AO6:AZ6))","v":9},{"$f":"IF(AO102=\"\",\"-\",SUM(AO102:AZ102))","v":8},{"$f":"IF(AO198=\"\",\"-\",SUM(AO198:AZ198))","v":5},{"$f":"IF(AO294=\"\",\"-\",SUM(AO294:AZ294))","v":8},{"$f":"IF(AO390=\"\",\"-\",SUM(AO390:AZ390))","v":18},{"$f":"IF(AO486=\"\",\"-\",SUM(AO486:AZ486))","v":16},{"$f":"IF(AO582=\"\",\"-\",SUM(AO582:AZ582))","v":35},{"$f":"IF(FN6=\"-\",\"-\",IF(FU6=\"-\",\"-\",FN6+FU6))","v":10},{"$f":"IF(FO6=\"-\",\"-\",IF(FV6=\"-\",\"-\",FO6+FV6))","v":13},{"$f":"IF(FP6=\"-\",\"-\",IF(FW6=\"-\",\"-\",FP6+FW6))","v":10},{"$f":"IF(FQ6=\"-\",\"-\",IF(FX6=\"-\",\"-\",FQ6+FX6))","v":13},{"$f":"IF(FR6=\"-\",\"-\",IF(FY6=\"-\",\"-\",FR6+FY6))","v":22},{"$f":"IF(FS6=\"-\",\"-\",IF(FZ6=\"-\",\"-\",FS6+FZ6))","v":21},{"$f":"IF(FT6=\"-\",\"-\",IF(GA6=\"-\",\"-\",FT6+GA6))","v":40}]
[{"$f":"+A6","v":"Mon"},30,0,3,0,0,0,0,0,0,0,0,0,0,0,0,0,0,0,1,1,1,0,0,0,0,0,0,0,0,0,0,0,0,36.9,"-",33.9,40.200000000000003,"Mon",30,1,13,0,3,0,0,0,0,0,0,0,0,0,0,0,0,0,1,4,4,6,2,0,0,0,0,0,0,0,0,0,0,44.4,48.3,34.6,54.8,"Mon",30,1,16,0,3,0,0,0,0,0,0,0,0,0,0,0,0,0,2,5,5,6,2,0,0,0,0,0,0,0,0,0,0,43.274999999999999,48.3,33.9,54.8,0,3,0,0,0,3,1,13,3,0,0,17,1,16,3,0,0,20,3,2,6,8,5,9,18,17,6,4,3,7,10,25,20,8,10,11,12,19,43,4.8,7.2857142857142856,null,null,null,null,null,7.4,10.285714285714286,null,null,null,null,null,12.2,17.571428571428573,3,2,6,8,5,9,18,17,6,4,3,7,10,25,{"$f":"IF(FN7=\"-\",\"-\",IF(FU7=\"-\",\"-\",FN7+FU7))","v":20},8,10,11,12,19,43]
["Mon",45,0,3,0,0,0,0,0,0,0,0,0,0,0,0,0,0,1,0,0,1,0,0,0,1,0,0,0,0,0,0,0,0,44,"-",27.2,60.8,"Mon",45,1,12,0,0,0,0,0,0,0,0,0,0,0,0,0,0,0,3,3,5,2,0,0,0,0,0,0,0,0,0,0,0,39.799999999999997,44.1,31.6,49.8,"Mon",45,1,15,0,0,0,0,0,0,0,0,0,0,0,0,0,0,1,3,3,6,2,0,0,1,0,0,0,0,0,0,0,0,40.587499999999999,44.1,27.2,60.8,0,3,0,0,0,3,1,12,0,0,0,13,1,15,0,0,0,16,3,2,3,2,5,9,12,13,3,5,5,3,17,25,16,5,8,7,8,26,37,3,5.1428571428571432,null,null,null,null,null,5.8,10.142857142857142,null,null,null,null,null,8.8000000000000007,15.285714285714286,3,2,3,2,5,9,12,13,3,5,5,3,17,25,{"$f":"IF(FN8=\"-\",\"-\",IF(FU8=\"-\",\"-\",FN8+FU8))","v":16},5,8,7,8,26,37]
["Mon",100,0,1,0,0,0,0,0,0,0,0,0,0,0,0,0,0,0,0,0,0,0,0,1,0,0,0,0,0,0,0,0,0,57.8,"-",57.8,57.8,"Mon",100,0,10,0,0,0,0,0,0,0,0,0,0,0,0,0,0,0,1,4,3,2,0,0,0,0,0,0,0,0,0,0,0,41.1,"-",34.5,48.9,"Mon",100,0,11,0,0,0,0,0,0,0,0,0,0,0,0,0,0,0,1,4,3,2,0,1,0,0,0,0,0,0,0,0,0,42.618181818181817,"-",34.5,57.8,0,1,0,0,0,1,0,10,0,0,0,10,0,11,0,0,0,11,1,5,0,3,2,9,12,10,7,3,11,4,15,21,11,12,3,14,6,24,33,2.2000000000000002,4.5714285714285712,null,null,null,null,null,7,10.142857142857142,null,null,null,null,null,9.1999999999999993,14.714285714285714,1,5,0,3,2,9,12,10,7,3,11,4,15,21,11,12,3,14,6,24,33]
["Mon",115,0,2,0,0,0,0,0,0,0,0,0,0,0,0,0,0,0,1,0,0,0,0,0,1,0,0,0,0,0,0,0,0,46.6,"-",30,63.2,"Mon",115,0,9,0,0,0,0,0,0,0,0,0,0,0,0,0,0,0,1,2,4,0,2,0,0,0,0,0,0,0,0,0,0,41.7,"-",31.4,51,"Mon",115,0,11,0,0,0,0,0,0,0,0,0,0,0,0,0,0,0,2,2,4,0,2,0,1,0,0,0,0,0,0,0,0,42.590909090909093,"-",30,63.2,0,2,0,0,0,2,0,9,0,0,0,9,0,11,0,0,0,11,2,3,3,2,3,7,15,9,2,2,7,5,7,12,11,5,5,9,8,14,27,2.6,5,null,null,null,null,null,5,6.2857142857142856,null,null,null,null,null,7.6,11.285714285714286,2,3,3,2,3,7,15,9,2,2,7,5,7,12,11,5,5,9,8,14,27]
["Mon",130,0,2,0,1,0,0,0,0,0,0,0,0,0,0,0,0,1,0,0,1,0,0,0,1,0,0,0,0,0,0,0,0,45.5,"-",29,63.1,"Mon",130,0,3,0,0,0,0,0,0,0,0,0,0,0,0,0,0,0,0,2,1,0,0,0,0,0,0,0,0,0,0,0,0,37.799999999999997,"-",35.9,41,"Mon",130,0,5,0,1,0,0,0,0,0,0,0,0,0,0,0,0,1,0,2,2,0,0,0,1,0,0,0,0,0,0,0,0,41.65,"-",29,63.1,0,2,1,0,0,3,0,3,0,0,0,3,0,5,1,0,0,6,3,1,1,5,2,2,6,3,3,2,3,1,5,8,6,4,3,8,3,7,14,2.4,2.8571428571428572,null,null,null,null,null,2.4,3.5714285714285716,null,null,null,null,null,4.8,6.4285714285714288,3,1,1,5,2,2,6,3,3,2,3,1,5,8,6,4,3,8,3,7,14]
["Mon",145,0,2,0,0,0,0,0,0,0,0,0,0,0,0,0,0,1,0,1,0,0,0,0,0,0,0,0,0,0,0,0,0,30.3,"-",25.1,35.5,"Mon",145,0,6,0,0,0,0,0,0,0,0,0,0,0,0,0,0,0,1,0,2,1,2,0,0,0,0,0,0,0,0,0,0,45.3,"-",34.700000000000003,54,"Mon",145,0,8,0,0,0,0,0,0,0,0,0,0,0,0,0,0,1,1,1,2,1,2,0,0,0,0,0,0,0,0,0,0,41.55,"-",25.1,54,0,2,0,0,0,2,0,6,0,0,0,6,0,8,0,0,0,8,2,5,2,6,0,4,3,6,6,2,4,8,11,5,8,11,4,10,8,15,8,3,3.1428571428571428,null,null,null,null,null,5.2,6,null,null,null,null,null,8.1999999999999993,9.1428571428571423,2,5,2,6,0,4,3,6,6,2,4,8,11,5,8,11,4,10,8,15,8]
["Mon",200,0,1,0,0,0,0,0,0,0,0,0,0,0,0,0,0,0,0,0,1,0,0,0,0,0,0,0,0,0,0,0,0,42.6,"-",42.6,42.6,"Mon",200,0,5,0,0,0,0,0,0,0,0,0,0,0,0,0,0,0,0,1,1,0,0,2,1,0,0,0,0,0,0,0,0,52.6,"-",39.200000000000003,62.8,"Mon",200,0,6,0,0,0,0,0,0,0,0,0,0,0,0,0,0,0,0,1,2,0,0,2,1,0,0,0,0,0,0,0,0,50.933333333333337,"-",39.200000000000003,62.8,0,1,0,0,0,1,0,5,0,0,0,5,0,6,0,0,0,6,1,5,0,5,8,6,4,5,8,2,1,3,10,4,6,13,2,6,11,16,8,3.8,4.1428571428571432,null,null,null,null,null,3.8,4.7142857142857144,null,null,null,null,null,7.6,8.8571428571428577,1,5,0,5,8,6,4,5,8,2,1,3,10,4,6,13,2,6,11,16,8]
["Mon",215,0,7,0,0,0,0,0,0,0,0,0,0,0,0,0,0,0,2,1,1,3,0,0,0,0,0,0,0,0,0,0,0,40.700000000000003,"-",31.5,49.6,"Mon",215,0,1,0,0,0,0,0,0,0,0,0,0,0,0,0,0,0,1,0,0,0,0,0,0,0,0,0,0,0,0,0,0,32.200000000000003,"-",32.200000000000003,32.200000000000003,"Mon",215,0,8,0,0,0,0,0,0,0,0,0,0,0,0,0,0,0,3,1,1,3,0,0,0,0,0,0,0,0,0,0,0,39.637500000000003,"-",31.5,49.6,0,7,0,0,0,7,0,1,0,0,0,1,0,8,0,0,0,8,7,4,6,4,3,7,7,1,3,5,5,3,4,6,8,7,11,9,6,11,13,4.8,5.4285714285714288,null,null,null,null,null,3.4,3.8571428571428572,null,null,null,null,null,8.1999999999999993,9.2857142857142865,7,4,6,4,3,7,7,1,3,5,5,3,4,6,8,7,11,9,6,11,13]
["Mon",230,0,6,0,0,0,0,0,0,0,0,0,0,0,0,0,0,3,0,0,2,0,1,0,0,0,0,0,0,0,0,0,0,37.299999999999997,"-",25.7,53.2,"Mon",230,0,6,0,0,0,0,0,0,0,0,0,0,0,0,0,1,0,1,0,0,2,2,0,0,0,0,0,0,0,0,0,0,43.6,"-",23,54.5,"Mon",230,0,12,0,0,0,0,0,0,0,0,0,0,0,0,0,1,3,1,0,2,2,3,0,0,0,0,0,0,0,0,0,0,40.449999999999996,"-",23,54.5,0,6,0,0,0,6,0,6,0,0,0,6,0,12,0,0,0,12,6,10,3,4,6,14,10,6,2,2,6,1,2,4,12,12,5,10,7,16,14,5.8,7.5714285714285712,null,null,null,null,null,3.4,3.2857142857142856,null,null,null,null,null,9.1999999999999993,10.857142857142858,6,10,3,4,6,14,10,6,2,2,6,1,2,4,12,12,5,10,7,16,14]
["Mon",245,0,5,0,0,0,0,0,0,0,0,0,0,0,0,0,0,0,0,1,2,1,1,0,0,0,0,0,0,0,0,0,0,44.6,"-",39.799999999999997,51.2,"Mon",245,0,2,0,1,0,0,0,0,0,0,0,0,0,0,0,0,0,0,0,1,1,0,1,0,0,0,0,0,0,0,0,0,49.6,"-",41.2,59.3,"Mon",245,0,7,0,1,0,0,0,0,0,0,0,0,0,0,0,0,0,0,1,3,2,1,1,0,0,0,0,0,0,0,0,0,46.475000000000001,"-",39.799999999999997,59.3,0,5,0,0,0,5,0,2,1,0,0,3,0,7,1,0,0,8,5,4,3,1,3,3,3,3,0,1,4,6,3,0,8,4,4,5,9,6,3,3.2,3.1428571428571428,null,null,null,null,null,2.8,2.4285714285714284,null,null,null,null,null,6,5.5714285714285712,5,4,3,1,3,3,3,3,0,1,4,6,3,0,8,4,4,5,9,6,3]
["Mon",300,0,2,0,0,0,0,0,0,0,0,0,0,0,0,0,0,0,0,1,0,0,0,1,0,0,0,0,0,0,0,0,0,47.1,"-",39,55.2,"Mon",300,0,13,0,0,0,0,0,0,0,0,0,0,0,0,0,0,1,1,4,4,2,1,0,0,0,0,0,0,0,0,0,0,41.3,46.3,29.8,54.3,"Mon",300,0,15,0,0,0,0,0,0,0,0,0,0,0,0,0,0,1,1,5,4,2,1,1,0,0,0,0,0,0,0,0,0,42.073333333333338,46.3,29.8,55.2,0,2,0,0,0,2,0,13,0,0,0,13,0,15,0,0,0,15,2,5,5,6,2,7,2,13,1,3,3,3,3,1,15,6,8,9,5,10,3,4,4.1428571428571432,null,null,null,null,null,4.5999999999999996,3.8571428571428572,null,null,null,null,null,8.6,8,2,5,5,6,2,7,2,13,1,3,3,3,3,1,15,6,8,9,5,10,3]
["Mon",315,0,9,0,0,0,0,0,0,0,0,0,0,0,0,0,0,0,2,3,2,1,1,0,0,0,0,0,0,0,0,0,0,40.799999999999997,"-",34.4,53.6,"Mon",315,0,9,0,0,0,0,0,0,0,0,0,0,0,0,0,1,2,1,1,4,0,0,0,0,0,0,0,0,0,0,0,0,35.799999999999997,"-",24.9,42.8,"Mon",315,0,18,0,0,0,0,0,0,0,0,0,0,0,0,0,1,2,3,4,6,1,1,0,0,0,0,0,0,0,0,0,0,38.299999999999997,"-",24.9,53.6,0,9,0,0,0,9,0,9,0,0,0,9,0,18,0,0,0,18,9,6,2,9,7,8,6,9,7,1,6,3,9,4,18,13,3,15,10,17,10,6.6,6.7142857142857144,null,null,null,null,null,5.2,5.5714285714285712,null,null,null,null,null,11.8,12.285714285714286,9,6,2,9,7,8,6,9,7,1,6,3,9,4,18,13,3,15,10,17,10]
["Mon",330,0,6,0,1,0,0,0,0,0,0,0,0,0,0,0,1,1,1,2,1,1,0,0,0,0,0,0,0,0,0,0,0,35.6,"-",24.9,46.1,"Mon",330,0,1,0,0,0,0,0,0,0,0,0,0,0,0,0,0,0,1,0,0,0,0,0,0,0,0,0,0,0,0,0,0,31.6,"-",31.6,31.6,"Mon",330,0,7,0,1,0,0,0,0,0,0,0,0,0,0,0,1,1,2,2,1,1,0,0,0,0,0,0,0,0,0,0,0,35.1,"-",24.9,46.1,0,6,1,0,0,7,0,1,0,0,0,1,0,7,1,0,0,8,7,11,4,8,3,7,6,1,4,3,3,1,8,9,8,15,7,11,4,15,15,6.6,6.5714285714285712,null,null,null,null,null,2.4,4.1428571428571432,null,null,null,null,null,9,10.714285714285714,7,11,4,8,3,7,6,1,4,3,3,1,8,9,8,15,7,11,4,15,15]
["Mon",345,0,9,0,0,0,0,0,0,0,0,0,0,0,0,0,0,0,2,2,3,2,0,0,0,0,0,0,0,0,0,0,0,40.5,"-",32.200000000000003,49.6,"Mon",345,0,3,0,1,0,0,0,0,0,0,0,0,0,0,0,0,1,0,1,0,1,1,0,0,0,0,0,0,0,0,0,0,40.5,"-",25.6,53,"Mon",345,0,12,0,1,0,0,0,0,0,0,0,0,0,0,0,0,1,2,3,3,3,1,0,0,0,0,0,0,0,0,0,0,40.5,"-",25.6,53,0,9,0,0,0,9,0,3,1,0,0,4,0,12,1,0,0,13,9,10,3,5,7,8,3,4,14,3,5,3,3,9,13,24,6,10,10,11,12,6.8,6.4285714285714288,null,null,null,null,null,5.8,5.8571428571428568,null,null,null,null,null,12.6,12.285714285714286,9,10,3,5,7,8,3,4,14,3,5,3,3,9,13,24,6,10,10,11,12]
["Mon",400,0,5,0,0,0,0,0,0,0,0,0,0,0,0,0,0,0,2,2,0,1,0,0,0,0,0,0,0,0,0,0,0,37.9,"-",32.700000000000003,47.4,"Mon",400,0,2,0,0,0,0,0,0,1,0,0,0,0,0,0,0,0,1,1,0,0,0,0,1,0,0,0,0,0,0,0,0,44.9,"-",33.200000000000003,64.8,"Mon",400,0,7,0,0,0,0,0,0,1,0,0,0,0,0,0,0,0,3,3,0,1,0,0,1,0,0,0,0,0,0,0,0,40.524999999999999,"-",32.700000000000003,64.8,0,5,0,0,0,5,0,2,0,0,1,3,0,7,0,0,1,8,5,9,3,8,4,6,6,3,6,1,4,3,6,5,{"$f":"SUM(EC21+EJ21)","v":8},15,4,12,7,12,11,5.8,5.8571428571428568,null,null,null,null,null,3.4,4,null,null,null,null,null,9.1999999999999993,9.8571428571428577,5,9,3,8,4,6,6,3,6,1,4,3,6,5,8,15,4,12,7,12,11]
["Mon",415,0,12,0,0,0,0,0,0,0,0,0,0,0,0,0,0,1,2,3,3,0,2,1,0,0,0,0,0,0,0,0,0,40.700000000000003,50.1,27.1,56.4,"Mon",415,0,3,0,0,0,0,0,0,0,0,0,0,0,0,0,0,0,1,0,1,1,0,0,0,0,0,0,0,0,0,0,0,41.6,"-",33.1,48.6,"Mon",415,0,15,0,0,0,0,0,0,0,0,0,0,0,0,0,0,1,3,3,4,1,2,1,0,0,0,0,0,0,0,0,0,40.880000000000003,50.1,27.1,56.4,0,12,0,0,0,12,0,3,0,0,0,3,0,15,0,0,0,15,12,7,7,8,2,6,11,3,3,2,5,3,4,2,15,10,9,13,5,10,13,7.2,7.5714285714285712,null,null,null,null,null,3.2,3.1428571428571428,null,null,null,null,null,10.4,10.714285714285714,12,7,7,8,2,6,11,3,3,2,5,3,4,2,15,10,9,13,5,10,13]
["Mon",430,0,12,0,2,0,0,0,0,0,0,0,0,0,0,0,1,2,2,3,1,3,2,0,0,0,0,0,0,0,0,0,0,38.6,49.7,24.9,51.6,"Mon",430,0,10,0,1,0,0,0,0,0,0,0,0,0,0,0,0,0,3,3,1,2,2,0,0,0,0,0,0,0,0,0,0,41.1,49.7,31.7,51.8,"Mon",430,0,22,0,3,0,0,0,0,0,0,0,0,0,0,0,1,2,5,6,2,5,4,0,0,0,0,0,0,0,0,0,0,39.700000000000003,49.7,24.9,51.8,0,12,2,0,0,14,0,10,1,0,0,11,0,22,3,0,0,25,14,10,16,9,9,13,3,11,4,1,3,4,1,2,25,14,17,12,13,14,5,11.6,10.571428571428571,null,null,null,null,null,4.5999999999999996,3.7142857142857144,null,null,null,null,null,16.2,14.285714285714286,14,10,16,9,9,13,3,11,4,1,3,4,1,2,25,14,17,12,13,14,5]
["Mon",445,1,13,0,1,0,0,0,0,0,0,0,0,0,0,0,0,3,2,3,1,4,1,1,0,0,0,0,0,0,0,0,0,40.4,48.5,26,58.6,"Mon",445,0,8,0,1,0,0,0,0,0,0,0,0,0,0,0,1,0,0,1,1,3,3,0,0,0,0,0,0,0,0,0,0,44.4,"-",24.4,54.1,"Mon",445,1,21,0,2,0,0,0,0,0,0,0,0,0,0,0,1,3,2,4,2,7,4,1,0,0,0,0,0,0,0,0,0,41.9,48.5,24.4,58.6,1,13,1,0,0,15,0,8,1,0,0,9,1,21,2,0,0,24,15,15,9,7,15,10,6,9,9,4,6,4,5,1,24,24,13,13,19,15,7,12.2,11,null,null,null,null,null,6.4,5.4285714285714288,null,null,null,null,null,18.600000000000001,16.428571428571427,15,15,9,7,15,10,6,9,9,4,6,4,5,1,24,24,13,13,19,15,7]
["Mon",500,0,14,0,3,0,0,0,0,0,0,0,0,0,0,0,1,3,3,0,5,3,0,2,0,0,0,0,0,0,0,0,0,39.700000000000003,46.5,24.8,59.9,"Mon",500,0,11,0,0,0,0,0,0,0,0,0,0,0,0,0,0,1,3,0,1,4,2,0,0,0,0,0,0,0,0,0,0,42.1,49.7,26.9,54.7,"Mon",500,0,25,0,3,0,0,0,0,0,0,0,0,0,0,0,1,4,6,0,6,7,2,2,0,0,0,0,0,0,0,0,0,40.642857142857146,48.1,24.8,59.9,0,14,3,0,0,17,0,11,0,0,0,11,0,25,3,0,0,28,17,11,15,14,19,14,10,11,5,9,3,8,15,8,28,16,24,17,27,29,18,15.2,14.285714285714286,null,null,null,null,null,7.2,8.4285714285714288,null,null,null,null,null,22.4,22.714285714285715,17,11,15,14,19,14,10,11,5,9,3,8,15,8,28,16,24,17,27,29,18]
["Mon",515,1,24,0,3,2,0,0,0,0,0,0,0,0,1,0,1,3,6,2,6,9,1,1,0,0,0,0,0,0,0,0,0,39.299999999999997,48.3,14.4,55.6,"Mon",515,0,7,0,0,0,0,0,0,0,0,0,0,0,0,0,0,0,2,2,2,1,0,0,0,0,0,0,0,0,0,0,0,40,"-",34.200000000000003,45.3,"Mon",515,1,31,0,3,2,0,0,0,0,0,0,0,0,1,0,1,3,8,4,8,10,1,1,0,0,0,0,0,0,0,0,0,39.432432432432435,48.3,14.4,55.6,1,24,3,2,0,30,0,7,0,0,0,7,1,31,3,2,0,37,30,21,25,21,24,16,15,7,8,13,11,8,8,11,37,29,38,32,32,24,26,24.2,21.714285714285715,null,null,null,null,null,9.4,9.4285714285714288,null,null,null,null,null,33.6,31.142857142857142,30,21,25,21,24,16,15,7,8,13,11,8,8,11,37,29,38,32,32,24,26]
["Mon",530,2,29,0,6,0,0,0,0,0,0,0,0,0,0,1,0,4,8,6,6,9,1,2,0,0,0,0,0,0,0,0,0,39.200000000000003,47.2,18.600000000000001,57.2,"Mon",530,0,7,0,2,0,0,0,0,0,0,0,0,0,0,0,0,0,2,4,1,2,0,0,0,0,0,0,0,0,0,0,0,39.200000000000003,"-",30.6,46.3,"Mon",530,2,36,0,8,0,0,0,0,0,0,0,0,0,0,1,0,4,10,10,7,11,1,2,0,0,0,0,0,0,0,0,0,39.200000000000003,47.2,18.600000000000001,57.2,2,29,6,0,0,37,0,7,2,0,0,9,2,36,8,0,0,46,37,31,29,30,36,28,22,9,12,7,9,10,18,13,46,43,36,39,46,46,35,32.6,30.428571428571427,null,null,null,null,null,9.4,11.142857142857142,null,null,null,null,null,42,41.571428571428569,37,31,29,30,36,28,22,9,12,7,9,10,18,13,46,43,36,39,46,46,35]
["Mon",545,3,34,1,3,0,0,0,0,0,0,0,0,0,1,0,1,4,8,6,2,15,4,0,0,0,0,0,0,0,0,0,0,40.5,49,14.5,53.6,"Mon",545,0,5,0,1,0,0,0,3,1,0,0,0,0,0,0,0,0,2,2,3,2,1,0,0,0,0,0,0,0,0,0,0,41,"-",31.1,50.8,"Mon",545,3,39,1,4,0,0,0,3,1,0,0,0,0,1,0,1,4,10,8,5,17,5,0,0,0,0,0,0,0,0,0,0,40.598039215686278,49,14.5,53.6,3,35,3,0,0,41,0,5,1,0,4,10,3,40,4,0,4,51,41,53,53,58,41,41,37,10,17,18,20,20,11,9,51,70,71,78,61,52,46,49.2,46.285714285714285,null,null,null,null,null,17,15,null,null,null,null,null,66.2,61.285714285714285,41,53,53,58,41,41,37,10,17,18,20,20,11,9,51,70,71,78,61,52,46]
["Mon",600,1,49,0,2,0,0,0,0,1,3,0,0,0,0,0,0,14,3,1,11,14,8,5,0,0,0,0,0,0,0,0,0,42.4,51.4,26.1,59,"Mon",600,1,10,0,4,0,0,0,3,3,0,0,0,0,0,0,1,2,0,3,11,3,1,0,0,0,0,0,0,0,0,0,0,40.200000000000003,46.1,20.6,50.8,"Mon",600,2,59,0,6,0,0,0,3,4,3,0,0,0,0,0,1,16,3,4,22,17,9,5,0,0,0,0,0,0,0,0,0,41.800000000000004,48.75,20.6,59,1,49,2,0,4,56,1,10,4,0,6,21,2,59,6,0,10,77,56,76,60,66,74,36,39,21,26,26,29,21,11,11,77,102,86,95,95,47,50,66.400000000000006,58.142857142857146,null,null,null,null,null,24.6,20.714285714285715,null,null,null,null,null,91,78.857142857142861,56,76,60,66,74,36,39,21,26,26,29,21,11,11,77,102,86,95,95,47,50]
["Mon",615,1,52,0,5,0,0,0,0,0,0,0,0,0,0,0,1,8,10,6,14,11,6,1,0,1,0,0,0,0,0,0,0,40.299999999999997,49.4,23.4,69.2,"Mon",615,0,18,0,3,1,0,1,1,0,0,0,0,0,0,0,0,0,3,8,6,6,1,0,0,0,0,0,0,0,0,0,0,40.6,46.8,31,51.4,"Mon",615,1,70,0,8,1,0,1,1,0,0,0,0,0,0,0,1,8,13,14,20,17,7,1,0,1,0,0,0,0,0,0,0,40.387804878048776,48.099999999999994,23.4,69.2,1,52,5,0,0,58,0,18,3,1,2,24,1,70,8,1,2,82,58,45,53,51,52,31,16,24,24,24,22,29,15,9,82,69,77,73,81,46,25,51.8,43.714285714285715,null,null,null,null,null,24.6,21,null,null,null,null,null,76.400000000000006,64.714285714285708,58,45,53,51,52,31,16,24,24,24,22,29,15,9,82,69,77,73,81,46,25]
["Mon",630,1,54,0,5,1,0,0,0,2,0,0,0,0,0,0,3,5,10,14,16,6,6,2,1,0,0,0,0,0,0,0,0,39.799999999999997,49.2,23.5,61.9,"Mon",630,2,39,0,4,0,0,0,0,0,0,0,0,0,0,0,0,0,6,8,18,8,5,0,0,0,0,0,0,0,0,0,0,41.9,48.1,30.4,52.4,"Mon",630,3,93,0,9,1,0,0,0,2,0,0,0,0,0,0,3,5,16,22,34,14,11,2,1,0,0,0,0,0,0,0,0,40.674999999999997,48.650000000000006,23.5,61.9,1,54,5,1,2,63,2,39,4,0,0,45,3,93,9,1,2,108,63,78,57,57,60,32,20,45,46,40,43,33,27,19,108,124,97,100,93,59,39,63,52.428571428571431,null,null,null,null,null,41.4,36.142857142857146,null,null,null,null,null,104.4,88.571428571428569,63,78,57,57,60,32,20,45,46,40,43,33,27,19,108,124,97,100,93,59,39]
["Mon",645,0,53,1,5,0,0,1,0,0,0,0,0,0,0,0,1,11,14,9,12,8,5,0,0,0,0,0,0,0,0,0,0,38,46.1,24.8,55,"Mon",645,0,34,0,6,0,0,0,0,0,1,0,0,0,0,0,0,0,1,14,12,12,1,1,0,0,0,0,0,0,0,0,0,42.6,48.3,34.299999999999997,57.7,"Mon",645,0,87,1,11,0,0,1,0,0,1,0,0,0,0,0,1,11,15,23,24,20,6,1,0,0,0,0,0,0,0,0,0,39.86732673267327,47.2,24.8,57.7,0,54,5,0,1,60,0,34,6,0,1,41,0,88,11,0,2,101,60,54,70,72,64,27,23,41,34,41,54,49,18,19,101,88,111,126,113,45,42,64,52.857142857142854,null,null,null,null,null,43.8,36.571428571428569,null,null,null,null,null,107.8,89.428571428571431,60,54,70,72,64,27,23,41,34,41,54,49,18,19,101,88,111,126,113,45,42]
["Mon",700,0,82,1,5,1,1,0,1,0,0,0,0,0,0,0,0,21,23,14,13,13,6,1,0,0,0,0,0,0,0,0,0,37.299999999999997,47,25.4,59.5,"Mon",700,1,40,0,8,1,0,0,0,0,0,0,0,0,0,0,2,1,7,20,9,7,4,0,0,0,0,0,0,0,0,0,0,39.799999999999997,47.4,21.5,52.6,"Mon",700,1,122,1,13,2,1,0,1,0,0,0,0,0,0,0,2,22,30,34,22,20,10,1,0,0,0,0,0,0,0,0,0,38.186524822695027,47.2,21.5,59.5,0,83,5,2,1,91,1,40,8,1,0,50,1,123,13,3,1,141,91,91,82,81,78,28,12,50,73,54,72,53,27,14,141,164,136,153,131,55,26,84.6,66.142857142857139,null,null,null,null,null,60.4,49,null,null,null,null,null,145,115.14285714285714,91,91,82,81,78,28,12,50,73,54,72,53,27,14,141,164,136,153,131,55,26]
["Mon",715,2,85,1,5,0,0,0,0,0,0,0,0,0,0,1,2,13,15,7,23,18,7,7,0,0,0,0,0,0,0,0,0,40.5,49.2,19,59.3,"Mon",715,0,62,0,6,0,0,0,0,0,0,0,0,0,0,0,0,2,21,19,14,8,4,0,0,0,0,0,0,0,0,0,0,38.700000000000003,46.5,29.3,52.4,"Mon",715,2,147,1,11,0,0,0,0,0,0,0,0,0,0,1,2,15,36,26,37,26,11,7,0,0,0,0,0,0,0,0,0,39.739751552795035,47.85,19,59.3,2,86,5,0,0,93,0,62,6,0,0,68,2,148,11,0,0,161,93,95,105,94,101,25,17,68,89,83,82,70,26,12,161,184,188,176,171,51,29,97.6,75.714285714285708,null,null,null,null,null,78.400000000000006,61.428571428571431,null,null,null,null,null,176,137.14285714285714,93,95,105,94,101,25,17,68,89,83,82,70,26,12,161,184,188,176,171,51,29]
["Mon",730,0,129,0,8,1,1,0,0,0,1,0,0,0,0,2,14,37,30,26,20,10,1,0,0,0,0,0,0,0,0,0,0,33.700000000000003,41.8,18.5,50.9,"Mon",730,0,81,0,10,0,0,0,0,0,4,0,0,2,4,6,5,14,27,25,10,1,0,1,0,0,0,0,0,0,0,0,0,32.1,39.799999999999997,6.8,60,"Mon",730,0,210,0,18,1,1,0,0,0,5,0,0,2,4,8,19,51,57,51,30,11,1,1,0,0,0,0,0,0,0,0,0,33.053191489361701,40.799999999999997,6.8,60,0,129,8,2,1,140,0,81,10,0,4,95,0,210,18,2,5,235,140,137,154,137,138,32,25,95,105,112,86,103,25,14,235,242,266,223,241,57,39,141.19999999999999,109,null,null,null,null,null,100.2,77.142857142857139,null,null,null,null,null,241.4,186.14285714285714,140,137,154,137,138,32,25,95,105,112,86,103,25,14,235,242,266,223,241,57,39]
["Mon",745,1,108,0,9,2,1,0,0,0,2,0,0,0,0,1,1,13,27,50,20,8,3,0,0,0,0,0,0,0,0,0,0,37,42.7,16,53.8,"Mon",745,2,110,1,20,0,0,0,1,0,1,0,0,0,10,17,19,6,32,30,14,6,1,0,0,0,0,0,0,0,0,0,0,30.2,40,10.199999999999999,50,"Mon",745,3,218,1,29,2,1,0,1,0,3,0,0,0,10,18,20,19,59,80,34,14,4,0,0,0,0,0,0,0,0,0,0,33.441860465116278,41.35,10.199999999999999,53.8,1,108,9,3,2,123,2,111,20,0,2,135,3,219,29,3,4,258,123,135,133,133,121,29,30,135,132,150,119,121,23,16,258,267,283,252,242,52,46,129,100.57142857142857,null,null,null,null,null,131.4,99.428571428571431,null,null,null,null,null,260.39999999999998,200,123,135,133,133,121,29,30,135,132,150,119,121,23,16,258,267,283,252,242,52,46]
["Mon",800,0,132,0,13,1,4,0,0,1,0,0,0,0,0,0,4,31,30,32,42,12,0,0,0,0,0,0,0,0,0,0,0,36.299999999999997,42.7,21.6,48.7,"Mon",800,0,106,0,11,0,0,0,2,1,0,0,0,0,0,1,5,11,32,42,24,5,0,0,0,0,0,0,0,0,0,0,0,35.799999999999997,41.8,18.899999999999999,49.7,"Mon",800,0,238,0,24,1,4,0,2,2,0,0,0,0,0,1,9,42,62,74,66,17,0,0,0,0,0,0,0,0,0,0,0,36.078597785977855,42.25,18.899999999999999,49.7,0,132,13,5,1,151,0,106,11,0,3,120,{"$f":"SUM(DK37+DQ37)","v":0},238,24,5,4,271,151,156,139,152,136,0,28,120,123,126,116,116,0,22,271,279,265,268,252,0,50,146.80000000000001,108.85714285714286,null,null,null,null,null,120.2,89,null,null,null,null,null,267,197.85714285714286,151,156,139,152,136,0,28,120,123,126,116,116,0,22,271,279,265,268,252,0,50]
["Mon",815,2,140,0,7,2,2,0,0,1,3,0,0,0,0,0,3,31,38,50,29,6,0,0,0,0,0,0,0,0,0,0,0,35.299999999999997,40.9,21.3,49.1,"Mon",815,1,87,1,7,3,1,0,2,1,0,0,0,1,6,6,9,9,19,30,13,9,0,1,0,0,0,0,0,0,0,0,0,33,41.8,8.1999999999999993,55.6,"Mon",815,3,227,1,14,5,3,0,2,2,3,0,0,1,6,6,12,40,57,80,42,15,0,1,0,0,0,0,0,0,0,0,0,34.388846153846146,41.349999999999994,8.1999999999999993,55.6,2,140,7,4,4,157,1,88,7,4,3,103,3,228,14,8,7,260,157,158,147,166,151,0,27,103,119,102,133,101,0,37,260,277,249,299,252,0,64,155.80000000000001,115.14285714285714,null,null,null,null,null,111.6,85,null,null,null,null,null,267.39999999999998,200.14285714285714,157,158,147,166,151,0,27,103,119,102,133,101,0,37,260,277,249,299,252,0,64]
["Mon",830,2,109,2,5,3,1,0,0,0,2,0,0,0,0,1,7,41,20,22,27,4,2,0,0,0,0,0,0,0,0,0,0,34.299999999999997,41.8,18.600000000000001,54,"Mon",830,0,92,1,6,1,2,0,1,0,0,0,0,0,4,4,10,12,16,23,25,8,1,0,0,0,0,0,0,0,0,0,0,34.5,43.6,13.7,52.9,"Mon",830,2,201,3,11,4,3,0,1,0,2,0,0,0,4,5,17,53,36,45,52,12,3,0,0,0,0,0,0,0,0,0,0,34.39074889867841,42.7,13.7,54,2,111,5,4,2,124,0,93,6,3,1,103,2,204,11,7,3,227,124,132,115,120,130,0,26,103,125,100,99,90,0,38,227,257,215,219,220,0,64,124.2,92.428571428571431,null,null,null,null,null,103.4,79.285714285714292,null,null,null,null,null,227.6,171.71428571428572,124,132,115,120,130,0,26,103,125,100,99,90,0,38,227,257,215,219,220,0,64]
["Mon",845,1,82,2,4,0,2,0,0,0,0,0,0,0,0,1,14,14,15,14,20,10,3,0,0,0,0,0,0,0,0,0,0,35.4,44.5,18.8,53.7,"Mon",845,0,82,0,3,0,5,0,2,1,1,0,0,0,0,1,9,8,19,31,18,7,1,0,0,0,0,0,0,0,0,0,0,35.799999999999997,42.3,18.600000000000001,52.8,"Mon",845,1,164,2,7,0,7,0,2,1,1,0,0,0,0,2,23,22,34,45,38,17,4,0,0,0,0,0,0,0,0,0,0,35.603243243243249,43.4,18.600000000000001,53.7,1,84,4,2,0,91,0,82,3,5,4,94,1,166,7,7,4,185,91,118,103,91,107,57,42,94,87,87,104,82,39,21,185,205,190,195,189,96,63,102,87,null,null,null,null,null,90.8,73.428571428571431,null,null,null,null,null,192.8,160.42857142857142,91,118,103,91,107,57,42,94,87,87,104,82,39,21,185,205,190,195,189,96,63]
["Mon",900,1,72,1,8,0,1,0,0,0,1,0,0,0,0,0,3,18,20,26,12,4,0,1,0,0,0,0,0,0,0,0,0,35.200000000000003,40.5,20.399999999999999,58.7,"Mon",900,1,73,1,13,1,1,0,0,0,1,0,0,0,0,5,4,7,27,24,20,2,2,0,0,0,0,0,0,0,0,0,0,35.1,40.9,18.5,54.2,"Mon",900,2,145,2,21,1,2,0,0,0,2,0,0,0,0,5,7,25,47,50,32,6,2,1,0,0,0,0,0,0,0,0,0,35.147999999999996,40.700000000000003,18.5,58.7,1,73,8,1,1,84,1,74,13,2,1,91,2,147,21,3,2,175,84,108,118,97,126,60,40,91,97,85,81,84,46,22,175,205,203,178,210,106,62,106.6,90.428571428571431,null,null,null,null,null,87.6,72.285714285714292,null,null,null,null,null,194.2,162.71428571428572,84,108,118,97,126,60,40,91,97,85,81,84,46,22,175,205,203,178,210,106,62]
["Mon",915,0,76,1,6,0,1,0,0,0,0,0,0,0,0,0,4,8,21,19,16,15,1,0,0,0,0,0,0,0,0,0,0,38.1,46.5,21.4,53.7,"Mon",915,1,78,2,12,0,3,0,0,0,0,0,0,0,0,0,4,8,22,30,23,8,1,0,0,0,0,0,0,0,0,0,0,36.9,42.9,23.6,53.6,"Mon",915,1,154,3,18,0,4,0,0,0,0,0,0,0,0,0,8,16,43,49,39,23,2,0,0,0,0,0,0,0,0,0,0,37.459999999999994,44.7,21.4,53.7,0,77,6,1,0,84,1,80,12,3,0,96,1,157,18,4,0,180,84,92,98,98,94,58,49,96,75,85,88,87,37,26,180,167,183,186,181,95,75,93.2,81.857142857142861,null,null,null,null,null,86.2,70.571428571428569,null,null,null,null,null,179.4,152.42857142857142,84,92,98,98,94,58,49,96,75,85,88,87,37,26,180,167,183,186,181,95,75]
["Mon",930,0,64,3,11,1,1,0,0,0,5,0,0,0,0,0,4,18,16,17,17,8,4,1,0,0,0,0,0,0,0,0,0,36.799999999999997,44.5,22.3,55.5,"Mon",930,1,75,2,4,0,1,0,1,1,1,0,0,0,1,0,0,11,26,21,20,5,2,0,0,0,0,0,0,0,0,0,0,36.4,43.4,12.5,54.5,"Mon",930,1,139,5,15,1,2,0,1,1,6,0,0,0,1,0,4,29,42,38,37,13,6,1,0,0,0,0,0,0,0,0,0,36.598830409356722,43.95,12.5,55.5,0,67,11,2,5,85,1,77,4,1,3,86,1,144,15,3,8,171,85,91,93,101,88,76,61,86,87,76,73,79,67,42,171,178,169,174,167,143,103,91.6,85,null,null,null,null,null,80.2,72.857142857142861,null,null,null,null,null,171.8,157.85714285714286,85,91,93,101,88,76,61,86,87,76,73,79,67,42,171,178,169,174,167,143,103]
["Mon",945,0,83,1,7,2,1,0,1,0,2,1,1,0,0,0,3,12,28,29,18,8,1,0,0,0,0,0,0,0,0,0,0,36.299999999999997,42.9,21.1,50.7,"Mon",945,0,59,0,8,2,1,0,1,2,0,0,0,0,0,0,1,16,16,24,9,4,1,2,0,0,0,0,0,0,0,0,0,36,42.1,24.5,59.6,"Mon",945,0,142,1,15,4,2,0,2,2,2,1,1,0,0,0,4,28,44,53,27,12,2,2,0,0,0,0,0,0,0,0,0,36.17267441860465,42.5,21.1,59.6,0,84,7,3,5,99,0,59,8,3,3,73,0,143,15,6,8,172,99,90,70,70,92,78,67,73,72,89,97,85,54,44,172,162,159,167,177,132,111,84.2,80.857142857142861,null,null,null,null,null,83.2,73.428571428571431,null,null,null,null,null,167.4,154.28571428571428,99,90,70,70,92,78,67,73,72,89,97,85,54,44,172,162,159,167,177,132,111]
["Mon",1000,0,54,0,6,0,0,0,0,0,0,0,0,0,0,0,4,6,10,22,14,3,1,0,0,0,0,0,0,0,0,0,0,36.700000000000003,42.5,22,53.3,"Mon",1000,0,49,1,10,0,1,0,2,2,0,0,0,0,0,0,0,10,20,12,18,4,0,1,0,0,0,0,0,0,0,0,0,36.4,42.9,25.3,55.3,"Mon",1000,0,103,1,16,0,1,0,2,2,0,0,0,0,0,0,4,16,30,34,32,7,1,1,0,0,0,0,0,0,0,0,0,36.543999999999997,42.7,22,55.3,0,54,6,0,0,60,0,50,10,1,4,65,0,104,16,1,4,125,60,75,89,63,98,83,68,65,82,72,68,73,43,55,125,157,161,131,171,126,123,77,76.571428571428569,null,null,null,null,null,72,65.428571428571431,null,null,null,null,null,149,142,60,75,89,63,98,83,68,65,82,72,68,73,43,55,125,157,161,131,171,126,123]
["Mon",1015,0,68,2,5,0,3,0,1,2,0,0,0,0,0,0,2,16,13,30,19,1,0,0,0,0,0,0,0,0,0,0,0,35.700000000000003,40.700000000000003,21.6,48.1,"Mon",1015,1,62,0,7,1,0,0,2,0,1,0,0,0,0,0,1,15,20,24,10,4,0,0,0,0,0,0,0,0,0,0,0,35.4,40.9,24.1,49.3,"Mon",1015,1,130,2,12,1,3,0,3,2,1,0,0,0,0,0,3,31,33,54,29,5,0,0,0,0,0,0,0,0,0,0,0,35.556774193548385,40.799999999999997,21.6,49.3,0,70,5,3,3,81,1,62,7,1,3,74,1,132,12,4,6,155,81,99,77,76,109,74,87,74,68,87,65,68,60,44,155,167,164,141,177,134,131,88.4,86.142857142857139,null,null,null,null,null,72.400000000000006,66.571428571428569,null,null,null,null,null,160.80000000000001,152.71428571428572,81,99,77,76,109,74,87,74,68,87,65,68,60,44,155,167,164,141,177,134,131]
["Mon",1030,0,69,1,9,0,0,0,0,0,0,0,0,0,0,0,4,16,20,26,8,3,2,0,0,0,0,0,0,0,0,0,0,35,40.299999999999997,23.3,52,"Mon",1030,0,66,1,7,1,2,0,0,2,0,0,0,0,0,1,18,10,14,27,6,3,0,0,0,0,0,0,0,0,0,0,0,32.5,39.1,19.7,49.5,"Mon",1030,0,135,2,16,1,2,0,0,2,0,0,0,0,0,1,22,26,34,53,14,6,2,0,0,0,0,0,0,0,0,0,0,33.75,39.700000000000003,19.7,52,0,70,9,0,0,79,0,67,7,3,2,79,0,137,16,3,2,158,79,93,89,103,96,78,98,79,90,73,94,94,85,47,158,183,162,197,190,163,145,92,90.857142857142861,null,null,null,null,null,86,80.285714285714292,null,null,null,null,null,178,171.14285714285714,79,93,89,103,96,78,98,79,90,73,94,94,85,47,158,183,162,197,190,163,145]
["Mon",1045,0,88,0,10,1,0,0,0,2,1,0,0,0,0,0,7,19,18,25,24,9,0,0,0,0,0,0,0,0,0,0,0,35.9,43.2,20.100000000000001,49.2,"Mon",1045,2,64,1,7,0,1,0,0,0,0,0,0,0,1,2,1,20,14,26,10,0,1,0,0,0,0,0,0,0,0,0,0,33.6,39.6,13.4,50.2,"Mon",1045,2,152,1,17,1,1,0,0,2,1,0,0,0,1,2,8,39,32,51,34,9,1,0,0,0,0,0,0,0,0,0,0,34.925423728813556,41.400000000000006,13.4,50.2,0,88,10,1,3,102,2,65,7,1,0,75,2,153,17,2,3,177,102,98,86,106,95,108,80,75,89,85,81,59,74,70,177,187,171,187,154,182,150,97.4,96.428571428571431,null,null,null,null,null,77.8,76.142857142857139,null,null,null,null,null,175.2,172.57142857142858,102,98,86,106,95,108,80,75,89,85,81,59,74,70,177,187,171,187,154,182,150]
["Mon",1100,0,82,1,14,2,2,0,1,0,0,0,0,0,0,1,6,33,22,31,9,0,0,0,0,0,0,0,0,0,0,0,0,32.799999999999997,37.799999999999997,19.899999999999999,44.4,"Mon",1100,1,71,1,9,1,0,0,0,1,2,0,0,0,0,5,17,8,13,29,12,1,0,0,0,1,0,0,0,0,0,0,0,33.1,40,15.7,66.3,"Mon",1100,1,153,2,23,3,2,0,1,1,2,0,0,0,0,6,23,41,35,60,21,1,0,0,0,1,0,0,0,0,0,0,0,32.937234042553193,38.9,15.7,66.3,0,83,14,4,1,102,1,72,9,1,3,86,1,155,23,5,4,188,102,83,73,83,87,84,95,86,70,71,77,79,78,55,188,153,144,160,166,162,150,85.6,86.714285714285708,null,null,null,null,null,76.599999999999994,73.714285714285708,null,null,null,null,null,162.19999999999999,160.42857142857142,102,83,73,83,87,84,95,86,70,71,77,79,78,55,188,153,144,160,166,162,150]
["Mon",1115,0,62,0,9,0,0,0,0,1,3,0,0,0,0,0,8,20,14,15,13,2,3,0,0,0,0,0,0,0,0,0,0,34.299999999999997,41.6,20.8,52.3,"Mon",1115,1,50,0,9,1,1,0,0,1,0,0,0,0,0,0,0,7,8,26,11,10,0,1,0,0,0,0,0,0,0,0,0,38.299999999999997,45.2,27.2,58.1,"Mon",1115,1,112,0,18,1,1,0,0,2,3,0,0,0,0,0,8,27,22,41,24,12,3,1,0,0,0,0,0,0,0,0,0,36.126086956521739,43.400000000000006,20.8,58.1,0,62,9,0,4,75,1,50,9,2,1,63,1,112,18,2,5,138,75,86,79,94,111,103,112,63,70,88,72,85,87,61,138,156,167,166,196,190,173,89,94.285714285714292,null,null,null,null,null,75.599999999999994,75.142857142857139,null,null,null,null,null,164.6,169.42857142857142,75,86,79,94,111,103,112,63,70,88,72,85,87,61,138,156,167,166,196,190,173]
["Mon",1130,0,71,2,9,1,2,0,0,0,2,0,0,0,0,1,6,11,11,24,28,6,0,0,0,0,0,0,0,0,0,0,0,36.799999999999997,43.2,19.7,48.6,"Mon",1130,0,69,2,9,1,0,0,0,0,0,0,0,0,0,0,2,10,29,19,10,5,6,0,0,0,0,0,0,0,0,0,0,36.700000000000003,44.7,23.4,52.9,"Mon",1130,{"$f":"SUM(C51+AO51)","v":0},{"$f":"SUM(D51+AP51)","v":140},{"$f":"SUM(E51+AQ51)","v":4},{"$f":"SUM(F51+AR51)","v":18},{"$f":"SUM(G51+AS51)","v":2},{"$f":"SUM(H51+AT51)","v":2},{"$f":"SUM(I51+AU51)","v":0},{"$f":"SUM(J51+AV51)","v":0},{"$f":"SUM(K51+AW51)","v":0},{"$f":"SUM(L51+AX51)","v":2},{"$f":"SUM(M51+AY51)","v":0},{"$f":"SUM(N51+AZ51)","v":0},{"$f":"SUM(O51+BA51)","v":0},0,1,8,21,40,43,38,11,6,0,0,0,0,0,0,0,0,0,0,36.751785714285717,43.95,19.7,52.9,0,73,9,3,2,87,0,71,9,1,0,81,0,144,18,4,2,168,87,92,85,89,93,105,85,81,108,98,73,78,93,62,168,200,183,162,171,198,147,89.2,90.857142857142861,null,null,null,null,null,87.6,84.714285714285708,null,null,null,null,null,176.8,175.57142857142858,87,92,85,89,93,105,85,81,108,98,73,78,93,62,168,200,183,162,171,198,147]
["Mon",1145,1,67,2,6,2,1,0,1,0,2,0,0,0,0,1,2,15,22,12,21,4,3,0,0,0,0,0,0,0,0,0,2,37.9,43.8,19.2,120.6,"Mon",1145,0,60,0,10,0,3,0,4,0,2,0,0,0,0,0,6,14,26,18,13,1,1,0,0,0,0,0,0,0,0,0,0,34.1,40.9,20.2,51.7,"Mon",1145,1,127,2,16,2,4,0,5,0,4,0,0,0,0,1,8,29,48,30,34,5,4,0,0,0,0,0,0,0,0,0,2,36.035403726708076,42.349999999999994,19.2,120.6,1,69,6,3,3,82,0,60,10,3,6,79,1,129,16,6,9,161,82,99,95,106,108,90,119,79,83,77,96,77,93,55,161,182,172,202,185,183,174,98,99.857142857142861,null,null,null,null,null,82.4,80,null,null,null,null,null,180.4,179.85714285714286,82,99,95,106,108,90,119,79,83,77,96,77,93,55,161,182,172,202,185,183,174]
["Mon",1200,0,71,0,6,0,1,0,0,0,1,0,0,0,0,0,2,17,17,20,21,2,0,0,0,0,0,0,0,0,0,0,0,35.5,41.4,24.1,47.1,"Mon",1200,1,56,0,9,1,0,0,2,2,0,0,0,0,0,1,9,9,22,22,4,4,0,0,0,0,0,0,0,0,0,0,0,33.1,38.9,15.1,46.9,"Mon",1200,1,127,0,15,1,1,0,2,2,1,0,0,0,0,1,11,26,39,42,25,6,0,0,0,0,0,0,0,0,0,0,0,34.364000000000004,40.15,15.1,47.1,0,71,6,1,1,79,1,56,9,1,4,71,1,127,15,2,5,150,79,103,87,83,104,91,100,71,87,88,86,88,86,68,150,190,175,169,192,177,168,91.2,92.428571428571431,null,null,null,null,null,84,82,null,null,null,null,null,175.2,174.42857142857142,79,103,87,83,104,91,100,71,87,88,86,88,86,68,150,190,175,169,192,177,168]
["Mon",1215,1,56,1,9,1,1,0,1,0,0,0,0,0,0,0,1,7,11,18,20,7,5,0,1,0,0,0,0,0,0,0,0,39.1,45.9,21.3,60.3,"Mon",1215,0,55,3,14,1,2,0,1,1,0,0,0,0,1,4,5,6,18,27,9,4,3,0,0,0,0,0,0,0,0,0,0,35,41.4,12.1,52.5,"Mon",1215,1,111,4,23,2,3,0,2,1,0,0,0,0,1,4,6,13,29,45,29,11,8,0,1,0,0,0,0,0,0,0,0,36.952380952380949,43.65,12.1,60.3,1,57,9,2,1,70,0,58,14,3,2,77,1,115,23,5,3,147,70,106,94,93,106,114,124,77,95,106,74,98,86,90,147,201,200,167,204,200,214,93.8,101,null,null,null,null,null,90,89.428571428571431,null,null,null,null,null,183.8,190.42857142857142,70,106,94,93,106,114,124,77,95,106,74,98,86,90,147,201,200,167,204,200,214]
["Mon",1230,2,73,2,8,0,0,0,0,1,0,0,0,0,0,1,8,22,14,30,8,2,0,0,1,0,0,0,0,0,0,0,0,33.6,39.6,17.899999999999999,60.4,"Mon",1230,1,78,1,1,0,0,0,1,0,0,0,0,0,0,0,1,5,25,14,25,7,3,2,0,0,0,0,0,0,0,0,0,38.700000000000003,44.5,24.2,55.5,"Mon",1230,3,151,3,9,0,0,0,1,1,0,0,0,0,0,1,9,27,39,44,33,9,3,2,1,0,0,0,0,0,0,0,0,36.089285714285715,42.05,17.899999999999999,60.4,2,75,8,0,1,86,1,79,1,0,1,82,3,154,9,0,2,168,86,106,104,84,111,129,97,82,76,94,117,92,101,93,168,182,198,201,203,230,190,98.2,102.42857142857143,null,null,null,null,null,92.2,93.571428571428569,null,null,null,null,null,190.4,196,86,106,104,84,111,129,97,82,76,94,117,92,101,93,168,182,198,201,203,230,190]
["Mon",1245,0,67,0,7,1,2,0,0,0,1,0,0,0,0,0,4,12,13,23,20,6,0,0,0,0,0,0,0,0,0,0,0,36.299999999999997,42.5,23.7,48.6,"Mon",1245,0,91,0,9,0,1,0,0,0,1,0,0,0,0,2,2,19,34,31,12,0,2,0,0,0,0,0,0,0,0,0,0,33.9,39.6,17.3,54.9,"Mon",1245,0,158,0,16,1,3,0,0,0,2,0,0,0,0,2,6,31,47,54,32,6,2,0,0,0,0,0,0,0,0,0,0,34.939999999999991,41.05,17.3,54.9,0,67,7,3,1,78,0,91,9,1,1,102,0,{"$f":"SUM(DL56+DR56)","v":158},{"$f":"SUM(DM56+DS56)","v":16},{"$f":"SUM(DN56+DT56)","v":4},{"$f":"SUM(DO56+DU56)","v":2},{"$f":"SUM(DP56+DV56)","v":180},78,81,84,89,92,91,84,102,105,99,101,78,87,80,180,186,183,190,170,178,164,84.8,85.571428571428569,null,null,null,null,null,97,93.142857142857139,null,null,null,null,null,181.8,178.71428571428572,78,81,84,89,92,91,84,102,105,99,101,78,87,80,180,186,183,190,170,178,164]
["Mon",1300,0,80,0,12,0,0,0,0,0,2,0,0,0,0,0,4,15,10,27,33,5,0,0,0,0,0,0,0,0,0,0,0,37.299999999999997,43.2,20.399999999999999,49.2,"Mon",1300,0,77,2,4,0,0,0,0,0,0,0,0,0,4,6,8,6,15,31,10,3,0,0,0,0,0,0,0,0,0,0,0,32.6,40.5,11.1,48.8,"Mon",1300,0,157,2,16,0,0,0,0,0,2,0,0,0,4,6,12,21,25,58,43,8,0,0,0,0,0,0,0,0,0,0,0,35.096045197740111,41.85,11.1,49.2,0,80,12,0,2,94,0,79,4,0,0,83,0,159,16,0,2,177,94,87,88,90,123,95,105,83,97,81,80,100,87,87,177,184,169,{"$f":"SUM(EF57+EM57)","v":170},223,182,192,96.4,97.428571428571431,null,null,null,null,null,88.2,87.857142857142861,null,null,null,null,null,184.6,185.28571428571428,94,87,88,90,123,95,105,83,97,81,80,100,87,87,177,184,169,170,223,182,192]
["Mon",1315,1,65,1,8,0,0,0,1,0,2,0,1,0,0,0,0,10,19,30,17,1,2,0,0,0,0,0,0,0,0,0,0,36.299999999999997,41.6,25.1,50.3,"Mon",1315,3,75,2,7,0,0,0,1,0,1,0,0,0,0,1,5,11,22,29,10,7,3,1,0,0,0,0,0,0,0,0,0,36.1,43.8,19.399999999999999,59.1,"Mon",1315,4,140,3,15,0,0,0,2,0,3,0,1,0,0,1,5,21,41,59,27,8,5,1,0,0,0,0,0,0,0,0,0,36.194047619047623,42.7,19.399999999999999,59.1,1,66,8,0,4,79,3,77,7,0,2,89,4,143,15,0,6,168,79,93,100,103,83,113,74,89,83,91,88,100,83,100,{"$f":"SUM(EC58+EJ58)","v":168},176,191,191,183,196,174,91.6,92.142857142857139,null,null,null,null,null,90.2,90.571428571428569,null,null,null,null,null,181.8,182.71428571428572,79,93,100,103,83,113,74,89,83,91,88,100,83,100,168,176,191,191,183,196,174]
["Mon",1330,0,71,0,6,0,1,0,0,0,3,0,0,0,0,0,5,9,15,20,27,5,0,0,0,0,0,0,0,0,0,0,0,36.799999999999997,42.7,22.3,49,"Mon",1330,2,58,1,8,0,0,0,0,0,0,0,0,1,1,5,3,11,18,16,11,2,1,0,0,0,0,0,0,0,0,0,0,33,40.9,9.9,52.4,"Mon",1330,2,129,1,14,0,1,0,0,0,3,0,0,1,1,5,8,20,33,36,38,7,1,0,0,0,0,0,0,0,0,0,0,35.051999999999992,41.8,9.9,52.4,0,71,6,1,3,81,2,59,8,0,0,69,2,130,14,1,3,150,81,85,94,94,123,88,91,69,88,88,80,104,113,96,150,173,182,174,227,201,187,95.4,93.714285714285708,null,null,null,null,null,85.8,91.142857142857139,null,null,null,null,null,181.2,184.85714285714286,81,85,94,94,123,88,91,69,88,88,80,104,113,96,150,173,182,174,227,201,187]
["Mon",1345,2,54,1,11,0,0,0,0,2,1,0,0,0,0,0,5,10,20,19,13,2,2,0,0,0,0,0,0,0,0,0,0,35.299999999999997,40.9,22.4,50.4,"Mon",1345,1,57,1,8,1,1,0,0,1,0,0,0,0,0,0,1,8,19,25,11,6,0,0,0,0,0,0,0,0,0,0,0,36.299999999999997,42.9,24.7,47.7,"Mon",1345,3,111,2,19,1,1,0,0,3,1,0,0,0,0,0,6,18,39,44,24,8,2,0,0,0,0,0,0,0,0,0,0,35.796453900709217,41.9,22.4,50.4,2,55,11,0,3,71,1,58,8,2,1,70,3,113,19,2,4,141,71,78,82,81,105,109,73,70,89,102,121,91,82,98,141,167,184,202,196,191,171,83.4,85.571428571428569,null,null,null,null,null,94.6,93.285714285714292,null,null,null,null,null,178,178.85714285714286,71,78,82,81,105,109,73,70,89,102,121,91,82,98,141,167,184,202,196,191,171]
["Mon",1400,3,66,1,11,0,1,0,1,2,5,0,0,0,0,0,1,22,21,28,15,2,1,0,0,0,0,0,0,0,0,0,0,35.1,40.299999999999997,23,53,"Mon",1400,0,71,1,11,0,0,0,2,1,1,0,0,0,2,4,8,7,23,19,15,5,4,0,0,0,0,0,0,0,0,0,0,34.5,43.4,13,51.2,"Mon",1400,3,137,2,22,0,1,0,3,3,6,0,0,0,2,4,9,29,44,47,30,7,5,0,0,0,0,0,0,0,0,0,0,34.805084745762713,41.849999999999994,13,53,3,67,11,1,8,90,0,72,11,0,4,87,3,139,22,1,12,177,90,80,95,72,93,87,81,87,107,96,90,108,106,103,177,187,191,162,201,193,184,86,85.428571428571431,null,null,null,null,null,97.6,99.571428571428569,null,null,null,null,null,183.6,185,90,80,95,72,93,87,81,87,107,96,90,108,106,103,177,187,191,162,201,193,184]
["Mon",1415,1,71,1,11,0,1,0,0,0,0,0,0,0,0,2,4,19,17,22,11,8,2,0,0,0,0,0,0,0,0,0,0,35.1,42.7,19.100000000000001,54.9,"Mon",1415,2,75,2,7,0,2,0,1,0,0,0,0,0,0,0,7,16,18,22,19,7,0,0,0,0,0,0,0,0,0,0,0,35.299999999999997,42.5,22.6,49.4,"Mon",1415,3,146,3,18,0,3,0,1,0,0,0,0,0,0,2,11,35,35,44,30,15,2,0,0,0,0,0,0,0,0,0,0,35.202298850574714,42.6,19.100000000000001,54.9,1,72,11,1,0,85,2,77,7,2,1,89,3,149,18,3,1,174,85,62,96,89,98,88,81,89,109,97,96,107,96,117,174,171,193,185,205,184,198,86,85.571428571428569,null,null,null,null,null,99.6,101.57142857142857,null,null,null,null,null,185.6,187.14285714285714,85,62,96,89,98,88,81,89,109,97,96,107,96,117,174,171,193,185,205,184,198]
["Mon",1430,2,70,1,8,1,0,0,0,1,0,0,0,0,0,1,0,18,31,17,10,1,5,0,0,0,0,0,0,0,0,0,0,34.799999999999997,42.7,19.2,52.3,"Mon",1430,1,85,0,10,0,0,1,1,0,2,0,0,0,0,6,2,16,33,33,9,1,0,0,0,0,0,0,0,0,0,0,0,33.4,38.700000000000003,16.899999999999999,45.3,"Mon",1430,3,155,1,18,1,0,1,1,1,2,0,0,0,0,7,2,34,64,50,19,2,5,0,0,0,0,0,0,0,0,0,0,34.034972677595626,40.700000000000003,16.899999999999999,52.3,2,71,8,1,1,83,1,85,10,0,4,100,3,156,18,1,5,183,83,86,98,107,86,98,78,100,109,110,132,105,93,85,183,195,208,239,191,191,163,92,90.857142857142861,null,null,null,null,null,111.2,104.85714285714286,null,null,null,null,null,203.2,195.71428571428572,83,86,98,107,86,98,78,100,109,110,132,105,93,85,183,195,208,239,191,191,163]
["Mon",1445,0,74,2,5,0,0,0,0,1,0,0,0,0,0,0,3,19,19,21,9,8,3,0,0,0,0,0,0,0,0,0,0,35.6,44.1,21.9,53.8,"Mon",1445,1,92,1,7,1,2,0,0,0,1,0,0,0,1,0,0,14,31,34,20,5,0,0,0,0,0,0,0,0,0,0,0,35.9,41.8,13.3,48.1,"Mon",1445,1,166,3,12,1,2,0,0,1,1,0,0,0,1,0,3,33,50,55,29,13,3,0,0,0,0,0,0,0,0,0,0,35.768449197860967,42.95,13.3,53.8,0,76,5,0,1,82,1,93,7,3,1,105,1,169,12,3,2,187,82,71,84,91,125,73,81,105,111,108,116,124,107,86,187,182,192,207,249,180,167,90.6,86.714285714285708,null,null,null,null,null,112.8,108.14285714285714,null,null,null,null,null,203.4,194.85714285714286,82,71,84,91,125,73,81,105,111,108,116,124,107,86,187,182,192,207,249,180,167]
["Mon",1500,2,80,0,8,0,1,0,0,1,3,0,0,0,0,0,10,21,23,21,13,3,1,3,0,0,0,0,0,0,0,0,0,34.200000000000003,42.3,20.6,55.9,"Mon",1500,2,100,1,11,0,0,0,0,1,0,0,0,0,0,1,4,11,39,46,11,2,0,0,1,0,0,0,0,0,0,0,0,35,39.4,18.7,62,"Mon",1500,4,180,1,19,0,1,0,0,2,3,0,0,0,0,1,14,32,62,67,24,5,1,3,1,0,0,0,0,0,0,0,0,34.638095238095239,40.849999999999994,18.7,62,2,80,8,1,4,95,2,101,11,0,1,115,4,181,19,1,5,210,95,91,104,92,109,64,62,115,101,129,104,130,90,103,210,192,233,196,239,154,165,98.2,88.142857142857139,null,null,null,null,null,115.8,110.28571428571429,null,null,null,null,null,214,198.42857142857142,95,91,104,92,109,64,62,115,101,129,104,130,90,103,210,192,233,196,239,154,165]
["Mon",1515,0,76,0,8,0,0,0,0,0,1,1,0,0,0,2,1,15,21,27,9,9,2,0,0,0,0,0,0,0,0,0,0,35.5,42.5,17.2,54.6,"Mon",1515,2,91,3,6,1,0,0,2,0,0,0,0,0,4,7,5,11,23,32,19,3,0,0,0,0,1,0,0,0,0,0,0,34.200000000000003,41.4,13.5,72.7,"Mon",1515,2,167,3,14,1,0,0,2,0,1,1,0,0,4,9,6,26,44,59,28,12,2,0,0,0,1,0,0,0,0,0,0,34.785340314136128,41.95,13.5,72.7,0,76,8,0,2,86,2,94,6,1,2,105,2,170,14,1,4,191,86,98,130,119,137,77,90,105,102,106,136,118,98,99,191,200,236,255,255,175,189,114,105.28571428571429,null,null,null,null,null,113.4,109.14285714285714,null,null,null,null,null,227.4,214.42857142857142,86,98,130,119,137,77,90,105,102,106,136,118,98,99,191,200,236,255,255,175,189]
["Mon",1530,0,95,1,6,1,0,0,0,3,3,0,0,0,0,0,6,26,22,32,14,7,2,0,0,0,0,0,0,0,0,0,0,34.9,42.9,21.4,51.3,"Mon",1530,2,87,1,11,0,0,0,1,4,0,0,0,1,3,3,0,17,42,24,13,3,0,0,0,0,0,0,0,0,0,0,0,33.1,39.799999999999997,9.3000000000000007,47.2,"Mon",1530,2,182,2,17,1,0,0,1,7,3,0,0,1,3,3,6,43,64,56,27,10,2,0,0,0,0,0,0,0,0,0,0,34.012558139534889,41.349999999999994,9.3000000000000007,51.3,0,96,6,1,6,109,2,88,11,0,5,106,2,184,17,1,11,215,109,128,113,96,117,71,71,106,127,137,116,171,80,105,215,255,250,212,288,151,176,112.6,100.71428571428571,null,null,null,null,null,131.4,120.28571428571429,null,null,null,null,null,244,221,109,128,113,96,117,71,71,106,127,137,116,171,80,105,215,255,250,212,288,151,176]
["Mon",1545,1,103,0,12,2,1,0,0,1,0,0,0,0,0,2,8,19,38,27,19,7,0,0,0,0,0,0,0,0,0,0,0,34,40.9,17.5,47.5,"Mon",1545,1,135,2,8,0,0,0,1,0,1,0,0,0,6,8,12,22,32,41,26,1,0,0,0,0,0,0,0,0,0,0,0,32.700000000000003,40.299999999999997,11.9,49.6,"Mon",1545,2,238,2,20,2,1,0,1,1,1,0,0,0,6,10,20,41,70,68,45,8,0,0,0,0,0,0,0,0,0,0,0,33.282089552238808,40.599999999999994,11.9,49.6,1,103,12,3,1,120,1,137,8,0,2,148,2,240,20,3,3,268,120,119,114,113,124,71,76,148,133,116,126,123,98,105,268,252,230,239,247,169,181,118,105.28571428571429,null,null,null,null,null,129.19999999999999,121.28571428571429,null,null,null,null,null,247.2,226.57142857142858,120,119,114,113,124,71,76,148,133,116,126,123,98,105,268,252,230,239,247,169,181]
["Mon",1600,2,99,2,9,0,0,0,0,1,0,0,0,0,0,1,3,19,39,25,16,6,4,0,0,0,0,0,0,0,0,0,0,35.1,41.8,15.8,50.6,"Mon",1600,0,102,3,12,2,1,0,1,0,0,0,0,0,0,1,10,25,33,29,15,6,2,0,0,0,0,0,0,0,0,0,0,34,40.5,18,51.9,"Mon",1600,2,201,5,21,2,1,0,1,1,0,0,0,0,{"$f":"SUM(P69+BB69)","v":0},{"$f":"SUM(Q69+BC69)","v":2},{"$f":"SUM(R69+BD69)","v":13},{"$f":"SUM(S69+BE69)","v":44},{"$f":"SUM(T69+BF69)","v":72},{"$f":"SUM(U69+BG69)","v":54},{"$f":"SUM(V69+BH69)","v":31},{"$f":"SUM(W69+BI69)","v":12},{"$f":"SUM(X69+BJ69)","v":6},{"$f":"SUM(Y69+BK69)","v":0},{"$f":"SUM(Z69+BL69)","v":0},{"$f":"SUM(AA69+BM69)","v":0},{"$f":"SUM(AB69+BN69)","v":0},{"$f":"SUM(AC69+BO69)","v":0},{"$f":"SUM(AD69+BP69)","v":0},{"$f":"SUM(AE69+BQ69)","v":0},{"$f":"SUM(AF69+BR69)","v":0},{"$f":"SUM(AG69+BS69)","v":0},{"$f":"SUM(AH69+BT69)","v":0},34.531196581196582,41.15,15.8,51.9,2,101,9,0,1,113,0,105,12,3,1,121,2,206,21,3,2,234,113,129,141,130,126,79,77,121,149,142,122,129,90,103,234,278,283,252,255,169,180,127.8,113.57142857142857,null,null,null,null,null,132.6,122.28571428571429,null,null,null,null,null,260.39999999999998,235.85714285714286,113,129,141,130,126,79,77,121,149,142,122,129,90,103,234,278,283,252,255,169,180]
["Mon",1615,1,94,0,8,0,1,0,0,1,2,0,0,0,0,0,1,18,27,29,27,3,2,0,0,0,0,0,0,0,0,0,0,36.4,40.9,24.2,53,"Mon",1615,3,119,2,5,0,0,0,0,1,0,0,0,0,3,6,10,17,30,42,16,5,1,0,0,0,0,0,0,0,0,0,0,33.200000000000003,40.700000000000003,11.3,51.1,"Mon",1615,4,213,2,13,0,1,0,0,2,2,0,0,0,3,6,11,35,57,71,43,8,3,0,0,0,0,0,0,0,0,0,0,{"$f":"IF(EB70=0,\"-\",IF(DP70=0,BU70,IF(DV70=0,AI70,SUM((AI70*DP70),(BU70*DV70))/EB70)))","v":34.644725738396623},{"$f":"IFERROR(IF(BV70=\"-\",IF(AJ70=\"-\",\"-\",AJ70),IF(AJ70=\"-\",BV70,AVERAGE(AJ70,BV70))), \"-\")","v":40.799999999999997},{"$f":"IF(MIN(AK70,BW70)=0,\"-\",MIN(AK70,BW70))","v":11.3},{"$f":"IF(MAX(AL70,BX70)=0,\"-\",MAX(AL70,BX70))","v":53},{"$f":"SUM(C70)","v":1},{"$f":"SUM(D70+E70)","v":94},{"$f":"F70","v":8},{"$f":"SUM(G70:H70)","v":1},{"$f":"SUM(I70:N70)","v":3},{"$f":"SUM(C70:N70)","v":107},{"$f":"SUM(AO70)","v":3},{"$f":"SUM(AP70+AQ70)","v":121},{"$f":"AR70","v":5},{"$f":"SUM(AS70:AT70)","v":0},{"$f":"SUM(AU70:AZ70)","v":1},{"$f":"SUM(AO70:AZ70)","v":130},{"$f":"SUM(DK70+DQ70)","v":4},215,13,1,4,237,{"$f":"+DP70","v":107},{"$f":"+DP166","v":119},{"$f":"+DP262","v":129},{"$f":"+DP358","v":117},{"$f":"+DP454","v":107},{"$f":"+DP550","v":76},{"$f":"+DP646","v":71},{"$f":"+DV70","v":130},{"$f":"+DV166","v":128},{"$f":"+DV262","v":147},{"$f":"+DV358","v":120},{"$f":"+DV454","v":122},{"$f":"+DV550","v":100},{"$f":"+DV646","v":103},237,247,276,237,229,176,174,{"$f":"IF((SUM(FN70:FR70))>0,AVERAGE(FN70:FR70),0)","v":115.8},{"$f":"IF((SUM(FN70:FT70))>0,AVERAGE(FN70:FT70),0)","v":103.71428571428571},null,null,null,null,null,{"$f":"IF((SUM(FU70:FY70))>0,AVERAGE(FU70:FY70),0)","v":129.4},{"$f":"IF((SUM(FU70:GA70))>0,AVERAGE(FU70:GA70),0)","v":121.42857142857143},null,null,null,null,null,{"$f":"IF((SUM(GB70:GF70))>0,AVERAGE(GB70:GF70),0)","v":245.2},{"$f":"IF((SUM(GB70:GH70))>0,AVERAGE(GB70:GH70),0)","v":225.14285714285714},{"$f":"IF(C70=\"\", \"-\", SUM(C70:N70))","v":107},{"$f":"IF(C166=\"\",\"-\",SUM(C166:N166))","v":119},{"$f":"IF(C262=\"\",\"-\",SUM(C262:N262))","v":129},{"$f":"IF(C358=\"\",\"-\",SUM(C358:N358))","v":117},{"$f":"IF(C454=\"\",\"-\",SUM(C454:N454))","v":107},{"$f":"IF(C550=\"\",\"-\",SUM(C550:N550))","v":76},{"$f":"IF(C646=\"\",\"-\",SUM(C646:N646))","v":71},{"$f":"IF(AO70=\"\",\"-\",SUM(AO70:AZ70))","v":130},{"$f":"IF(AO166=\"\",\"-\",SUM(AO166:AZ166))","v":128},{"$f":"IF(AO262=\"\",\"-\",SUM(AO262:AZ262))","v":147},{"$f":"IF(AO358=\"\",\"-\",SUM(AO358:AZ358))","v":120},{"$f":"IF(AO454=\"\",\"-\",SUM(AO454:AZ454))","v":122},{"$f":"IF(AO550=\"\",\"-\",SUM(AO550:AZ550))","v":100},{"$f":"IF(AO646=\"\",\"-\",SUM(AO646:AZ646))","v":103},{"$f":"IF(FN70=\"-\",\"-\",IF(FU70=\"-\",\"-\",FN70+FU70))","v":237},{"$f":"IF(FO70=\"-\",\"-\",IF(FV70=\"-\",\"-\",FO70+FV70))","v":247},{"$f":"IF(FP70=\"-\",\"-\",IF(FW70=\"-\",\"-\",FP70+FW70))","v":276},{"$f":"IF(FQ70=\"-\",\"-\",IF(FX70=\"-\",\"-\",FQ70+FX70))","v":237},{"$f":"IF(FR70=\"-\",\"-\",IF(FY70=\"-\",\"-\",FR70+FY70))","v":229},{"$f":"IF(FS70=\"-\",\"-\",IF(FZ70=\"-\",\"-\",FS70+FZ70))","v":176},{"$f":"IF(FT70=\"-\",\"-\",IF(GA70=\"-\",\"-\",FT70+GA70))","v":174}]
[{"$f":"+A70","v":"Mon"},1630,3,104,1,2,0,0,0,0,1,1,0,0,0,0,0,3,21,23,39,20,6,0,0,0,0,0,0,0,0,0,0,0,35.299999999999997,42.1,20.5,47.9,"Mon",1630,1,111,2,9,0,0,0,0,0,1,0,0,0,0,8,10,10,47,29,13,6,1,0,0,0,0,0,0,0,0,0,0,33.6,40.5,17.100000000000001,50.9,"Mon",1630,4,215,3,11,0,0,0,0,1,2,0,0,0,0,8,13,31,70,68,33,12,1,0,0,0,0,0,0,0,0,0,0,34.406779661016948,41.3,17.100000000000001,50.9,3,105,2,0,2,112,1,113,9,0,1,124,4,218,11,0,3,236,112,126,126,123,84,67,69,124,157,121,117,139,83,124,236,283,247,240,223,150,193,114.2,101,null,null,null,null,null,131.6,123.57142857142857,null,null,null,null,null,245.8,224.57142857142858,112,126,126,123,84,67,69,124,157,121,117,139,83,124,236,283,247,240,223,150,193]
["Mon",1645,1,97,1,2,1,0,0,0,0,3,0,0,0,0,0,0,19,25,30,14,12,5,0,0,0,0,0,0,0,0,0,0,36.9,45,25.6,54.9,"Mon",1645,1,123,0,9,1,0,0,0,0,1,0,0,0,0,0,0,5,37,56,29,7,1,0,0,0,0,0,0,0,0,0,0,37.299999999999997,42.5,27.7,51,"Mon",1645,2,220,1,11,2,0,0,0,0,4,0,0,0,0,0,0,24,62,86,43,19,6,0,0,0,0,0,0,0,0,0,0,37.125,43.75,25.6,54.9,1,98,2,1,3,105,1,123,9,1,1,135,2,221,11,2,4,240,105,101,86,104,102,66,81,135,132,142,136,143,85,89,240,233,228,240,245,151,170,99.6,92.142857142857139,null,null,null,null,null,137.6,123.14285714285714,null,null,null,null,null,237.2,215.28571428571428,105,101,86,104,102,66,81,135,132,142,136,143,85,89,240,233,228,240,245,151,170]
["Mon",1700,1,89,1,6,0,0,0,0,1,2,0,0,0,0,0,1,20,21,27,21,8,2,0,0,0,0,0,0,0,0,0,0,36.5,43.2,23.5,51.1,"Mon",1700,0,128,4,4,0,0,0,0,0,0,0,0,0,0,0,4,29,46,35,13,8,0,1,0,0,0,0,0,0,0,0,0,34.4,40.700000000000003,22.8,55.7,"Mon",1700,1,217,5,10,0,0,0,0,1,2,0,0,0,0,0,5,49,67,62,34,16,2,1,0,0,0,0,0,0,0,0,0,35.289830508474573,41.95,22.8,55.7,1,90,6,0,3,100,0,132,4,0,0,136,1,222,10,0,3,236,100,137,137,116,90,70,87,136,127,120,133,178,95,117,236,264,257,249,268,165,204,116,105.28571428571429,null,null,null,null,null,138.80000000000001,129.42857142857142,null,null,null,null,null,254.8,234.71428571428572,100,137,137,116,90,70,87,136,127,120,133,178,95,117,236,264,257,249,268,165,204]
["Mon",1715,2,88,0,5,1,0,0,0,0,2,0,0,0,0,0,1,14,24,26,17,11,4,0,0,1,0,0,0,0,0,0,0,37.6,45.2,20.8,69,"Mon",1715,0,128,0,2,1,0,0,0,1,0,0,0,0,0,0,5,18,32,48,25,4,0,0,0,0,0,0,0,0,0,0,0,35.5,40.9,20.6,49.8,"Mon",1715,2,216,0,7,2,0,0,0,1,2,0,0,0,0,0,6,32,56,74,42,15,4,0,0,1,0,0,0,0,0,0,0,36.39478260869565,43.05,20.6,69,2,88,5,1,2,98,0,128,2,1,1,132,2,216,7,2,3,230,98,116,119,108,91,77,76,132,136,142,133,139,96,98,230,252,261,241,230,173,174,106.4,97.857142857142861,null,null,null,null,null,136.4,125.14285714285714,null,null,null,null,null,242.8,223,98,116,119,108,91,77,76,132,136,142,133,139,96,98,230,252,261,241,230,173,174]
["Mon",1730,1,104,2,4,0,0,0,0,2,0,1,0,0,0,0,0,23,56,22,8,4,0,1,0,0,0,0,0,0,0,0,0,33.700000000000003,38,25.1,55.7,"Mon",1730,0,106,0,3,0,0,0,0,0,1,0,0,0,0,0,5,13,30,26,26,10,0,0,0,0,0,0,0,0,0,0,0,36.5,43.4,21.9,50,"Mon",1730,1,210,2,7,0,0,0,0,2,1,1,0,0,0,0,5,36,86,48,34,14,0,1,0,0,0,0,0,0,0,0,0,35.075000000000003,40.700000000000003,21.9,55.7,1,106,4,0,3,114,0,106,3,0,1,110,1,212,7,0,4,224,114,117,111,117,115,72,85,110,137,130,128,120,86,93,224,254,241,245,235,158,178,114.8,104.42857142857143,null,null,null,null,null,125,114.85714285714286,null,null,null,null,null,239.8,219.28571428571428,114,117,111,117,115,72,85,110,137,130,128,120,86,93,224,254,241,245,235,158,178]
["Mon",1745,1,84,1,2,0,0,0,0,0,0,0,0,0,0,0,1,16,11,17,22,17,4,0,0,0,0,0,0,0,0,0,0,38.799999999999997,46.5,23.7,51.6,"Mon",1745,3,92,1,3,1,0,0,0,0,1,0,0,0,2,18,9,3,19,28,14,6,2,0,0,0,0,0,0,0,0,0,0,32.299999999999997,41.4,13.3,53,"Mon",1745,4,176,2,5,1,0,0,0,0,1,0,0,0,2,18,10,19,30,45,36,23,6,0,0,0,0,0,0,0,0,0,0,35.326455026455022,43.95,13.3,53,1,85,2,0,0,88,3,93,3,1,1,101,4,178,5,1,1,189,88,104,98,116,83,70,58,101,129,118,129,118,70,77,189,233,216,245,201,140,135,97.8,88.142857142857139,null,null,null,null,null,119,106,null,null,null,null,null,216.8,194.14285714285714,88,104,98,116,83,70,58,101,129,118,129,118,70,77,189,233,216,245,201,140,135]
["Mon",1800,1,72,1,4,0,0,0,0,0,0,0,0,0,0,0,0,7,18,27,17,6,2,1,0,0,0,0,0,0,0,0,0,38,43.4,25.4,55.7,"Mon",1800,1,97,0,5,0,0,0,0,0,0,0,0,0,1,9,13,4,18,24,22,6,6,0,0,0,0,0,0,0,0,0,0,34.799999999999997,43.4,12.5,54.6,"Mon",1800,2,169,1,9,0,0,0,0,0,0,0,0,0,1,9,13,11,36,51,39,12,8,1,0,0,0,0,0,0,0,0,0,36.179005524861878,43.4,12.5,55.7,1,73,4,0,0,78,1,97,5,0,0,103,2,170,9,0,0,181,78,90,107,121,88,71,70,103,135,106,120,109,72,102,181,225,213,241,197,143,172,96.8,89.285714285714292,null,null,null,null,null,114.6,106.71428571428571,null,null,null,null,null,211.4,196,78,90,107,121,88,71,70,103,135,106,120,109,72,102,181,225,213,241,197,143,172]
["Mon",1815,1,65,0,7,0,0,0,0,0,0,0,0,0,0,0,0,15,13,16,19,7,3,0,0,0,0,0,0,0,0,0,0,37.5,44.5,25.2,54.9,"Mon",1815,0,106,0,3,0,0,0,0,0,0,1,0,0,0,0,2,6,37,36,23,5,1,0,0,0,0,0,0,0,0,0,0,36.4,41.4,22.4,54.2,"Mon",1815,1,171,0,10,0,0,0,0,0,0,1,0,0,0,0,2,21,50,52,42,12,4,0,0,0,0,0,0,0,0,0,0,36.838797814207652,42.95,22.4,54.9,1,65,7,0,0,73,0,106,3,0,1,110,1,171,10,0,1,183,73,80,74,79,75,48,64,110,103,121,89,103,69,61,183,183,195,168,178,117,125,76.2,70.428571428571431,null,null,null,null,null,105.2,93.714285714285708,null,null,null,null,null,181.4,164.14285714285714,73,80,74,79,75,48,64,110,103,121,89,103,69,61,183,183,195,168,178,117,125]
["Mon",1830,0,58,0,4,1,0,0,0,1,0,0,0,0,1,4,3,13,9,11,18,3,2,0,0,0,0,0,0,0,0,0,0,34.5,42.1,14.8,50.8,"Mon",1830,4,96,1,11,0,0,0,0,0,1,0,0,0,0,0,0,8,38,34,24,6,3,0,0,0,0,0,0,0,0,0,0,37.1,43.2,28,52.6,"Mon",1830,4,154,1,15,1,0,0,0,1,1,0,0,0,1,4,3,21,47,45,42,9,5,0,0,0,0,0,0,0,0,0,0,36.159887005649722,42.650000000000006,14.8,52.6,0,58,4,1,1,64,4,97,11,0,1,113,4,155,15,1,2,177,64,68,67,69,78,48,45,113,126,115,146,141,108,125,177,194,182,215,219,156,170,69.2,62.714285714285715,null,null,null,null,null,128.19999999999999,124.85714285714286,null,null,null,null,null,197.4,187.57142857142858,64,68,67,69,78,48,45,113,126,115,146,141,108,125,177,194,182,215,219,156,170]
["Mon",1845,0,66,1,2,0,0,0,0,0,0,0,0,0,0,0,2,7,9,13,25,7,5,1,0,0,0,0,0,0,0,0,0,39.700000000000003,46.8,21.3,55.6,"Mon",1845,1,84,0,4,0,0,0,0,0,0,0,0,0,1,5,2,6,25,27,17,6,0,0,0,0,0,0,0,0,0,0,0,35.5,42.7,10.7,49.6,"Mon",1845,1,150,1,6,0,0,0,0,0,0,0,0,0,1,5,4,13,34,40,42,13,5,1,0,0,0,0,0,0,0,0,0,37.334177215189875,44.75,10.7,55.6,0,67,2,0,0,69,1,84,4,0,0,89,1,151,6,0,0,158,69,83,68,67,73,38,68,89,118,112,95,92,68,102,158,201,180,162,165,106,170,72,66.571428571428569,null,null,null,null,null,101.2,96.571428571428569,null,null,null,null,null,173.2,163.14285714285714,69,83,68,67,73,38,68,89,118,112,95,92,68,102,158,201,180,162,165,106,170]
["Mon",1900,4,69,0,2,0,0,0,0,0,0,0,0,0,0,0,1,7,12,16,25,11,2,0,0,0,1,0,0,0,0,0,0,39.9,46.3,23.7,70.099999999999994,"Mon",1900,3,69,0,2,0,0,0,0,0,1,0,0,0,0,2,2,5,18,26,12,8,1,1,0,0,0,0,0,0,0,0,0,37.4,44.7,19.100000000000001,57,"Mon",1900,7,138,0,4,0,0,0,0,0,1,0,0,0,0,2,3,12,30,42,37,19,3,1,0,0,1,0,0,0,0,0,0,38.65,45.5,19.100000000000001,70.099999999999994,4,69,2,0,0,75,3,69,2,0,1,75,7,138,4,0,1,150,75,80,86,72,66,65,65,75,81,71,99,70,64,55,150,161,157,171,136,129,120,75.8,72.714285714285708,null,null,null,null,null,79.2,73.571428571428569,null,null,null,null,null,155,146.28571428571428,75,80,86,72,66,65,65,75,81,71,99,70,64,55,150,161,157,171,136,129,120]
["Mon",1915,0,40,0,0,0,0,0,0,1,0,0,0,0,0,0,2,4,10,6,7,9,2,1,0,0,0,0,0,0,0,0,0,38.6,47.4,23.4,55.4,"Mon",1915,0,70,0,2,1,1,0,0,0,0,0,0,0,0,9,9,10,12,19,10,5,0,0,0,0,0,0,0,0,0,0,0,32.6,42.7,16.5,48.5,"Mon",1915,0,110,0,2,1,1,0,0,1,0,0,0,0,0,9,11,14,22,25,17,14,2,1,0,0,0,0,0,0,0,0,0,34.739130434782609,45.05,16.5,55.4,0,40,0,0,1,41,0,70,2,2,0,74,0,110,2,2,1,115,41,48,70,51,52,53,37,74,86,83,82,71,48,65,115,134,153,133,123,101,102,52.4,50.285714285714285,null,null,null,null,null,79.2,72.714285714285708,null,null,null,null,null,131.6,123,41,48,70,51,52,53,37,74,86,83,82,71,48,65,115,134,153,133,123,101,102]
["Mon",1930,3,53,0,3,0,0,0,0,0,0,0,0,0,0,0,0,6,20,14,10,6,3,0,0,0,0,0,0,0,0,0,0,37.299999999999997,43.6,25,53.9,"Mon",1930,2,51,1,1,0,1,0,0,0,0,0,0,0,1,0,2,4,6,18,19,4,2,0,0,0,0,0,0,0,0,0,0,38.1,44.1,14.8,51.3,"Mon",1930,{"$f":"SUM(C83+AO83)","v":5},{"$f":"SUM(D83+AP83)","v":104},{"$f":"SUM(E83+AQ83)","v":1},{"$f":"SUM(F83+AR83)","v":4},{"$f":"SUM(G83+AS83)","v":0},{"$f":"SUM(H83+AT83)","v":1},{"$f":"SUM(I83+AU83)","v":0},{"$f":"SUM(J83+AV83)","v":0},{"$f":"SUM(K83+AW83)","v":0},{"$f":"SUM(L83+AX83)","v":0},{"$f":"SUM(M83+AY83)","v":0},{"$f":"SUM(N83+AZ83)","v":0},{"$f":"SUM(O83+BA83)","v":0},1,0,2,10,26,32,29,10,5,0,0,0,0,0,0,0,0,0,0,37.689565217391298,43.85,14.8,53.9,3,53,3,0,0,59,2,52,1,1,0,56,5,105,4,1,0,115,59,58,51,67,49,53,41,56,51,73,64,73,54,52,115,109,124,131,122,107,93,56.8,54,null,null,null,null,null,63.4,60.428571428571431,null,null,null,null,null,120.2,114.42857142857143,59,58,51,67,49,53,41,56,51,73,64,73,54,52,115,109,124,131,122,107,93]
["Mon",1945,2,26,2,3,0,0,0,0,1,0,0,0,0,1,0,4,3,5,4,8,7,1,0,1,0,0,0,0,0,0,0,0,38,47.2,13.8,62.3,"Mon",1945,0,57,0,2,0,0,0,0,0,0,0,0,0,0,0,1,0,15,33,8,2,0,0,0,0,0,0,0,0,0,0,0,37.1,40.299999999999997,23.2,48.7,"Mon",1945,2,83,2,5,0,0,0,0,1,0,0,0,0,1,0,5,3,20,37,16,9,1,0,1,0,0,0,0,0,0,0,0,37.429032258064517,43.75,13.8,62.3,2,28,3,0,1,34,0,57,2,0,0,59,2,85,5,0,1,93,34,57,40,60,49,38,38,59,68,66,61,46,58,49,93,125,106,121,95,96,87,48,45.142857142857146,null,null,null,null,null,60,58.142857142857146,null,null,null,null,null,108,103.28571428571429,34,57,40,60,49,38,38,59,68,66,61,46,58,49,93,125,106,121,95,96,87]
["Mon",2000,1,30,0,0,0,0,0,0,0,0,0,0,0,0,0,3,2,5,7,3,4,6,1,0,0,0,0,0,0,0,0,0,39.700000000000003,51.2,20.9,56.8,"Mon",2000,1,45,0,4,0,0,0,0,0,0,0,0,0,0,0,2,7,4,13,13,10,0,0,1,0,0,0,0,0,0,0,0,38.799999999999997,45.9,22.6,62.2,"Mon",2000,2,75,0,4,0,0,0,0,0,0,0,0,0,0,0,5,9,9,20,16,14,6,1,1,0,0,0,0,0,0,0,0,39.144444444444446,48.55,20.9,62.2,1,30,0,0,0,31,1,45,4,0,0,50,2,75,4,0,0,81,31,56,47,46,52,38,40,50,66,55,56,50,47,39,81,122,102,102,102,85,79,46.4,44.285714285714285,null,null,null,null,null,55.4,51.857142857142854,null,null,null,null,null,101.8,96.142857142857139,31,56,47,46,52,38,40,50,66,55,56,50,47,39,81,122,102,102,102,85,79]
["Mon",2015,1,40,0,1,1,0,0,0,0,0,0,0,0,0,0,1,4,5,13,8,8,4,0,0,0,0,0,0,0,0,0,0,40,47.4,24.3,51.4,"Mon",2015,1,44,1,2,0,0,0,0,0,0,0,0,0,0,0,5,3,11,9,9,6,5,0,0,0,0,0,0,0,0,0,0,37.700000000000003,45.9,21.4,52.9,"Mon",2015,2,84,1,3,1,0,0,0,0,0,0,0,0,0,0,6,7,16,22,17,14,9,0,0,0,0,0,0,0,0,0,0,38.786813186813191,46.65,21.4,52.9,1,40,1,1,0,43,1,45,2,0,0,48,2,85,3,1,0,91,43,59,48,42,34,36,29,48,52,61,69,58,34,48,91,111,109,111,92,70,77,45.2,41.571428571428569,null,null,null,null,null,57.6,52.857142857142854,null,null,null,null,null,102.8,94.428571428571431,43,59,48,42,34,36,29,48,52,61,69,58,34,48,91,111,109,111,92,70,77]
["Mon",2030,0,24,0,3,0,0,0,0,0,0,0,0,0,0,2,0,4,5,6,7,3,0,0,0,0,0,0,0,0,0,0,0,35.700000000000003,42.5,19.7,49,"Mon",2030,0,38,1,1,0,0,0,0,0,0,0,0,0,0,0,2,0,9,15,10,2,2,0,0,0,0,0,0,0,0,0,0,38.200000000000003,42.9,23.7,51.3,"Mon",2030,0,62,1,4,0,0,0,0,0,0,0,0,0,0,2,2,4,14,21,17,5,2,0,0,0,0,0,0,0,0,0,0,37.192537313432837,42.7,19.7,51.3,0,24,3,0,0,27,0,39,1,0,0,40,0,63,4,0,0,67,27,49,37,28,30,17,27,40,57,73,55,40,33,39,67,106,110,83,70,50,66,34.200000000000003,30.714285714285715,null,null,null,null,null,53,48.142857142857146,null,null,null,null,null,87.2,78.857142857142861,27,49,37,28,30,17,27,40,57,73,55,40,33,39,67,106,110,83,70,50,66]
["Mon",2045,0,30,0,1,0,0,0,0,0,0,0,0,0,0,0,0,1,7,5,9,3,4,0,1,1,0,0,0,0,0,0,0,42.3,50.3,26.1,67.8,"Mon",2045,0,55,0,0,0,0,0,0,0,0,0,0,0,0,0,1,9,11,14,15,3,1,0,0,1,0,0,0,0,0,0,0,37.700000000000003,44.1,24.1,65.900000000000006,"Mon",2045,0,85,0,1,0,0,0,0,0,0,0,0,0,0,0,1,10,18,19,24,6,5,0,1,2,0,0,0,0,0,0,0,39.358139534883726,47.2,24.1,67.8,0,30,1,0,0,31,0,55,0,0,0,55,0,85,1,0,0,86,31,45,41,38,47,25,26,55,55,46,48,38,43,25,86,100,87,86,85,68,51,40.4,36.142857142857146,null,null,null,null,null,48.4,44.285714285714285,null,null,null,null,null,88.8,80.428571428571431,31,45,41,38,47,25,26,55,55,46,48,38,43,25,86,100,87,86,85,68,51]
["Mon",2100,0,22,0,0,0,0,0,0,0,0,0,0,0,0,1,0,0,8,7,1,4,0,0,0,0,1,0,0,0,0,0,0,38,45,19.899999999999999,70.400000000000006,"Mon",2100,1,52,0,1,0,0,0,0,0,0,0,0,0,0,0,1,9,19,19,5,1,0,0,0,0,0,0,0,0,0,0,0,34.6,39.4,23.1,46.3,"Mon",2100,1,74,0,1,0,0,0,0,0,0,0,0,0,0,1,1,9,27,26,6,5,0,0,0,0,1,0,0,0,0,0,0,35.584210526315793,42.2,19.899999999999999,70.400000000000006,0,22,0,0,0,22,1,52,1,0,0,54,1,74,1,0,0,76,22,39,33,37,33,13,25,54,40,45,40,39,27,33,76,79,78,77,72,40,58,32.799999999999997,28.857142857142858,null,null,null,null,null,43.6,39.714285714285715,null,null,null,null,null,76.400000000000006,68.571428571428569,22,39,33,37,33,13,25,54,40,45,40,39,27,33,76,79,78,77,72,40,58]
["Mon",2115,1,17,0,1,1,0,0,0,0,0,0,0,0,0,0,0,5,4,3,3,2,2,1,0,0,0,0,0,0,0,0,0,38,48.3,25.5,57.5,"Mon",2115,1,30,0,2,0,0,0,0,0,0,0,0,0,0,0,0,5,4,12,5,3,4,0,0,0,0,0,0,0,0,0,0,39.1,47.6,26.3,52.3,"Mon",2115,2,47,0,3,1,0,0,0,0,0,0,0,0,0,0,0,10,8,15,8,5,6,1,0,0,0,0,0,0,0,0,0,38.68490566037736,47.95,25.5,57.5,1,17,1,1,0,20,1,30,2,0,0,33,2,47,3,1,0,53,20,36,33,39,34,24,22,33,47,49,35,36,31,31,53,83,82,74,70,55,53,32.4,29.714285714285715,null,null,null,null,null,40,37.428571428571431,null,null,null,null,null,72.400000000000006,67.142857142857139,20,36,33,39,34,24,22,33,47,49,35,36,31,31,53,83,82,74,70,55,53]
["Mon",2130,3,29,0,1,0,1,0,0,0,0,0,0,0,0,0,0,6,3,10,12,1,1,1,0,0,0,0,0,0,0,0,0,38.1,41.6,25,56.7,"Mon",2130,0,26,0,1,0,0,0,0,0,0,0,0,0,0,0,0,0,5,9,8,4,1,0,0,0,0,0,0,0,0,0,0,39.799999999999997,45,31.3,52.3,"Mon",2130,3,55,0,2,0,1,0,0,0,0,0,0,0,0,0,0,6,8,19,20,5,2,1,0,0,0,0,0,0,0,0,0,38.852459016393439,43.3,25,56.7,3,29,1,1,0,34,0,26,1,0,0,27,3,55,2,1,0,61,34,38,43,36,29,17,28,27,46,50,39,38,24,28,61,84,93,75,67,41,56,36,32.142857142857146,null,null,null,null,null,40,36,null,null,null,null,null,76,68.142857142857139,34,38,43,36,29,17,28,27,46,50,39,38,24,28,61,84,93,75,67,41,56]
["Mon",2145,0,21,0,1,0,0,0,0,0,0,0,0,0,0,0,0,2,5,6,5,3,1,0,0,0,0,0,0,0,0,0,0,38.799999999999997,45.6,27.4,51.5,"Mon",2145,3,35,0,2,0,0,0,0,0,0,0,0,0,0,0,0,8,13,10,8,1,0,0,0,0,0,0,0,0,0,0,0,35.200000000000003,40.9,25.3,48.7,"Mon",2145,3,56,0,3,0,0,0,0,0,0,0,0,0,0,0,0,10,18,16,13,4,1,0,0,0,0,0,0,0,0,0,0,36.477419354838709,43.25,25.3,51.5,0,21,1,0,0,22,3,35,2,0,0,40,3,56,3,0,0,62,22,28,42,34,29,28,26,40,44,37,38,42,24,34,62,72,79,72,71,52,60,31,29.857142857142858,null,null,null,null,null,40.200000000000003,37,null,null,null,null,null,71.2,66.857142857142861,22,28,42,34,29,28,26,40,44,37,38,42,24,34,62,72,79,72,71,52,60]
["Mon",2200,0,14,0,0,0,0,0,0,0,0,0,0,0,0,0,0,3,5,3,1,1,1,0,0,0,0,0,0,0,0,0,0,35.299999999999997,41.6,25,51,"Mon",2200,1,25,0,1,0,0,0,0,0,0,0,0,0,0,0,0,1,8,6,9,2,1,0,0,0,0,0,0,0,0,0,0,38.6,44.1,29.1,52.5,"Mon",2200,1,39,0,1,0,0,0,0,0,0,0,0,0,0,0,0,4,13,9,10,3,2,0,0,0,0,0,0,0,0,0,0,37.47317073170732,42.85,25,52.5,0,14,0,0,0,14,1,25,1,0,0,27,1,39,1,0,0,41,14,24,30,29,29,34,18,27,20,37,36,50,27,29,41,44,67,65,79,61,47,25.2,25.428571428571427,null,null,null,null,null,34,32.285714285714285,null,null,null,null,null,59.2,57.714285714285715,14,24,30,29,29,34,18,27,20,37,36,50,27,29,41,44,67,65,79,61,47]
["Mon",2215,0,12,0,0,0,0,0,0,0,0,0,0,0,0,0,0,0,1,4,7,0,0,0,0,0,0,0,0,0,0,0,0,39.1,40.9,30.5,42.2,"Mon",2215,1,20,1,0,0,0,0,0,0,0,0,0,0,0,0,0,4,5,8,3,2,0,0,0,0,0,0,0,0,0,0,0,36.799999999999997,42.3,27.5,49,"Mon",2215,1,32,1,0,0,0,0,0,0,0,0,0,0,0,0,0,4,6,12,10,2,0,0,0,0,0,0,0,0,0,0,0,37.611764705882351,41.599999999999994,27.5,49,0,12,0,0,0,12,1,21,0,0,0,22,1,33,0,0,0,34,12,26,15,26,30,36,22,22,42,30,26,30,29,33,34,68,45,52,60,65,55,21.8,23.857142857142858,null,null,null,null,null,30,30.285714285714285,null,null,null,null,null,51.8,54.142857142857146,12,26,15,26,30,36,22,22,42,30,26,30,29,33,34,68,45,52,60,65,55]
["Mon",2230,0,4,0,1,0,0,0,0,0,0,0,0,0,0,0,3,1,0,0,0,0,0,0,1,0,0,0,0,0,0,0,0,31.2,"-",20,61.7,"Mon",2230,2,24,0,4,0,0,0,0,0,0,0,0,0,0,0,0,2,4,11,10,2,1,0,0,0,0,0,0,0,0,0,0,38.799999999999997,44.5,27.7,52.5,"Mon",2230,2,28,0,5,0,0,0,0,0,0,0,0,0,0,0,3,3,4,11,10,2,1,0,1,0,0,0,0,0,0,0,0,37.714285714285715,44.5,20,61.7,0,4,1,0,0,5,2,24,4,0,0,30,2,28,5,0,0,35,5,17,18,21,18,24,11,30,37,21,29,31,33,29,35,54,39,50,49,57,40,15.8,16.285714285714285,null,null,null,null,null,29.6,30,null,null,null,null,null,45.4,46.285714285714285,5,17,18,21,18,24,11,30,37,21,29,31,33,29,35,54,39,50,49,57,40]
["Mon",2245,0,8,0,1,0,0,0,0,0,0,0,0,0,0,0,0,2,1,4,1,1,0,0,0,0,0,0,0,0,0,0,0,36.1,"-",25.5,47.9,"Mon",2245,0,19,0,2,0,0,0,0,0,0,0,0,0,0,0,0,2,7,4,5,1,2,0,0,0,0,0,0,0,0,0,0,38,43.6,26.9,52.9,"Mon",2245,0,27,0,3,0,0,0,0,0,0,0,0,0,0,0,0,4,8,8,6,2,2,0,0,0,0,0,0,0,0,0,0,37.43,43.6,25.5,52.9,0,8,1,0,0,9,0,19,2,0,0,21,0,27,3,0,0,30,9,25,17,13,38,19,14,21,22,20,25,25,18,24,30,47,37,38,63,37,38,20.399999999999999,19.285714285714285,null,null,null,null,null,22.6,22.142857142857142,null,null,null,null,null,43,41.428571428571431,9,25,17,13,38,19,14,21,22,20,25,25,18,24,30,47,37,38,63,37,38]
["Mon",2300,2,6,0,0,1,0,0,0,0,0,0,0,0,0,0,0,1,2,3,2,1,0,0,0,0,0,0,0,0,0,0,0,37.299999999999997,"-",28.9,45.3,"Mon",2300,2,9,0,0,0,0,0,0,0,0,0,0,0,0,0,0,1,5,1,0,3,1,0,0,0,0,0,0,0,0,0,0,37.700000000000003,47.2,25.7,50.8,"Mon",2300,4,15,0,0,1,0,0,0,0,0,0,0,0,0,0,0,2,7,4,2,4,1,0,0,0,0,0,0,0,0,0,0,37.520000000000003,47.2,25.7,50.8,2,6,0,1,0,9,2,9,0,0,0,11,4,15,0,1,0,20,9,13,8,16,13,17,11,11,27,11,16,32,20,12,20,40,19,32,45,37,23,11.8,12.428571428571429,null,null,null,null,null,19.399999999999999,18.428571428571427,null,null,null,null,null,31.2,30.857142857142858,9,13,8,16,13,17,11,11,27,11,16,32,20,12,20,40,19,32,45,37,23]
["Mon",2315,0,6,0,1,0,0,0,0,0,0,0,0,0,0,0,0,2,1,1,1,1,0,0,1,0,0,0,0,0,0,0,0,40.4,"-",28.7,64.099999999999994,"Mon",2315,0,14,0,1,0,0,0,0,0,0,0,0,0,0,0,1,1,3,6,2,2,0,0,0,0,0,0,0,0,0,0,0,37.1,43.2,23.9,46.6,"Mon",2315,0,20,0,2,0,0,0,0,0,0,0,0,0,0,0,1,3,4,7,3,3,0,0,1,0,0,0,0,0,0,0,0,38.15,43.2,23.9,64.099999999999994,0,6,1,0,0,7,0,14,1,0,0,15,0,20,2,0,0,22,7,10,8,17,9,21,9,15,18,12,31,26,20,23,22,28,20,48,35,41,32,10.199999999999999,11.571428571428571,null,null,null,null,null,20.399999999999999,20.714285714285715,null,null,null,null,null,30.6,32.285714285714285,7,10,8,17,9,21,9,15,18,12,31,26,20,23,22,28,20,48,35,41,32]
["Mon",2330,0,7,0,0,0,0,0,0,0,0,0,0,0,0,0,0,0,1,2,2,2,0,0,0,0,0,0,0,0,0,0,0,41,"-",32.299999999999997,48.5,"Mon",2330,0,5,0,0,0,0,0,0,0,0,0,0,0,0,0,0,0,0,2,3,0,0,0,0,0,0,0,0,0,0,0,0,40.6,"-",35.1,44.7,"Mon",2330,0,12,0,0,0,0,0,0,0,0,0,0,0,0,0,0,0,1,4,5,2,0,0,0,0,0,0,0,0,0,0,0,40.833333333333336,"-",32.299999999999997,48.5,0,7,0,0,0,7,0,5,0,0,0,5,0,12,0,0,0,12,7,5,10,13,13,25,12,5,15,13,20,24,25,7,12,20,23,33,37,50,19,9.6,12.142857142857142,null,null,null,null,null,15.4,15.571428571428571,null,null,null,null,null,25,27.714285714285715,7,5,10,13,13,25,12,5,15,13,20,24,25,7,12,20,23,33,37,50,19]
["Mon",2345,0,8,0,2,0,0,0,0,0,0,0,0,0,0,0,0,0,0,4,1,3,2,0,0,0,0,0,0,0,0,0,0,43.7,"-",35.4,53.3,"Mon",2345,0,11,0,0,0,0,0,0,0,0,0,0,0,0,0,0,0,1,2,2,4,1,1,0,0,0,0,0,0,0,0,0,45.2,49.4,30.2,59.8,"Mon",2345,0,19,0,2,0,0,0,0,0,0,0,0,0,0,0,0,0,1,6,3,7,3,1,0,0,0,0,0,0,0,0,0,44.485714285714288,49.4,30.2,59.8,0,8,2,0,0,10,0,11,0,0,0,11,0,19,2,0,0,21,10,4,6,7,14,20,5,11,16,14,20,18,21,6,21,20,20,27,32,41,11,8.1999999999999993,9.4285714285714288,null,null,null,null,null,15.8,15.142857142857142,null,null,null,null,null,24,24.571428571428573,10,4,6,7,14,20,5,11,16,14,20,18,21,6,21,20,20,27,32,41,11]
["Tues",0,0,3,0,0,0,0,0,0,0,0,0,0,0,0,0,0,0,1,0,1,0,1,0,0,0,0,0,0,0,0,0,0,44,"-",34.299999999999997,53.3,"Tues",0,0,9,0,2,0,0,0,0,0,0,0,0,0,0,0,0,2,2,4,1,0,2,0,0,0,0,0,0,0,0,0,0,38.4,40.9,29.3,55,"Tues",0,0,12,0,2,0,0,0,0,0,0,0,0,0,0,0,0,2,3,4,2,0,3,0,0,0,0,0,0,0,0,0,0,39.6,40.9,29.3,55,0,3,{"$f":"F101","v":0},0,0,3,0,9,2,0,0,11,0,12,2,0,0,14,null,null,null,null,null,null,null,null,null,null,null,null,null,null,null,null,null,null,null,null,null,null,null,null,null,null,null,null,null,null,null,null,null,null,null,null,null,{"$f":"EC101","v":0},null,null,null,null,null,null,{"$f":"EJ101","v":0},null,null,null,null,null,null,{"$f":"EQ101","v":0}]
["Tues",15,0,5,0,0,0,0,0,0,0,0,0,0,0,0,0,0,2,0,0,1,0,0,1,0,1,0,0,0,0,0,0,0,44.9,"-",25,66.900000000000006,"Tues",15,0,4,0,4,0,0,0,0,0,0,0,0,0,0,0,0,2,0,1,5,0,0,0,0,0,0,0,0,0,0,0,0,38.4,"-",26.3,44.2,"Tues",15,0,9,0,4,0,0,0,0,0,0,0,0,0,0,0,0,4,0,1,6,0,0,1,0,1,0,0,0,0,0,0,0,40.900000000000006,"-",25,66.900000000000006,0,5,0,0,0,5,0,4,4,0,0,8,0,9,4,0,0,13,null,null,null,null,null,null,null,null,null,null,null,null,null,null,null,null,null,null,null,null,null,"PRI 5","PRI 7",null,null,null,null,null,"SEC 5","SEC 7",null,null,null,null,null,"COM 5","COM 7"]
["Tues",30,0,1,0,1,0,0,0,0,0,0,0,0,0,0,0,0,1,0,0,1,0,0,0,0,0,0,0,0,0,0,0,0,35.299999999999997,"-",27.2,43.4,"Tues",30,2,4,0,0,0,0,0,0,0,0,0,0,0,0,0,0,0,0,1,0,0,3,1,0,1,0,0,0,0,0,0,0,53,"-",38.9,65.900000000000006,"Tues",30,2,5,0,1,0,0,0,0,0,0,0,0,0,0,0,0,1,0,1,1,0,3,1,0,1,0,0,0,0,0,0,0,48.575000000000003,"-",27.2,65.900000000000006,0,1,1,0,0,2,2,4,0,0,0,6,2,5,1,0,0,8,null,null,null,null,null,null,null,null,null,null,null,null,null,null,null,null,null,null,null,null,null,null,null,null,null,null,null,null,null,null,null,null,null,null,null,null,null,"Mon","Tue","Wed","Thu","Fri","Sat","Sun","Mon","Tue","Wed","Thu","Fri","Sat","Sun","Mon","Tue","Wed","Thu","Fri","Sat","Sun"]
["Tues",45,0,1,0,1,0,0,0,0,0,0,0,0,0,0,0,0,1,0,0,1,0,0,0,0,0,0,0,0,0,0,0,0,34.700000000000003,"-",29.1,40.299999999999997,"Tues",45,0,3,0,0,0,0,0,0,0,0,0,0,0,0,0,0,0,1,1,0,0,1,0,0,0,0,0,0,0,0,0,0,40.6,"-",31.7,52.1,"Tues",45,0,4,0,1,0,0,0,0,0,0,0,0,0,0,0,0,1,1,1,1,0,1,0,0,0,0,0,0,0,0,0,0,38.24,"-",29.1,52.1,0,1,1,0,0,2,0,3,0,0,0,3,0,4,1,0,0,5,null,null,null,null,null,null,null,null,null,null,null,null,null,null,null,null,null,null,null,null,null,{"$f":"IF((SUM(FN104:FR104))>0,AVERAGE(FN104:FR104),0)","v":7.4},{"$f":"IF((SUM(FN104:FT104))>0,AVERAGE(FN104:FT104),0)","v":11},null,null,null,null,null,{"$f":"IF((SUM(FU104:FY104))>0,AVERAGE(FU104:FY104),0)","v":23},{"$f":"IF((SUM(FU104:GA104))>0,AVERAGE(FU104:GA104),0)","v":28.571428571428573},null,null,null,null,null,{"$f":"IF((SUM(GB104:GF104))>0,AVERAGE(GB104:GF104),0)","v":30.4},{"$f":"IF((SUM(GB104:GH104))>0,AVERAGE(GB104:GH104),0)","v":39.571428571428569},{"$f":"IF(FN5=\"-\",(IF(FN6=\"-\",\"-\",FN6)),(IF(FN6=\"-\",FN5,(SUM(FN5:FN6)))))","v":4},{"$f":"IF(FO5=\"-\",(IF(FO6=\"-\",\"-\",FO6)),(IF(FO6=\"-\",FO5,(SUM(FO5:FO6)))))","v":8},9,8,8,15,25,{"$f":"IF(FU5=\"-\",(IF(FU6=\"-\",\"-\",FU6)),(IF(FU6=\"-\",FU5,(SUM(FU5:FU6)))))","v":22},{"$f":"IF(FV5=\"-\",(IF(FV6=\"-\",\"-\",FV6)),(IF(FV6=\"-\",FV5,(SUM(FV5:FV6)))))","v":19},15,22,37,32,53,{"$f":"IF(GB5=\"-\",(IF(GB6=\"-\",\"-\",GB6)),(IF(GB6=\"-\",GB5,(SUM(GB5:GB6)))))","v":26},{"$f":"IF(GC5=\"-\",(IF(GC6=\"-\",\"-\",GC6)),(IF(GC6=\"-\",GC5,(SUM(GC5:GC6)))))","v":27},24,30,45,47,78]
["Tues",100,0,4,0,0,0,0,0,1,0,0,0,0,0,0,0,0,0,2,1,2,0,0,0,0,0,0,0,0,0,0,0,0,37.9,"-",34.1,42.3,"Tues",100,0,7,0,0,0,0,0,0,0,0,0,0,0,0,0,0,1,1,3,1,1,0,0,0,0,0,0,0,0,0,0,0,37.700000000000003,"-",27.4,46.6,"Tues",100,0,11,0,0,0,0,0,1,0,0,0,0,0,0,0,0,1,3,4,3,1,0,0,0,0,0,0,0,0,0,0,0,37.783333333333339,"-",27.4,46.6,0,4,0,0,1,5,0,7,0,0,0,7,0,11,0,0,1,12]
["Tues",115,0,3,0,0,0,0,0,0,0,0,0,0,0,0,0,0,0,1,1,0,1,0,0,0,0,0,0,0,0,0,0,0,38.799999999999997,"-",31.1,47,"Tues",115,0,2,0,0,0,0,0,0,0,0,0,0,0,0,0,0,0,0,1,0,0,0,0,0,1,0,0,0,0,0,0,0,52.4,"-",39.1,65.7,"Tues",115,0,5,0,0,0,0,0,0,0,0,0,0,0,0,0,0,0,1,2,0,1,0,0,0,1,0,0,0,0,0,0,0,44.239999999999995,"-",31.1,65.7,0,3,0,0,0,3,0,2,0,0,0,2,0,5,0,0,0,5,null,null,null,null,null,null,null,null,null,null,null,null,null,null,null,null,null,null,null,null,null,{"$f":"IF((SUM(FN106:FR106))>0,AVERAGE(FN106:FR106),0)","v":7.8},{"$f":"IF((SUM(FN106:FT106))>0,AVERAGE(FN106:FT106),0)","v":12.428571428571429},null,null,null,null,null,{"$f":"IF((SUM(FU106:FY106))>0,AVERAGE(FU106:FY106),0)","v":13.2},{"$f":"IF((SUM(FU106:GA106))>0,AVERAGE(FU106:GA106),0)","v":20.428571428571427},null,null,null,null,null,{"$f":"IF((SUM(GB106:GF106))>0,AVERAGE(GB106:GF106),0)","v":21},{"$f":"IF((SUM(GB106:GH106))>0,AVERAGE(GB106:GH106),0)","v":32.857142857142854},{"$f":"IF(FN7=\"-\",(IF(FN8=\"-\",\"-\",FN8)),(IF(FN8=\"-\",FN7,(SUM(FN7:FN8)))))","v":6},4,9,10,10,18,30,{"$f":"IF(FU7=\"-\",(IF(FU8=\"-\",\"-\",FU8)),(IF(FU8=\"-\",FU7,(SUM(FU7:FU8)))))","v":30},9,9,8,10,27,50,{"$f":"IF(GB7=\"-\",(IF(GB8=\"-\",\"-\",GB8)),(IF(GB8=\"-\",GB7,(SUM(GB7:GB8)))))","v":36},{"$f":"IF(GC7=\"-\",(IF(GC8=\"-\",\"-\",GC8)),(IF(GC8=\"-\",GC7,(SUM(GC7:GC8)))))","v":13},18,18,20,45,80]
["Tues",130,0,0,0,1,0,0,0,0,0,0,0,0,0,0,0,0,0,0,0,0,1,0,0,0,0,0,0,0,0,0,0,0,47.4,"-",47.4,47.4,"Tues",130,0,3,0,0,0,0,0,0,0,0,0,0,0,0,0,0,0,0,1,2,0,0,0,0,0,0,0,0,0,0,0,0,40.5,"-",37.700000000000003,42.8,"Tues",130,0,3,0,1,0,0,0,0,0,0,0,0,0,0,0,0,0,0,1,2,1,0,0,0,0,0,0,0,0,0,0,0,42.225000000000001,"-",37.700000000000003,47.4,0,0,1,0,0,1,0,3,0,0,0,3,0,3,1,0,0,4]
["Tues",145,0,5,0,0,0,0,0,0,0,0,0,0,0,0,0,0,1,0,0,3,1,0,0,0,0,0,0,0,0,0,0,0,40.700000000000003,"-",26.5,48.3,"Tues",145,0,5,0,1,0,0,0,0,0,0,0,0,0,0,0,0,0,2,1,2,0,1,0,0,0,0,0,0,0,0,0,0,39.299999999999997,"-",30.7,51.1,"Tues",145,0,10,0,1,0,0,0,0,0,0,0,0,0,0,0,0,1,2,1,5,1,1,0,0,0,0,0,0,0,0,0,0,39.93636363636363,"-",26.5,51.1,0,5,0,0,0,5,0,5,1,0,0,6,0,10,1,0,0,11,null,null,null,null,null,null,null,null,null,null,null,null,null,null,null,null,null,null,null,null,null,{"$f":"IF((SUM(FN108:FR108))>0,AVERAGE(FN108:FR108),0)","v":4.8},{"$f":"IF((SUM(FN108:FT108))>0,AVERAGE(FN108:FT108),0)","v":9.5714285714285712},null,null,null,null,null,{"$f":"IF((SUM(FU108:FY108))>0,AVERAGE(FU108:FY108),0)","v":12},{"$f":"IF((SUM(FU108:GA108))>0,AVERAGE(FU108:GA108),0)","v":16.428571428571427},null,null,null,null,null,{"$f":"IF((SUM(GB108:GF108))>0,AVERAGE(GB108:GF108),0)","v":16.8},{"$f":"IF((SUM(GB108:GH108))>0,AVERAGE(GB108:GH108),0)","v":26},{"$f":"IF(FN9=\"-\",(IF(FN10=\"-\",\"-\",FN10)),(IF(FN10=\"-\",FN9,(SUM(FN9:FN10)))))","v":3},8,3,5,5,16,27,{"$f":"IF(FU9=\"-\",(IF(FU10=\"-\",\"-\",FU10)),(IF(FU10=\"-\",FU9,(SUM(FU9:FU10)))))","v":19},9,5,18,9,22,33,{"$f":"IF(GB9=\"-\",(IF(GB10=\"-\",\"-\",GB10)),(IF(GB10=\"-\",GB9,(SUM(GB9:GB10)))))","v":22},{"$f":"IF(GC9=\"-\",(IF(GC10=\"-\",\"-\",GC10)),(IF(GC10=\"-\",GC9,(SUM(GC9:GC10)))))","v":17},8,23,14,38,60]
["Tues",200,1,4,0,0,0,0,0,0,0,0,0,0,0,0,0,0,0,1,0,2,1,0,1,0,0,0,0,0,0,0,0,0,43.9,"-",30.2,58.6,"Tues",200,0,8,0,0,0,0,0,0,0,0,0,0,0,0,0,0,3,1,1,2,1,0,0,0,0,0,0,0,0,0,0,0,34.799999999999997,"-",25.5,46.9,"Tues",200,1,12,0,0,0,0,0,0,0,0,0,0,0,0,0,0,3,2,1,4,2,0,1,0,0,0,0,0,0,0,0,0,38.299999999999997,"-",25.5,58.6,1,4,0,0,0,5,0,8,0,0,0,8,1,12,0,0,0,13]
["Tues",215,0,4,0,0,0,0,0,0,0,0,0,0,0,0,0,0,1,0,0,1,1,0,0,1,0,0,0,0,0,0,0,0,45,"-",27.8,61.3,"Tues",215,0,3,0,0,0,0,0,0,0,0,0,0,0,0,0,0,1,0,0,1,1,0,0,0,0,0,0,0,0,0,0,0,39.9,"-",29.6,48.4,"Tues",215,0,7,0,0,0,0,0,0,0,0,0,0,0,0,0,0,2,0,0,2,2,0,0,1,0,0,0,0,0,0,0,0,42.81428571428571,"-",27.8,61.3,0,4,0,0,0,4,0,3,0,0,0,3,0,7,0,0,0,7,null,null,null,null,null,null,null,null,null,null,null,null,null,null,null,null,null,null,null,null,null,{"$f":"IF((SUM(FN110:FR110))>0,AVERAGE(FN110:FR110),0)","v":5.4},{"$f":"IF((SUM(FN110:FT110))>0,AVERAGE(FN110:FT110),0)","v":6},null,null,null,null,null,{"$f":"IF((SUM(FU110:FY110))>0,AVERAGE(FU110:FY110),0)","v":7.6},{"$f":"IF((SUM(FU110:GA110))>0,AVERAGE(FU110:GA110),0)","v":9.5714285714285712},null,null,null,null,null,{"$f":"IF((SUM(GB110:GF110))>0,AVERAGE(GB110:GF110),0)","v":13},{"$f":"IF((SUM(GB110:GH110))>0,AVERAGE(GB110:GH110),0)","v":15.571428571428571},{"$f":"IF(FN11=\"-\",(IF(FN12=\"-\",\"-\",FN12)),(IF(FN12=\"-\",FN11,(SUM(FN11:FN12)))))","v":5},6,3,11,2,6,9,{"$f":"IF(FU11=\"-\",(IF(FU12=\"-\",\"-\",FU12)),(IF(FU12=\"-\",FU11,(SUM(FU11:FU12)))))","v":9},9,4,7,9,16,13,{"$f":"IF(GB11=\"-\",(IF(GB12=\"-\",\"-\",GB12)),(IF(GB12=\"-\",GB11,(SUM(GB11:GB12)))))","v":14},{"$f":"IF(GC11=\"-\",(IF(GC12=\"-\",\"-\",GC12)),(IF(GC12=\"-\",GC11,(SUM(GC11:GC12)))))","v":15},7,18,11,22,22]
["Tues",230,0,9,0,1,0,0,0,0,0,0,0,0,0,0,1,0,0,0,4,3,2,0,0,0,0,0,0,0,0,0,0,0,38.5,"-",16.5,48.1,"Tues",230,0,2,0,0,0,0,0,0,0,0,0,0,0,0,0,0,0,0,1,0,1,0,0,0,0,0,0,0,0,0,0,0,43.6,"-",39.1,48.1,"Tues",230,0,11,0,1,0,0,0,0,0,0,0,0,0,0,1,0,0,0,5,3,3,0,0,0,0,0,0,0,0,0,0,0,39.35,"-",16.5,48.1,0,9,1,0,0,10,0,2,0,0,0,2,0,11,1,0,0,12]
["Tues",245,0,3,0,0,0,0,1,0,0,0,0,0,0,0,0,1,0,0,2,0,0,1,0,0,0,0,0,0,0,0,0,0,38.5,"-",24.4,51,"Tues",245,0,0,0,0,0,0,0,0,0,0,0,0,0,0,0,0,0,0,0,0,0,0,0,0,0,0,0,0,0,0,0,0,"-","-","-","-","Tues",245,0,3,0,0,0,0,1,0,0,0,0,0,0,0,0,1,0,0,2,0,0,1,0,0,0,0,0,0,0,0,0,0,38.5,"-",24.4,51,0,3,0,0,1,4,0,0,0,0,0,0,0,3,0,{"$f":"SUM(DN112+DT112)","v":0},1,4,null,null,null,null,null,null,null,null,null,null,null,null,null,null,null,null,null,null,null,null,null,{"$f":"IF((SUM(FN112:FR112))>0,AVERAGE(FN112:FR112),0)","v":8.6},{"$f":"IF((SUM(FN112:FT112))>0,AVERAGE(FN112:FT112),0)","v":9.5714285714285712},null,null,null,null,null,{"$f":"IF((SUM(FU112:FY112))>0,AVERAGE(FU112:FY112),0)","v":7.2},{"$f":"IF((SUM(FU112:GA112))>0,AVERAGE(FU112:GA112),0)","v":8.5714285714285712},null,null,null,null,null,{"$f":"IF((SUM(GB112:GF112))>0,AVERAGE(GB112:GF112),0)","v":15.8},{"$f":"IF((SUM(GB112:GH112))>0,AVERAGE(GB112:GH112),0)","v":18.142857142857142},{"$f":"IF(FN13=\"-\",(IF(FN14=\"-\",\"-\",FN14)),(IF(FN14=\"-\",FN13,(SUM(FN13:FN14)))))","v":8},9,6,9,11,13,11,{"$f":"IF(FU13=\"-\",(IF(FU14=\"-\",\"-\",FU14)),(IF(FU14=\"-\",FU13,(SUM(FU13:FU14)))))","v":6},11,7,6,6,14,10,{"$f":"IF(GB13=\"-\",(IF(GB14=\"-\",\"-\",GB14)),(IF(GB14=\"-\",GB13,(SUM(GB13:GB14)))))","v":14},{"$f":"IF(GC13=\"-\",(IF(GC14=\"-\",\"-\",GC14)),(IF(GC14=\"-\",GC13,(SUM(GC13:GC14)))))","v":20},13,15,17,27,21]
["Tues",300,0,5,0,0,0,0,0,0,0,0,0,0,0,0,0,0,1,2,2,0,0,0,0,0,0,0,0,0,0,0,0,0,33.6,"-",28.6,39.9,"Tues",300,0,0,0,0,0,0,1,0,0,0,0,0,0,0,0,0,0,0,0,0,1,0,0,0,0,0,0,0,0,0,0,0,45.3,"-",45.3,45.3,"Tues",300,0,5,0,0,0,0,1,0,0,0,0,0,0,0,0,0,1,2,2,0,1,0,0,0,0,0,0,0,0,0,0,0,35.550000000000004,"-",28.6,45.3,0,5,0,0,0,5,0,0,0,0,1,1,{"$f":"SUM(DK113+DQ113)","v":0},{"$f":"SUM(DL113+DR113)","v":5},{"$f":"SUM(DM113+DS113)","v":0},0,1,6]
["Tues",315,0,5,0,1,0,0,0,0,0,0,0,0,0,0,0,0,0,1,2,2,1,0,0,0,0,0,0,0,0,0,0,0,39.6,"-",34.700000000000003,48.7,"Tues",315,0,7,0,0,0,0,0,0,0,0,0,0,0,0,0,0,0,2,1,2,1,0,0,0,0,0,1,0,0,0,0,0,45.3,"-",32.5,78.099999999999994,"Tues",315,0,12,0,1,0,0,0,0,0,0,0,0,0,0,0,0,0,3,3,4,2,0,0,0,0,0,1,0,0,0,0,0,42.669230769230772,"-",32.5,78.099999999999994,0,5,1,0,0,6,0,7,0,0,0,7,0,12,1,0,0,13,null,null,null,null,null,null,null,null,null,null,null,null,null,null,null,null,null,null,null,null,null,{"$f":"IF((SUM(FN114:FR114))>0,AVERAGE(FN114:FR114),0)","v":9},{"$f":"IF((SUM(FN114:FT114))>0,AVERAGE(FN114:FT114),0)","v":10.714285714285714},null,null,null,null,null,{"$f":"IF((SUM(FU114:FY114))>0,AVERAGE(FU114:FY114),0)","v":6.2},{"$f":"IF((SUM(FU114:GA114))>0,AVERAGE(FU114:GA114),0)","v":5.7142857142857144},null,null,null,null,null,{"$f":"IF((SUM(GB114:GF114))>0,AVERAGE(GB114:GF114),0)","v":15.2},{"$f":"IF((SUM(GB114:GH114))>0,AVERAGE(GB114:GH114),0)","v":16.428571428571427},{"$f":"IF(FN15=\"-\",(IF(FN16=\"-\",\"-\",FN16)),(IF(FN16=\"-\",FN15,(SUM(FN15:FN16)))))","v":11},14,6,5,9,17,13,{"$f":"IF(FU15=\"-\",(IF(FU16=\"-\",\"-\",FU16)),(IF(FU16=\"-\",FU15,(SUM(FU15:FU16)))))","v":9},2,3,10,7,5,4,{"$f":"IF(GB15=\"-\",(IF(GB16=\"-\",\"-\",GB16)),(IF(GB16=\"-\",GB15,(SUM(GB15:GB16)))))","v":20},{"$f":"IF(GC15=\"-\",(IF(GC16=\"-\",\"-\",GC16)),(IF(GC16=\"-\",GC15,(SUM(GC15:GC16)))))","v":16},9,15,16,22,17]
["Tues",330,0,8,0,3,0,0,0,0,0,0,0,0,0,0,0,0,0,2,5,3,0,0,1,0,0,0,0,0,0,0,0,0,39,42.3,30.2,55.2,"Tues",330,0,3,0,0,1,0,0,0,0,0,0,0,0,0,0,0,0,1,1,1,1,0,0,0,0,0,0,0,0,0,0,0,40.6,"-",33.1,49.5,"Tues",330,0,11,0,3,1,0,0,0,0,0,0,0,0,0,0,0,0,3,6,4,1,0,1,0,0,0,0,0,0,0,0,0,39.426666666666662,42.3,30.2,55.2,0,8,3,0,0,11,0,3,0,1,0,4,0,11,3,1,0,15]
["Tues",345,0,10,0,0,0,0,0,0,0,0,0,0,0,0,0,0,1,0,0,3,2,3,0,1,0,0,0,0,0,0,0,0,46.8,"-",29,61.1,"Tues",345,0,9,0,5,0,0,0,0,0,0,0,0,0,0,0,0,0,0,3,2,6,3,0,0,0,0,0,0,0,0,0,0,45.7,53.2,35.799999999999997,54.8,"Tues",345,0,19,0,5,0,0,0,0,0,0,0,0,0,0,0,0,1,0,3,5,8,6,0,1,0,0,0,0,0,0,0,0,46.158333333333339,53.2,29,61.1,0,10,0,0,0,10,0,9,5,0,0,14,0,19,5,0,0,24,null,null,null,null,null,null,null,null,null,null,null,null,null,null,null,null,null,null,null,null,null,{"$f":"IF((SUM(FN116:FR116))>0,AVERAGE(FN116:FR116),0)","v":10.6},{"$f":"IF((SUM(FN116:FT116))>0,AVERAGE(FN116:FT116),0)","v":10.857142857142858},null,null,null,null,null,{"$f":"IF((SUM(FU116:FY116))>0,AVERAGE(FU116:FY116),0)","v":9.8000000000000007},{"$f":"IF((SUM(FU116:GA116))>0,AVERAGE(FU116:GA116),0)","v":9.4285714285714288},null,null,null,null,null,{"$f":"IF((SUM(GB116:GF116))>0,AVERAGE(GB116:GF116),0)","v":20.399999999999999},{"$f":"IF((SUM(GB116:GH116))>0,AVERAGE(GB116:GH116),0)","v":20.285714285714285},{"$f":"IF(FN17=\"-\",(IF(FN18=\"-\",\"-\",FN18)),(IF(FN18=\"-\",FN17,(SUM(FN17:FN18)))))","v":11},11,7,15,9,15,8,{"$f":"IF(FU17=\"-\",(IF(FU18=\"-\",\"-\",FU18)),(IF(FU18=\"-\",FU17,(SUM(FU17:FU18)))))","v":22},8,4,9,6,12,5,{"$f":"IF(GB17=\"-\",(IF(GB18=\"-\",\"-\",GB18)),(IF(GB18=\"-\",GB17,(SUM(GB17:GB18)))))","v":33},{"$f":"IF(GC17=\"-\",(IF(GC18=\"-\",\"-\",GC18)),(IF(GC18=\"-\",GC17,(SUM(GC17:GC18)))))","v":19},11,24,15,27,13]
["Tues",400,0,9,0,0,0,0,0,0,0,0,0,0,0,0,0,0,1,1,5,2,0,0,0,0,0,0,0,0,0,0,0,0,37.1,"-",28.2,41.1,"Tues",400,0,6,0,0,0,0,0,0,0,0,0,0,0,0,0,0,0,1,1,2,1,0,1,0,0,0,0,0,0,0,0,0,44.6,"-",33.200000000000003,58.3,"Tues",400,0,15,0,0,0,0,0,0,0,0,0,0,0,0,0,0,1,2,6,4,1,0,1,0,0,0,0,0,0,0,0,0,40.1,"-",28.2,58.3,0,9,0,0,0,9,0,6,0,0,0,6,0,15,0,0,0,15]
["Tues",415,0,7,0,0,0,0,0,0,0,0,0,0,0,0,0,1,1,2,1,0,2,0,0,0,0,0,0,0,0,0,0,0,34.5,"-",22.8,45.2,"Tues",415,0,3,0,0,0,0,0,0,0,0,0,0,0,0,0,0,0,0,3,0,0,0,0,0,0,0,0,0,0,0,0,0,37.700000000000003,"-",35.700000000000003,39.5,"Tues",415,0,10,0,0,0,0,0,0,0,0,0,0,0,0,0,1,1,2,4,0,2,0,0,0,0,0,0,0,0,0,0,0,35.46,"-",22.8,45.2,0,7,0,0,0,7,0,3,0,0,0,3,0,10,0,0,0,10,null,null,null,null,null,null,null,null,null,null,null,null,null,null,null,null,null,null,null,null,null,{"$f":"IF((SUM(FN118:FR118))>0,AVERAGE(FN118:FR118),0)","v":13.4},{"$f":"IF((SUM(FN118:FT118))>0,AVERAGE(FN118:FT118),0)","v":13},null,null,null,null,null,{"$f":"IF((SUM(FU118:FY118))>0,AVERAGE(FU118:FY118),0)","v":8.1999999999999993},{"$f":"IF((SUM(FU118:GA118))>0,AVERAGE(FU118:GA118),0)","v":10},null,null,null,null,null,{"$f":"IF((SUM(GB118:GF118))>0,AVERAGE(GB118:GF118),0)","v":21.6},{"$f":"IF((SUM(GB118:GH118))>0,AVERAGE(GB118:GH118),0)","v":23},{"$f":"IF(FN19=\"-\",(IF(FN20=\"-\",\"-\",FN20)),(IF(FN20=\"-\",FN19,(SUM(FN19:FN20)))))","v":16},21,7,13,10,15,9,{"$f":"IF(FU19=\"-\",(IF(FU20=\"-\",\"-\",FU20)),(IF(FU20=\"-\",FU19,(SUM(FU19:FU20)))))","v":5},18,6,8,4,11,18,{"$f":"IF(GB19=\"-\",(IF(GB20=\"-\",\"-\",GB20)),(IF(GB20=\"-\",GB19,(SUM(GB19:GB20)))))","v":21},{"$f":"IF(GC19=\"-\",(IF(GC20=\"-\",\"-\",GC20)),(IF(GC20=\"-\",GC19,(SUM(GC19:GC20)))))","v":39},13,21,14,26,27]
["Tues",430,0,7,0,2,1,0,0,0,0,0,0,0,0,0,0,0,0,2,2,1,3,0,1,0,1,0,0,0,0,0,0,0,44.5,"-",32.299999999999997,66.099999999999994,"Tues",430,0,3,0,1,0,0,0,0,0,0,0,0,0,0,0,0,0,1,0,2,1,0,0,0,0,0,0,0,0,0,0,0,39.6,"-",30.4,47,"Tues",430,{"$f":"SUM(C119+AO119)","v":0},{"$f":"SUM(D119+AP119)","v":10},{"$f":"SUM(E119+AQ119)","v":0},{"$f":"SUM(F119+AR119)","v":3},{"$f":"SUM(G119+AS119)","v":1},{"$f":"SUM(H119+AT119)","v":0},{"$f":"SUM(I119+AU119)","v":0},{"$f":"SUM(J119+AV119)","v":0},{"$f":"SUM(K119+AW119)","v":0},{"$f":"SUM(L119+AX119)","v":0},{"$f":"SUM(M119+AY119)","v":0},{"$f":"SUM(N119+AZ119)","v":0},{"$f":"SUM(O119+BA119)","v":0},0,0,0,0,3,2,3,4,0,1,0,1,0,0,0,0,0,0,0,43.1,"-",30.4,66.099999999999994,0,7,2,1,0,10,0,3,1,0,0,4,0,10,3,1,0,14]
["Tues",445,0,15,0,0,0,0,0,0,0,0,0,0,0,0,0,1,4,2,2,3,2,0,0,1,0,0,0,0,0,0,0,0,37.5,45.9,24.1,62.2,"Tues",445,0,9,0,0,0,0,0,0,0,0,0,0,0,0,0,0,1,1,4,1,2,0,0,0,0,0,0,0,0,0,0,0,38.6,"-",25.5,47.7,"Tues",445,0,24,0,0,0,0,0,0,0,0,0,0,0,0,0,1,5,3,6,4,4,0,0,1,0,0,0,0,0,0,0,0,37.912500000000001,45.9,24.1,62.2,0,15,0,0,0,15,0,9,0,0,0,9,0,24,0,0,0,24,null,null,null,null,null,null,null,null,null,null,null,null,null,null,null,null,null,null,null,null,null,{"$f":"IF((SUM(FN120:FR120))>0,AVERAGE(FN120:FR120),0)","v":13},{"$f":"IF((SUM(FN120:FT120))>0,AVERAGE(FN120:FT120),0)","v":13.428571428571429},null,null,null,null,null,{"$f":"IF((SUM(FU120:FY120))>0,AVERAGE(FU120:FY120),0)","v":6.6},{"$f":"IF((SUM(FU120:GA120))>0,AVERAGE(FU120:GA120),0)","v":7.1428571428571432},null,null,null,null,null,{"$f":"IF((SUM(GB120:GF120))>0,AVERAGE(GB120:GF120),0)","v":19.600000000000001},{"$f":"IF((SUM(GB120:GH120))>0,AVERAGE(GB120:GH120),0)","v":20.571428571428573},{"$f":"IF(FN21=\"-\",(IF(FN22=\"-\",\"-\",FN22)),(IF(FN22=\"-\",FN21,(SUM(FN21:FN22)))))","v":17},16,10,16,6,12,17,{"$f":"IF(FU21=\"-\",(IF(FU22=\"-\",\"-\",FU22)),(IF(FU22=\"-\",FU21,(SUM(FU21:FU22)))))","v":6},{"$f":"IF(FV21=\"-\",(IF(FV22=\"-\",\"-\",FV22)),(IF(FV22=\"-\",FV21,(SUM(FV21:FV22)))))","v":9},3,9,6,10,7,{"$f":"IF(GB21=\"-\",(IF(GB22=\"-\",\"-\",GB22)),(IF(GB22=\"-\",GB21,(SUM(GB21:GB22)))))","v":23},{"$f":"IF(GC21=\"-\",(IF(GC22=\"-\",\"-\",GC22)),(IF(GC22=\"-\",GC21,(SUM(GC21:GC22)))))","v":25},13,25,12,22,24]
["Tues",500,0,9,0,2,0,0,0,0,0,0,0,0,0,0,0,0,0,0,1,3,2,3,2,0,0,0,0,0,0,0,0,0,48.7,53.7,39,58,"Tues",500,0,3,0,2,0,0,0,0,0,0,0,0,0,0,0,0,1,1,0,0,1,2,0,0,0,0,0,0,0,0,0,0,42.3,"-",25.5,54.2,"Tues",500,0,12,0,4,0,0,0,0,0,0,0,0,0,0,0,0,1,1,1,3,3,5,2,0,0,0,0,0,0,0,0,0,46.7,53.7,25.5,58,0,9,2,0,0,11,0,3,2,0,0,5,0,12,4,0,0,16]
["Tues",515,1,19,0,0,0,1,0,0,0,0,0,0,0,0,0,0,2,6,0,8,3,1,0,1,0,0,0,0,0,0,0,0,40.200000000000003,46.1,27.8,62.5,"Tues",515,0,6,0,2,0,0,0,0,0,0,0,0,0,0,0,0,0,0,4,1,2,1,0,0,0,0,0,0,0,0,0,0,42.7,"-",37.1,50.9,"Tues",515,1,25,0,2,0,1,0,0,0,0,0,0,0,0,0,0,2,6,4,9,5,2,0,1,0,0,0,0,0,0,0,0,40.889655172413796,46.1,27.8,62.5,1,19,0,1,0,21,0,6,2,0,0,8,1,25,2,1,0,29,null,null,null,null,null,null,null,null,null,null,null,null,null,null,null,null,null,null,null,null,null,{"$f":"IF((SUM(FN122:FR122))>0,AVERAGE(FN122:FR122),0)","v":23.8},{"$f":"IF((SUM(FN122:FT122))>0,AVERAGE(FN122:FT122),0)","v":21.571428571428573},null,null,null,null,null,{"$f":"IF((SUM(FU122:FY122))>0,AVERAGE(FU122:FY122),0)","v":11},{"$f":"IF((SUM(FU122:GA122))>0,AVERAGE(FU122:GA122),0)","v":9.1428571428571423},null,null,null,null,null,{"$f":"IF((SUM(GB122:GF122))>0,AVERAGE(GB122:GF122),0)","v":34.799999999999997},{"$f":"IF((SUM(GB122:GH122))>0,AVERAGE(GB122:GH122),0)","v":30.714285714285715},{"$f":"IF(FN23=\"-\",(IF(FN24=\"-\",\"-\",FN24)),(IF(FN24=\"-\",FN23,(SUM(FN23:FN24)))))","v":29},25,25,16,24,23,9,{"$f":"IF(FU23=\"-\",(IF(FU24=\"-\",\"-\",FU24)),(IF(FU24=\"-\",FU23,(SUM(FU23:FU24)))))","v":20},13,5,9,8,6,3,{"$f":"IF(GB23=\"-\",(IF(GB24=\"-\",\"-\",GB24)),(IF(GB24=\"-\",GB23,(SUM(GB23:GB24)))))","v":49},{"$f":"IF(GC23=\"-\",(IF(GC24=\"-\",\"-\",GC24)),(IF(GC24=\"-\",GC23,(SUM(GC23:GC24)))))","v":38},30,25,32,29,12]
["Tues",530,0,29,0,1,1,0,0,0,0,0,0,0,0,0,0,0,7,3,5,4,5,4,3,0,0,0,0,0,0,0,0,0,41.1,53,26,59.4,"Tues",530,0,11,0,1,0,0,0,0,0,0,0,0,0,0,0,0,0,0,5,3,2,2,0,0,0,0,0,0,0,0,0,0,43.9,48.5,36.6,54.3,"Tues",530,0,40,0,2,1,0,0,0,0,0,0,0,0,0,0,0,7,3,10,7,7,6,3,0,0,0,0,0,0,0,0,0,41.881395348837209,50.75,26,59.4,0,29,1,1,0,31,0,11,1,0,0,12,0,40,2,1,0,43]
["Tues",545,1,47,1,3,1,0,0,0,0,0,0,0,0,0,0,0,11,3,2,14,10,8,3,2,0,0,0,0,0,0,0,0,42.7,51.2,25,64.2,"Tues",545,1,11,0,2,0,1,0,2,0,0,0,0,0,0,0,0,0,4,3,4,4,1,1,0,0,0,0,0,0,0,0,0,41.1,47.6,30.3,58.2,"Tues",545,2,58,1,5,1,1,0,2,0,0,0,0,0,0,0,0,11,7,5,18,14,9,4,2,0,0,0,0,0,0,0,0,42.311428571428571,49.400000000000006,25,64.2,1,48,3,1,0,53,1,11,2,1,2,17,2,59,5,2,2,70,null,null,null,null,null,null,null,null,null,null,null,null,null,null,null,null,null,null,null,null,null,{"$f":"IF((SUM(FN124:FR124))>0,AVERAGE(FN124:FR124),0)","v":39.4},{"$f":"IF((SUM(FN124:FT124))>0,AVERAGE(FN124:FT124),0)","v":36},null,null,null,null,null,{"$f":"IF((SUM(FU124:FY124))>0,AVERAGE(FU124:FY124),0)","v":16.600000000000001},{"$f":"IF((SUM(FU124:GA124))>0,AVERAGE(FU124:GA124),0)","v":17.857142857142858},null,null,null,null,null,{"$f":"IF((SUM(GB124:GF124))>0,AVERAGE(GB124:GF124),0)","v":56},{"$f":"IF((SUM(GB124:GH124))>0,AVERAGE(GB124:GH124),0)","v":53.857142857142854},{"$f":"IF(FN25=\"-\",(IF(FN26=\"-\",\"-\",FN26)),(IF(FN26=\"-\",FN25,(SUM(FN25:FN26)))))","v":47},32,40,35,43,30,25,{"$f":"IF(FU25=\"-\",(IF(FU26=\"-\",\"-\",FU26)),(IF(FU26=\"-\",FU25,(SUM(FU25:FU26)))))","v":18},13,22,14,16,23,19,{"$f":"IF(GB25=\"-\",(IF(GB26=\"-\",\"-\",GB26)),(IF(GB26=\"-\",GB25,(SUM(GB25:GB26)))))","v":65},{"$f":"IF(GC25=\"-\",(IF(GC26=\"-\",\"-\",GC26)),(IF(GC26=\"-\",GC25,(SUM(GC25:GC26)))))","v":45},62,49,59,53,44]
["Tues",600,4,67,1,1,0,0,0,0,0,3,0,0,0,0,0,1,12,10,10,22,13,6,2,0,0,0,0,0,0,0,0,0,40.299999999999997,48.1,23.2,59.6,"Tues",600,1,19,0,1,0,0,0,2,3,0,0,0,0,0,0,0,0,1,7,12,5,1,0,0,0,0,0,0,0,0,0,0,42.3,45.4,32.200000000000003,51.9,"Tues",600,5,86,1,2,0,0,0,2,3,3,0,0,0,0,0,1,12,11,17,34,18,7,2,0,0,0,0,0,0,0,0,0,40.809803921568623,46.75,23.2,59.6,4,68,1,0,3,76,1,19,1,0,5,26,5,87,2,0,8,102]
["Tues",615,1,44,0,0,0,0,0,0,0,0,0,0,0,0,0,0,5,5,12,9,8,2,2,2,0,0,0,0,0,0,0,0,41.4,48.8,27.2,62.6,"Tues",615,0,18,0,4,1,0,0,1,0,0,0,0,0,0,0,0,1,4,9,4,2,2,1,1,0,0,0,0,0,0,0,0,41,47,28.3,62.7,"Tues",615,1,62,0,4,1,0,0,1,0,0,0,0,0,0,0,0,6,9,21,13,10,4,3,3,0,0,0,0,0,0,0,0,41.260869565217391,47.9,27.2,62.7,1,44,0,0,0,45,0,18,4,1,1,24,1,62,4,1,1,69,null,null,null,null,null,null,null,null,null,null,null,null,null,null,null,null,null,null,null,null,null,{"$f":"IF((SUM(FN126:FR126))>0,AVERAGE(FN126:FR126),0)","v":81.8},{"$f":"IF((SUM(FN126:FT126))>0,AVERAGE(FN126:FT126),0)","v":76.714285714285708},null,null,null,null,null,{"$f":"IF((SUM(FU126:FY126))>0,AVERAGE(FU126:FY126),0)","v":26.4},{"$f":"IF((SUM(FU126:GA126))>0,AVERAGE(FU126:GA126),0)","v":26.142857142857142},null,null,null,null,null,{"$f":"IF((SUM(GB126:GF126))>0,AVERAGE(GB126:GF126),0)","v":108.2},{"$f":"IF((SUM(GB126:GH126))>0,AVERAGE(GB126:GH126),0)","v":102.85714285714286},{"$f":"IF(FN27=\"-\",(IF(FN28=\"-\",\"-\",FN28)),(IF(FN28=\"-\",FN27,(SUM(FN27:FN28)))))","v":78},84,82,88,77,69,59,{"$f":"IF(FU27=\"-\",(IF(FU28=\"-\",\"-\",FU28)),(IF(FU28=\"-\",FU27,(SUM(FU27:FU28)))))","v":19},29,25,29,30,29,22,{"$f":"IF(GB27=\"-\",(IF(GB28=\"-\",\"-\",GB28)),(IF(GB28=\"-\",GB27,(SUM(GB27:GB28)))))","v":97},{"$f":"IF(GC27=\"-\",(IF(GC28=\"-\",\"-\",GC28)),(IF(GC28=\"-\",GC27,(SUM(GC27:GC28)))))","v":113},107,117,107,98,81]
["Tues",630,3,68,1,4,1,1,0,0,0,0,0,0,0,0,1,5,14,12,10,15,15,5,1,0,0,0,0,0,0,0,0,0,37.9,46.1,18.8,57.5,"Tues",630,2,41,0,2,0,0,0,0,0,1,0,0,0,0,0,0,0,7,5,13,14,4,2,1,0,0,0,0,0,0,0,0,43.7,49.7,31.1,61.1,"Tues",630,5,109,1,6,1,1,0,0,0,1,0,0,0,0,1,5,14,19,15,28,29,9,3,1,0,0,0,0,0,0,0,0,40.051612903225802,47.900000000000006,18.8,61.1,3,69,4,2,0,78,2,41,2,0,1,46,5,110,6,2,1,124]
["Tues",645,0,50,0,4,0,0,0,0,0,0,0,0,0,0,0,1,11,11,2,11,12,5,0,1,0,0,0,0,0,0,0,0,39.5,49.4,21.8,61.4,"Tues",645,2,27,0,5,0,0,0,0,0,0,0,0,0,0,0,0,0,4,5,11,7,4,3,0,0,0,0,0,0,0,0,0,44,51.9,32.200000000000003,56.8,"Tues",645,2,77,0,9,0,0,0,0,0,0,0,0,0,0,0,1,11,15,7,22,19,9,3,1,0,0,0,0,0,0,0,0,41.238636363636367,50.65,21.8,61.4,0,50,4,0,0,54,2,27,5,0,0,34,2,77,9,0,0,88,null,null,null,null,null,null,null,null,null,null,null,null,null,null,null,null,null,null,null,null,null,{"$f":"IF((SUM(FN128:FR128))>0,AVERAGE(FN128:FR128),0)","v":118.2},{"$f":"IF((SUM(FN128:FT128))>0,AVERAGE(FN128:FT128),0)","v":101.85714285714286},null,null,null,null,null,{"$f":"IF((SUM(FU128:FY128))>0,AVERAGE(FU128:FY128),0)","v":49.2},{"$f":"IF((SUM(FU128:GA128))>0,AVERAGE(FU128:GA128),0)","v":41.714285714285715},null,null,null,null,null,{"$f":"IF((SUM(GB128:GF128))>0,AVERAGE(GB128:GF128),0)","v":167.4},{"$f":"IF((SUM(GB128:GH128))>0,AVERAGE(GB128:GH128),0)","v":143.57142857142858},{"$f":"IF(FN29=\"-\",(IF(FN30=\"-\",\"-\",FN30)),(IF(FN30=\"-\",FN29,(SUM(FN29:FN30)))))","v":114},121,113,117,126,67,55,{"$f":"IF(FU29=\"-\",(IF(FU30=\"-\",\"-\",FU30)),(IF(FU30=\"-\",FU29,(SUM(FU29:FU30)))))","v":45},50,50,51,50,26,20,{"$f":"IF(GB29=\"-\",(IF(GB30=\"-\",\"-\",GB30)),(IF(GB30=\"-\",GB29,(SUM(GB29:GB30)))))","v":159},{"$f":"IF(GC29=\"-\",(IF(GC30=\"-\",\"-\",GC30)),(IF(GC30=\"-\",GC29,(SUM(GC29:GC30)))))","v":171},163,168,176,93,75]
["Tues",700,2,81,1,7,0,0,0,0,0,0,0,0,0,0,0,3,16,18,13,20,16,5,0,0,0,0,0,0,0,0,0,0,38,47,24.7,53.3,"Tues",700,4,56,0,11,1,1,0,0,0,0,0,0,0,1,0,0,7,14,23,16,7,3,0,1,1,0,0,0,0,0,0,0,38.700000000000003,45.6,12.3,68.2,"Tues",700,6,137,1,18,1,1,0,0,0,0,0,0,0,1,0,3,23,32,36,36,23,8,0,1,1,0,0,0,0,0,0,0,38.311585365853659,46.3,12.3,68.2,2,82,7,0,0,91,4,56,11,2,0,73,6,138,18,2,0,164]
["Tues",715,2,87,1,4,1,0,0,0,0,0,0,0,0,1,0,4,23,20,8,18,15,6,0,0,0,0,0,0,0,0,0,0,36.700000000000003,47,14.5,54.8,"Tues",715,0,76,0,10,3,0,0,0,0,0,0,0,0,0,0,1,7,19,34,23,3,1,1,0,0,0,0,0,0,0,0,0,37.6,42.5,24.5,58.1,"Tues",715,2,163,1,14,4,0,0,0,0,0,0,0,0,1,0,5,30,39,42,41,18,7,1,0,0,0,0,0,0,0,0,0,37.135326086956525,44.75,14.5,58.1,2,88,4,1,0,95,0,76,10,3,0,89,2,164,14,4,0,184,null,null,null,null,null,null,null,null,null,null,null,null,null,null,null,null,null,null,null,null,null,{"$f":"IF((SUM(FN130:FR130))>0,AVERAGE(FN130:FR130),0)","v":127},{"$f":"IF((SUM(FN130:FT130))>0,AVERAGE(FN130:FT130),0)","v":105.28571428571429},null,null,null,null,null,{"$f":"IF((SUM(FU130:FY130))>0,AVERAGE(FU130:FY130),0)","v":85.2},{"$f":"IF((SUM(FU130:GA130))>0,AVERAGE(FU130:GA130),0)","v":72.714285714285708},null,null,null,null,null,{"$f":"IF((SUM(GB130:GF130))>0,AVERAGE(GB130:GF130),0)","v":212.2},{"$f":"IF((SUM(GB130:GH130))>0,AVERAGE(GB130:GH130),0)","v":178},{"$f":"IF(FN31=\"-\",(IF(FN32=\"-\",\"-\",FN32)),(IF(FN32=\"-\",FN31,(SUM(FN31:FN32)))))","v":123},{"$f":"IF(FO31=\"-\",(IF(FO32=\"-\",\"-\",FO32)),(IF(FO32=\"-\",FO31,(SUM(FO31:FO32)))))","v":132},127,129,124,59,43,{"$f":"IF(FU31=\"-\",(IF(FU32=\"-\",\"-\",FU32)),(IF(FU32=\"-\",FU31,(SUM(FU31:FU32)))))","v":86},{"$f":"IF(FV31=\"-\",(IF(FV32=\"-\",\"-\",FV32)),(IF(FV32=\"-\",FV31,(SUM(FV31:FV32)))))","v":80},81,97,82,45,38,{"$f":"IF(GB31=\"-\",(IF(GB32=\"-\",\"-\",GB32)),(IF(GB32=\"-\",GB31,(SUM(GB31:GB32)))))","v":209},{"$f":"IF(GC31=\"-\",(IF(GC32=\"-\",\"-\",GC32)),(IF(GC32=\"-\",GC31,(SUM(GC31:GC32)))))","v":212},208,226,206,104,81]
["Tues",730,3,124,0,7,1,0,0,1,0,1,0,0,0,0,1,12,29,22,34,24,11,4,0,0,0,0,0,0,0,0,0,0,35.299999999999997,42.7,19.899999999999999,54,"Tues",730,0,95,1,9,0,0,0,0,0,0,0,0,0,0,0,0,5,34,39,18,9,0,0,0,0,0,0,0,0,0,0,0,37,41.8,27.6,49.2,"Tues",730,3,219,1,16,1,0,0,1,0,1,0,0,0,0,1,12,34,56,73,42,20,4,0,0,0,0,0,0,0,0,0,0,36.037603305785119,42.25,19.899999999999999,54,3,124,7,1,2,137,0,96,9,0,0,105,3,220,16,1,2,242]
["Tues",745,2,113,1,9,2,2,1,0,1,3,1,0,0,0,1,2,22,26,33,38,11,2,0,0,0,0,0,0,0,0,0,0,36.9,42.9,17,54.2,"Tues",745,1,113,0,16,1,0,0,0,0,1,0,0,0,0,1,0,10,46,41,25,5,4,0,0,0,0,0,0,0,0,0,0,36.4,41.8,15.1,55,"Tues",745,3,226,1,25,3,2,1,0,1,4,1,0,0,0,2,2,32,72,74,63,16,6,0,0,0,0,0,0,0,0,0,0,36.652808988764043,42.349999999999994,15.1,55,2,114,9,4,6,135,1,113,16,1,1,132,3,227,25,5,7,267,null,null,null,null,null,null,null,null,null,null,null,null,null,null,null,null,null,null,null,null,null,{"$f":"IF((SUM(FN132:FR132))>0,AVERAGE(FN132:FR132),0)","v":182.2},{"$f":"IF((SUM(FN132:FT132))>0,AVERAGE(FN132:FT132),0)","v":141.85714285714286},null,null,null,null,null,{"$f":"IF((SUM(FU132:FY132))>0,AVERAGE(FU132:FY132),0)","v":138.80000000000001},{"$f":"IF((SUM(FU132:GA132))>0,AVERAGE(FU132:GA132),0)","v":110.42857142857143},null,null,null,null,null,{"$f":"IF((SUM(GB132:GF132))>0,AVERAGE(GB132:GF132),0)","v":321},{"$f":"IF((SUM(GB132:GH132))>0,AVERAGE(GB132:GH132),0)","v":252.28571428571428},{"$f":"IF(FN33=\"-\",(IF(FN34=\"-\",\"-\",FN34)),(IF(FN34=\"-\",FN33,(SUM(FN33:FN34)))))","v":184},{"$f":"IF(FO33=\"-\",(IF(FO34=\"-\",\"-\",FO34)),(IF(FO34=\"-\",FO33,(SUM(FO33:FO34)))))","v":186},187,175,179,53,29,{"$f":"IF(FU33=\"-\",(IF(FU34=\"-\",\"-\",FU34)),(IF(FU34=\"-\",FU33,(SUM(FU33:FU34)))))","v":118},{"$f":"IF(FV33=\"-\",(IF(FV34=\"-\",\"-\",FV34)),(IF(FV34=\"-\",FV33,(SUM(FV33:FV34)))))","v":162},137,154,123,53,26,{"$f":"IF(GB33=\"-\",(IF(GB34=\"-\",\"-\",GB34)),(IF(GB34=\"-\",GB33,(SUM(GB33:GB34)))))","v":302},{"$f":"IF(GC33=\"-\",(IF(GC34=\"-\",\"-\",GC34)),(IF(GC34=\"-\",GC33,(SUM(GC33:GC34)))))","v":348},324,329,302,106,55]
["Tues",800,1,139,1,10,0,0,1,2,0,2,0,0,0,0,0,6,27,22,42,50,8,1,0,0,0,0,0,0,0,0,0,0,36.5,42.7,22,52.3,"Tues",800,0,111,0,8,1,1,0,2,0,0,0,0,0,0,0,0,9,42,40,24,7,1,0,0,0,0,0,0,0,0,0,0,36.799999999999997,42.7,25.2,52.2,"Tues",800,1,250,1,18,1,1,1,4,0,2,0,0,0,{"$f":"SUM(P133+BB133)","v":0},0,6,36,64,82,74,15,2,0,0,0,0,0,0,0,0,0,0,36.63225806451613,42.7,22,52.3,1,140,10,0,5,156,0,111,8,2,2,123,1,251,18,2,7,279]
["Tues",815,1,141,1,9,1,1,0,1,0,3,0,0,0,0,2,4,38,28,50,31,4,1,0,0,0,0,0,0,0,0,0,0,35,40.9,18.5,54.2,"Tues",815,3,100,1,12,0,1,0,1,1,0,0,0,0,1,2,7,6,35,36,30,1,0,1,0,0,0,0,0,0,0,0,0,35.6,41.2,11.7,55.5,"Tues",815,4,241,2,21,1,2,0,2,1,3,0,0,0,1,4,11,44,63,86,61,5,1,1,0,0,0,0,0,0,0,0,0,{"$f":"IF(EB134=0,\"-\",IF(DP134=0,BU134,IF(DV134=0,AI134,SUM((AI134*DP134),(BU134*DV134))/EB134)))","v":35.257761732851989},{"$f":"IFERROR(IF(BV134=\"-\",IF(AJ134=\"-\",\"-\",AJ134),IF(AJ134=\"-\",BV134,AVERAGE(AJ134,BV134))), \"-\")","v":41.05},{"$f":"IF(MIN(AK134,BW134)=0,\"-\",MIN(AK134,BW134))","v":11.7},{"$f":"IF(MAX(AL134,BX134)=0,\"-\",MAX(AL134,BX134))","v":55.5},{"$f":"SUM(C134)","v":1},{"$f":"SUM(D134+E134)","v":142},{"$f":"F134","v":9},{"$f":"SUM(G134:H134)","v":2},{"$f":"SUM(I134:N134)","v":4},{"$f":"SUM(C134:N134)","v":158},{"$f":"SUM(AO134)","v":3},{"$f":"SUM(AP134+AQ134)","v":101},{"$f":"AR134","v":12},{"$f":"SUM(AS134:AT134)","v":1},{"$f":"SUM(AU134:AZ134)","v":2},{"$f":"SUM(AO134:AZ134)","v":119},4,243,21,3,6,277,null,null,null,null,null,null,null,null,null,null,null,null,null,null,null,null,null,null,null,null,null,{"$f":"IF((SUM(FN134:FR134))>0,AVERAGE(FN134:FR134),0)","v":270.2},{"$f":"IF((SUM(FN134:FT134))>0,AVERAGE(FN134:FT134),0)","v":209.57142857142858},null,null,null,null,null,{"$f":"IF((SUM(FU134:FY134))>0,AVERAGE(FU134:FY134),0)","v":231.6},{"$f":"IF((SUM(FU134:GA134))>0,AVERAGE(FU134:GA134),0)","v":176.57142857142858},null,null,null,null,null,{"$f":"IF((SUM(GB134:GF134))>0,AVERAGE(GB134:GF134),0)","v":501.8},{"$f":"IF((SUM(GB134:GH134))>0,AVERAGE(GB134:GH134),0)","v":386.14285714285717},{"$f":"IF(FN35=\"-\",(IF(FN36=\"-\",\"-\",FN36)),(IF(FN36=\"-\",FN35,(SUM(FN35:FN36)))))","v":263},{"$f":"IF(FO35=\"-\",(IF(FO36=\"-\",\"-\",FO36)),(IF(FO36=\"-\",FO35,(SUM(FO35:FO36)))))","v":272},287,270,259,61,55,{"$f":"IF(FU35=\"-\",(IF(FU36=\"-\",\"-\",FU36)),(IF(FU36=\"-\",FU35,(SUM(FU35:FU36)))))","v":230},{"$f":"IF(FV35=\"-\",(IF(FV36=\"-\",\"-\",FV36)),(IF(FV36=\"-\",FV35,(SUM(FV35:FV36)))))","v":237},262,205,224,48,30,{"$f":"IF(GB35=\"-\",(IF(GB36=\"-\",\"-\",GB36)),(IF(GB36=\"-\",GB35,(SUM(GB35:GB36)))))","v":493},{"$f":"IF(GC35=\"-\",(IF(GC36=\"-\",\"-\",GC36)),(IF(GC36=\"-\",GC35,(SUM(GC35:GC36)))))","v":509},549,475,483,109,85]
["Tues",830,3,110,0,13,6,0,0,0,0,0,0,0,0,0,6,7,27,22,37,20,10,2,1,0,0,0,0,0,0,0,0,0,34.9,42.1,16.399999999999999,56.3,"Tues",830,0,100,2,17,1,0,0,2,1,2,0,0,0,0,0,0,19,43,40,18,5,0,0,0,0,0,0,0,0,0,0,0,35.6,40.9,25.6,49.3,"Tues",830,3,210,2,30,7,0,0,2,1,2,0,0,0,0,6,7,46,65,77,38,15,2,1,0,0,0,0,0,0,0,0,0,35.240466926070035,41.5,16.399999999999999,56.3,3,110,13,6,0,132,0,102,17,1,5,125,3,212,30,7,5,257]
["Tues",845,2,103,2,8,2,0,0,0,0,1,0,0,0,0,0,2,21,22,29,32,11,1,0,0,0,0,0,0,0,0,0,0,36.799999999999997,42.7,24,51,"Tues",845,1,75,0,9,0,0,0,0,1,1,0,0,0,0,0,3,22,20,26,10,6,0,0,0,0,0,0,0,0,0,0,0,34.5,40.299999999999997,22.7,48.9,"Tues",845,3,178,2,17,2,0,0,0,1,2,0,0,0,0,0,5,43,42,55,42,17,1,0,0,0,0,0,0,0,0,0,0,35.823902439024387,41.5,22.7,51,2,105,8,2,1,118,1,75,9,0,2,87,3,180,17,2,3,205,null,null,null,null,null,null,null,null,null,null,null,null,null,null,null,null,null,null,null,null,null,{"$f":"IF((SUM(FN136:FR136))>0,AVERAGE(FN136:FR136),0)","v":302.60000000000002},{"$f":"IF((SUM(FN136:FT136))>0,AVERAGE(FN136:FT136),0)","v":224},null,null,null,null,null,{"$f":"IF((SUM(FU136:FY136))>0,AVERAGE(FU136:FY136),0)","v":231.8},{"$f":"IF((SUM(FU136:GA136))>0,AVERAGE(FU136:GA136),0)","v":174},null,null,null,null,null,{"$f":"IF((SUM(GB136:GF136))>0,AVERAGE(GB136:GF136),0)","v":534.4},{"$f":"IF((SUM(GB136:GH136))>0,AVERAGE(GB136:GH136),0)","v":398},{"$f":"IF(FN37=\"-\",(IF(FN38=\"-\",\"-\",FN38)),(IF(FN38=\"-\",FN37,(SUM(FN37:FN38)))))","v":308},{"$f":"IF(FO37=\"-\",(IF(FO38=\"-\",\"-\",FO38)),(IF(FO38=\"-\",FO37,(SUM(FO37:FO38)))))","v":314},286,318,287,0,55,{"$f":"IF(FU37=\"-\",(IF(FU38=\"-\",\"-\",FU38)),(IF(FU38=\"-\",FU37,(SUM(FU37:FU38)))))","v":223},{"$f":"IF(FV37=\"-\",(IF(FV38=\"-\",\"-\",FV38)),(IF(FV38=\"-\",FV37,(SUM(FV37:FV38)))))","v":242},228,249,217,0,59,{"$f":"IF(GB37=\"-\",(IF(GB38=\"-\",\"-\",GB38)),(IF(GB38=\"-\",GB37,(SUM(GB37:GB38)))))","v":531},{"$f":"IF(GC37=\"-\",(IF(GC38=\"-\",\"-\",GC38)),(IF(GC38=\"-\",GC37,(SUM(GC37:GC38)))))","v":556},514,567,504,0,114]
["Tues",900,0,98,3,6,0,0,0,0,0,0,0,1,0,0,0,4,18,14,34,25,12,1,0,0,0,0,0,0,0,0,0,0,37.1,44.1,22.1,50.2,"Tues",900,2,79,2,10,2,1,0,0,1,0,0,0,0,1,0,0,14,42,19,12,7,2,0,0,0,0,0,0,0,0,0,0,35.1,40.9,11.2,52.6,"Tues",900,2,177,5,16,2,1,0,0,1,0,0,1,0,1,0,4,32,56,53,37,19,3,0,0,0,0,0,0,0,0,0,0,36.153658536585368,42.5,11.2,52.6,0,101,6,0,1,108,2,81,10,3,1,97,2,182,16,3,2,205]
["Tues",915,0,79,1,8,1,0,0,0,1,1,1,0,0,0,0,3,14,18,27,21,7,2,0,0,0,0,0,0,0,0,0,0,36.799999999999997,43.6,21.9,52.4,"Tues",915,1,61,1,12,0,0,0,0,0,0,0,0,0,0,0,8,17,17,15,13,5,0,0,0,0,0,0,0,0,0,0,0,34,40.5,22.1,49.2,"Tues",915,1,140,2,20,1,0,0,0,1,1,1,0,0,0,0,11,31,35,42,34,12,2,0,0,0,0,0,0,0,0,0,0,35.542514970059884,42.05,21.9,52.4,0,80,8,1,3,92,1,62,12,0,0,75,1,142,20,1,3,167,null,null,null,null,null,null,null,null,null,null,null,null,null,null,null,null,null,null,null,null,null,{"$f":"IF((SUM(FN138:FR138))>0,AVERAGE(FN138:FR138),0)","v":226.2},{"$f":"IF((SUM(FN138:FT138))>0,AVERAGE(FN138:FT138),0)","v":179.42857142857142},null,null,null,null,null,{"$f":"IF((SUM(FU138:FY138))>0,AVERAGE(FU138:FY138),0)","v":194.2},{"$f":"IF((SUM(FU138:GA138))>0,AVERAGE(FU138:GA138),0)","v":152.71428571428572},null,null,null,null,null,{"$f":"IF((SUM(GB138:GF138))>0,AVERAGE(GB138:GF138),0)","v":420.4},{"$f":"IF((SUM(GB138:GH138))>0,AVERAGE(GB138:GH138),0)","v":332.14285714285717},{"$f":"IF(FN39=\"-\",(IF(FN40=\"-\",\"-\",FN40)),(IF(FN40=\"-\",FN39,(SUM(FN39:FN40)))))","v":215},{"$f":"IF(FO39=\"-\",(IF(FO40=\"-\",\"-\",FO40)),(IF(FO40=\"-\",FO39,(SUM(FO39:FO40)))))","v":250},218,211,237,57,68,{"$f":"IF(FU39=\"-\",(IF(FU40=\"-\",\"-\",FU40)),(IF(FU40=\"-\",FU39,(SUM(FU39:FU40)))))","v":197},{"$f":"IF(FV39=\"-\",(IF(FV40=\"-\",\"-\",FV40)),(IF(FV40=\"-\",FV39,(SUM(FV39:FV40)))))","v":212},187,203,172,39,59,{"$f":"IF(GB39=\"-\",(IF(GB40=\"-\",\"-\",GB40)),(IF(GB40=\"-\",GB39,(SUM(GB39:GB40)))))","v":412},{"$f":"IF(GC39=\"-\",(IF(GC40=\"-\",\"-\",GC40)),(IF(GC40=\"-\",GC39,(SUM(GC39:GC40)))))","v":462},405,414,409,96,127]
["Tues",930,2,76,0,7,1,0,0,0,0,4,1,0,0,0,0,5,9,16,39,18,3,0,0,1,0,0,0,0,0,0,0,0,36.4,41.6,21.2,64,"Tues",930,3,70,1,8,2,1,0,0,0,2,0,0,0,0,0,1,14,28,29,10,5,0,0,0,0,0,0,0,0,0,0,0,35.6,40.5,22,49.7,"Tues",930,5,146,1,15,3,1,0,0,0,6,1,0,0,0,0,6,23,44,68,28,8,0,0,1,0,0,0,0,0,0,0,0,36.008988764044943,41.05,21.2,64,2,76,7,1,5,91,3,71,8,3,2,87,5,147,15,4,7,178]
["Tues",945,0,73,3,10,1,0,0,0,0,2,1,0,0,0,1,3,13,17,27,18,7,3,1,0,0,0,0,0,0,0,0,0,37,44.5,19.5,55.4,"Tues",945,1,54,0,13,0,0,0,2,1,0,1,0,0,0,0,1,8,12,15,27,8,1,0,0,0,0,0,0,0,0,0,0,38.4,44.1,24.6,52.3,"Tues",945,1,127,3,23,1,0,0,2,1,2,2,0,0,0,1,4,21,29,42,45,15,4,1,0,0,0,0,0,0,0,0,0,37.62222222222222,44.3,19.5,55.4,0,76,10,1,3,90,1,54,13,0,4,72,1,130,23,1,7,162,null,null,null,null,null,null,null,null,null,null,null,null,null,null,null,null,null,null,null,null,null,{"$f":"IF((SUM(FN140:FR140))>0,AVERAGE(FN140:FR140),0)","v":199.8},{"$f":"IF((SUM(FN140:FT140))>0,AVERAGE(FN140:FT140),0)","v":172.28571428571428},null,null,null,null,null,{"$f":"IF((SUM(FU140:FY140))>0,AVERAGE(FU140:FY140),0)","v":173.8},{"$f":"IF((SUM(FU140:GA140))>0,AVERAGE(FU140:GA140),0)","v":142.85714285714286},null,null,null,null,null,{"$f":"IF((SUM(GB140:GF140))>0,AVERAGE(GB140:GF140),0)","v":373.6},{"$f":"IF((SUM(GB140:GH140))>0,AVERAGE(GB140:GH140),0)","v":315.14285714285717},{"$f":"IF(FN41=\"-\",(IF(FN42=\"-\",\"-\",FN42)),(IF(FN42=\"-\",FN41,(SUM(FN41:FN42)))))","v":168},{"$f":"IF(FO41=\"-\",(IF(FO42=\"-\",\"-\",FO42)),(IF(FO42=\"-\",FO41,(SUM(FO41:FO42)))))","v":200},216,195,220,118,89,{"$f":"IF(FU41=\"-\",(IF(FU42=\"-\",\"-\",FU42)),(IF(FU42=\"-\",FU41,(SUM(FU41:FU42)))))","v":187},{"$f":"IF(FV41=\"-\",(IF(FV42=\"-\",\"-\",FV42)),(IF(FV42=\"-\",FV41,(SUM(FV41:FV42)))))","v":172},170,169,171,83,48,{"$f":"IF(GB41=\"-\",(IF(GB42=\"-\",\"-\",GB42)),(IF(GB42=\"-\",GB41,(SUM(GB41:GB42)))))","v":355},{"$f":"IF(GC41=\"-\",(IF(GC42=\"-\",\"-\",GC42)),(IF(GC42=\"-\",GC41,(SUM(GC41:GC42)))))","v":372},386,364,391,201,137]
["Tues",1000,1,60,2,8,2,0,0,0,0,2,0,0,0,0,0,1,13,28,17,9,5,2,0,0,0,0,0,0,0,0,0,0,35.700000000000003,42.1,24,52.9,"Tues",1000,1,67,0,9,1,1,0,2,1,0,0,0,0,0,0,3,13,16,26,17,5,2,0,0,0,0,0,0,0,0,0,0,36.5,43.2,21.3,51.8,"Tues",1000,2,127,2,17,3,1,0,2,1,2,0,0,0,0,0,4,26,44,43,26,10,4,0,0,0,0,0,0,0,0,0,0,36.117834394904456,42.650000000000006,21.3,52.9,1,62,8,2,2,75,1,67,9,2,3,82,2,129,17,4,5,157]
["Tues",1015,2,86,1,10,0,0,0,0,0,0,0,0,0,0,2,2,16,32,27,16,1,3,0,0,0,0,0,0,0,0,0,0,35,41.2,18.100000000000001,53.6,"Tues",1015,1,53,1,8,0,1,0,2,1,1,0,0,0,0,3,1,8,12,18,24,2,0,0,0,0,0,0,0,0,0,0,0,36.200000000000003,42.3,16.7,49.8,"Tues",1015,3,139,2,18,0,1,0,2,1,1,0,0,0,0,5,3,24,44,45,40,3,3,0,0,0,0,0,0,0,0,0,0,35.488622754491018,41.75,16.7,53.6,2,87,10,0,0,99,1,54,8,1,4,68,3,141,18,1,4,167,null,null,null,null,null,null,null,null,null,null,null,null,null,null,null,null,null,null,null,null,null,{"$f":"IF((SUM(FN142:FR142))>0,AVERAGE(FN142:FR142),0)","v":175.8},{"$f":"IF((SUM(FN142:FT142))>0,AVERAGE(FN142:FT142),0)","v":165.85714285714286},null,null,null,null,null,{"$f":"IF((SUM(FU142:FY142))>0,AVERAGE(FU142:FY142),0)","v":163.4},{"$f":"IF((SUM(FU142:GA142))>0,AVERAGE(FU142:GA142),0)","v":146.28571428571428},null,null,null,null,null,{"$f":"IF((SUM(GB142:GF142))>0,AVERAGE(GB142:GF142),0)","v":339.2},{"$f":"IF((SUM(GB142:GH142))>0,AVERAGE(GB142:GH142),0)","v":312.14285714285717},{"$f":"IF(FN43=\"-\",(IF(FN44=\"-\",\"-\",FN44)),(IF(FN44=\"-\",FN43,(SUM(FN43:FN44)))))","v":184},{"$f":"IF(FO43=\"-\",(IF(FO44=\"-\",\"-\",FO44)),(IF(FO44=\"-\",FO43,(SUM(FO43:FO44)))))","v":181},163,171,180,154,128,{"$f":"IF(FU43=\"-\",(IF(FU44=\"-\",\"-\",FU44)),(IF(FU44=\"-\",FU43,(SUM(FU43:FU44)))))","v":159},{"$f":"IF(FV43=\"-\",(IF(FV44=\"-\",\"-\",FV44)),(IF(FV44=\"-\",FV43,(SUM(FV43:FV44)))))","v":159},165,170,164,121,86,{"$f":"IF(GB43=\"-\",(IF(GB44=\"-\",\"-\",GB44)),(IF(GB44=\"-\",GB43,(SUM(GB43:GB44)))))","v":343},{"$f":"IF(GC43=\"-\",(IF(GC44=\"-\",\"-\",GC44)),(IF(GC44=\"-\",GC43,(SUM(GC43:GC44)))))","v":340},328,341,344,275,214]
["Tues",1030,1,75,3,11,0,0,0,0,1,2,0,0,0,0,1,3,19,25,20,20,4,1,0,0,0,0,0,0,0,0,0,0,35.1,41.4,18.399999999999999,53.4,"Tues",1030,4,64,4,15,1,0,0,0,2,0,0,0,0,1,5,6,10,41,15,8,1,3,0,0,0,0,0,0,0,0,0,0,32.700000000000003,39.6,11.9,52.2,"Tues",1030,{"$f":"SUM(C143+AO143)","v":5},{"$f":"SUM(D143+AP143)","v":139},{"$f":"SUM(E143+AQ143)","v":7},{"$f":"SUM(F143+AR143)","v":26},{"$f":"SUM(G143+AS143)","v":1},{"$f":"SUM(H143+AT143)","v":0},{"$f":"SUM(I143+AU143)","v":0},{"$f":"SUM(J143+AV143)","v":0},{"$f":"SUM(K143+AW143)","v":3},{"$f":"SUM(L143+AX143)","v":2},{"$f":"SUM(M143+AY143)","v":0},0,0,1,6,9,29,66,35,28,5,4,0,0,0,0,0,0,0,0,0,0,33.91967213114755,40.5,11.9,53.4,1,78,11,0,3,93,4,68,15,1,2,90,5,146,26,1,5,183]
["Tues",1045,0,83,0,11,0,3,0,1,0,0,0,0,0,0,0,7,16,22,34,17,1,0,1,0,0,0,0,0,0,0,0,0,34.9,40.700000000000003,20.6,58.2,"Tues",1045,0,77,4,8,0,0,0,0,0,0,0,0,0,0,1,7,14,35,16,15,1,0,0,0,0,0,0,0,0,0,0,0,33.5,40,19.8,45.2,"Tues",1045,0,160,4,19,0,3,0,1,0,0,0,0,0,0,1,14,30,57,50,32,2,0,1,0,0,0,0,0,0,0,0,0,34.233689839572193,40.35,19.8,58.2,0,83,11,3,1,98,0,81,8,0,0,89,0,164,19,3,1,187,null,null,null,null,null,null,null,null,null,null,null,null,null,null,null,null,null,null,null,null,null,{"$f":"IF((SUM(FN144:FR144))>0,AVERAGE(FN144:FR144),0)","v":165.4},{"$f":"IF((SUM(FN144:FT144))>0,AVERAGE(FN144:FT144),0)","v":162.71428571428572},null,null,null,null,null,{"$f":"IF((SUM(FU144:FY144))>0,AVERAGE(FU144:FY144),0)","v":144.4},{"$f":"IF((SUM(FU144:GA144))>0,AVERAGE(FU144:GA144),0)","v":132},null,null,null,null,null,{"$f":"IF((SUM(GB144:GF144))>0,AVERAGE(GB144:GF144),0)","v":309.8},{"$f":"IF((SUM(GB144:GH144))>0,AVERAGE(GB144:GH144),0)","v":294.71428571428572},{"$f":"IF(FN45=\"-\",(IF(FN46=\"-\",\"-\",FN46)),(IF(FN46=\"-\",FN45,(SUM(FN45:FN46)))))","v":141},{"$f":"IF(FO45=\"-\",(IF(FO46=\"-\",\"-\",FO46)),(IF(FO46=\"-\",FO45,(SUM(FO45:FO46)))))","v":174},166,139,207,157,155,{"$f":"IF(FU45=\"-\",(IF(FU46=\"-\",\"-\",FU46)),(IF(FU46=\"-\",FU45,(SUM(FU45:FU46)))))","v":139},{"$f":"IF(FV45=\"-\",(IF(FV46=\"-\",\"-\",FV46)),(IF(FV46=\"-\",FV45,(SUM(FV45:FV46)))))","v":150},159,133,141,103,99,{"$f":"IF(GB45=\"-\",(IF(GB46=\"-\",\"-\",GB46)),(IF(GB46=\"-\",GB45,(SUM(GB45:GB46)))))","v":280},{"$f":"IF(GC45=\"-\",(IF(GC46=\"-\",\"-\",GC46)),(IF(GC46=\"-\",GC45,(SUM(GC45:GC46)))))","v":324},325,272,348,260,254]
["Tues",1100,2,69,1,9,0,0,0,0,1,1,0,0,0,0,0,5,19,15,20,7,11,4,2,0,0,0,0,0,0,0,0,0,36.4,45.9,23.2,56.2,"Tues",1100,0,55,2,13,0,0,0,0,0,0,0,0,0,0,0,0,22,21,13,9,5,0,0,0,0,0,0,0,0,0,0,0,34.299999999999997,40.9,25.6,47.9,"Tues",1100,2,124,3,22,0,0,0,0,1,1,0,0,0,0,0,5,41,36,33,16,16,4,2,0,0,0,0,0,0,0,0,0,35.439215686274508,43.4,23.2,56.2,2,70,9,0,2,83,0,57,13,0,0,70,{"$f":"SUM(DK145+DQ145)","v":2},{"$f":"SUM(DL145+DR145)","v":127},{"$f":"SUM(DM145+DS145)","v":22},0,2,153]
["Tues",1115,0,69,3,11,1,0,0,0,1,1,0,0,0,0,1,5,20,23,15,18,4,0,0,0,0,0,0,0,0,0,0,0,34.299999999999997,42.3,16.899999999999999,47.1,"Tues",1115,1,53,3,10,1,0,0,0,0,2,0,0,0,0,1,1,6,25,19,12,6,0,0,0,0,0,0,0,0,0,0,0,36,42.5,18.600000000000001,48,"Tues",1115,1,122,6,21,2,0,0,0,1,3,0,0,0,0,2,6,26,48,34,30,10,{"$f":"SUM(X146+BJ146)","v":0},0,0,0,0,0,0,0,0,0,0,35.062820512820508,42.4,16.899999999999999,48,0,72,11,1,2,86,1,56,10,1,2,70,1,128,21,2,4,156,null,null,null,null,null,null,null,null,null,null,null,null,null,null,null,null,null,null,null,null,null,{"$f":"IF((SUM(FN146:FR146))>0,AVERAGE(FN146:FR146),0)","v":189.4},{"$f":"IF((SUM(FN146:FT146))>0,AVERAGE(FN146:FT146),0)","v":187.28571428571428},null,null,null,null,null,{"$f":"IF((SUM(FU146:FY146))>0,AVERAGE(FU146:FY146),0)","v":163.80000000000001},{"$f":"IF((SUM(FU146:GA146))>0,AVERAGE(FU146:GA146),0)","v":156.42857142857142},null,null,null,null,null,{"$f":"IF((SUM(GB146:GF146))>0,AVERAGE(GB146:GF146),0)","v":353.2},{"$f":"IF((SUM(GB146:GH146))>0,AVERAGE(GB146:GH146),0)","v":343.71428571428572},{"$f":"IF(FN47=\"-\",(IF(FN48=\"-\",\"-\",FN48)),(IF(FN48=\"-\",FN47,(SUM(FN47:FN48)))))","v":181},{"$f":"IF(FO47=\"-\",(IF(FO48=\"-\",\"-\",FO48)),(IF(FO48=\"-\",FO47,(SUM(FO47:FO48)))))","v":191},175,209,191,186,178,{"$f":"IF(FU47=\"-\",(IF(FU48=\"-\",\"-\",FU48)),(IF(FU48=\"-\",FU47,(SUM(FU47:FU48)))))","v":154},{"$f":"IF(FV47=\"-\",(IF(FV48=\"-\",\"-\",FV48)),(IF(FV48=\"-\",FV47,(SUM(FV47:FV48)))))","v":179},158,175,153,159,117,{"$f":"IF(GB47=\"-\",(IF(GB48=\"-\",\"-\",GB48)),(IF(GB48=\"-\",GB47,(SUM(GB47:GB48)))))","v":335},{"$f":"IF(GC47=\"-\",(IF(GC48=\"-\",\"-\",GC48)),(IF(GC48=\"-\",GC47,(SUM(GC47:GC48)))))","v":370},333,384,344,345,295]
["Tues",1130,0,76,1,11,0,0,0,0,0,3,1,0,0,0,1,2,20,24,19,20,5,1,0,0,0,0,0,0,0,0,0,0,35.299999999999997,42.5,19.2,52.1,"Tues",1130,1,89,3,13,0,1,0,1,0,0,0,0,0,0,0,10,19,33,30,13,3,0,0,0,0,0,0,0,0,0,0,0,33.6,38.9,20.2,46.4,"Tues",1130,1,165,4,24,0,1,0,1,0,3,1,0,0,{"$f":"SUM(P147+BB147)","v":0},1,12,39,57,49,33,8,1,0,0,0,0,0,0,0,0,0,0,34.381999999999998,40.700000000000003,19.2,52.1,0,77,11,0,4,92,1,92,13,1,1,108,1,169,24,1,5,200]
["Tues",1145,2,83,4,9,1,0,0,0,0,0,0,0,0,0,0,2,19,31,22,20,3,1,1,0,0,0,0,0,0,0,0,0,35.4,41.8,21.6,57.3,"Tues",1145,0,72,2,8,0,0,1,0,0,0,0,0,0,0,0,0,7,28,31,15,2,0,0,0,0,0,0,0,0,0,0,0,36.200000000000003,40.5,27.7,45.7,"Tues",1145,2,155,6,17,1,0,1,0,0,0,0,0,0,0,0,2,26,59,53,35,5,1,1,0,0,0,0,0,0,0,0,0,35.764835164835169,41.15,21.6,57.3,2,87,9,1,0,99,0,74,8,0,1,83,2,161,17,1,1,182,null,null,null,null,null,null,null,null,null,null,null,null,null,null,null,null,null,null,null,null,null,{"$f":"IF((SUM(FN148:FR148))>0,AVERAGE(FN148:FR148),0)","v":174.6},{"$f":"IF((SUM(FN148:FT148))>0,AVERAGE(FN148:FT148),0)","v":181},null,null,null,null,null,{"$f":"IF((SUM(FU148:FY148))>0,AVERAGE(FU148:FY148),0)","v":152.19999999999999},{"$f":"IF((SUM(FU148:GA148))>0,AVERAGE(FU148:GA148),0)","v":148.85714285714286},null,null,null,null,null,{"$f":"IF((SUM(GB148:GF148))>0,AVERAGE(GB148:GF148),0)","v":326.8},{"$f":"IF((SUM(GB148:GH148))>0,AVERAGE(GB148:GH148),0)","v":329.85714285714283},{"$f":"IF(FN49=\"-\",(IF(FN50=\"-\",\"-\",FN50)),(IF(FN50=\"-\",FN49,(SUM(FN49:FN50)))))","v":177},{"$f":"IF(FO49=\"-\",(IF(FO50=\"-\",\"-\",FO50)),(IF(FO50=\"-\",FO49,(SUM(FO49:FO50)))))","v":169},152,177,198,187,207,{"$f":"IF(FU49=\"-\",(IF(FU50=\"-\",\"-\",FU50)),(IF(FU50=\"-\",FU49,(SUM(FU49:FU50)))))","v":149},{"$f":"IF(FV49=\"-\",(IF(FV50=\"-\",\"-\",FV50)),(IF(FV50=\"-\",FV49,(SUM(FV49:FV50)))))","v":140},159,149,164,165,116,{"$f":"IF(GB49=\"-\",(IF(GB50=\"-\",\"-\",GB50)),(IF(GB50=\"-\",GB49,(SUM(GB49:GB50)))))","v":326},{"$f":"IF(GC49=\"-\",(IF(GC50=\"-\",\"-\",GC50)),(IF(GC50=\"-\",GC49,(SUM(GC49:GC50)))))","v":309},311,326,362,352,323]
["Tues",1200,1,89,0,9,0,0,0,0,1,2,1,0,0,0,0,3,19,12,34,24,8,3,0,0,0,0,0,0,0,0,0,0,37.200000000000003,42.7,24.1,54,"Tues",1200,1,71,4,9,1,0,0,0,0,1,0,0,0,0,0,3,9,32,30,13,0,0,0,0,0,0,0,0,0,0,0,0,34.700000000000003,39.6,22.5,44.6,"Tues",1200,2,160,4,18,1,0,0,0,1,3,1,0,0,0,0,6,28,44,64,37,8,3,0,0,0,0,0,0,0,0,0,0,36.055263157894736,41.150000000000006,22.5,54,1,89,9,0,4,103,1,75,9,1,1,87,2,164,18,1,5,190]
["Tues",1215,2,89,2,11,0,0,0,0,0,2,0,0,0,0,0,1,19,32,28,22,4,0,0,0,0,0,0,0,0,0,0,0,35.6,41.2,23.3,47.2,"Tues",1215,2,77,1,11,0,1,0,0,2,1,0,0,0,0,3,6,20,23,25,10,6,1,0,0,1,0,0,0,0,0,0,0,34.299999999999997,41.2,18.3,66.5,"Tues",1215,4,166,3,22,0,1,0,0,2,3,0,0,0,0,3,7,39,55,53,32,10,1,0,0,1,0,0,0,0,0,0,0,34.985572139303486,41.2,18.3,66.5,2,91,11,0,2,106,2,78,11,1,3,95,4,169,22,1,5,201,null,null,null,null,null,null,null,null,null,null,null,null,null,null,null,null,null,null,null,null,null,{"$f":"IF((SUM(FN150:FR150))>0,AVERAGE(FN150:FR150),0)","v":187.2},{"$f":"IF((SUM(FN150:FT150))>0,AVERAGE(FN150:FT150),0)","v":190.71428571428572},null,null,null,null,null,{"$f":"IF((SUM(FU150:FY150))>0,AVERAGE(FU150:FY150),0)","v":170},{"$f":"IF((SUM(FU150:GA150))>0,AVERAGE(FU150:GA150),0)","v":164.71428571428572},null,null,null,null,null,{"$f":"IF((SUM(GB150:GF150))>0,AVERAGE(GB150:GF150),0)","v":357.2},{"$f":"IF((SUM(GB150:GH150))>0,AVERAGE(GB150:GH150),0)","v":355.42857142857144},{"$f":"IF(FN51=\"-\",(IF(FN52=\"-\",\"-\",FN52)),(IF(FN52=\"-\",FN51,(SUM(FN51:FN52)))))","v":169},{"$f":"IF(FO51=\"-\",(IF(FO52=\"-\",\"-\",FO52)),(IF(FO52=\"-\",FO51,(SUM(FO51:FO52)))))","v":191},180,195,201,195,204,{"$f":"IF(FU51=\"-\",(IF(FU52=\"-\",\"-\",FU52)),(IF(FU52=\"-\",FU51,(SUM(FU51:FU52)))))","v":160},{"$f":"IF(FV51=\"-\",(IF(FV52=\"-\",\"-\",FV52)),(IF(FV52=\"-\",FV51,(SUM(FV51:FV52)))))","v":191},175,169,155,186,117,{"$f":"IF(GB51=\"-\",(IF(GB52=\"-\",\"-\",GB52)),(IF(GB52=\"-\",GB51,(SUM(GB51:GB52)))))","v":329},{"$f":"IF(GC51=\"-\",(IF(GC52=\"-\",\"-\",GC52)),(IF(GC52=\"-\",GC51,(SUM(GC51:GC52)))))","v":382},355,364,356,381,321]
["Tues",1230,5,81,5,10,2,1,0,0,1,1,0,0,0,2,1,10,22,30,28,9,4,0,0,0,0,0,0,0,0,0,0,0,32.5,38.299999999999997,12,49.8,"Tues",1230,1,63,1,7,1,2,0,1,0,0,0,0,0,0,0,1,11,32,25,6,1,0,0,0,0,0,0,0,0,0,0,0,34.4,38.700000000000003,24.7,48.3,"Tues",1230,6,144,6,17,3,3,0,1,1,1,0,{"$f":"SUM(N151+AZ151)","v":0},{"$f":"SUM(O151+BA151)","v":0},2,1,11,33,62,53,15,5,0,0,0,0,0,0,0,0,0,0,0,33.293406593406594,38.5,12,49.8,5,86,10,3,2,106,1,64,7,3,1,76,6,150,17,6,3,182]
["Tues",1245,0,68,0,5,2,0,0,0,2,4,0,0,0,0,1,2,14,10,25,18,10,1,0,0,0,0,0,0,0,0,0,0,37.1,42.5,18.399999999999999,53.1,"Tues",1245,1,89,4,7,1,0,0,1,2,0,0,0,1,7,11,1,11,26,25,18,5,0,0,0,0,0,0,0,0,0,0,0,32.299999999999997,40.700000000000003,7.7,49.9,"Tues",1245,1,157,4,12,3,0,0,1,4,4,0,0,1,7,12,3,25,36,50,36,15,1,0,0,0,0,0,0,0,0,0,0,34.390322580645162,41.6,7.7,53.1,0,68,5,2,6,81,1,93,7,1,3,105,1,161,12,3,9,186,null,null,null,null,null,null,null,null,null,null,null,null,null,null,null,null,null,null,null,null,null,{"$f":"IF((SUM(FN152:FR152))>0,AVERAGE(FN152:FR152),0)","v":185},{"$f":"IF((SUM(FN152:FT152))>0,AVERAGE(FN152:FT152),0)","v":193.42857142857142},null,null,null,null,null,{"$f":"IF((SUM(FU152:FY152))>0,AVERAGE(FU152:FY152),0)","v":174},{"$f":"IF((SUM(FU152:GA152))>0,AVERAGE(FU152:GA152),0)","v":171.42857142857142},null,null,null,null,null,{"$f":"IF((SUM(GB152:GF152))>0,AVERAGE(GB152:GF152),0)","v":359},{"$f":"IF((SUM(GB152:GH152))>0,AVERAGE(GB152:GH152),0)","v":364.85714285714283},{"$f":"IF(FN53=\"-\",(IF(FN54=\"-\",\"-\",FN54)),(IF(FN54=\"-\",FN53,(SUM(FN53:FN54)))))","v":149},{"$f":"IF(FO53=\"-\",(IF(FO54=\"-\",\"-\",FO54)),(IF(FO54=\"-\",FO53,(SUM(FO53:FO54)))))","v":209},181,176,210,205,224,{"$f":"IF(FU53=\"-\",(IF(FU54=\"-\",\"-\",FU54)),(IF(FU54=\"-\",FU53,(SUM(FU53:FU54)))))","v":148},{"$f":"IF(FV53=\"-\",(IF(FV54=\"-\",\"-\",FV54)),(IF(FV54=\"-\",FV53,(SUM(FV53:FV54)))))","v":182},194,160,186,172,158,{"$f":"IF(GB53=\"-\",(IF(GB54=\"-\",\"-\",GB54)),(IF(GB54=\"-\",GB53,(SUM(GB53:GB54)))))","v":297},{"$f":"IF(GC53=\"-\",(IF(GC54=\"-\",\"-\",GC54)),(IF(GC54=\"-\",GC53,(SUM(GC53:GC54)))))","v":391},375,336,396,377,382]
["Tues",1300,1,77,2,5,0,0,0,1,0,1,0,0,0,0,0,0,10,21,25,24,7,0,0,0,0,0,0,0,0,0,0,0,37.4,43.2,25.3,49.3,"Tues",1300,1,86,2,7,0,0,0,0,0,1,0,0,0,0,0,0,13,30,30,19,5,0,0,0,0,0,0,0,0,0,0,0,36,41.6,25.3,46.9,"Tues",1300,2,163,4,12,0,0,0,1,0,2,0,0,0,0,0,0,23,51,55,43,12,0,0,0,0,0,0,0,0,0,0,0,36.661956521739128,42.400000000000006,25.3,49.3,1,79,5,0,2,87,1,88,7,0,1,97,2,167,12,0,3,184]
["Tues",1315,3,72,4,13,0,1,0,0,0,0,0,0,0,3,0,8,19,19,30,12,2,0,0,0,0,0,0,0,0,0,0,0,33.299999999999997,39.799999999999997,13.8,46.9,"Tues",1315,0,71,1,10,1,0,0,0,0,0,0,0,0,0,0,2,8,19,27,18,5,3,1,0,0,0,0,0,0,0,0,0,37.200000000000003,42.7,21.8,57.7,"Tues",1315,3,143,5,23,1,1,0,0,0,0,0,0,0,3,0,10,27,38,57,30,7,3,1,0,0,0,0,0,0,0,0,0,35.139204545454547,41.25,13.8,57.7,3,76,13,1,0,93,0,72,10,1,0,83,3,148,23,2,0,176,null,null,null,null,null,null,null,null,null,null,null,null,null,null,null,null,null,null,null,null,null,{"$f":"IF((SUM(FN154:FR154))>0,AVERAGE(FN154:FR154),0)","v":183},{"$f":"IF((SUM(FN154:FT154))>0,AVERAGE(FN154:FT154),0)","v":188},null,null,null,null,null,{"$f":"IF((SUM(FU154:FY154))>0,AVERAGE(FU154:FY154),0)","v":189.2},{"$f":"IF((SUM(FU154:GA154))>0,AVERAGE(FU154:GA154),0)","v":186.71428571428572},null,null,null,null,null,{"$f":"IF((SUM(GB154:GF154))>0,AVERAGE(GB154:GF154),0)","v":372.2},{"$f":"IF((SUM(GB154:GH154))>0,AVERAGE(GB154:GH154),0)","v":374.71428571428572},{"$f":"IF(FN55=\"-\",(IF(FN56=\"-\",\"-\",FN56)),(IF(FN56=\"-\",FN55,(SUM(FN55:FN56)))))","v":164},{"$f":"IF(FO55=\"-\",(IF(FO56=\"-\",\"-\",FO56)),(IF(FO56=\"-\",FO55,(SUM(FO55:FO56)))))","v":187},188,173,203,220,181,{"$f":"IF(FU55=\"-\",(IF(FU56=\"-\",\"-\",FU56)),(IF(FU56=\"-\",FU55,(SUM(FU55:FU56)))))","v":184},{"$f":"IF(FV55=\"-\",(IF(FV56=\"-\",\"-\",FV56)),(IF(FV56=\"-\",FV55,(SUM(FV55:FV56)))))","v":181},193,218,170,188,173,{"$f":"IF(GB55=\"-\",(IF(GB56=\"-\",\"-\",GB56)),(IF(GB56=\"-\",GB55,(SUM(GB55:GB56)))))","v":348},{"$f":"IF(GC55=\"-\",(IF(GC56=\"-\",\"-\",GC56)),(IF(GC56=\"-\",GC55,(SUM(GC55:GC56)))))","v":368},381,391,373,408,354]
["Tues",1330,1,70,3,9,1,0,0,0,0,1,0,0,0,0,0,5,20,21,23,12,2,2,0,0,0,0,0,0,0,0,0,0,34.200000000000003,41.2,21.9,51,"Tues",1330,3,74,3,7,0,1,0,0,0,0,0,0,0,2,0,2,11,37,24,9,3,0,0,0,0,0,0,0,0,0,0,0,34,39.6,10.1,45.8,"Tues",1330,4,144,6,16,1,1,0,0,0,1,0,0,0,2,0,7,31,58,47,21,5,2,0,0,0,0,0,0,0,0,0,0,34.098265895953759,40.400000000000006,10.1,51,1,73,9,1,1,85,3,77,7,1,0,88,4,150,16,2,1,173]
["Tues",1345,0,57,2,16,0,0,0,0,0,3,0,0,0,0,0,5,10,18,17,20,5,3,0,0,0,0,0,0,0,0,0,0,36.5,42.7,20.8,52.6,"Tues",1345,4,73,3,7,0,0,1,1,0,0,0,0,0,0,6,6,9,21,25,16,4,2,0,0,0,0,0,0,0,0,0,0,34.700000000000003,42.7,15.1,53.8,"Tues",1345,4,130,5,23,0,0,1,1,0,3,0,0,0,0,6,11,19,39,42,36,9,5,0,0,0,0,0,0,0,0,0,0,35.540718562874254,42.7,15.1,53.8,0,59,16,0,3,78,4,76,7,0,2,89,4,135,23,0,5,167,null,null,null,null,null,null,null,null,null,null,null,null,null,null,null,null,null,null,null,null,null,{"$f":"IF((SUM(FN156:FR156))>0,AVERAGE(FN156:FR156),0)","v":188},{"$f":"IF((SUM(FN156:FT156))>0,AVERAGE(FN156:FT156),0)","v":189.57142857142858},null,null,null,null,null,{"$f":"IF((SUM(FU156:FY156))>0,AVERAGE(FU156:FY156),0)","v":178.4},{"$f":"IF((SUM(FU156:GA156))>0,AVERAGE(FU156:GA156),0)","v":178.42857142857142},null,null,null,null,null,{"$f":"IF((SUM(GB156:GF156))>0,AVERAGE(GB156:GF156),0)","v":366.4},{"$f":"IF((SUM(GB156:GH156))>0,AVERAGE(GB156:GH156),0)","v":368},{"$f":"IF(FN57=\"-\",(IF(FN58=\"-\",\"-\",FN58)),(IF(FN58=\"-\",FN57,(SUM(FN57:FN58)))))","v":173},{"$f":"IF(FO57=\"-\",(IF(FO58=\"-\",\"-\",FO58)),(IF(FO58=\"-\",FO57,(SUM(FO57:FO58)))))","v":180},188,193,206,208,179,{"$f":"IF(FU57=\"-\",(IF(FU58=\"-\",\"-\",FU58)),(IF(FU58=\"-\",FU57,(SUM(FU57:FU58)))))","v":172},{"$f":"IF(FV57=\"-\",(IF(FV58=\"-\",\"-\",FV58)),(IF(FV58=\"-\",FV57,(SUM(FV57:FV58)))))","v":180},172,168,200,170,187,{"$f":"IF(GB57=\"-\",(IF(GB58=\"-\",\"-\",GB58)),(IF(GB58=\"-\",GB57,(SUM(GB57:GB58)))))","v":345},{"$f":"IF(GC57=\"-\",(IF(GC58=\"-\",\"-\",GC58)),(IF(GC58=\"-\",GC57,(SUM(GC57:GC58)))))","v":360},360,361,406,378,366]
["Tues",1400,2,66,1,8,0,0,0,0,0,3,0,0,0,0,0,3,21,26,21,3,3,2,0,0,0,0,1,0,0,0,0,0,33.9,38.700000000000003,20.399999999999999,76.8,"Tues",1400,2,93,2,9,0,0,0,0,1,0,0,0,0,0,0,0,12,38,43,12,2,0,0,0,0,0,0,0,0,0,0,0,35.200000000000003,38.9,27.2,47.4,"Tues",1400,4,159,3,17,0,0,0,0,1,3,0,0,0,0,0,3,33,64,64,15,5,2,0,0,0,0,1,0,0,0,0,0,34.643850267379676,38.799999999999997,20.399999999999999,76.8,2,67,8,0,3,80,2,95,9,0,1,107,4,162,17,0,4,187]
["Tues",1415,0,53,2,6,0,0,0,0,0,1,0,0,0,0,0,1,7,15,21,13,2,2,1,0,0,0,0,0,0,0,0,0,36.9,42.3,24.3,59.1,"Tues",1415,1,91,5,7,1,0,0,2,1,1,0,0,0,0,0,1,26,45,27,8,1,0,1,0,0,0,0,0,0,0,0,0,33.6,38.700000000000003,24.8,55.6,"Tues",1415,1,144,7,13,1,0,0,2,1,2,0,0,0,0,0,2,33,60,48,21,3,2,2,0,0,0,0,0,0,0,0,0,34.796491228070174,40.5,24.3,59.1,0,55,6,0,1,62,1,96,7,1,4,109,1,151,13,1,5,171,null,null,null,null,null,null,null,null,null,null,null,null,null,null,null,null,null,null,null,null,null,{"$f":"IF((SUM(FN158:FR158))>0,AVERAGE(FN158:FR158),0)","v":178.8},{"$f":"IF((SUM(FN158:FT158))>0,AVERAGE(FN158:FT158),0)","v":179.28571428571428},null,null,null,null,null,{"$f":"IF((SUM(FU158:FY158))>0,AVERAGE(FU158:FY158),0)","v":180.4},{"$f":"IF((SUM(FU158:GA158))>0,AVERAGE(FU158:GA158),0)","v":184.42857142857142},null,null,null,null,null,{"$f":"IF((SUM(GB158:GF158))>0,AVERAGE(GB158:GF158),0)","v":359.2},{"$f":"IF((SUM(GB158:GH158))>0,AVERAGE(GB158:GH158),0)","v":363.71428571428572},{"$f":"IF(FN59=\"-\",(IF(FN60=\"-\",\"-\",FN60)),(IF(FN60=\"-\",FN59,(SUM(FN59:FN60)))))","v":152},{"$f":"IF(FO59=\"-\",(IF(FO60=\"-\",\"-\",FO60)),(IF(FO60=\"-\",FO59,(SUM(FO59:FO60)))))","v":163},176,175,228,197,164,{"$f":"IF(FU59=\"-\",(IF(FU60=\"-\",\"-\",FU60)),(IF(FU60=\"-\",FU59,(SUM(FU59:FU60)))))","v":139},{"$f":"IF(FV59=\"-\",(IF(FV60=\"-\",\"-\",FV60)),(IF(FV60=\"-\",FV59,(SUM(FV59:FV60)))))","v":177},190,201,195,195,194,{"$f":"IF(GB59=\"-\",(IF(GB60=\"-\",\"-\",GB60)),(IF(GB60=\"-\",GB59,(SUM(GB59:GB60)))))","v":291},{"$f":"IF(GC59=\"-\",(IF(GC60=\"-\",\"-\",GC60)),(IF(GC60=\"-\",GC59,(SUM(GC59:GC60)))))","v":340},366,376,423,392,358]
["Tues",1430,0,74,2,10,0,0,0,0,0,0,0,0,0,0,0,2,13,23,19,28,0,1,0,0,0,0,0,0,0,0,0,0,36.299999999999997,41.8,24.2,51.2,"Tues",1430,1,91,3,11,0,0,0,1,2,0,0,0,0,0,0,0,15,43,26,21,3,1,0,0,0,0,0,0,0,0,0,0,35.5,40.9,25.7,51.6,"Tues",1430,1,165,5,21,0,0,0,1,2,0,0,0,0,0,0,2,28,66,45,49,3,2,0,0,0,0,0,0,0,0,0,0,35.852820512820507,41.349999999999994,24.2,51.6,0,76,10,0,0,86,1,94,11,0,3,109,1,170,21,0,3,195]
["Tues",1445,1,58,2,6,0,1,1,0,1,0,0,1,0,0,0,1,13,23,15,15,2,0,2,0,0,0,0,0,0,0,0,0,35.6,42.5,24.9,59.5,"Tues",1445,5,89,3,13,0,1,0,0,0,0,0,0,0,0,0,1,21,34,39,11,4,1,0,0,0,0,0,0,0,0,0,0,35.1,39.6,24.6,54.4,"Tues",1445,6,147,5,19,0,2,1,0,1,0,0,1,0,0,0,2,34,57,54,26,6,1,2,0,0,0,0,0,0,0,0,0,35.29505494505495,41.05,24.6,59.5,1,60,6,1,3,71,5,92,13,1,0,111,6,152,19,2,3,182,null,null,null,null,null,null,null,null,null,null,null,null,null,null,null,null,null,null,null,null,null,{"$f":"IF((SUM(FN160:FR160))>0,AVERAGE(FN160:FR160),0)","v":172},{"$f":"IF((SUM(FN160:FT160))>0,AVERAGE(FN160:FT160),0)","v":171},null,null,null,null,null,{"$f":"IF((SUM(FU160:FY160))>0,AVERAGE(FU160:FY160),0)","v":197.2},{"$f":"IF((SUM(FU160:GA160))>0,AVERAGE(FU160:GA160),0)","v":201.14285714285714},null,null,null,null,null,{"$f":"IF((SUM(GB160:GF160))>0,AVERAGE(GB160:GF160),0)","v":369.2},{"$f":"IF((SUM(GB160:GH160))>0,AVERAGE(GB160:GH160),0)","v":372.14285714285717},{"$f":"IF(FN61=\"-\",(IF(FN62=\"-\",\"-\",FN62)),(IF(FN62=\"-\",FN61,(SUM(FN61:FN62)))))","v":175},{"$f":"IF(FO61=\"-\",(IF(FO62=\"-\",\"-\",FO62)),(IF(FO62=\"-\",FO61,(SUM(FO61:FO62)))))","v":142},191,161,191,175,162,{"$f":"IF(FU61=\"-\",(IF(FU62=\"-\",\"-\",FU62)),(IF(FU62=\"-\",FU61,(SUM(FU61:FU62)))))","v":176},{"$f":"IF(FV61=\"-\",(IF(FV62=\"-\",\"-\",FV62)),(IF(FV62=\"-\",FV61,(SUM(FV61:FV62)))))","v":216},193,186,215,202,220,{"$f":"IF(GB61=\"-\",(IF(GB62=\"-\",\"-\",GB62)),(IF(GB62=\"-\",GB61,(SUM(GB61:GB62)))))","v":351},{"$f":"IF(GC61=\"-\",(IF(GC62=\"-\",\"-\",GC62)),(IF(GC62=\"-\",GC61,(SUM(GC61:GC62)))))","v":358},384,347,406,377,382]
["Tues",1500,3,74,2,12,0,0,0,0,0,0,0,0,0,0,0,5,12,25,26,14,7,2,0,0,0,0,0,0,0,0,0,0,36,42.3,23.1,53.2,"Tues",1500,2,88,1,7,1,1,0,0,1,0,0,0,0,2,10,8,8,17,30,15,6,2,0,0,0,0,3,0,0,0,0,0,35.1,43.4,14.3,76.599999999999994,"Tues",1500,5,162,3,19,1,1,0,0,1,0,0,0,0,2,10,13,20,42,56,29,13,4,0,0,0,0,3,0,0,0,0,0,35.526562500000004,42.849999999999994,14.3,76.599999999999994,3,76,12,0,0,91,2,89,7,2,1,101,5,165,19,2,1,192]
["Tues",1515,0,82,0,12,2,1,0,0,0,1,0,0,0,0,1,3,25,19,22,17,9,1,1,0,0,0,0,0,0,0,0,0,35.200000000000003,42.5,17.100000000000001,55.7,"Tues",1515,2,90,1,9,0,0,0,0,0,0,0,0,0,0,0,5,13,34,35,12,3,0,0,0,0,0,0,0,0,0,0,0,34.700000000000003,39.6,20.7,47.1,"Tues",1515,2,172,1,21,2,1,0,0,0,1,0,0,0,0,1,8,38,53,57,29,12,{"$f":"SUM(X162+BJ162)","v":1},1,0,0,0,0,0,0,0,0,0,34.945,41.05,17.100000000000001,55.7,0,82,12,3,1,98,2,91,9,0,0,102,2,173,21,3,1,200,null,null,null,null,null,null,null,null,null,null,null,null,null,null,null,null,null,null,null,null,null,{"$f":"IF((SUM(FN162:FR162))>0,AVERAGE(FN162:FR162),0)","v":182.6},{"$f":"IF((SUM(FN162:FT162))>0,AVERAGE(FN162:FT162),0)","v":177.57142857142858},null,null,null,null,null,{"$f":"IF((SUM(FU162:FY162))>0,AVERAGE(FU162:FY162),0)","v":224},{"$f":"IF((SUM(FU162:GA162))>0,AVERAGE(FU162:GA162),0)","v":213},null,null,null,null,null,{"$f":"IF((SUM(GB162:GF162))>0,AVERAGE(GB162:GF162),0)","v":406.6},{"$f":"IF((SUM(GB162:GH162))>0,AVERAGE(GB162:GH162),0)","v":390.57142857142856},{"$f":"IF(FN63=\"-\",(IF(FN64=\"-\",\"-\",FN64)),(IF(FN64=\"-\",FN63,(SUM(FN63:FN64)))))","v":165},{"$f":"IF(FO63=\"-\",(IF(FO64=\"-\",\"-\",FO64)),(IF(FO64=\"-\",FO63,(SUM(FO63:FO64)))))","v":157},182,198,211,171,159,{"$f":"IF(FU63=\"-\",(IF(FU64=\"-\",\"-\",FU64)),(IF(FU64=\"-\",FU63,(SUM(FU63:FU64)))))","v":205},{"$f":"IF(FV63=\"-\",(IF(FV64=\"-\",\"-\",FV64)),(IF(FV64=\"-\",FV63,(SUM(FV63:FV64)))))","v":220},218,248,229,200,171,{"$f":"IF(GB63=\"-\",(IF(GB64=\"-\",\"-\",GB64)),(IF(GB64=\"-\",GB63,(SUM(GB63:GB64)))))","v":370},{"$f":"IF(GC63=\"-\",(IF(GC64=\"-\",\"-\",GC64)),(IF(GC64=\"-\",GC63,(SUM(GC63:GC64)))))","v":377},400,446,440,371,330]
["Tues",1530,1,112,2,11,1,0,0,0,0,1,0,0,0,0,2,10,26,16,48,18,7,1,0,0,0,0,0,0,0,0,0,0,34.700000000000003,41.2,18.3,53,"Tues",1530,3,105,1,16,1,0,0,0,1,0,0,0,0,1,4,13,31,36,26,11,3,2,0,0,0,0,0,0,0,0,0,0,31.9,39.1,12.6,52.9,"Tues",1530,4,217,3,27,2,0,0,0,1,1,0,0,0,{"$f":"SUM(P163+BB163)","v":1},6,23,57,52,74,29,10,3,0,0,0,0,0,0,0,0,0,0,33.305490196078431,40.150000000000006,12.6,53,1,114,11,1,1,128,3,106,16,1,1,127,4,220,27,2,2,255]
["Tues",1545,2,97,2,11,1,1,0,1,0,4,0,0,0,0,0,9,21,21,35,22,9,1,1,0,0,0,0,0,0,0,0,0,35.6,42.7,20.399999999999999,55.8,"Tues",1545,0,119,2,11,1,0,0,0,0,0,0,0,0,2,2,10,17,47,30,20,3,2,0,0,0,0,0,0,0,0,0,0,33.799999999999997,41.2,11.8,52,"Tues",1545,2,216,4,22,2,1,0,1,0,4,0,0,0,2,2,19,38,68,65,42,12,3,1,0,0,0,0,0,0,0,0,0,34.65,41.95,11.8,55.8,2,99,11,2,5,119,0,121,11,1,0,133,2,220,22,3,5,252,null,null,null,null,null,null,null,null,null,null,null,null,null,null,null,null,null,null,null,null,null,{"$f":"IF((SUM(FN164:FR164))>0,AVERAGE(FN164:FR164),0)","v":212.2},{"$f":"IF((SUM(FN164:FT164))>0,AVERAGE(FN164:FT164),0)","v":193.42857142857142},null,null,null,null,null,{"$f":"IF((SUM(FU164:FY164))>0,AVERAGE(FU164:FY164),0)","v":229.2},{"$f":"IF((SUM(FU164:GA164))>0,AVERAGE(FU164:GA164),0)","v":219.42857142857142},null,null,null,null,null,{"$f":"IF((SUM(GB164:GF164))>0,AVERAGE(GB164:GF164),0)","v":441.4},{"$f":"IF((SUM(GB164:GH164))>0,AVERAGE(GB164:GH164),0)","v":412.85714285714283},{"$f":"IF(FN65=\"-\",(IF(FN66=\"-\",\"-\",FN66)),(IF(FN66=\"-\",FN65,(SUM(FN65:FN66)))))","v":181},{"$f":"IF(FO65=\"-\",(IF(FO66=\"-\",\"-\",FO66)),(IF(FO66=\"-\",FO65,(SUM(FO65:FO66)))))","v":189},234,211,246,141,152,{"$f":"IF(FU65=\"-\",(IF(FU66=\"-\",\"-\",FU66)),(IF(FU66=\"-\",FU65,(SUM(FU65:FU66)))))","v":220},{"$f":"IF(FV65=\"-\",(IF(FV66=\"-\",\"-\",FV66)),(IF(FV66=\"-\",FV65,(SUM(FV65:FV66)))))","v":203},235,240,248,188,202,{"$f":"IF(GB65=\"-\",(IF(GB66=\"-\",\"-\",GB66)),(IF(GB66=\"-\",GB65,(SUM(GB65:GB66)))))","v":401},{"$f":"IF(GC65=\"-\",(IF(GC66=\"-\",\"-\",GC66)),(IF(GC66=\"-\",GC65,(SUM(GC65:GC66)))))","v":392},469,451,494,329,354]
["Tues",1600,4,105,0,15,1,0,0,1,0,3,0,0,0,0,3,4,20,24,31,37,9,1,0,0,0,0,0,0,0,0,0,0,36.5,43.6,18.8,52.2,"Tues",1600,2,126,4,12,0,3,0,1,0,1,0,0,0,7,8,9,47,36,19,16,4,1,1,0,0,0,0,0,0,0,1,0,31.3,40,11.7,95.1,"Tues",1600,6,231,4,27,1,3,0,2,0,4,0,0,0,7,11,13,67,60,50,53,13,2,1,0,0,0,0,0,0,0,1,0,33.712949640287775,41.8,11.7,95.1,4,105,15,1,4,129,2,130,12,3,2,149,6,235,27,4,6,278]
["Tues",1615,1,105,0,10,1,0,0,0,0,2,0,0,0,0,5,9,22,19,26,24,10,3,1,0,0,0,0,0,0,0,0,0,35.1,43.4,16.3,57.3,"Tues",1615,2,112,1,10,0,0,0,1,2,0,0,0,0,2,2,4,21,43,37,15,3,0,1,0,0,0,0,0,0,0,0,0,33.9,39.799999999999997,11.2,59.9,"Tues",1615,3,217,1,20,1,0,0,1,2,2,0,0,0,2,7,13,43,62,63,39,13,3,2,0,0,0,0,0,0,0,0,0,34.478137651821861,41.599999999999994,11.2,59.9,1,105,10,1,2,119,2,113,10,0,3,128,3,218,20,1,5,247,null,null,null,null,null,null,null,null,null,null,null,null,null,null,null,null,null,null,null,null,null,{"$f":"IF((SUM(FN166:FR166))>0,AVERAGE(FN166:FR166),0)","v":230.6},{"$f":"IF((SUM(FN166:FT166))>0,AVERAGE(FN166:FT166),0)","v":206},null,null,null,null,null,{"$f":"IF((SUM(FU166:FY166))>0,AVERAGE(FU166:FY166),0)","v":260.60000000000002},{"$f":"IF((SUM(FU166:GA166))>0,AVERAGE(FU166:GA166),0)","v":241.57142857142858},null,null,null,null,null,{"$f":"IF((SUM(GB166:GF166))>0,AVERAGE(GB166:GF166),0)","v":491.2},{"$f":"IF((SUM(GB166:GH166))>0,AVERAGE(GB166:GH166),0)","v":447.57142857142856},{"$f":"IF(FN67=\"-\",(IF(FN68=\"-\",\"-\",FN68)),(IF(FN68=\"-\",FN67,(SUM(FN67:FN68)))))","v":229},{"$f":"IF(FO67=\"-\",(IF(FO68=\"-\",\"-\",FO68)),(IF(FO68=\"-\",FO67,(SUM(FO67:FO68)))))","v":247},227,209,241,142,147,{"$f":"IF(FU67=\"-\",(IF(FU68=\"-\",\"-\",FU68)),(IF(FU68=\"-\",FU67,(SUM(FU67:FU68)))))","v":254},{"$f":"IF(FV67=\"-\",(IF(FV68=\"-\",\"-\",FV68)),(IF(FV68=\"-\",FV67,(SUM(FV67:FV68)))))","v":260},253,242,294,178,210,{"$f":"IF(GB67=\"-\",(IF(GB68=\"-\",\"-\",GB68)),(IF(GB68=\"-\",GB67,(SUM(GB67:GB68)))))","v":483},{"$f":"IF(GC67=\"-\",(IF(GC68=\"-\",\"-\",GC68)),(IF(GC68=\"-\",GC67,(SUM(GC67:GC68)))))","v":507},480,451,535,320,357]
["Tues",1630,5,110,0,10,0,0,0,0,0,1,0,0,0,0,0,6,18,20,45,25,9,1,1,0,0,0,0,0,0,0,0,1,37.200000000000003,42.3,20.2,108.4,"Tues",1630,1,140,3,11,1,0,0,0,1,0,0,0,0,0,0,3,28,47,56,21,2,0,0,0,0,0,0,0,0,0,0,0,34.9,39.799999999999997,23.5,49.3,"Tues",1630,6,250,3,21,1,0,0,0,1,1,0,0,0,0,0,9,46,67,101,46,11,1,1,0,0,0,0,0,0,0,0,1,35.92402826855124,41.05,20.2,108.4,5,110,10,0,1,126,1,143,11,1,1,157,6,253,21,1,2,283]
["Tues",1645,2,92,0,6,0,0,0,0,1,0,0,0,0,2,2,3,21,21,27,13,7,4,1,0,0,0,0,0,0,0,0,0,35.1,42.9,12.5,55.1,"Tues",1645,3,123,0,5,0,0,1,0,0,0,0,0,0,0,0,0,10,40,46,29,6,1,0,0,0,0,0,0,0,0,0,0,36.799999999999997,42.3,25.2,50.2,"Tues",1645,5,215,0,11,0,0,1,0,1,0,0,0,0,2,2,3,31,61,73,42,13,5,1,0,0,0,0,0,0,0,0,0,36.06309012875537,42.599999999999994,12.5,55.1,2,92,6,0,1,101,3,123,5,0,1,132,5,215,11,0,2,233,null,null,null,null,null,null,null,null,null,null,null,null,null,null,null,null,null,null,null,null,null,{"$f":"IF((SUM(FN168:FR168))>0,AVERAGE(FN168:FR168),0)","v":243.6},{"$f":"IF((SUM(FN168:FT168))>0,AVERAGE(FN168:FT168),0)","v":217.28571428571428},null,null,null,null,null,{"$f":"IF((SUM(FU168:FY168))>0,AVERAGE(FU168:FY168),0)","v":262},{"$f":"IF((SUM(FU168:GA168))>0,AVERAGE(FU168:GA168),0)","v":243.71428571428572},null,null,null,null,null,{"$f":"IF((SUM(GB168:GF168))>0,AVERAGE(GB168:GF168),0)","v":505.6},{"$f":"IF((SUM(GB168:GH168))>0,AVERAGE(GB168:GH168),0)","v":461},{"$f":"IF(FN69=\"-\",(IF(FN70=\"-\",\"-\",FN70)),(IF(FN70=\"-\",FN69,(SUM(FN69:FN70)))))","v":220},{"$f":"IF(FO69=\"-\",(IF(FO70=\"-\",\"-\",FO70)),(IF(FO70=\"-\",FO69,(SUM(FO69:FO70)))))","v":248},270,247,233,155,148,{"$f":"IF(FU69=\"-\",(IF(FU70=\"-\",\"-\",FU70)),(IF(FU70=\"-\",FU69,(SUM(FU69:FU70)))))","v":251},{"$f":"IF(FV69=\"-\",(IF(FV70=\"-\",\"-\",FV70)),(IF(FV70=\"-\",FV69,(SUM(FV69:FV70)))))","v":277},289,242,251,190,206,{"$f":"IF(GB69=\"-\",(IF(GB70=\"-\",\"-\",GB70)),(IF(GB70=\"-\",GB69,(SUM(GB69:GB70)))))","v":471},{"$f":"IF(GC69=\"-\",(IF(GC70=\"-\",\"-\",GC70)),(IF(GC70=\"-\",GC69,(SUM(GC69:GC70)))))","v":525},559,489,484,345,354]
["Tues",1700,1,125,3,6,0,1,0,1,0,0,0,0,0,0,4,5,17,26,50,29,6,0,0,0,0,0,0,0,0,0,0,0,35.6,41.2,18.8,49.8,"Tues",1700,1,123,0,3,0,0,0,0,0,0,0,0,0,0,0,17,5,38,41,19,3,3,1,0,0,0,0,0,0,0,0,0,35,41.6,20.100000000000001,59.4,"Tues",1700,2,248,3,9,0,1,0,1,0,0,0,0,0,0,4,22,22,64,91,48,9,3,1,0,0,0,0,0,0,0,0,0,35.311363636363637,41.400000000000006,18.8,59.4,1,128,6,1,1,137,1,123,3,0,0,127,2,251,9,1,1,264]
["Tues",1715,3,104,0,6,0,1,0,1,1,0,0,0,0,0,1,5,23,20,44,13,9,1,0,0,0,0,0,0,0,0,0,0,35.200000000000003,41.2,19.5,50.4,"Tues",1715,2,125,3,5,0,0,1,0,0,0,0,0,0,4,0,12,27,43,32,16,1,1,0,0,0,0,0,0,0,0,0,0,32.700000000000003,39.6,11.9,50.7,"Tues",1715,5,229,3,11,0,1,1,1,1,0,0,0,0,4,1,17,50,63,76,29,10,2,0,0,0,0,0,0,0,0,0,0,33.850793650793655,40.400000000000006,11.9,50.7,3,104,6,1,2,116,2,128,5,0,1,136,5,232,11,1,3,252,null,null,null,null,null,null,null,null,null,null,null,null,null,null,null,null,null,null,null,null,null,{"$f":"IF((SUM(FN170:FR170))>0,AVERAGE(FN170:FR170),0)","v":213.8},{"$f":"IF((SUM(FN170:FT170))>0,AVERAGE(FN170:FT170),0)","v":193.14285714285714},null,null,null,null,null,{"$f":"IF((SUM(FU170:FY170))>0,AVERAGE(FU170:FY170),0)","v":269.2},{"$f":"IF((SUM(FU170:GA170))>0,AVERAGE(FU170:GA170),0)","v":246.71428571428572},null,null,null,null,null,{"$f":"IF((SUM(GB170:GF170))>0,AVERAGE(GB170:GF170),0)","v":483},{"$f":"IF((SUM(GB170:GH170))>0,AVERAGE(GB170:GH170),0)","v":439.85714285714283},{"$f":"IF(FN71=\"-\",(IF(FN72=\"-\",\"-\",FN72)),(IF(FN72=\"-\",FN71,(SUM(FN71:FN72)))))","v":217},{"$f":"IF(FO71=\"-\",(IF(FO72=\"-\",\"-\",FO72)),(IF(FO72=\"-\",FO71,(SUM(FO71:FO72)))))","v":227},212,227,186,133,150,{"$f":"IF(FU71=\"-\",(IF(FU72=\"-\",\"-\",FU72)),(IF(FU72=\"-\",FU71,(SUM(FU71:FU72)))))","v":259},{"$f":"IF(FV71=\"-\",(IF(FV72=\"-\",\"-\",FV72)),(IF(FV72=\"-\",FV71,(SUM(FV71:FV72)))))","v":289},263,253,282,168,213,{"$f":"IF(GB71=\"-\",(IF(GB72=\"-\",\"-\",GB72)),(IF(GB72=\"-\",GB71,(SUM(GB71:GB72)))))","v":476},{"$f":"IF(GC71=\"-\",(IF(GC72=\"-\",\"-\",GC72)),(IF(GC72=\"-\",GC71,(SUM(GC71:GC72)))))","v":516},475,480,468,301,363]
["Tues",1730,1,104,4,7,0,0,0,0,1,0,0,0,0,0,3,4,22,15,39,29,2,3,0,0,0,0,0,0,0,0,0,0,35.799999999999997,41.4,18.899999999999999,51.6,"Tues",1730,6,122,0,6,0,0,0,2,0,1,0,0,0,1,5,8,19,41,32,24,6,0,1,0,0,0,0,0,0,0,0,0,34.200000000000003,41.6,11.7,58.4,"Tues",1730,7,226,{"$f":"SUM(E171+AQ171)","v":4},{"$f":"SUM(F171+AR171)","v":13},{"$f":"SUM(G171+AS171)","v":0},{"$f":"SUM(H171+AT171)","v":0},{"$f":"SUM(I171+AU171)","v":0},{"$f":"SUM(J171+AV171)","v":2},{"$f":"SUM(K171+AW171)","v":1},{"$f":"SUM(L171+AX171)","v":1},{"$f":"SUM(M171+AY171)","v":0},{"$f":"SUM(N171+AZ171)","v":0},{"$f":"SUM(O171+BA171)","v":0},1,8,12,41,56,71,53,8,3,1,0,0,0,0,0,0,0,0,0,34.937007874015748,41.5,11.7,58.4,1,108,7,0,1,117,6,122,6,0,3,137,7,230,13,0,4,254]
["Tues",1745,5,90,2,7,0,0,0,0,0,0,0,0,0,0,1,0,16,24,31,20,10,2,0,0,0,0,0,0,0,0,0,0,37.1,44.5,16.2,51.2,"Tues",1745,0,124,3,2,0,0,0,0,0,0,0,0,0,0,8,22,10,33,33,14,5,4,0,0,0,0,0,0,0,0,0,0,33,41.4,17.8,54.8,"Tues",1745,5,214,5,9,0,0,0,0,0,0,0,0,0,0,9,22,26,57,64,34,15,6,0,0,0,0,0,0,0,0,0,0,34.830042918454936,42.95,16.2,54.8,5,92,7,0,0,104,0,127,2,0,0,129,5,219,9,0,0,233,null,null,null,null,null,null,null,null,null,null,null,null,null,null,null,null,null,null,null,null,null,{"$f":"IF((SUM(FN172:FR172))>0,AVERAGE(FN172:FR172),0)","v":222.4},{"$f":"IF((SUM(FN172:FT172))>0,AVERAGE(FN172:FT172),0)","v":203.14285714285714},null,null,null,null,null,{"$f":"IF((SUM(FU172:FY172))>0,AVERAGE(FU172:FY172),0)","v":275.2},{"$f":"IF((SUM(FU172:GA172))>0,AVERAGE(FU172:GA172),0)","v":254.57142857142858},null,null,null,null,null,{"$f":"IF((SUM(GB172:GF172))>0,AVERAGE(GB172:GF172),0)","v":497.6},{"$f":"IF((SUM(GB172:GH172))>0,AVERAGE(GB172:GH172),0)","v":457.71428571428572},{"$f":"IF(FN73=\"-\",(IF(FN74=\"-\",\"-\",FN74)),(IF(FN74=\"-\",FN73,(SUM(FN73:FN74)))))","v":198},{"$f":"IF(FO73=\"-\",(IF(FO74=\"-\",\"-\",FO74)),(IF(FO74=\"-\",FO73,(SUM(FO73:FO74)))))","v":253},256,224,181,147,163,{"$f":"IF(FU73=\"-\",(IF(FU74=\"-\",\"-\",FU74)),(IF(FU74=\"-\",FU73,(SUM(FU73:FU74)))))","v":268},{"$f":"IF(FV73=\"-\",(IF(FV74=\"-\",\"-\",FV74)),(IF(FV74=\"-\",FV73,(SUM(FV73:FV74)))))","v":263},262,266,317,191,215,{"$f":"IF(GB73=\"-\",(IF(GB74=\"-\",\"-\",GB74)),(IF(GB74=\"-\",GB73,(SUM(GB73:GB74)))))","v":466},{"$f":"IF(GC73=\"-\",(IF(GC74=\"-\",\"-\",GC74)),(IF(GC74=\"-\",GC73,(SUM(GC73:GC74)))))","v":516},518,490,498,338,378]
["Tues",1800,0,82,2,6,0,0,0,0,0,0,0,0,0,0,0,0,12,19,24,25,7,3,0,0,0,0,0,0,0,0,0,0,37.9,43.2,25.7,54.1,"Tues",1800,0,128,3,3,0,0,0,0,0,1,0,0,0,0,1,19,22,33,32,21,5,2,0,0,0,0,0,0,0,0,0,0,33.6,40.9,15.6,52.6,"Tues",1800,0,210,5,9,0,0,0,0,0,1,0,0,0,0,1,19,34,52,56,46,12,5,0,0,0,0,0,0,0,0,0,0,35.32,42.05,15.6,54.1,0,84,6,0,0,90,0,131,3,0,1,135,0,215,9,0,1,225]
["Tues",1815,3,73,2,1,0,0,0,0,1,0,0,0,0,0,3,3,5,14,22,21,8,3,1,0,0,0,0,0,0,0,0,0,37.6,44.3,15.9,55.8,"Tues",1815,1,94,1,6,1,0,0,0,0,0,0,0,0,0,1,10,7,23,26,24,9,3,0,0,0,0,0,0,0,0,0,0,36.5,44.1,19.5,54.6,"Tues",1815,4,167,3,7,1,0,0,0,1,0,0,0,0,0,4,13,12,37,48,45,17,6,1,0,0,0,0,0,0,0,0,0,36.980874316939889,44.2,15.9,55.8,3,75,1,0,1,80,1,95,6,1,0,103,{"$f":"SUM(DK174+DQ174)","v":4},{"$f":"SUM(DL174+DR174)","v":170},7,1,1,183,null,null,null,null,null,null,null,null,null,null,null,null,null,null,null,null,null,null,null,null,null,{"$f":"IF((SUM(FN174:FR174))>0,AVERAGE(FN174:FR174),0)","v":212.6},{"$f":"IF((SUM(FN174:FT174))>0,AVERAGE(FN174:FT174),0)","v":192.57142857142858},null,null,null,null,null,{"$f":"IF((SUM(FU174:FY174))>0,AVERAGE(FU174:FY174),0)","v":244},{"$f":"IF((SUM(FU174:GA174))>0,AVERAGE(FU174:GA174),0)","v":220.85714285714286},null,null,null,null,null,{"$f":"IF((SUM(GB174:GF174))>0,AVERAGE(GB174:GF174),0)","v":456.6},{"$f":"IF((SUM(GB174:GH174))>0,AVERAGE(GB174:GH174),0)","v":413.42857142857144},{"$f":"IF(FN75=\"-\",(IF(FN76=\"-\",\"-\",FN76)),(IF(FN76=\"-\",FN75,(SUM(FN75:FN76)))))","v":202},{"$f":"IF(FO75=\"-\",(IF(FO76=\"-\",\"-\",FO76)),(IF(FO76=\"-\",FO75,(SUM(FO75:FO76)))))","v":221},209,233,198,142,143,{"$f":"IF(FU75=\"-\",(IF(FU76=\"-\",\"-\",FU76)),(IF(FU76=\"-\",FU75,(SUM(FU75:FU76)))))","v":211},{"$f":"IF(FV75=\"-\",(IF(FV76=\"-\",\"-\",FV76)),(IF(FV76=\"-\",FV75,(SUM(FV75:FV76)))))","v":266},248,257,238,156,170,{"$f":"IF(GB75=\"-\",(IF(GB76=\"-\",\"-\",GB76)),(IF(GB76=\"-\",GB75,(SUM(GB75:GB76)))))","v":413},{"$f":"IF(GC75=\"-\",(IF(GC76=\"-\",\"-\",GC76)),(IF(GC76=\"-\",GC75,(SUM(GC75:GC76)))))","v":487},457,490,436,298,313]
["Tues",1830,3,60,0,3,0,0,0,0,0,2,0,0,0,0,1,3,12,10,20,11,5,2,3,0,0,0,1,0,0,0,0,0,37.200000000000003,45.6,18,77.099999999999994,"Tues",1830,4,114,2,5,0,0,0,0,0,1,0,0,0,0,0,1,14,25,38,28,17,3,0,0,0,0,0,0,0,0,0,0,38.200000000000003,45.2,22.3,55,"Tues",1830,{"$f":"SUM(C175+AO175)","v":7},{"$f":"SUM(D175+AP175)","v":174},2,8,0,0,0,0,0,3,0,0,0,0,1,4,26,35,58,39,22,5,3,0,0,0,1,0,0,0,0,0,37.849484536082478,45.400000000000006,18,77.099999999999994,3,60,3,0,2,68,4,116,5,0,1,126,7,176,8,0,3,194]
["Tues",1845,1,77,1,3,0,1,0,0,0,0,0,0,0,0,0,2,14,18,17,23,7,2,0,0,0,0,0,0,0,0,0,0,37.1,44.1,22.9,54.7,"Tues",1845,2,112,1,3,0,0,0,0,0,0,0,0,0,3,1,4,10,29,36,14,15,6,0,0,0,0,0,0,0,0,0,0,36.6,46.1,11.8,53.8,"Tues",1845,3,189,2,6,0,1,0,0,0,0,0,0,0,3,1,6,24,47,53,37,22,8,0,0,0,0,0,0,0,0,0,0,36.806467661691542,45.1,11.8,54.7,1,78,3,1,0,83,2,113,3,0,0,118,3,191,6,{"$f":"SUM(DN176+DT176)","v":1},{"$f":"SUM(DO176+DU176)","v":0},{"$f":"SUM(DP176+DV176)","v":201},null,null,null,null,null,null,null,null,null,null,null,null,null,null,null,null,null,null,null,null,null,{"$f":"IF((SUM(FN176:FR176))>0,AVERAGE(FN176:FR176),0)","v":173},{"$f":"IF((SUM(FN176:FT176))>0,AVERAGE(FN176:FT176),0)","v":159.71428571428572},null,null,null,null,null,{"$f":"IF((SUM(FU176:FY176))>0,AVERAGE(FU176:FY176),0)","v":219.8},{"$f":"IF((SUM(FU176:GA176))>0,AVERAGE(FU176:GA176),0)","v":200.42857142857142},null,null,null,null,null,{"$f":"IF((SUM(GB176:GF176))>0,AVERAGE(GB176:GF176),0)","v":392.8},{"$f":"IF((SUM(GB176:GH176))>0,AVERAGE(GB176:GH176),0)","v":360.14285714285717},{"$f":"IF(FN77=\"-\",(IF(FN78=\"-\",\"-\",FN78)),(IF(FN78=\"-\",FN77,(SUM(FN77:FN78)))))","v":151},{"$f":"IF(FO77=\"-\",(IF(FO78=\"-\",\"-\",FO78)),(IF(FO78=\"-\",FO77,(SUM(FO77:FO78)))))","v":170},181,200,163,119,134,{"$f":"IF(FU77=\"-\",(IF(FU78=\"-\",\"-\",FU78)),(IF(FU78=\"-\",FU77,(SUM(FU77:FU78)))))","v":213},{"$f":"IF(FV77=\"-\",(IF(FV78=\"-\",\"-\",FV78)),(IF(FV78=\"-\",FV77,(SUM(FV77:FV78)))))","v":238},227,209,212,141,163,{"$f":"IF(GB77=\"-\",(IF(GB78=\"-\",\"-\",GB78)),(IF(GB78=\"-\",GB77,(SUM(GB77:GB78)))))","v":364},{"$f":"IF(GC77=\"-\",(IF(GC78=\"-\",\"-\",GC78)),(IF(GC78=\"-\",GC77,(SUM(GC77:GC78)))))","v":408},408,409,375,260,297]
["Tues",1900,4,74,0,0,1,1,0,0,0,0,0,0,0,1,1,1,10,21,21,20,4,1,0,0,0,0,0,0,0,0,0,0,36.200000000000003,42.5,14.5,50.8,"Tues",1900,1,74,2,3,0,1,0,0,0,0,0,0,0,0,0,0,9,25,22,16,5,3,1,0,0,0,0,0,0,0,0,0,37.299999999999997,43.4,26.6,59.8,"Tues",1900,5,148,2,3,1,2,0,0,0,0,0,0,0,1,1,1,19,46,43,36,9,4,1,0,0,0,0,0,0,0,0,0,36.753416149068322,42.95,14.5,59.8,4,74,0,2,0,80,1,76,3,1,0,81,5,150,3,3,0,161]
["Tues",1915,1,44,1,2,0,0,0,0,0,0,0,0,0,0,0,0,3,15,9,5,10,2,4,0,0,0,0,0,0,0,0,0,40.1,49.4,26.8,59.9,"Tues",1915,1,83,0,2,0,0,0,0,0,0,0,0,0,0,0,0,5,22,32,18,9,0,0,0,0,0,0,0,0,0,0,0,37.5,43.6,25.1,49.8,"Tues",1915,2,127,1,4,0,0,0,0,0,0,0,0,0,0,0,0,8,37,41,23,19,{"$f":"SUM(X178+BJ178)","v":2},{"$f":"SUM(Y178+BK178)","v":4},{"$f":"SUM(Z178+BL178)","v":0},{"$f":"SUM(AA178+BM178)","v":0},{"$f":"SUM(AB178+BN178)","v":0},{"$f":"SUM(AC178+BO178)","v":0},{"$f":"SUM(AD178+BP178)","v":0},{"$f":"SUM(AE178+BQ178)","v":0},{"$f":"SUM(AF178+BR178)","v":0},{"$f":"SUM(AG178+BS178)","v":0},{"$f":"SUM(AH178+BT178)","v":0},38.431343283582088,46.5,25.1,59.9,1,45,2,0,0,48,1,83,2,0,0,86,2,128,4,0,0,134,null,null,null,null,null,null,null,null,null,null,null,null,null,null,null,null,null,null,null,null,null,{"$f":"IF((SUM(FN178:FR178))>0,AVERAGE(FN178:FR178),0)","v":141.19999999999999},{"$f":"IF((SUM(FN178:FT178))>0,AVERAGE(FN178:FT178),0)","v":129.28571428571428},null,null,null,null,null,{"$f":"IF((SUM(FU178:FY178))>0,AVERAGE(FU178:FY178),0)","v":229.4},{"$f":"IF((SUM(FU178:GA178))>0,AVERAGE(FU178:GA178),0)","v":221.42857142857142},null,null,null,null,null,{"$f":"IF((SUM(GB178:GF178))>0,AVERAGE(GB178:GF178),0)","v":370.6},{"$f":"IF((SUM(GB178:GH178))>0,AVERAGE(GB178:GH178),0)","v":350.71428571428572},{"$f":"IF(FN79=\"-\",(IF(FN80=\"-\",\"-\",FN80)),(IF(FN80=\"-\",FN79,(SUM(FN79:FN80)))))","v":133},{"$f":"IF(FO79=\"-\",(IF(FO80=\"-\",\"-\",FO80)),(IF(FO80=\"-\",FO79,(SUM(FO79:FO80)))))","v":151},135,136,151,86,113,{"$f":"IF(FU79=\"-\",(IF(FU80=\"-\",\"-\",FU80)),(IF(FU80=\"-\",FU79,(SUM(FU79:FU80)))))","v":202},{"$f":"IF(FV79=\"-\",(IF(FV80=\"-\",\"-\",FV80)),(IF(FV80=\"-\",FV79,(SUM(FV79:FV80)))))","v":244},227,241,233,176,227,{"$f":"IF(GB79=\"-\",(IF(GB80=\"-\",\"-\",GB80)),(IF(GB80=\"-\",GB79,(SUM(GB79:GB80)))))","v":335},{"$f":"IF(GC79=\"-\",(IF(GC80=\"-\",\"-\",GC80)),(IF(GC80=\"-\",GC79,(SUM(GC79:GC80)))))","v":395},362,377,384,262,340]
["Tues",1930,1,50,2,3,0,1,0,1,0,0,0,0,0,0,1,4,17,10,9,11,3,1,1,1,0,0,0,0,0,0,0,0,35,42.9,18.3,63.4,"Tues",1930,2,48,0,1,0,0,0,0,0,0,0,0,0,0,0,0,2,9,14,13,11,1,1,0,0,0,0,0,0,0,0,0,40.200000000000003,46.3,27.4,57.1,"Tues",1930,3,98,2,4,0,1,0,1,0,0,0,0,0,{"$f":"SUM(P179+BB179)","v":0},{"$f":"SUM(Q179+BC179)","v":1},{"$f":"SUM(R179+BD179)","v":4},{"$f":"SUM(S179+BE179)","v":19},{"$f":"SUM(T179+BF179)","v":19},{"$f":"SUM(U179+BG179)","v":23},{"$f":"SUM(V179+BH179)","v":24},{"$f":"SUM(W179+BI179)","v":14},2,2,1,0,0,0,0,0,0,0,0,37.433027522935781,44.599999999999994,18.3,63.4,1,52,3,1,1,58,2,48,1,0,0,51,3,100,4,1,1,109]
["Tues",1945,2,51,2,1,0,0,0,0,1,0,0,0,0,0,3,5,6,8,11,11,7,5,1,0,0,0,0,0,0,0,0,0,36.799999999999997,45.4,18,57,"Tues",1945,1,64,0,3,0,0,0,0,0,0,0,0,0,0,0,0,4,15,24,17,3,5,0,0,0,0,0,0,0,0,0,0,38.700000000000003,44.1,27.7,51.6,"Tues",1945,3,115,2,4,0,0,0,0,1,0,0,0,0,0,3,5,10,23,35,28,10,10,1,0,0,0,0,0,0,0,0,0,37.833600000000004,44.75,18,57,2,53,1,0,1,57,1,64,3,0,0,68,3,117,4,0,1,125,null,null,null,null,null,null,null,null,null,null,null,null,null,null,null,null,null,null,null,null,null,{"$f":"IF((SUM(FN180:FR180))>0,AVERAGE(FN180:FR180),0)","v":128.19999999999999},{"$f":"IF((SUM(FN180:FT180))>0,AVERAGE(FN180:FT180),0)","v":123},null,null,null,null,null,{"$f":"IF((SUM(FU180:FY180))>0,AVERAGE(FU180:FY180),0)","v":158.4},{"$f":"IF((SUM(FU180:GA180))>0,AVERAGE(FU180:GA180),0)","v":146.28571428571428},null,null,null,null,null,{"$f":"IF((SUM(GB180:GF180))>0,AVERAGE(GB180:GF180),0)","v":286.60000000000002},{"$f":"IF((SUM(GB180:GH180))>0,AVERAGE(GB180:GH180),0)","v":269.28571428571428},{"$f":"IF(FN81=\"-\",(IF(FN82=\"-\",\"-\",FN82)),(IF(FN82=\"-\",FN81,(SUM(FN81:FN82)))))","v":116},{"$f":"IF(FO81=\"-\",(IF(FO82=\"-\",\"-\",FO82)),(IF(FO82=\"-\",FO81,(SUM(FO81:FO82)))))","v":128},156,123,118,118,102,{"$f":"IF(FU81=\"-\",(IF(FU82=\"-\",\"-\",FU82)),(IF(FU82=\"-\",FU81,(SUM(FU81:FU82)))))","v":149},{"$f":"IF(FV81=\"-\",(IF(FV82=\"-\",\"-\",FV82)),(IF(FV82=\"-\",FV81,(SUM(FV81:FV82)))))","v":167},154,181,141,112,120,{"$f":"IF(GB81=\"-\",(IF(GB82=\"-\",\"-\",GB82)),(IF(GB82=\"-\",GB81,(SUM(GB81:GB82)))))","v":265},{"$f":"IF(GC81=\"-\",(IF(GC82=\"-\",\"-\",GC82)),(IF(GC82=\"-\",GC81,(SUM(GC81:GC82)))))","v":295},310,304,259,230,222]
["Tues",2000,3,49,2,2,0,0,0,0,0,0,0,0,0,0,0,5,10,7,6,15,8,2,3,0,0,0,0,0,0,0,0,0,38.299999999999997,49,20.7,59.5,"Tues",2000,1,63,2,0,0,0,0,0,0,0,0,0,0,1,2,5,6,17,20,9,4,1,1,0,0,0,0,0,0,0,0,0,35.1,40.700000000000003,14,56.2,"Tues",2000,4,112,4,2,0,0,0,0,0,0,0,0,0,1,2,10,16,24,26,24,12,3,4,0,0,0,0,0,0,0,0,0,36.568852459016391,44.85,14,59.5,3,51,2,0,0,56,1,65,0,0,0,66,4,116,2,0,0,122]
["Tues",2015,4,52,2,1,0,0,0,0,0,0,0,0,0,0,4,1,12,10,12,15,2,1,2,0,0,0,0,0,0,0,0,0,35.9,44.1,17.899999999999999,56.6,"Tues",2015,4,44,2,2,0,0,0,0,0,0,0,0,0,3,2,4,6,8,6,13,9,1,0,0,0,0,0,0,0,0,0,0,35.6,46.3,12.5,52.9,"Tues",2015,8,96,4,3,0,0,0,0,0,0,0,0,0,3,6,5,18,18,18,28,11,2,2,0,0,0,0,0,0,0,0,0,35.759459459459464,45.2,12.5,56.6,4,54,1,0,0,59,4,46,2,0,0,52,8,100,3,0,0,111,null,null,null,null,null,null,null,null,null,null,null,null,null,null,null,null,null,null,null,null,null,{"$f":"IF((SUM(FN182:FR182))>0,AVERAGE(FN182:FR182),0)","v":104.8},{"$f":"IF((SUM(FN182:FT182))>0,AVERAGE(FN182:FT182),0)","v":99.142857142857139},null,null,null,null,null,{"$f":"IF((SUM(FU182:FY182))>0,AVERAGE(FU182:FY182),0)","v":123.4},{"$f":"IF((SUM(FU182:GA182))>0,AVERAGE(FU182:GA182),0)","v":118.57142857142857},null,null,null,null,null,{"$f":"IF((SUM(GB182:GF182))>0,AVERAGE(GB182:GF182),0)","v":228.2},{"$f":"IF((SUM(GB182:GH182))>0,AVERAGE(GB182:GH182),0)","v":217.71428571428572},{"$f":"IF(FN83=\"-\",(IF(FN84=\"-\",\"-\",FN84)),(IF(FN84=\"-\",FN83,(SUM(FN83:FN84)))))","v":93},{"$f":"IF(FO83=\"-\",(IF(FO84=\"-\",\"-\",FO84)),(IF(FO84=\"-\",FO83,(SUM(FO83:FO84)))))","v":115},91,127,98,91,79,{"$f":"IF(FU83=\"-\",(IF(FU84=\"-\",\"-\",FU84)),(IF(FU84=\"-\",FU83,(SUM(FU83:FU84)))))","v":115},{"$f":"IF(FV83=\"-\",(IF(FV84=\"-\",\"-\",FV84)),(IF(FV84=\"-\",FV83,(SUM(FV83:FV84)))))","v":119},139,125,119,112,101,{"$f":"IF(GB83=\"-\",(IF(GB84=\"-\",\"-\",GB84)),(IF(GB84=\"-\",GB83,(SUM(GB83:GB84)))))","v":208},{"$f":"IF(GC83=\"-\",(IF(GC84=\"-\",\"-\",GC84)),(IF(GC84=\"-\",GC83,(SUM(GC83:GC84)))))","v":234},230,252,217,203,180]
["Tues",2030,3,41,3,2,0,0,0,0,0,0,0,0,0,0,1,7,12,6,8,6,6,3,0,0,0,0,0,0,0,0,0,0,34.6,45.2,17.2,54.6,"Tues",2030,2,53,1,1,0,0,0,0,0,0,0,0,0,0,0,1,10,14,14,10,7,1,0,0,0,0,0,0,0,0,0,0,36.6,44.3,24.5,52.1,"Tues",2030,5,94,4,3,0,0,0,0,0,0,0,0,0,0,1,8,22,20,22,16,13,4,0,0,0,0,0,0,0,0,0,0,35.675471698113213,44.75,17.2,54.6,3,44,2,0,0,49,2,54,1,0,0,57,5,98,3,0,0,106]
["Tues",2045,1,42,1,0,0,0,0,0,0,1,0,0,0,0,1,2,5,4,10,12,9,1,1,0,0,0,0,0,0,0,0,0,38.799999999999997,46.3,18.899999999999999,55.7,"Tues",2045,2,50,2,1,0,0,0,0,0,0,0,0,0,0,1,8,5,10,8,11,9,2,1,0,0,0,0,0,0,0,0,0,37,47.4,18.100000000000001,56,"Tues",2045,3,92,3,1,0,0,0,0,0,1,0,0,0,0,2,10,10,14,18,23,18,3,2,0,0,0,0,0,0,0,0,0,37.81,46.849999999999994,18.100000000000001,56,1,43,0,0,1,45,2,52,1,0,0,55,3,95,1,0,1,100,null,null,null,null,null,null,null,null,null,null,null,null,null,null,null,null,null,null,null,null,null,{"$f":"IF((SUM(FN184:FR184))>0,AVERAGE(FN184:FR184),0)","v":91.6},{"$f":"IF((SUM(FN184:FT184))>0,AVERAGE(FN184:FT184),0)","v":85.857142857142861},null,null,null,null,null,{"$f":"IF((SUM(FU184:FY184))>0,AVERAGE(FU184:FY184),0)","v":113},{"$f":"IF((SUM(FU184:GA184))>0,AVERAGE(FU184:GA184),0)","v":104.71428571428571},null,null,null,null,null,{"$f":"IF((SUM(GB184:GF184))>0,AVERAGE(GB184:GF184),0)","v":204.6},{"$f":"IF((SUM(GB184:GH184))>0,AVERAGE(GB184:GH184),0)","v":190.57142857142858},{"$f":"IF(FN85=\"-\",(IF(FN86=\"-\",\"-\",FN86)),(IF(FN86=\"-\",FN85,(SUM(FN85:FN86)))))","v":74},{"$f":"IF(FO85=\"-\",(IF(FO86=\"-\",\"-\",FO86)),(IF(FO86=\"-\",FO85,(SUM(FO85:FO86)))))","v":115},95,88,86,74,69,{"$f":"IF(FU85=\"-\",(IF(FU86=\"-\",\"-\",FU86)),(IF(FU86=\"-\",FU85,(SUM(FU85:FU86)))))","v":98},{"$f":"IF(FV85=\"-\",(IF(FV86=\"-\",\"-\",FV86)),(IF(FV86=\"-\",FV85,(SUM(FV85:FV86)))))","v":118},116,125,108,81,87,{"$f":"IF(GB85=\"-\",(IF(GB86=\"-\",\"-\",GB86)),(IF(GB86=\"-\",GB85,(SUM(GB85:GB86)))))","v":172},{"$f":"IF(GC85=\"-\",(IF(GC86=\"-\",\"-\",GC86)),(IF(GC86=\"-\",GC85,(SUM(GC85:GC86)))))","v":233},211,213,194,155,156]
["Tues",2100,2,36,0,1,0,0,0,0,0,0,0,0,0,0,0,0,7,6,10,5,4,3,1,2,1,0,0,0,0,0,0,0,40,51,26.8,65.900000000000006,"Tues",2100,0,36,2,2,0,0,0,0,0,0,0,0,0,0,0,6,4,13,8,5,4,0,0,0,0,0,0,0,0,0,0,0,34.299999999999997,43.4,20.100000000000001,47.8,"Tues",2100,2,72,2,3,0,0,0,0,0,0,0,0,0,0,0,6,11,19,18,10,8,3,1,2,1,0,0,0,0,0,0,0,37.11392405063291,47.2,20.100000000000001,65.900000000000006,2,36,1,0,0,39,0,38,2,0,0,40,2,74,3,0,0,79]
["Tues",2115,0,32,3,1,0,0,0,0,0,0,0,0,0,0,1,3,7,5,10,5,2,2,1,0,0,0,0,0,0,0,0,0,35.4,44.1,19,56.2,"Tues",2115,1,40,2,4,0,0,0,0,0,0,0,0,0,0,4,2,8,14,9,8,1,0,1,0,0,0,0,0,0,0,0,0,33.4,42.5,16.3,56.5,"Tues",2115,1,72,5,5,0,0,0,0,0,0,0,0,0,0,5,5,15,19,19,13,3,2,2,0,0,0,0,0,0,0,0,0,34.267469879518067,43.3,16.3,56.5,0,35,1,0,0,36,1,42,4,0,0,47,1,77,5,0,0,83,null,null,null,null,null,null,null,null,null,null,null,null,null,null,null,null,null,null,null,null,null,{"$f":"IF((SUM(FN186:FR186))>0,AVERAGE(FN186:FR186),0)","v":74.599999999999994},{"$f":"IF((SUM(FN186:FT186))>0,AVERAGE(FN186:FT186),0)","v":66.857142857142861},null,null,null,null,null,{"$f":"IF((SUM(FU186:FY186))>0,AVERAGE(FU186:FY186),0)","v":101.4},{"$f":"IF((SUM(FU186:GA186))>0,AVERAGE(FU186:GA186),0)","v":92.428571428571431},null,null,null,null,null,{"$f":"IF((SUM(GB186:GF186))>0,AVERAGE(GB186:GF186),0)","v":176},{"$f":"IF((SUM(GB186:GH186))>0,AVERAGE(GB186:GH186),0)","v":159.28571428571428},{"$f":"IF(FN87=\"-\",(IF(FN88=\"-\",\"-\",FN88)),(IF(FN88=\"-\",FN87,(SUM(FN87:FN88)))))","v":58},{"$f":"IF(FO87=\"-\",(IF(FO88=\"-\",\"-\",FO88)),(IF(FO88=\"-\",FO87,(SUM(FO87:FO88)))))","v":94},78,66,77,42,53,{"$f":"IF(FU87=\"-\",(IF(FU88=\"-\",\"-\",FU88)),(IF(FU88=\"-\",FU87,(SUM(FU87:FU88)))))","v":95},{"$f":"IF(FV87=\"-\",(IF(FV88=\"-\",\"-\",FV88)),(IF(FV88=\"-\",FV87,(SUM(FV87:FV88)))))","v":112},119,103,78,76,64,{"$f":"IF(GB87=\"-\",(IF(GB88=\"-\",\"-\",GB88)),(IF(GB88=\"-\",GB87,(SUM(GB87:GB88)))))","v":153},{"$f":"IF(GC87=\"-\",(IF(GC88=\"-\",\"-\",GC88)),(IF(GC88=\"-\",GC87,(SUM(GC87:GC88)))))","v":206},197,169,155,118,117]
["Tues",2130,0,35,1,2,0,0,0,0,0,0,0,0,0,0,1,3,6,1,3,11,3,5,5,0,0,0,0,0,0,0,0,0,41.2,54.1,19.600000000000001,57.6,"Tues",2130,3,39,1,2,0,0,0,0,1,0,0,0,0,0,2,2,6,7,13,12,2,1,1,0,0,0,0,0,0,0,0,0,36.4,42.5,17.5,57.5,"Tues",2130,3,74,2,4,0,0,0,0,1,0,0,0,0,0,3,5,12,8,16,23,5,6,6,0,0,0,0,0,0,0,0,0,38.571428571428569,48.3,17.5,57.6,0,36,2,0,0,38,3,40,2,0,1,46,3,76,4,0,1,84]
["Tues",2145,1,23,3,1,0,0,0,0,0,0,0,0,0,0,2,2,4,5,7,1,3,1,2,1,0,0,0,0,0,0,0,0,36.9,48.1,16.600000000000001,61.7,"Tues",2145,4,36,3,1,0,0,0,0,0,0,0,0,0,0,4,6,3,9,11,4,6,1,0,0,0,0,0,0,0,0,0,0,34.4,44.5,17.3,50.7,"Tues",2145,5,59,6,2,0,0,0,0,0,0,0,0,0,0,6,8,7,14,18,5,9,2,2,1,0,0,0,0,0,0,0,0,35.372222222222227,46.3,16.600000000000001,61.7,1,26,1,0,0,28,4,39,1,0,0,44,5,65,2,0,0,72,null,null,null,null,null,null,null,null,null,null,null,null,null,null,null,null,null,null,null,null,null,{"$f":"IF((SUM(FN188:FR188))>0,AVERAGE(FN188:FR188),0)","v":65.2},{"$f":"IF((SUM(FN188:FT188))>0,AVERAGE(FN188:FT188),0)","v":58.571428571428569},null,null,null,null,null,{"$f":"IF((SUM(FU188:FY188))>0,AVERAGE(FU188:FY188),0)","v":83.6},{"$f":"IF((SUM(FU188:GA188))>0,AVERAGE(FU188:GA188),0)","v":77.142857142857139},null,null,null,null,null,{"$f":"IF((SUM(GB188:GF188))>0,AVERAGE(GB188:GF188),0)","v":148.80000000000001},{"$f":"IF((SUM(GB188:GH188))>0,AVERAGE(GB188:GH188),0)","v":135.71428571428572},{"$f":"IF(FN89=\"-\",(IF(FN90=\"-\",\"-\",FN90)),(IF(FN90=\"-\",FN89,(SUM(FN89:FN90)))))","v":42},{"$f":"IF(FO89=\"-\",(IF(FO90=\"-\",\"-\",FO90)),(IF(FO90=\"-\",FO89,(SUM(FO89:FO90)))))","v":75},66,76,67,37,47,{"$f":"IF(FU89=\"-\",(IF(FU90=\"-\",\"-\",FU90)),(IF(FU90=\"-\",FU89,(SUM(FU89:FU90)))))","v":87},{"$f":"IF(FV89=\"-\",(IF(FV90=\"-\",\"-\",FV90)),(IF(FV90=\"-\",FV89,(SUM(FV89:FV90)))))","v":87},94,75,75,58,64,{"$f":"IF(GB89=\"-\",(IF(GB90=\"-\",\"-\",GB90)),(IF(GB90=\"-\",GB89,(SUM(GB89:GB90)))))","v":129},{"$f":"IF(GC89=\"-\",(IF(GC90=\"-\",\"-\",GC90)),(IF(GC90=\"-\",GC89,(SUM(GC89:GC90)))))","v":162},160,151,142,95,111]
["Tues",2200,1,20,1,2,0,0,0,0,0,0,0,0,0,0,1,1,1,8,6,4,1,2,0,0,0,0,0,0,0,0,0,0,36.5,42.7,18.3,51.9,"Tues",2200,1,16,2,0,0,0,0,0,1,0,0,0,0,0,0,5,1,5,5,2,1,0,1,0,0,0,0,0,0,0,0,0,34.200000000000003,41.6,20.5,56.4,"Tues",2200,2,36,3,2,0,0,0,0,1,0,0,0,0,0,1,6,2,13,11,6,2,2,1,0,0,0,0,0,0,0,0,0,35.454545454545453,42.150000000000006,18.3,56.4,1,21,2,0,0,24,1,18,0,0,1,20,2,39,2,0,1,44]
["Tues",2215,0,22,3,1,0,0,0,0,0,0,0,0,0,0,2,2,2,2,7,5,5,0,1,0,0,0,0,0,0,0,0,0,37.1,47,18,56.2,"Tues",2215,0,38,3,1,0,0,0,0,0,0,0,0,0,0,2,6,3,10,10,7,4,0,0,0,0,0,0,0,0,0,0,0,34.6,43.2,17.7,49.2,"Tues",2215,0,60,6,2,0,0,0,0,0,0,0,0,0,0,4,8,5,12,17,12,9,0,1,0,0,0,0,0,0,0,0,0,35.555882352941182,45.1,17.7,56.2,0,25,1,0,0,26,0,41,1,0,0,42,0,66,2,0,0,68,null,null,null,null,null,null,null,null,null,null,null,null,null,null,null,null,null,null,null,null,null,{"$f":"IF((SUM(FN190:FR190))>0,AVERAGE(FN190:FR190),0)","v":67},{"$f":"IF((SUM(FN190:FT190))>0,AVERAGE(FN190:FT190),0)","v":62},null,null,null,null,null,{"$f":"IF((SUM(FU190:FY190))>0,AVERAGE(FU190:FY190),0)","v":80.2},{"$f":"IF((SUM(FU190:GA190))>0,AVERAGE(FU190:GA190),0)","v":73},null,null,null,null,null,{"$f":"IF((SUM(GB190:GF190))>0,AVERAGE(GB190:GF190),0)","v":147.19999999999999},{"$f":"IF((SUM(GB190:GH190))>0,AVERAGE(GB190:GH190),0)","v":135},{"$f":"IF(FN91=\"-\",(IF(FN92=\"-\",\"-\",FN92)),(IF(FN92=\"-\",FN91,(SUM(FN91:FN92)))))","v":56},{"$f":"IF(FO91=\"-\",(IF(FO92=\"-\",\"-\",FO92)),(IF(FO92=\"-\",FO91,(SUM(FO91:FO92)))))","v":66},85,70,58,45,54,{"$f":"IF(FU91=\"-\",(IF(FU92=\"-\",\"-\",FU92)),(IF(FU92=\"-\",FU91,(SUM(FU91:FU92)))))","v":67},{"$f":"IF(FV91=\"-\",(IF(FV92=\"-\",\"-\",FV92)),(IF(FV92=\"-\",FV91,(SUM(FV91:FV92)))))","v":90},87,77,80,48,62,{"$f":"IF(GB91=\"-\",(IF(GB92=\"-\",\"-\",GB92)),(IF(GB92=\"-\",GB91,(SUM(GB91:GB92)))))","v":123},{"$f":"IF(GC91=\"-\",(IF(GC92=\"-\",\"-\",GC92)),(IF(GC92=\"-\",GC91,(SUM(GC91:GC92)))))","v":156},172,147,138,93,116]
["Tues",2230,0,14,1,2,0,0,0,0,0,0,0,0,0,0,2,2,3,2,1,4,1,2,0,0,0,0,0,0,0,0,0,0,35.299999999999997,44.5,18.2,54.1,"Tues",2230,0,36,0,1,0,0,0,0,0,0,0,0,0,0,0,0,9,9,9,4,4,1,1,0,0,0,0,0,0,0,0,0,36.299999999999997,42.7,26.3,55.9,"Tues",2230,0,50,1,3,0,0,0,0,0,0,0,0,0,0,2,2,12,11,10,8,5,3,1,0,0,0,0,0,0,0,0,0,35.985185185185181,43.6,18.2,55.9,0,15,2,0,0,17,0,36,1,0,0,37,0,51,3,0,0,54]
["Tues",2245,1,22,2,0,0,0,0,0,0,0,0,0,0,0,0,6,3,5,5,4,2,0,0,0,0,0,0,0,0,0,0,0,32.700000000000003,42.7,20.5,46.9,"Tues",2245,0,21,0,1,0,0,0,0,0,0,0,0,0,0,0,2,3,4,4,3,4,1,1,0,0,0,0,0,0,0,0,0,38,47.9,22.1,57.7,"Tues",2245,1,43,2,1,0,0,0,0,0,0,0,0,0,0,0,8,6,9,9,7,6,1,1,0,0,0,0,0,0,0,0,0,35.180851063829785,45.3,20.5,57.7,1,24,0,0,0,25,0,21,1,0,0,22,1,45,1,0,0,47,null,null,null,null,null,null,null,null,null,null,null,null,null,null,null,null,null,null,null,null,null,{"$f":"IF((SUM(FN192:FR192))>0,AVERAGE(FN192:FR192),0)","v":47},{"$f":"IF((SUM(FN192:FT192))>0,AVERAGE(FN192:FT192),0)","v":49.285714285714285},null,null,null,null,null,{"$f":"IF((SUM(FU192:FY192))>0,AVERAGE(FU192:FY192),0)","v":64},{"$f":"IF((SUM(FU192:GA192))>0,AVERAGE(FU192:GA192),0)","v":62.571428571428569},null,null,null,null,null,{"$f":"IF((SUM(GB192:GF192))>0,AVERAGE(GB192:GF192),0)","v":111},{"$f":"IF((SUM(GB192:GH192))>0,AVERAGE(GB192:GH192),0)","v":111.85714285714286},{"$f":"IF(FN93=\"-\",(IF(FN94=\"-\",\"-\",FN94)),(IF(FN94=\"-\",FN93,(SUM(FN93:FN94)))))","v":26},{"$f":"IF(FO93=\"-\",(IF(FO94=\"-\",\"-\",FO94)),(IF(FO94=\"-\",FO93,(SUM(FO93:FO94)))))","v":50},45,55,59,70,40,{"$f":"IF(FU93=\"-\",(IF(FU94=\"-\",\"-\",FU94)),(IF(FU94=\"-\",FU93,(SUM(FU93:FU94)))))","v":49},{"$f":"IF(FV93=\"-\",(IF(FV94=\"-\",\"-\",FV94)),(IF(FV94=\"-\",FV93,(SUM(FV93:FV94)))))","v":62},67,62,80,56,62,{"$f":"IF(GB93=\"-\",(IF(GB94=\"-\",\"-\",GB94)),(IF(GB94=\"-\",GB93,(SUM(GB93:GB94)))))","v":75},{"$f":"IF(GC93=\"-\",(IF(GC94=\"-\",\"-\",GC94)),(IF(GC94=\"-\",GC93,(SUM(GC93:GC94)))))","v":112},112,117,139,126,102]
["Tues",2300,0,12,0,1,0,0,0,0,0,0,0,0,0,0,0,0,2,0,5,2,3,1,0,0,0,0,0,0,0,0,0,0,40.1,45.9,27.9,50.7,"Tues",2300,0,27,0,0,0,0,0,0,0,0,0,0,0,0,1,0,3,5,4,5,8,1,0,0,0,0,0,0,0,0,0,0,39.1,47.2,19.399999999999999,50.3,"Tues",2300,0,39,0,1,0,0,0,0,0,0,0,0,0,0,1,0,5,5,9,7,11,2,0,0,0,0,0,0,0,0,0,0,39.424999999999997,46.55,19.399999999999999,50.7,0,12,1,0,0,13,0,27,0,0,0,27,0,39,1,0,0,40]
["Tues",2315,0,10,0,0,0,0,0,0,0,0,0,0,0,0,0,1,4,1,2,1,0,0,0,1,0,0,0,0,0,0,0,0,35.1,"-",23.5,61.3,"Tues",2315,0,17,0,1,0,0,0,0,0,0,0,0,0,0,0,0,1,5,5,4,3,0,0,0,0,0,0,0,0,0,0,0,38.299999999999997,44.1,25.8,49.4,"Tues",2315,0,27,0,1,0,0,0,0,0,0,0,0,0,0,0,1,5,6,7,5,3,0,0,1,0,0,0,0,0,0,0,0,37.157142857142858,44.1,23.5,61.3,0,10,0,0,0,10,0,17,1,0,0,18,0,27,1,0,0,28,null,null,null,null,null,null,null,null,null,null,null,null,null,null,null,null,null,null,null,null,null,{"$f":"IF((SUM(FN194:FR194))>0,AVERAGE(FN194:FR194),0)","v":36.200000000000003},{"$f":"IF((SUM(FN194:FT194))>0,AVERAGE(FN194:FT194),0)","v":35.571428571428569},null,null,null,null,null,{"$f":"IF((SUM(FU194:FY194))>0,AVERAGE(FU194:FY194),0)","v":52.2},{"$f":"IF((SUM(FU194:GA194))>0,AVERAGE(FU194:GA194),0)","v":52.142857142857146},null,null,null,null,null,{"$f":"IF((SUM(GB194:GF194))>0,AVERAGE(GB194:GF194),0)","v":88.4},{"$f":"IF((SUM(GB194:GH194))>0,AVERAGE(GB194:GH194),0)","v":87.714285714285708},{"$f":"IF(FN95=\"-\",(IF(FN96=\"-\",\"-\",FN96)),(IF(FN96=\"-\",FN95,(SUM(FN95:FN96)))))","v":14},{"$f":"IF(FO95=\"-\",(IF(FO96=\"-\",\"-\",FO96)),(IF(FO96=\"-\",FO95,(SUM(FO95:FO96)))))","v":42},35,34,56,43,25,{"$f":"IF(FU95=\"-\",(IF(FU96=\"-\",\"-\",FU96)),(IF(FU96=\"-\",FU95,(SUM(FU95:FU96)))))","v":51},{"$f":"IF(FV95=\"-\",(IF(FV96=\"-\",\"-\",FV96)),(IF(FV96=\"-\",FV95,(SUM(FV95:FV96)))))","v":59},41,54,56,51,53,{"$f":"IF(GB95=\"-\",(IF(GB96=\"-\",\"-\",GB96)),(IF(GB96=\"-\",GB95,(SUM(GB95:GB96)))))","v":65},{"$f":"IF(GC95=\"-\",(IF(GC96=\"-\",\"-\",GC96)),(IF(GC96=\"-\",GC95,(SUM(GC95:GC96)))))","v":101},76,88,112,94,78]
["Tues",2330,0,5,0,0,0,0,0,0,0,0,0,0,0,0,0,0,0,3,1,0,0,0,1,0,0,0,0,0,0,0,0,0,38.6,"-",31.7,57.8,"Tues",2330,0,13,0,2,0,0,0,0,0,0,0,0,0,0,0,0,0,6,2,1,4,1,1,0,0,0,0,0,0,0,0,0,41,49.7,31,56.4,"Tues",2330,0,18,0,2,0,0,0,0,0,0,0,0,0,0,0,0,0,9,3,1,4,1,2,0,0,0,0,0,0,0,0,0,40.4,49.7,31,57.8,0,5,0,0,0,5,0,13,2,0,0,15,0,18,2,0,0,20]
["Tues",2345,0,2,0,2,0,0,0,0,0,0,0,0,0,0,0,1,0,1,1,1,0,0,0,0,0,0,0,0,0,0,0,0,33.799999999999997,"-",23.1,41.9,"Tues",2345,0,16,0,0,0,0,0,0,0,0,0,0,0,0,0,0,0,4,0,7,3,2,0,0,0,0,0,0,0,0,0,0,42.1,48.8,31.4,53.7,"Tues",2345,0,18,0,2,0,0,0,0,0,0,0,0,0,0,0,1,0,5,1,8,3,2,0,0,0,0,0,0,0,0,0,0,40.44,48.8,23.1,53.7,0,2,2,0,0,4,0,16,0,0,0,16,0,18,2,0,0,20,null,null,null,null,null,null,null,null,null,null,null,null,null,null,null,null,null,null,null,null,null,{"$f":"IF((SUM(FN196:FR196))>0,AVERAGE(FN196:FR196),0)","v":22},{"$f":"IF((SUM(FN196:FT196))>0,AVERAGE(FN196:FT196),0)","v":24},null,null,null,null,null,{"$f":"IF((SUM(FU196:FY196))>0,AVERAGE(FU196:FY196),0)","v":39.799999999999997},{"$f":"IF((SUM(FU196:GA196))>0,AVERAGE(FU196:GA196),0)","v":39.142857142857146},null,null,null,null,null,{"$f":"IF((SUM(GB196:GF196))>0,AVERAGE(GB196:GF196),0)","v":61.8},{"$f":"IF((SUM(GB196:GH196))>0,AVERAGE(GB196:GH196),0)","v":63.142857142857146},{"$f":"IF(FN97=\"-\",(IF(FN98=\"-\",\"-\",FN98)),(IF(FN98=\"-\",FN97,(SUM(FN97:FN98)))))","v":16},{"$f":"IF(FO97=\"-\",(IF(FO98=\"-\",\"-\",FO98)),(IF(FO98=\"-\",FO97,(SUM(FO97:FO98)))))","v":23},16,33,22,38,20,{"$f":"IF(FU97=\"-\",(IF(FU98=\"-\",\"-\",FU98)),(IF(FU98=\"-\",FU97,(SUM(FU97:FU98)))))","v":26},{"$f":"IF(FV97=\"-\",(IF(FV98=\"-\",\"-\",FV98)),(IF(FV98=\"-\",FV97,(SUM(FV97:FV98)))))","v":45},23,47,58,40,35,{"$f":"IF(GB97=\"-\",(IF(GB98=\"-\",\"-\",GB98)),(IF(GB98=\"-\",GB97,(SUM(GB97:GB98)))))","v":42},{"$f":"IF(GC97=\"-\",(IF(GC98=\"-\",\"-\",GC98)),(IF(GC98=\"-\",GC97,(SUM(GC97:GC98)))))","v":68},39,80,80,78,55]
["Wed",0,0,4,0,0,0,0,0,0,0,0,0,0,0,0,0,0,3,0,0,0,0,0,1,0,0,0,0,0,0,0,0,0,35.6,"-",28.5,55.5,"Wed",0,1,9,0,0,0,0,0,0,0,0,0,0,0,0,0,0,2,3,2,1,1,1,0,0,0,0,0,0,0,0,0,0,37.299999999999997,"-",26.8,52.3,"Wed",0,1,13,0,0,0,0,0,0,0,0,0,0,0,0,0,0,5,3,2,1,1,1,1,0,0,0,0,0,0,0,0,0,36.81428571428571,"-",26.8,55.5,0,4,0,0,0,4,1,9,0,0,0,10,1,13,0,0,0,14]
["Wed",15,0,5,0,0,0,0,0,0,0,0,0,0,0,0,0,0,0,2,1,0,2,0,0,0,0,0,0,0,0,0,0,0,41,"-",33.5,49.2,"Wed",15,0,4,0,1,0,0,0,0,0,0,0,0,0,0,0,0,1,1,1,1,1,0,0,0,0,0,0,0,0,0,0,0,37.299999999999997,"-",25.7,46.8,"Wed",15,0,9,0,1,0,0,0,0,0,0,0,0,0,0,0,0,1,3,2,1,3,0,0,0,0,0,0,0,0,0,0,0,{"$f":"IF(EB198=0,\"-\",IF(DP198=0,BU198,IF(DV198=0,AI198,SUM((AI198*DP198),(BU198*DV198))/EB198)))","v":39.15},{"$f":"IFERROR(IF(BV198=\"-\",IF(AJ198=\"-\",\"-\",AJ198),IF(AJ198=\"-\",BV198,AVERAGE(AJ198,BV198))), \"-\")","v":"-"},{"$f":"IF(MIN(AK198,BW198)=0,\"-\",MIN(AK198,BW198))","v":25.7},{"$f":"IF(MAX(AL198,BX198)=0,\"-\",MAX(AL198,BX198))","v":49.2},{"$f":"SUM(C198)","v":0},{"$f":"SUM(D198+E198)","v":5},{"$f":"F198","v":0},{"$f":"SUM(G198:H198)","v":0},{"$f":"SUM(I198:N198)","v":0},{"$f":"SUM(C198:N198)","v":5},{"$f":"SUM(AO198)","v":0},{"$f":"SUM(AP198+AQ198)","v":4},{"$f":"AR198","v":1},{"$f":"SUM(AS198:AT198)","v":0},{"$f":"SUM(AU198:AZ198)","v":0},{"$f":"SUM(AO198:AZ198)","v":5},0,9,1,0,0,10,null,null,null,null,null,null,null,null,null,null,null,null,null,null,null,null,null,null,null,null,null,{"$f":"IF((SUM(FN198:FR198))>0,AVERAGE(FN198:FR198),0)","v":17.8},{"$f":"IF((SUM(FN198:FT198))>0,AVERAGE(FN198:FT198),0)","v":21.571428571428573},null,null,null,null,null,{"$f":"IF((SUM(FU198:FY198))>0,AVERAGE(FU198:FY198),0)","v":31.2},{"$f":"IF((SUM(FU198:GA198))>0,AVERAGE(FU198:GA198),0)","v":30.714285714285715},null,null,null,null,null,{"$f":"IF((SUM(GB198:GF198))>0,AVERAGE(GB198:GF198),0)","v":49},{"$f":"IF((SUM(GB198:GH198))>0,AVERAGE(GB198:GH198),0)","v":52.285714285714285},{"$f":"IF(FN99=\"-\",(IF(FN100=\"-\",\"-\",FN100)),(IF(FN100=\"-\",FN99,(SUM(FN99:FN100)))))","v":17},{"$f":"IF(FO99=\"-\",(IF(FO100=\"-\",\"-\",FO100)),(IF(FO100=\"-\",FO99,(SUM(FO99:FO100)))))","v":9},16,20,27,45,17,{"$f":"IF(FU99=\"-\",(IF(FU100=\"-\",\"-\",FU100)),(IF(FU100=\"-\",FU99,(SUM(FU99:FU100)))))","v":16},{"$f":"IF(FV99=\"-\",(IF(FV100=\"-\",\"-\",FV100)),(IF(FV100=\"-\",FV99,(SUM(FV99:FV100)))))","v":31},27,40,42,46,13,{"$f":"IF(GB99=\"-\",(IF(GB100=\"-\",\"-\",GB100)),(IF(GB100=\"-\",GB99,(SUM(GB99:GB100)))))","v":33},{"$f":"IF(GC99=\"-\",(IF(GC100=\"-\",\"-\",GC100)),(IF(GC100=\"-\",GC99,(SUM(GC99:GC100)))))","v":40},43,60,69,91,30]
["Wed",30,0,5,0,1,0,0,0,0,0,0,0,0,0,0,0,0,1,1,2,1,1,0,0,0,0,0,0,0,0,0,0,0,37.700000000000003,"-",26.3,49.3,"Wed",30,0,4,0,0,0,0,0,0,0,0,0,0,0,0,0,0,0,0,2,0,0,1,0,1,0,0,0,0,0,0,0,0,45.7,"-",35.200000000000003,60.8,"Wed",30,0,9,0,1,0,0,0,0,0,0,0,0,0,0,0,0,1,1,4,1,1,1,0,1,0,0,0,0,0,0,0,0,40.9,"-",26.3,60.8,0,5,1,0,0,6,0,4,0,0,0,4,0,9,1,0,0,10]
["Wed",45,0,2,0,1,0,0,0,0,0,0,0,0,0,0,0,0,0,1,0,0,0,0,2,0,0,0,0,0,0,0,0,0,50.3,"-",33.799999999999997,59.6,"Wed",45,0,5,0,0,0,0,0,0,0,0,0,0,0,0,0,0,0,2,1,1,0,1,0,0,0,0,0,0,0,0,0,0,40.6,"-",34.1,51.6,"Wed",45,0,7,0,1,0,0,0,0,0,0,0,0,0,0,0,0,0,3,1,1,0,1,2,0,0,0,0,0,0,0,0,0,44.237499999999997,"-",33.799999999999997,59.6,0,2,1,0,0,3,0,5,0,0,0,5,0,7,1,0,0,8,null,null,null,null,null,null,null,null,null,null,null,null,null,null,null,null,null,null,null,null,null,null,null,null,null,null,null,null,null,null,null,null,null,null,null,null,null,{"$f":"EC200","v":0},null,null,null,null,null,null,{"$f":"EJ200","v":0},null,null,null,null,null,null,{"$f":"EQ200","v":0}]
["Wed",100,0,0,0,0,0,0,0,0,0,0,0,0,0,0,0,0,0,0,0,0,0,0,0,0,0,0,0,0,0,0,0,0,"-","-","-","-","Wed",100,0,3,0,0,0,0,0,0,0,0,0,0,0,0,0,0,0,1,1,1,0,0,0,0,0,0,0,0,0,0,0,0,38,"-",31,43.3,"Wed",100,0,3,0,0,0,0,0,0,0,0,0,0,0,0,0,0,0,1,1,1,0,0,0,0,0,0,0,0,0,0,0,0,38,"-",31,43.3,0,0,0,0,0,0,0,3,0,0,0,3,0,3,0,0,0,3,null,null,null,null,null,null,null,null,null,null,null,null,null,null,null,null,null,null,null,null,null,"PRI 5","PRI 7",null,null,null,null,null,"SEC 5","SEC 7",null,null,null,null,null,"COM 5","COM 7"]
["Wed",115,0,2,0,0,1,0,0,0,0,0,0,0,0,0,0,0,1,0,2,0,0,0,0,0,0,0,0,0,0,0,0,0,34.200000000000003,"-",27,38.299999999999997,"Wed",115,0,2,0,0,0,0,0,0,0,0,0,0,0,0,0,0,0,0,1,1,0,0,0,0,0,0,0,0,0,0,0,0,40.5,"-",37.6,43.4,"Wed",115,0,4,0,0,1,0,0,0,0,0,0,0,0,0,0,0,1,0,3,1,0,0,0,0,0,0,0,0,0,0,0,0,36.720000000000006,"-",27,43.4,0,2,0,1,0,3,0,2,0,0,0,2,0,4,0,1,0,5,null,null,null,null,null,null,null,null,null,null,null,null,null,null,null,null,null,null,null,null,null,null,null,null,null,null,null,null,null,null,null,null,null,null,null,null,null,"Mon","Tue","Wed","Thu","Fri","Sat","Sun","Mon","Tue","Wed","Thu","Fri","Sat","Sun","Mon","Tue","Wed","Thu","Fri","Sat","Sun"]
["Wed",130,0,1,0,0,0,0,0,0,0,0,0,0,0,0,0,0,0,0,0,0,0,1,0,0,0,0,0,0,0,0,0,0,51.7,"-",51.7,51.7,"Wed",130,0,2,0,0,0,0,0,0,0,0,0,0,0,0,0,0,0,1,0,0,1,0,0,0,0,0,0,0,0,0,0,0,38.700000000000003,"-",30.1,47.3,"Wed",130,0,3,{"$f":"SUM(E203+AQ203)","v":0},{"$f":"SUM(F203+AR203)","v":0},{"$f":"SUM(G203+AS203)","v":0},{"$f":"SUM(H203+AT203)","v":0},{"$f":"SUM(I203+AU203)","v":0},{"$f":"SUM(J203+AV203)","v":0},{"$f":"SUM(K203+AW203)","v":0},{"$f":"SUM(L203+AX203)","v":0},{"$f":"SUM(M203+AY203)","v":0},{"$f":"SUM(N203+AZ203)","v":0},{"$f":"SUM(O203+BA203)","v":0},0,0,0,0,1,0,0,1,1,0,0,0,0,0,0,0,0,0,0,43.033333333333339,"-",30.1,51.7,0,1,0,0,0,1,0,2,0,0,0,2,0,3,0,0,0,3,null,null,null,null,null,null,null,null,null,null,null,null,null,null,null,null,null,null,null,null,null,{"$f":"IF((SUM(FN203:FR203))>0,AVERAGE(FN203:FR203),0)","v":15.2},{"$f":"IF((SUM(FN203:FT203))>0,AVERAGE(FN203:FT203),0)","v":23.428571428571427},null,null,null,null,null,{"$f":"IF((SUM(FU203:FY203))>0,AVERAGE(FU203:FY203),0)","v":36.200000000000003},{"$f":"IF((SUM(FU203:GA203))>0,AVERAGE(FU203:GA203),0)","v":49},null,null,null,null,null,{"$f":"IF((SUM(GB203:GF203))>0,AVERAGE(GB203:GF203),0)","v":51.4},{"$f":"IF((SUM(GB203:GH203))>0,AVERAGE(GB203:GH203),0)","v":72.428571428571431},{"$f":"IF(FN104=\"-\",(IF(FN106=\"-\",\"-\",FN106)),(IF(FN106=\"-\",FN104,(SUM(FN104,FN106)))))","v":10},{"$f":"IF(FO104=\"-\",(IF(FO106=\"-\",\"-\",FO106)),(IF(FO106=\"-\",FO104,(SUM(FO104,FO106)))))","v":12},18,18,18,33,55,{"$f":"IF(FU104=\"-\",(IF(FU106=\"-\",\"-\",FU106)),(IF(FU106=\"-\",FU104,(SUM(FU104,FU106)))))","v":52},{"$f":"IF(FV104=\"-\",(IF(FV106=\"-\",\"-\",FV106)),(IF(FV106=\"-\",FV104,(SUM(FV104,FV106)))))","v":28},24,30,47,59,103,{"$f":"IF(GB104=\"-\",(IF(GB106=\"-\",\"-\",GB106)),(IF(GB106=\"-\",GB104,(SUM(GB104,GB106)))))","v":62},{"$f":"IF(GC104=\"-\",(IF(GC106=\"-\",\"-\",GC106)),(IF(GC106=\"-\",GC104,(SUM(GC104,GC106)))))","v":40},42,48,65,92,158]
["Wed",145,0,2,0,0,0,0,0,0,0,0,0,0,0,0,0,0,2,0,0,0,0,0,0,0,0,0,0,0,0,0,0,0,27.2,"-",25.2,29.2,"Wed",145,0,2,0,0,0,0,0,0,0,0,0,0,0,0,0,0,0,0,2,0,0,0,0,0,0,0,0,0,0,0,0,0,38.5,"-",37.1,39.9,"Wed",145,0,4,0,0,0,0,0,0,0,0,0,0,0,0,0,0,2,0,2,0,0,0,0,0,0,0,0,0,0,0,0,0,32.85,"-",25.2,39.9,0,2,0,0,0,2,0,2,0,0,0,2,0,4,0,0,0,4]
["Wed",200,0,0,0,0,0,0,0,0,0,0,0,0,0,0,0,0,0,0,0,0,0,0,0,0,0,0,0,0,0,0,0,0,"-","-","-","-","Wed",200,0,2,0,0,0,0,0,0,0,0,0,0,0,0,0,0,0,0,1,1,0,0,0,0,0,0,0,0,0,0,0,0,42.1,"-",39.5,44.7,"Wed",200,0,2,0,0,0,0,0,0,0,0,0,0,0,0,0,0,0,0,1,1,0,0,0,0,0,0,0,0,0,0,0,0,42.1,"-",39.5,44.7,0,0,0,0,0,0,0,2,0,0,0,2,0,2,0,0,0,2]
["Wed",215,0,6,0,0,0,0,0,0,0,0,0,0,0,0,0,0,0,2,1,0,1,2,0,0,0,0,0,0,0,0,0,0,42.1,"-",31.2,51,"Wed",215,0,5,0,0,0,0,0,0,0,0,0,0,0,0,0,0,0,0,2,0,1,0,1,1,0,0,0,0,0,0,0,0,48.9,"-",37.5,64.8,"Wed",215,0,11,0,0,0,0,0,0,0,0,0,0,0,0,0,0,0,2,3,0,2,2,1,1,0,0,0,0,0,0,0,0,45.190909090909095,"-",31.2,64.8,0,6,0,0,0,6,0,5,0,0,0,5,0,11,0,0,0,11]
["Wed",230,0,2,0,1,0,0,0,0,0,0,0,0,0,0,0,0,0,0,1,1,1,0,0,0,0,0,0,0,0,0,0,0,43.6,"-",38.9,49.8,"Wed",230,0,1,0,0,0,0,0,0,1,0,0,0,0,0,0,0,0,1,0,0,0,0,1,0,0,0,0,0,0,0,0,0,45.2,"-",33.799999999999997,56.5,"Wed",230,{"$f":"SUM(C207+AO207)","v":0},{"$f":"SUM(D207+AP207)","v":3},0,1,0,0,0,0,1,0,0,0,0,0,0,0,0,1,1,1,1,0,1,0,0,0,0,0,0,0,0,0,44.24,"-",33.799999999999997,56.5,0,2,1,0,0,3,0,1,0,0,1,2,0,3,1,0,1,5,null,null,null,null,null,null,null,null,null,null,null,null,null,null,null,null,null,null,null,null,null,{"$f":"IF((SUM(FN207:FR207))>0,AVERAGE(FN207:FR207),0)","v":10.199999999999999},{"$f":"IF((SUM(FN207:FT207))>0,AVERAGE(FN207:FT207),0)","v":15.571428571428571},null,null,null,null,null,{"$f":"IF((SUM(FU207:FY207))>0,AVERAGE(FU207:FY207),0)","v":19.600000000000001},{"$f":"IF((SUM(FU207:GA207))>0,AVERAGE(FU207:GA207),0)","v":26},null,null,null,null,null,{"$f":"IF((SUM(GB207:GF207))>0,AVERAGE(GB207:GF207),0)","v":29.8},{"$f":"IF((SUM(GB207:GH207))>0,AVERAGE(GB207:GH207),0)","v":41.571428571428569},{"$f":"IF(FN108=\"-\",(IF(FN110=\"-\",\"-\",FN110)),(IF(FN110=\"-\",FN108,(SUM(FN108,FN110)))))","v":8},{"$f":"IF(FO108=\"-\",(IF(FO110=\"-\",\"-\",FO110)),(IF(FO110=\"-\",FO108,(SUM(FO108,FO110)))))","v":14},6,16,7,22,36,{"$f":"IF(FU108=\"-\",(IF(FU110=\"-\",\"-\",FU110)),(IF(FU110=\"-\",FU108,(SUM(FU108,FU110)))))","v":28},{"$f":"IF(FV108=\"-\",(IF(FV110=\"-\",\"-\",FV110)),(IF(FV110=\"-\",FV108,(SUM(FV108,FV110)))))","v":18},9,25,18,38,46,{"$f":"IF(GB108=\"-\",(IF(GB110=\"-\",\"-\",GB110)),(IF(GB110=\"-\",GB108,(SUM(GB108,GB110)))))","v":36},{"$f":"IF(GC108=\"-\",(IF(GC110=\"-\",\"-\",GC110)),(IF(GC110=\"-\",GC108,(SUM(GC108,GC110)))))","v":32},15,41,25,60,82]
["Wed",245,0,3,0,0,0,0,0,0,0,0,0,0,0,0,0,0,0,1,1,0,0,1,0,0,0,0,0,0,0,0,0,0,41.5,"-",34.9,50,"Wed",245,0,1,0,0,0,0,0,0,0,0,0,0,0,0,0,0,0,0,1,0,0,0,0,0,0,0,0,0,0,0,0,0,38,"-",38,38,"Wed",245,0,4,0,0,0,0,0,0,0,0,0,0,0,0,0,0,0,1,2,0,0,1,0,0,0,0,0,0,0,0,0,0,40.625,"-",34.9,50,0,3,0,0,0,3,0,1,0,0,0,1,0,4,0,0,0,4]
["Wed",300,0,4,0,1,0,0,0,0,0,0,0,0,0,0,0,0,0,1,0,1,2,0,0,1,0,0,0,0,0,0,0,0,46.8,"-",32.200000000000003,61,"Wed",300,0,3,0,0,0,0,0,0,0,0,0,0,0,0,0,0,1,0,0,0,0,2,0,0,0,0,0,0,0,0,0,0,43.5,"-",25.6,54.8,"Wed",300,0,7,0,1,0,0,0,0,0,0,0,0,0,0,0,0,1,1,0,1,2,2,0,1,0,0,0,0,0,0,0,0,45.5625,"-",25.6,61,0,4,1,0,0,5,0,3,0,0,0,3,0,7,1,0,0,8]
["Wed",315,0,2,0,0,0,0,0,0,0,0,0,0,0,0,0,1,0,0,0,0,1,0,0,0,0,0,0,0,0,0,0,0,34.799999999999997,"-",24.6,45,"Wed",315,0,1,0,0,0,0,0,0,0,0,0,0,0,0,0,0,0,0,1,0,0,0,0,0,0,0,0,0,0,0,0,0,39.799999999999997,"-",39.799999999999997,39.799999999999997,"Wed",315,0,3,0,0,0,0,0,0,0,0,0,0,0,0,0,1,0,0,1,0,1,0,0,0,0,0,0,0,0,0,0,0,36.466666666666661,"-",24.6,45,0,2,0,0,0,2,0,1,0,0,0,1,0,3,0,0,0,3]
["Wed",330,0,3,0,1,0,0,0,0,0,0,0,0,0,0,1,0,1,0,0,2,0,0,0,0,0,0,0,0,0,0,0,0,32,"-",17,42,"Wed",330,0,3,0,0,0,0,0,0,0,0,0,0,0,0,0,0,1,0,1,0,1,0,0,0,0,0,0,0,0,0,0,0,39.1,"-",29.4,48.2,"Wed",330,0,6,0,1,0,0,0,0,0,0,0,0,0,0,1,0,2,0,1,2,1,0,0,0,0,0,0,0,0,0,0,0,35.042857142857144,"-",17,48.2,0,3,1,0,0,4,0,3,0,0,0,3,0,6,1,0,0,7,null,null,null,null,null,null,null,null,null,null,null,null,null,null,null,null,null,null,null,null,null,{"$f":"IF((SUM(FN211:FR211))>0,AVERAGE(FN211:FR211),0)","v":17.600000000000001},{"$f":"IF((SUM(FN211:FT211))>0,AVERAGE(FN211:FT211),0)","v":20.285714285714285},null,null,null,null,null,{"$f":"IF((SUM(FU211:FY211))>0,AVERAGE(FU211:FY211),0)","v":13.4},{"$f":"IF((SUM(FU211:GA211))>0,AVERAGE(FU211:GA211),0)","v":14.285714285714286},null,null,null,null,null,{"$f":"IF((SUM(GB211:GF211))>0,AVERAGE(GB211:GF211),0)","v":31},{"$f":"IF((SUM(GB211:GH211))>0,AVERAGE(GB211:GH211),0)","v":34.571428571428569},{"$f":"IF(FN112=\"-\",(IF(FN114=\"-\",\"-\",FN114)),(IF(FN114=\"-\",FN112,(SUM(FN112,FN114)))))","v":19},{"$f":"IF(FO112=\"-\",(IF(FO114=\"-\",\"-\",FO114)),(IF(FO114=\"-\",FO112,(SUM(FO112,FO114)))))","v":23},12,14,20,30,24,{"$f":"IF(FU112=\"-\",(IF(FU114=\"-\",\"-\",FU114)),(IF(FU114=\"-\",FU112,(SUM(FU112,FU114)))))","v":15},{"$f":"IF(FV112=\"-\",(IF(FV114=\"-\",\"-\",FV114)),(IF(FV114=\"-\",FV112,(SUM(FV112,FV114)))))","v":13},10,16,13,19,14,{"$f":"IF(GB112=\"-\",(IF(GB114=\"-\",\"-\",GB114)),(IF(GB114=\"-\",GB112,(SUM(GB112,GB114)))))","v":34},{"$f":"IF(GC112=\"-\",(IF(GC114=\"-\",\"-\",GC114)),(IF(GC114=\"-\",GC112,(SUM(GC112,GC114)))))","v":36},22,30,33,49,38]
["Wed",345,1,2,0,0,0,0,0,0,0,0,0,0,0,0,0,0,0,0,0,2,1,0,0,0,0,0,0,0,0,0,0,0,43.7,"-",41.2,46.8,"Wed",345,0,3,0,0,0,0,0,0,0,0,0,0,0,0,0,0,0,1,0,0,0,1,1,0,0,0,0,0,0,0,0,0,48.5,"-",33.5,57.1,"Wed",345,1,5,0,0,0,0,0,0,0,0,0,0,0,0,0,0,0,1,0,2,1,1,1,0,0,0,0,0,0,0,0,0,46.1,"-",33.5,57.1,1,2,0,0,0,3,0,3,0,0,0,3,1,5,0,0,0,6]
["Wed",400,0,3,0,0,0,0,0,0,0,0,0,0,0,0,0,0,0,1,1,1,0,0,0,0,0,0,0,0,0,0,0,0,36.1,"-",31.3,40.9,"Wed",400,0,1,0,0,0,0,0,0,0,0,0,0,0,0,0,0,0,0,0,0,1,0,0,0,0,0,0,0,0,0,0,0,47.3,"-",47.3,47.3,"Wed",400,0,4,0,0,0,0,0,0,0,0,0,0,0,0,0,0,0,1,1,1,1,0,0,0,0,0,0,0,0,0,0,0,38.900000000000006,"-",31.3,47.3,0,3,0,0,0,3,0,1,0,0,0,1,0,4,0,0,0,4]
["Wed",415,0,6,0,1,0,0,0,0,0,0,0,0,0,0,0,0,2,0,1,2,1,1,0,0,0,0,0,0,0,0,0,0,39.4,"-",26.4,51.8,"Wed",415,1,1,0,0,0,0,0,0,0,0,0,0,0,0,0,0,0,0,2,0,0,0,0,0,0,0,0,0,0,0,0,0,39.5,"-",39.4,39.5,"Wed",415,1,7,0,1,0,0,0,0,0,0,0,0,0,0,0,0,2,0,3,2,1,1,0,0,0,0,0,0,0,0,0,0,39.422222222222224,"-",26.4,51.8,0,6,1,0,0,7,1,1,0,0,0,2,1,7,1,0,0,9]
["Wed",430,1,13,0,1,0,0,0,0,1,0,0,0,0,0,0,0,1,6,2,3,2,2,0,0,0,0,0,0,0,0,0,0,39.1,49,28.1,53.5,"Wed",430,0,1,0,0,0,0,0,0,0,0,0,0,0,0,0,0,0,0,0,0,0,1,0,0,0,0,0,0,0,0,0,0,52.6,"-",52.6,52.6,"Wed",430,1,14,0,1,0,0,0,0,1,0,0,0,0,0,0,0,1,6,2,3,2,3,0,0,0,0,0,0,0,0,0,0,39.894117647058827,49,28.1,53.5,1,13,1,0,1,16,0,1,0,0,0,1,1,14,1,0,1,17,null,null,null,null,null,null,null,null,null,null,null,null,null,null,null,null,null,null,null,null,null,{"$f":"IF((SUM(FN215:FR215))>0,AVERAGE(FN215:FR215),0)","v":24},{"$f":"IF((SUM(FN215:FT215))>0,AVERAGE(FN215:FT215),0)","v":23.857142857142858},null,null,null,null,null,{"$f":"IF((SUM(FU215:FY215))>0,AVERAGE(FU215:FY215),0)","v":18},{"$f":"IF((SUM(FU215:GA215))>0,AVERAGE(FU215:GA215),0)","v":19.428571428571427},null,null,null,null,null,{"$f":"IF((SUM(GB215:GF215))>0,AVERAGE(GB215:GF215),0)","v":42},{"$f":"IF((SUM(GB215:GH215))>0,AVERAGE(GB215:GH215),0)","v":43.285714285714285},{"$f":"IF(FN116=\"-\",(IF(FN118=\"-\",\"-\",FN118)),(IF(FN118=\"-\",FN116,(SUM(FN116,FN118)))))","v":27},{"$f":"IF(FO116=\"-\",(IF(FO118=\"-\",\"-\",FO118)),(IF(FO118=\"-\",FO116,(SUM(FO116,FO118)))))","v":32},14,28,19,30,17,{"$f":"IF(FU116=\"-\",(IF(FU118=\"-\",\"-\",FU118)),(IF(FU118=\"-\",FU116,(SUM(FU116,FU118)))))","v":27},{"$f":"IF(FV116=\"-\",(IF(FV118=\"-\",\"-\",FV118)),(IF(FV118=\"-\",FV116,(SUM(FV116,FV118)))))","v":26},10,17,10,23,23,{"$f":"IF(GB116=\"-\",(IF(GB118=\"-\",\"-\",GB118)),(IF(GB118=\"-\",GB116,(SUM(GB116,GB118)))))","v":54},{"$f":"IF(GC116=\"-\",(IF(GC118=\"-\",\"-\",GC118)),(IF(GC118=\"-\",GC116,(SUM(GC116,GC118)))))","v":58},24,45,29,53,40]
["Wed",445,0,9,0,0,0,0,0,0,0,0,0,0,0,0,0,0,1,1,0,3,2,1,1,0,0,0,0,0,0,0,0,0,42.5,"-",29,55,"Wed",445,0,2,0,2,0,0,0,0,0,0,0,0,0,0,0,0,1,0,0,1,2,0,0,0,0,0,0,0,0,0,0,0,40.700000000000003,"-",27.4,48.7,"Wed",445,0,11,0,2,0,0,0,0,0,0,0,0,0,0,0,0,2,1,0,4,4,1,1,0,0,0,0,0,0,0,0,0,41.946153846153841,"-",27.4,55,0,9,0,0,0,9,0,2,2,0,0,4,0,11,2,0,0,13]
["Wed",500,1,10,0,4,0,0,0,0,0,0,0,0,0,0,1,0,2,0,2,3,2,2,2,1,0,0,0,0,0,0,0,0,43.6,59.1,16.8,63.9,"Wed",500,0,8,0,1,0,0,0,0,0,0,0,0,0,0,0,0,0,1,1,3,2,1,1,0,0,0,0,0,0,0,0,0,44.5,"-",32.9,57.7,"Wed",500,1,18,0,5,0,0,0,0,0,0,0,0,0,0,1,0,2,1,3,6,4,3,3,1,0,0,0,0,0,0,0,0,43.9375,59.1,16.8,63.9,1,10,4,0,0,15,0,8,1,0,0,9,1,18,5,0,0,24]
["Wed",515,1,21,0,3,0,0,0,0,0,0,0,0,0,0,0,0,6,5,6,1,4,2,1,0,0,0,0,0,0,0,0,0,38,47.4,25,58.2,"Wed",515,1,7,0,3,0,0,0,0,0,2,0,0,0,0,0,0,0,2,4,5,2,0,0,0,0,0,0,0,0,0,0,0,40.4,44.3,31.4,45.8,"Wed",515,2,28,0,6,0,0,0,0,0,2,0,0,0,0,0,0,6,7,10,6,6,2,1,0,0,0,0,0,0,0,0,0,38.821052631578944,45.849999999999994,25,58.2,1,21,3,0,0,25,1,7,3,0,2,13,2,28,6,0,2,38]
["Wed",530,2,25,0,1,0,0,0,0,1,0,0,0,0,0,0,1,3,1,7,4,5,7,1,0,0,0,0,0,0,0,0,0,42.3,51.2,20.7,56.1,"Wed",530,0,6,0,1,0,0,0,0,0,0,0,0,0,0,0,0,0,0,1,3,2,1,0,0,0,0,0,0,0,0,0,0,44.7,"-",38.4,50.7,"Wed",530,2,31,0,2,0,0,0,0,1,0,0,0,0,0,0,1,3,1,8,7,7,8,1,0,0,0,0,0,0,0,0,0,42.766666666666666,51.2,20.7,56.1,2,25,1,0,1,29,0,6,1,0,0,7,{"$f":"SUM(DK219+DQ219)","v":2},31,2,0,1,36,null,null,null,null,null,null,null,null,null,null,null,null,null,null,null,null,null,null,null,null,null,{"$f":"IF((SUM(FN219:FR219))>0,AVERAGE(FN219:FR219),0)","v":36.799999999999997},{"$f":"IF((SUM(FN219:FT219))>0,AVERAGE(FN219:FT219),0)","v":35},null,null,null,null,null,{"$f":"IF((SUM(FU219:FY219))>0,AVERAGE(FU219:FY219),0)","v":17.600000000000001},{"$f":"IF((SUM(FU219:GA219))>0,AVERAGE(FU219:GA219),0)","v":16.285714285714285},null,null,null,null,null,{"$f":"IF((SUM(GB219:GF219))>0,AVERAGE(GB219:GF219),0)","v":54.4},{"$f":"IF((SUM(GB219:GH219))>0,AVERAGE(GB219:GH219),0)","v":51.285714285714285},{"$f":"IF(FN120=\"-\",(IF(FN122=\"-\",\"-\",FN122)),(IF(FN122=\"-\",FN120,(SUM(FN120,FN122)))))","v":46},{"$f":"IF(FO120=\"-\",(IF(FO122=\"-\",\"-\",FO122)),(IF(FO122=\"-\",FO120,(SUM(FO120,FO122)))))","v":41},35,32,30,35,26,{"$f":"IF(FU120=\"-\",(IF(FU122=\"-\",\"-\",FU122)),(IF(FU122=\"-\",FU120,(SUM(FU120,FU122)))))","v":26},{"$f":"IF(FV120=\"-\",(IF(FV122=\"-\",\"-\",FV122)),(IF(FV122=\"-\",FV120,(SUM(FV120,FV122)))))","v":22},8,18,14,16,10,{"$f":"IF(GB120=\"-\",(IF(GB122=\"-\",\"-\",GB122)),(IF(GB122=\"-\",GB120,(SUM(GB120,GB122)))))","v":72},{"$f":"IF(GC120=\"-\",(IF(GC122=\"-\",\"-\",GC122)),(IF(GC122=\"-\",GC120,(SUM(GC120,GC122)))))","v":63},43,50,44,51,36]
["Wed",545,1,47,0,2,2,0,0,0,1,0,0,0,0,0,0,2,7,4,12,10,9,8,0,1,0,0,0,0,0,0,0,0,40.9,50.6,24.5,61.1,"Wed",545,0,14,0,0,0,0,0,4,0,0,0,0,0,0,0,0,0,1,1,9,4,2,1,0,0,0,0,0,0,0,0,0,44,49.2,33.700000000000003,56.7,"Wed",545,1,61,0,2,2,0,0,4,1,0,0,0,0,0,0,2,7,5,13,19,13,10,1,1,0,0,0,0,0,0,0,0,41.685915492957747,49.900000000000006,24.5,61.1,1,47,2,2,1,53,0,14,0,0,4,18,1,61,2,2,5,71]
["Wed",600,2,52,0,3,0,0,0,0,0,3,0,0,0,0,0,0,6,7,3,20,13,6,2,3,0,0,0,0,0,0,0,0,43.3,49.9,25.7,62.2,"Wed",600,0,19,0,4,0,0,0,1,2,0,0,0,0,0,0,0,0,4,7,6,8,1,0,0,0,0,0,0,0,0,0,0,42.2,47.2,30.5,51.4,"Wed",600,2,71,0,7,0,0,0,1,2,3,0,0,0,0,0,0,6,11,10,26,21,7,2,3,0,0,0,0,0,0,0,0,42.967441860465115,48.55,25.7,62.2,2,52,3,0,3,60,0,19,4,0,3,26,2,71,7,0,6,86]
["Wed",615,4,44,0,4,0,0,0,0,0,1,0,0,0,0,1,1,10,9,1,12,13,4,2,0,0,0,0,0,0,0,0,0,39.5,48.1,19.2,58.1,"Wed",615,1,19,0,3,1,0,0,0,0,0,0,0,0,0,0,0,0,3,8,7,1,3,1,1,0,0,0,0,0,0,0,0,43.1,51,32.6,63.9,"Wed",615,5,63,0,7,1,0,0,0,0,1,0,0,0,0,1,1,10,12,9,19,14,7,3,1,0,0,0,0,0,0,0,0,40.622077922077921,49.55,19.2,63.9,4,44,4,0,1,53,1,19,3,1,0,24,5,63,7,1,1,77]
["Wed",630,1,54,0,2,0,0,0,0,0,0,0,0,0,0,0,0,13,13,9,6,5,5,4,2,0,0,0,0,0,0,0,0,39,52.6,25.2,62.5,"Wed",630,2,33,0,2,1,0,0,0,0,2,0,0,0,0,0,0,0,1,10,7,10,9,2,1,0,0,0,0,0,0,0,0,45.7,51.9,34.1,60.8,"Wed",630,3,87,0,4,1,0,0,0,0,2,0,0,0,0,0,0,13,14,19,13,15,14,6,3,0,0,0,0,0,0,0,0,41.762886597938142,52.25,25.2,62.5,1,54,2,0,0,57,2,33,2,1,2,40,3,87,4,1,2,97,null,null,null,null,null,null,null,null,null,null,null,null,null,null,null,null,null,null,null,null,null,{"$f":"IF((SUM(FN223:FR223))>0,AVERAGE(FN223:FR223),0)","v":121.2},{"$f":"IF((SUM(FN223:FT223))>0,AVERAGE(FN223:FT223),0)","v":112.71428571428571},null,null,null,null,null,{"$f":"IF((SUM(FU223:FY223))>0,AVERAGE(FU223:FY223),0)","v":43},{"$f":"IF((SUM(FU223:GA223))>0,AVERAGE(FU223:GA223),0)","v":44},null,null,null,null,null,{"$f":"IF((SUM(GB223:GF223))>0,AVERAGE(GB223:GF223),0)","v":164.2},{"$f":"IF((SUM(GB223:GH223))>0,AVERAGE(GB223:GH223),0)","v":156.71428571428572},{"$f":"IF(FN124=\"-\",(IF(FN126=\"-\",\"-\",FN126)),(IF(FN126=\"-\",FN124,(SUM(FN124,FN126)))))","v":125},{"$f":"IF(FO124=\"-\",(IF(FO126=\"-\",\"-\",FO126)),(IF(FO126=\"-\",FO124,(SUM(FO124,FO126)))))","v":116},122,123,120,99,84,{"$f":"IF(FU124=\"-\",(IF(FU126=\"-\",\"-\",FU126)),(IF(FU126=\"-\",FU124,(SUM(FU124,FU126)))))","v":37},{"$f":"IF(FV124=\"-\",(IF(FV126=\"-\",\"-\",FV126)),(IF(FV126=\"-\",FV124,(SUM(FV124,FV126)))))","v":42},47,43,46,52,41,{"$f":"IF(GB124=\"-\",(IF(GB126=\"-\",\"-\",GB126)),(IF(GB126=\"-\",GB124,(SUM(GB124,GB126)))))","v":162},{"$f":"IF(GC124=\"-\",(IF(GC126=\"-\",\"-\",GC126)),(IF(GC126=\"-\",GC124,(SUM(GC124,GC126)))))","v":158},169,166,166,151,125]
["Wed",645,0,64,0,5,0,0,0,0,0,1,0,0,0,0,0,3,9,10,10,18,8,12,0,0,0,0,0,0,0,0,0,0,39.6,50.3,21.6,54.7,"Wed",645,1,36,0,3,1,0,0,0,0,0,0,0,0,0,0,0,3,3,11,14,5,4,1,0,0,0,0,0,0,0,0,0,41.5,47.9,27.5,57.3,"Wed",645,1,100,0,8,1,0,0,0,0,1,0,0,0,0,0,3,12,13,21,32,13,16,1,0,0,0,0,0,0,0,0,0,40.301801801801801,49.099999999999994,21.6,57.3,0,64,5,0,1,70,1,36,3,1,0,41,1,100,8,1,1,111]
["Wed",700,1,72,1,6,1,0,0,0,1,0,0,0,0,0,0,1,18,16,11,27,5,3,1,0,0,0,0,0,0,0,0,0,37.299999999999997,43.8,24.6,56.9,"Wed",700,2,44,0,7,0,0,0,0,0,1,0,0,0,0,1,2,3,5,17,5,18,2,1,0,0,0,0,0,0,0,0,0,40.6,47.9,19.3,58.7,"Wed",700,3,116,1,13,1,0,0,0,1,1,0,0,0,0,1,3,21,21,28,32,23,5,2,0,0,0,0,0,0,0,0,0,38.610294117647058,45.849999999999994,19.3,58.7,1,73,6,1,1,82,2,44,7,0,1,54,3,117,13,1,2,136]
["Wed",715,7,88,1,9,0,0,0,0,0,0,0,0,0,0,1,7,21,16,17,24,10,7,2,0,0,0,0,0,0,0,0,0,37.200000000000003,45.2,15.9,57.8,"Wed",715,3,70,0,7,3,0,0,0,0,0,0,0,0,2,0,0,6,24,32,13,3,3,0,0,0,0,0,0,0,0,0,0,36.6,41.6,12.2,53.9,"Wed",715,10,158,1,16,3,0,0,0,0,0,0,0,0,2,1,7,27,40,49,37,13,10,2,0,0,0,0,0,0,0,0,0,36.935106382978731,43.400000000000006,12.2,57.8,7,89,9,0,0,105,3,70,7,3,0,83,10,159,16,3,0,188]
["Wed",730,1,143,0,7,1,0,0,0,0,2,0,0,0,0,7,9,23,40,33,27,14,1,0,0,0,0,0,0,0,0,0,0,34.700000000000003,42.3,17.5,50.4,"Wed",730,2,94,1,13,0,0,0,0,0,2,0,0,0,0,0,6,8,43,30,20,4,1,0,0,0,0,0,0,0,0,0,0,35.700000000000003,41.6,22.4,50.1,"Wed",730,3,237,1,20,1,0,0,0,0,4,0,0,0,0,7,15,31,83,63,47,18,2,0,0,0,0,0,0,0,0,0,0,35.121052631578948,41.95,17.5,50.4,1,143,7,1,2,154,2,95,13,0,2,112,3,238,20,1,4,266,null,null,null,null,null,null,null,null,null,null,null,null,null,null,null,null,null,null,null,null,null,{"$f":"IF((SUM(FN227:FR227))>0,AVERAGE(FN227:FR227),0)","v":245.2},{"$f":"IF((SUM(FN227:FT227))>0,AVERAGE(FN227:FT227),0)","v":207.14285714285714},null,null,null,null,null,{"$f":"IF((SUM(FU227:FY227))>0,AVERAGE(FU227:FY227),0)","v":134.4},{"$f":"IF((SUM(FU227:GA227))>0,AVERAGE(FU227:GA227),0)","v":114.42857142857143},null,null,null,null,null,{"$f":"IF((SUM(GB227:GF227))>0,AVERAGE(GB227:GF227),0)","v":379.6},{"$f":"IF((SUM(GB227:GH227))>0,AVERAGE(GB227:GH227),0)","v":321.57142857142856},{"$f":"IF(FN128=\"-\",(IF(FN130=\"-\",\"-\",FN130)),(IF(FN130=\"-\",FN128,(SUM(FN128,FN130)))))","v":237},{"$f":"IF(FO128=\"-\",(IF(FO130=\"-\",\"-\",FO130)),(IF(FO130=\"-\",FO128,(SUM(FO128,FO130)))))","v":253},240,246,250,126,98,{"$f":"IF(FU128=\"-\",(IF(FU130=\"-\",\"-\",FU130)),(IF(FU130=\"-\",FU128,(SUM(FU128,FU130)))))","v":131},{"$f":"IF(FV128=\"-\",(IF(FV130=\"-\",\"-\",FV130)),(IF(FV130=\"-\",FV128,(SUM(FV128,FV130)))))","v":130},131,148,132,71,58,{"$f":"IF(GB128=\"-\",(IF(GB130=\"-\",\"-\",GB130)),(IF(GB130=\"-\",GB128,(SUM(GB128,GB130)))))","v":368},{"$f":"IF(GC128=\"-\",(IF(GC130=\"-\",\"-\",GC130)),(IF(GC130=\"-\",GC128,(SUM(GC128,GC130)))))","v":383},371,394,382,197,156]
["Wed",745,2,115,0,10,1,1,0,1,0,2,1,0,0,0,0,1,21,21,51,29,8,2,0,0,0,0,0,0,0,0,0,0,37,43.2,24.6,53.2,"Wed",745,2,129,1,18,0,0,0,0,0,0,0,0,0,0,0,0,16,42,64,23,3,2,0,0,0,0,0,0,0,0,0,0,36.5,40.5,25.6,52.7,"Wed",745,4,244,1,28,1,1,0,1,0,2,1,0,0,0,0,1,37,63,115,52,11,4,0,0,0,0,0,0,0,0,0,0,36.734982332155475,41.85,24.6,53.2,2,115,10,2,4,133,2,130,18,0,0,150,4,245,28,2,4,283]
["Wed",800,2,122,1,10,1,1,0,1,0,1,0,0,0,0,0,4,24,19,53,26,10,2,1,0,0,0,0,0,0,0,0,0,36.700000000000003,41.8,22.2,57.6,"Wed",800,1,111,1,9,1,0,0,2,1,0,0,0,0,0,1,2,7,28,51,30,7,0,0,0,0,0,0,0,0,0,0,0,37.200000000000003,41.6,19.100000000000001,47.5,"Wed",800,3,233,2,19,2,1,0,3,1,1,0,0,0,0,1,6,31,47,104,56,17,2,1,0,0,0,0,0,0,0,0,0,36.937735849056601,41.7,19.100000000000001,57.6,2,123,10,2,2,139,1,112,9,1,3,126,3,235,19,3,5,265]
["Wed",815,3,124,0,17,0,1,1,0,1,0,0,0,0,0,3,5,29,21,35,40,12,1,1,0,0,0,0,0,0,0,0,0,36.1,42.9,16.7,55,"Wed",815,0,83,1,12,2,1,0,2,1,0,0,0,0,0,0,8,19,32,24,15,4,0,0,0,0,0,0,0,0,0,0,0,34.1,40.9,20.399999999999999,48.8,"Wed",815,3,207,1,29,2,2,1,2,2,0,0,0,0,0,3,13,48,53,59,55,16,1,1,0,0,0,0,0,0,0,0,0,35.280722891566263,41.9,16.7,55,3,124,17,1,2,147,0,84,12,3,3,102,3,208,29,4,5,249]
["Wed",830,1,102,1,8,0,0,1,1,1,0,0,0,0,0,0,4,22,21,46,16,6,0,0,0,0,0,0,0,0,0,0,0,35.299999999999997,40.5,21.6,48.4,"Wed",830,1,87,0,10,1,0,0,0,1,0,0,0,0,0,2,1,6,32,30,17,8,3,1,0,0,0,0,0,0,0,0,0,36.799999999999997,42.5,18.8,56.5,"Wed",830,2,189,1,18,1,0,1,1,2,0,0,0,0,0,2,5,28,53,76,33,14,3,1,0,0,0,0,0,0,0,0,0,35.997674418604646,41.5,18.8,56.5,1,103,8,0,3,115,1,87,10,1,1,100,2,190,18,1,4,215,null,null,null,null,null,null,null,null,null,null,null,null,null,null,null,null,null,null,null,null,null,{"$f":"IF((SUM(FN231:FR231))>0,AVERAGE(FN231:FR231),0)","v":452.4},{"$f":"IF((SUM(FN231:FT231))>0,AVERAGE(FN231:FT231),0)","v":351.42857142857144},null,null,null,null,null,{"$f":"IF((SUM(FU231:FY231))>0,AVERAGE(FU231:FY231),0)","v":370.4},{"$f":"IF((SUM(FU231:GA231))>0,AVERAGE(FU231:GA231),0)","v":287},null,null,null,null,null,{"$f":"IF((SUM(GB231:GF231))>0,AVERAGE(GB231:GF231),0)","v":822.8},{"$f":"IF((SUM(GB231:GH231))>0,AVERAGE(GB231:GH231),0)","v":638.42857142857144},{"$f":"IF(FN132=\"-\",(IF(FN134=\"-\",\"-\",FN134)),(IF(FN134=\"-\",FN132,(SUM(FN132,FN134)))))","v":447},{"$f":"IF(FO132=\"-\",(IF(FO134=\"-\",\"-\",FO134)),(IF(FO134=\"-\",FO132,(SUM(FO132,FO134)))))","v":458},474,445,438,114,84,{"$f":"IF(FU132=\"-\",(IF(FU134=\"-\",\"-\",FU134)),(IF(FU134=\"-\",FU132,(SUM(FU132,FU134)))))","v":348},{"$f":"IF(FV132=\"-\",(IF(FV134=\"-\",\"-\",FV134)),(IF(FV134=\"-\",FV132,(SUM(FV132,FV134)))))","v":399},399,359,347,101,56,{"$f":"IF(GB132=\"-\",(IF(GB134=\"-\",\"-\",GB134)),(IF(GB134=\"-\",GB132,(SUM(GB132,GB134)))))","v":795},{"$f":"IF(GC132=\"-\",(IF(GC134=\"-\",\"-\",GC134)),(IF(GC134=\"-\",GC132,(SUM(GC132,GC134)))))","v":857},873,804,785,215,140]
["Wed",845,4,88,2,6,0,0,1,1,0,1,0,0,0,0,1,6,19,9,47,16,4,0,0,1,0,0,0,0,0,0,0,0,35.700000000000003,41.6,18.8,62.7,"Wed",845,0,77,2,4,0,1,0,0,1,2,0,0,0,1,11,11,11,14,15,17,7,0,0,0,0,0,0,0,0,0,0,0,32.6,42.5,14.6,48.9,"Wed",845,4,165,4,10,0,1,1,1,1,3,0,0,0,1,12,17,30,23,62,33,11,0,0,1,0,0,0,0,0,0,0,0,34.28052631578948,42.05,14.6,62.7,4,90,6,0,3,103,0,79,4,1,3,87,4,169,10,1,6,190]
["Wed",900,1,109,1,7,0,0,0,0,0,0,0,0,0,2,1,1,27,24,29,23,6,3,2,0,0,0,0,0,0,0,0,0,35.700000000000003,42.9,11.2,57.9,"Wed",900,1,68,2,11,1,0,0,1,0,0,1,0,0,0,1,3,6,11,38,15,6,4,1,0,0,0,0,0,0,0,0,0,37.700000000000003,42.5,18.2,55.2,"Wed",900,2,177,3,18,1,0,0,1,0,0,1,0,0,2,2,4,33,35,67,38,12,7,3,0,0,0,0,0,0,0,0,0,36.53743842364532,42.7,11.2,57.9,1,110,7,0,0,118,1,70,11,1,2,85,2,180,18,1,2,203]
["Wed",915,2,84,2,5,2,0,0,0,1,2,0,0,0,0,1,10,22,18,21,21,4,0,1,0,0,0,0,0,0,0,0,0,34.299999999999997,42.7,18.3,57.5,"Wed",915,0,66,0,15,1,1,0,0,1,1,0,0,0,0,0,7,19,21,18,16,3,1,0,0,0,0,0,0,0,0,0,0,34.200000000000003,42.1,21,53,"Wed",915,2,150,2,20,3,1,0,0,2,3,0,0,0,0,1,17,41,39,39,37,7,1,1,0,0,0,0,0,0,0,0,0,34.253551912568305,42.400000000000006,18.3,57.5,2,86,5,2,3,98,0,66,15,2,2,85,2,152,20,4,5,183]
["Wed",930,2,65,3,13,4,2,0,0,1,2,1,0,0,0,6,6,18,10,30,19,3,1,0,0,0,0,0,0,0,0,0,0,34.4,41.2,16.8,52.3,"Wed",930,4,56,4,10,0,0,0,1,1,0,0,0,0,1,7,9,10,23,14,11,1,0,0,0,0,0,0,0,0,0,0,0,31.3,40,11,46.7,"Wed",930,6,121,{"$f":"SUM(E235+AQ235)","v":7},{"$f":"SUM(F235+AR235)","v":23},{"$f":"SUM(G235+AS235)","v":4},{"$f":"SUM(H235+AT235)","v":2},{"$f":"SUM(I235+AU235)","v":0},{"$f":"SUM(J235+AV235)","v":1},{"$f":"SUM(K235+AW235)","v":2},{"$f":"SUM(L235+AX235)","v":2},{"$f":"SUM(M235+AY235)","v":1},{"$f":"SUM(N235+AZ235)","v":0},{"$f":"SUM(O235+BA235)","v":0},1,13,15,28,33,44,30,4,1,0,0,0,0,0,0,0,0,0,0,33.005917159763314,40.6,11,52.3,2,68,13,6,4,93,4,60,10,0,2,76,6,128,23,6,6,169,null,null,null,null,null,null,null,null,null,null,null,null,null,null,null,null,null,null,null,null,null,{"$f":"IF((SUM(FN235:FR235))>0,AVERAGE(FN235:FR235),0)","v":528.79999999999995},{"$f":"IF((SUM(FN235:FT235))>0,AVERAGE(FN235:FT235),0)","v":403.42857142857144},null,null,null,null,null,{"$f":"IF((SUM(FU235:FY235))>0,AVERAGE(FU235:FY235),0)","v":426},{"$f":"IF((SUM(FU235:GA235))>0,AVERAGE(FU235:GA235),0)","v":326.71428571428572},null,null,null,null,null,{"$f":"IF((SUM(GB235:GF235))>0,AVERAGE(GB235:GF235),0)","v":954.8},{"$f":"IF((SUM(GB235:GH235))>0,AVERAGE(GB235:GH235),0)","v":730.14285714285711},{"$f":"IF(FN136=\"-\",(IF(FN138=\"-\",\"-\",FN138)),(IF(FN138=\"-\",FN136,(SUM(FN136,FN138)))))","v":523},{"$f":"IF(FO136=\"-\",(IF(FO138=\"-\",\"-\",FO138)),(IF(FO138=\"-\",FO136,(SUM(FO136,FO138)))))","v":564},504,529,524,57,123,{"$f":"IF(FU136=\"-\",(IF(FU138=\"-\",\"-\",FU138)),(IF(FU138=\"-\",FU136,(SUM(FU136,FU138)))))","v":420},{"$f":"IF(FV136=\"-\",(IF(FV138=\"-\",\"-\",FV138)),(IF(FV138=\"-\",FV136,(SUM(FV136,FV138)))))","v":454},415,452,389,39,118,{"$f":"IF(GB136=\"-\",(IF(GB138=\"-\",\"-\",GB138)),(IF(GB138=\"-\",GB136,(SUM(GB136,GB138)))))","v":943},{"$f":"IF(GC136=\"-\",(IF(GC138=\"-\",\"-\",GC138)),(IF(GC138=\"-\",GC136,(SUM(GC136,GC138)))))","v":1018},919,981,913,96,241]
["Wed",945,0,51,2,14,0,0,0,0,1,2,0,0,0,0,2,3,11,11,26,11,6,0,0,0,0,0,0,0,0,0,0,0,35.6,42.3,16,47.2,"Wed",945,7,66,2,10,0,0,0,2,0,1,1,0,0,1,1,8,18,20,19,11,7,3,1,0,0,0,0,0,0,0,0,0,34.700000000000003,42.5,14.9,58.5,"Wed",945,7,117,4,24,0,0,0,2,1,3,1,0,0,1,3,11,29,31,45,22,13,3,1,0,0,0,0,0,0,0,0,0,35.096226415094343,42.4,14.9,58.5,0,53,14,0,3,70,7,68,10,0,4,89,7,121,24,0,7,159]
["Wed",1000,0,75,2,8,1,0,0,0,0,3,0,0,0,0,2,2,12,15,39,17,2,0,0,0,0,0,0,0,0,0,0,0,35.700000000000003,41.4,16.899999999999999,45.2,"Wed",1000,0,60,3,5,2,1,0,1,0,0,0,0,0,0,1,5,13,11,21,17,2,0,2,0,0,0,0,0,0,0,0,0,35.700000000000003,42.1,19,57.2,"Wed",1000,0,135,5,13,3,1,0,1,0,3,0,0,0,0,3,7,25,26,60,34,4,0,2,0,0,0,0,0,0,0,0,0,35.700000000000003,41.75,16.899999999999999,57.2,0,77,8,1,3,89,0,63,5,3,1,72,0,140,13,4,4,161]
["Wed",1015,1,64,5,6,1,0,0,0,0,0,0,0,0,0,1,4,9,11,34,17,0,0,1,0,0,0,0,0,0,0,0,0,35.5,40.5,19.3,57.8,"Wed",1015,2,69,1,12,0,1,0,1,1,0,0,0,0,0,1,2,12,24,28,16,4,0,0,0,0,0,0,0,0,0,0,0,35.6,42.3,18.7,49,"Wed",1015,3,133,6,18,1,1,0,1,1,0,0,0,0,0,2,6,21,35,62,33,4,0,1,0,0,0,0,0,0,0,0,0,35.553048780487806,41.4,18.7,57.8,1,69,6,1,0,77,2,70,12,1,2,87,3,139,18,2,2,164]
["Wed",1030,4,72,0,9,1,1,0,0,1,1,0,0,0,1,1,7,20,10,27,16,4,3,0,0,0,0,0,0,0,0,0,0,34.799999999999997,42.7,14.9,51.8,"Wed",1030,2,59,0,9,1,1,0,0,0,1,0,0,0,0,2,3,8,25,21,10,4,0,0,0,0,0,0,0,0,0,0,0,34.700000000000003,41.4,18.399999999999999,48,"Wed",1030,{"$f":"SUM(C239+AO239)","v":6},{"$f":"SUM(D239+AP239)","v":131},0,18,2,2,0,0,1,2,0,0,0,1,3,10,28,35,48,26,8,3,0,0,0,0,0,0,0,0,0,0,34.754938271604942,42.05,14.9,51.8,4,72,9,2,2,89,2,59,9,2,1,73,6,131,18,4,3,162,null,null,null,null,null,null,null,null,null,null,null,null,null,null,null,null,null,null,null,null,null,{"$f":"IF((SUM(FN239:FR239))>0,AVERAGE(FN239:FR239),0)","v":375.6},{"$f":"IF((SUM(FN239:FT239))>0,AVERAGE(FN239:FT239),0)","v":338.14285714285717},null,null,null,null,null,{"$f":"IF((SUM(FU239:FY239))>0,AVERAGE(FU239:FY239),0)","v":337.2},{"$f":"IF((SUM(FU239:GA239))>0,AVERAGE(FU239:GA239),0)","v":289.14285714285717},null,null,null,null,null,{"$f":"IF((SUM(GB239:GF239))>0,AVERAGE(GB239:GF239),0)","v":712.8},{"$f":"IF((SUM(GB239:GH239))>0,AVERAGE(GB239:GH239),0)","v":627.28571428571433},{"$f":"IF(FN140=\"-\",(IF(FN142=\"-\",\"-\",FN142)),(IF(FN142=\"-\",FN140,(SUM(FN140,FN142)))))","v":352},{"$f":"IF(FO140=\"-\",(IF(FO142=\"-\",\"-\",FO142)),(IF(FO142=\"-\",FO140,(SUM(FO140,FO142)))))","v":381},379,366,400,272,217,{"$f":"IF(FU140=\"-\",(IF(FU142=\"-\",\"-\",FU142)),(IF(FU142=\"-\",FU140,(SUM(FU140,FU142)))))","v":346},{"$f":"IF(FV140=\"-\",(IF(FV142=\"-\",\"-\",FV142)),(IF(FV142=\"-\",FV140,(SUM(FV140,FV142)))))","v":331},335,339,335,204,134,{"$f":"IF(GB140=\"-\",(IF(GB142=\"-\",\"-\",GB142)),(IF(GB142=\"-\",GB140,(SUM(GB140,GB142)))))","v":698},{"$f":"IF(GC140=\"-\",(IF(GC142=\"-\",\"-\",GC142)),(IF(GC142=\"-\",GC140,(SUM(GC140,GC142)))))","v":712},714,705,735,476,351]
["Wed",1045,2,71,1,10,0,0,0,0,0,2,0,0,0,2,1,2,16,12,23,23,6,1,0,0,0,0,0,0,0,0,0,0,35.799999999999997,41.6,11.8,50,"Wed",1045,3,69,0,11,1,0,0,0,0,1,0,0,0,1,2,2,3,30,38,7,2,0,0,0,0,0,0,0,0,0,0,0,35,39.1,14.1,48.4,"Wed",1045,5,140,1,21,1,0,0,0,0,3,0,0,0,3,3,4,19,42,61,30,8,1,0,0,0,0,0,0,0,0,0,0,35.402339181286543,40.35,11.8,50,2,72,10,0,2,86,3,69,11,1,1,85,5,141,21,1,3,171]
["Wed",1100,2,59,0,9,0,0,0,0,1,2,0,0,0,0,1,3,12,11,18,17,7,4,0,0,0,0,0,0,0,0,0,0,37.5,44.7,19.8,53.6,"Wed",1100,3,59,0,7,0,0,0,1,1,0,0,0,0,1,0,2,5,23,24,12,3,1,0,0,0,0,0,0,0,0,0,0,36.299999999999997,40.5,12.7,51,"Wed",1100,5,118,0,16,0,0,0,1,2,2,0,0,0,1,1,5,17,34,42,29,10,5,0,0,0,0,0,0,0,0,0,0,36.908333333333331,42.6,12.7,53.6,2,59,9,0,3,73,3,59,7,0,2,71,5,118,16,0,5,144]
["Wed",1115,1,70,1,6,0,0,0,0,1,0,0,0,0,0,0,1,16,14,22,20,5,1,0,0,0,0,0,0,0,0,0,0,36.4,41.8,24.7,51.5,"Wed",1115,5,73,0,8,0,1,0,0,0,1,0,0,0,1,2,1,21,25,27,10,1,0,0,0,0,0,0,0,0,0,0,0,33.4,39.1,14.1,45.7,"Wed",1115,6,143,1,14,0,1,0,0,1,1,0,0,0,1,2,2,37,39,49,30,6,{"$f":"SUM(X242+BJ242)","v":1},{"$f":"SUM(Y242+BK242)","v":0},{"$f":"SUM(Z242+BL242)","v":0},{"$f":"SUM(AA242+BM242)","v":0},{"$f":"SUM(AB242+BN242)","v":0},{"$f":"SUM(AC242+BO242)","v":0},{"$f":"SUM(AD242+BP242)","v":0},{"$f":"SUM(AE242+BQ242)","v":0},{"$f":"SUM(AF242+BR242)","v":0},{"$f":"SUM(AG242+BS242)","v":0},{"$f":"SUM(AH242+BT242)","v":0},34.819161676646701,40.450000000000003,14.1,51.5,1,71,6,0,1,79,5,73,8,1,1,88,6,144,14,1,2,167]
["Wed",1130,0,71,1,7,3,0,0,0,1,2,0,0,0,0,0,1,15,24,20,17,8,0,0,0,0,0,0,0,0,0,0,0,36.200000000000003,43.4,23.7,48.1,"Wed",1130,3,82,0,10,1,1,0,0,0,1,0,0,0,0,1,1,14,34,34,13,0,1,0,0,0,0,0,0,0,0,0,0,34.9,39.4,15.7,53,"Wed",1130,3,153,1,17,4,1,0,0,1,3,0,0,0,{"$f":"SUM(P243+BB243)","v":0},{"$f":"SUM(Q243+BC243)","v":1},{"$f":"SUM(R243+BD243)","v":2},{"$f":"SUM(S243+BE243)","v":29},{"$f":"SUM(T243+BF243)","v":58},{"$f":"SUM(U243+BG243)","v":54},{"$f":"SUM(V243+BH243)","v":30},{"$f":"SUM(W243+BI243)","v":8},1,0,0,0,0,0,0,0,0,0,0,35.503825136612029,41.4,15.7,53,0,72,7,3,3,85,3,82,10,2,1,98,3,154,17,5,4,183,null,null,null,null,null,null,null,null,null,null,null,null,null,null,null,null,null,null,null,null,null,{"$f":"IF((SUM(FN243:FR243))>0,AVERAGE(FN243:FR243),0)","v":354.8},{"$f":"IF((SUM(FN243:FT243))>0,AVERAGE(FN243:FT243),0)","v":350},null,null,null,null,null,{"$f":"IF((SUM(FU243:FY243))>0,AVERAGE(FU243:FY243),0)","v":308.2},{"$f":"IF((SUM(FU243:GA243))>0,AVERAGE(FU243:GA243),0)","v":288.42857142857144},null,null,null,null,null,{"$f":"IF((SUM(GB243:GF243))>0,AVERAGE(GB243:GF243),0)","v":663},{"$f":"IF((SUM(GB243:GH243))>0,AVERAGE(GB243:GH243),0)","v":638.42857142857144},{"$f":"IF(FN144=\"-\",(IF(FN146=\"-\",\"-\",FN146)),(IF(FN146=\"-\",FN144,(SUM(FN144,FN146)))))","v":322},{"$f":"IF(FO144=\"-\",(IF(FO146=\"-\",\"-\",FO146)),(IF(FO146=\"-\",FO144,(SUM(FO144,FO146)))))","v":365},341,348,398,343,333,{"$f":"IF(FU144=\"-\",(IF(FU146=\"-\",\"-\",FU146)),(IF(FU146=\"-\",FU144,(SUM(FU144,FU146)))))","v":293},{"$f":"IF(FV144=\"-\",(IF(FV146=\"-\",\"-\",FV146)),(IF(FV146=\"-\",FV144,(SUM(FV144,FV146)))))","v":329},317,308,294,262,216,{"$f":"IF(GB144=\"-\",(IF(GB146=\"-\",\"-\",GB146)),(IF(GB146=\"-\",GB144,(SUM(GB144,GB146)))))","v":615},{"$f":"IF(GC144=\"-\",(IF(GC146=\"-\",\"-\",GC146)),(IF(GC146=\"-\",GC144,(SUM(GC144,GC146)))))","v":694},658,656,692,605,549]
["Wed",1145,5,79,0,8,0,1,0,0,0,2,0,0,0,0,4,8,15,25,20,14,7,2,0,0,0,0,0,0,0,0,0,0,34.200000000000003,42.9,16.399999999999999,51.4,"Wed",1145,1,63,1,11,0,0,0,0,0,1,0,0,0,1,1,1,18,23,19,11,2,1,0,0,0,0,0,0,0,0,0,0,33.9,40.5,10.4,53.6,"Wed",1145,6,142,1,19,0,1,0,0,0,3,0,0,0,1,5,9,33,48,39,25,9,3,0,0,0,0,0,0,0,0,0,0,34.065697674418608,41.7,10.4,53.6,5,79,8,1,2,95,1,64,11,0,1,77,6,143,19,1,3,172]
["Wed",1200,6,71,2,5,1,0,0,0,0,2,0,0,0,0,4,0,18,30,17,12,5,1,0,0,0,0,0,0,0,0,0,0,34.200000000000003,41.8,15.2,52,"Wed",1200,1,75,0,8,0,1,0,2,0,1,0,0,0,1,1,8,6,31,22,18,1,0,0,0,0,0,0,0,0,0,0,0,34.299999999999997,41.2,12.7,45.6,"Wed",1200,7,146,2,13,1,1,0,2,0,3,0,0,0,1,5,8,24,61,39,30,6,1,0,0,0,0,0,0,0,0,0,0,34.25028571428571,41.5,12.7,52,6,73,5,1,2,87,1,75,8,1,3,88,7,148,13,2,5,175]
["Wed",1215,4,78,1,9,0,0,0,0,0,2,0,0,0,1,1,1,18,27,22,19,4,1,0,0,0,0,0,0,0,0,0,0,35.1,41.2,12.3,51.9,"Wed",1215,0,86,1,13,1,1,0,1,1,2,0,0,0,0,0,1,23,35,25,16,6,0,0,0,0,0,0,0,0,0,0,0,34.700000000000003,41.6,22,49.3,"Wed",1215,4,164,2,22,1,1,0,1,1,4,0,0,0,1,1,2,41,62,47,35,10,1,0,0,0,0,0,0,0,0,0,0,34.888000000000005,41.400000000000006,12.3,51.9,4,79,9,0,2,94,0,87,13,2,4,106,4,166,22,2,6,200]
["Wed",1230,0,93,1,9,0,0,0,0,0,1,0,0,0,0,0,4,25,19,26,24,6,0,0,0,0,0,0,0,0,0,0,0,35.299999999999997,42.1,23.8,48.8,"Wed",1230,1,75,0,12,0,1,0,2,2,1,0,0,0,0,0,2,8,28,29,14,11,2,0,0,0,0,0,0,0,0,0,0,37.200000000000003,44.5,22.8,53.4,"Wed",1230,1,168,1,21,0,1,0,2,2,2,0,0,0,0,0,6,33,47,55,38,17,2,0,0,0,0,0,0,0,0,0,0,36.202020202020201,43.3,22.8,53.4,0,94,9,0,1,104,1,75,12,1,5,94,1,169,21,1,6,198,null,null,null,null,null,null,null,null,null,null,null,null,null,null,null,null,null,null,null,null,null,{"$f":"IF((SUM(FN247:FR247))>0,AVERAGE(FN247:FR247),0)","v":361.8},{"$f":"IF((SUM(FN247:FT247))>0,AVERAGE(FN247:FT247),0)","v":371.71428571428572},null,null,null,null,null,{"$f":"IF((SUM(FU247:FY247))>0,AVERAGE(FU247:FY247),0)","v":322.2},{"$f":"IF((SUM(FU247:GA247))>0,AVERAGE(FU247:GA247),0)","v":313.57142857142856},null,null,null,null,null,{"$f":"IF((SUM(GB247:GF247))>0,AVERAGE(GB247:GF247),0)","v":684},{"$f":"IF((SUM(GB247:GH247))>0,AVERAGE(GB247:GH247),0)","v":685.28571428571433},{"$f":"IF(FN148=\"-\",(IF(FN150=\"-\",\"-\",FN150)),(IF(FN150=\"-\",FN148,(SUM(FN148,FN150)))))","v":346},{"$f":"IF(FO148=\"-\",(IF(FO150=\"-\",\"-\",FO150)),(IF(FO150=\"-\",FO148,(SUM(FO148,FO150)))))","v":360},332,372,399,382,411,{"$f":"IF(FU148=\"-\",(IF(FU150=\"-\",\"-\",FU150)),(IF(FU150=\"-\",FU148,(SUM(FU148,FU150)))))","v":309},{"$f":"IF(FV148=\"-\",(IF(FV150=\"-\",\"-\",FV150)),(IF(FV150=\"-\",FV148,(SUM(FV148,FV150)))))","v":331},334,318,319,351,233,{"$f":"IF(GB148=\"-\",(IF(GB150=\"-\",\"-\",GB150)),(IF(GB150=\"-\",GB148,(SUM(GB148,GB150)))))","v":655},{"$f":"IF(GC148=\"-\",(IF(GC150=\"-\",\"-\",GC150)),(IF(GC150=\"-\",GC148,(SUM(GC148,GC150)))))","v":691},666,690,718,733,644]
["Wed",1245,2,77,0,4,0,0,0,0,1,0,0,0,0,0,1,3,15,15,29,17,3,1,0,0,0,0,0,0,0,0,0,0,35.6,41.2,15.5,52.4,"Wed",1245,1,81,1,14,0,0,0,0,2,0,0,0,0,0,0,0,6,32,32,19,8,2,0,0,0,0,0,0,0,0,0,0,37.299999999999997,42.5,27.1,52.7,"Wed",1245,3,158,1,18,0,0,0,0,3,0,0,0,0,0,1,3,21,47,61,36,11,3,0,0,0,0,0,0,0,0,0,0,36.519672131147544,41.85,15.5,52.7,2,77,4,0,1,84,1,82,14,0,2,99,3,159,18,0,3,183]
["Wed",1300,5,73,0,9,0,0,0,0,0,1,0,0,0,0,1,5,10,28,24,16,3,0,1,0,0,0,0,0,0,0,0,0,34.9,40.5,15.8,56.7,"Wed",1300,1,71,0,7,0,2,0,0,0,0,0,0,0,0,4,4,9,14,39,9,1,1,0,0,0,0,0,0,0,0,0,0,34.700000000000003,39.1,18.2,54.2,"Wed",1300,6,144,0,16,0,2,0,0,0,1,0,0,0,0,5,9,19,42,63,25,4,1,1,0,0,0,0,0,0,0,0,0,34.804142011834315,39.799999999999997,15.8,56.7,5,73,9,0,1,88,1,71,7,2,0,81,6,144,16,2,1,169]
["Wed",1315,3,87,0,6,2,0,0,0,0,2,0,0,0,0,0,2,10,16,42,23,7,0,0,0,0,0,0,0,0,0,0,0,37.1,41.8,20.3,48.8,"Wed",1315,1,85,0,4,0,1,0,0,0,0,0,0,0,0,1,6,16,27,24,12,4,1,0,0,0,0,0,0,0,0,0,0,34.299999999999997,40.299999999999997,16.5,53.4,"Wed",1315,4,172,0,10,2,1,0,0,0,2,0,0,0,0,1,8,26,43,66,35,11,1,0,0,0,0,0,0,0,0,0,0,35.76596858638743,41.05,16.5,53.4,3,87,6,2,2,100,1,85,4,1,0,91,4,172,10,3,2,191]
["Wed",1745,6,87,1,4,0,0,0,0,0,0,0,0,0,0,1,0,14,13,27,31,9,2,1,0,0,0,0,0,0,0,0,0,38.4,44.3,19.100000000000001,55.4,"Wed",1745,5,108,1,4,0,0,0,0,0,0,0,0,0,0,8,5,7,32,42,18,2,4,0,0,0,0,0,0,0,0,0,0,35,40.5,15.9,52.3,"Wed",1745,11,195,2,8,0,0,0,0,0,0,0,0,0,0,9,5,21,45,69,49,11,6,1,0,0,0,0,0,0,0,0,0,36.542592592592591,42.4,15.9,55.4,6,88,4,0,0,98,5,109,4,0,0,118,11,197,8,0,0,216]
["Wed",2030,1,34,0,2,0,0,0,0,0,0,0,0,0,0,0,1,10,11,5,7,2,0,0,1,0,0,0,0,0,0,0,0,35.1,42.7,24.8,60.8,"Wed",2030,2,65,2,4,0,0,0,0,0,0,0,0,0,0,0,0,11,17,13,19,8,4,1,0,0,0,0,0,0,0,0,0,38.299999999999997,46.1,26.9,56.3,"Wed",2030,3,99,2,6,0,0,0,0,0,0,0,0,0,0,0,1,21,28,18,26,10,4,1,1,0,0,0,0,0,0,0,0,37.223636363636359,44.400000000000006,24.8,60.8,1,34,2,0,0,37,2,67,4,0,0,73,3,101,6,0,0,110,null,null,null,null,null,null,null,null,null,null,null,null,null,null,null,null,null,null,null,null,null,{"$f":"IF((SUM(FN279:FR279))>0,AVERAGE(FN279:FR279),0)","v":233},{"$f":"IF((SUM(FN279:FT279))>0,AVERAGE(FN279:FT279),0)","v":222.14285714285714},null,null,null,null,null,{"$f":"IF((SUM(FU279:FY279))>0,AVERAGE(FU279:FY279),0)","v":281.8},{"$f":"IF((SUM(FU279:GA279))>0,AVERAGE(FU279:GA279),0)","v":264.85714285714283},null,null,null,null,null,{"$f":"IF((SUM(GB279:GF279))>0,AVERAGE(GB279:GF279),0)","v":514.79999999999995},{"$f":"IF((SUM(GB279:GH279))>0,AVERAGE(GB279:GH279),0)","v":487},{"$f":"IF(FN180=\"-\",(IF(FN182=\"-\",\"-\",FN182)),(IF(FN182=\"-\",FN180,(SUM(FN180,FN182)))))","v":209},{"$f":"IF(FO180=\"-\",(IF(FO182=\"-\",\"-\",FO182)),(IF(FO182=\"-\",FO180,(SUM(FO180,FO182)))))","v":243},247,250,216,209,181,{"$f":"IF(FU180=\"-\",(IF(FU182=\"-\",\"-\",FU182)),(IF(FU182=\"-\",FU180,(SUM(FU180,FU182)))))","v":264},{"$f":"IF(FV180=\"-\",(IF(FV182=\"-\",\"-\",FV182)),(IF(FV182=\"-\",FV180,(SUM(FV180,FV182)))))","v":286},293,306,260,224,221,{"$f":"IF(GB180=\"-\",(IF(GB182=\"-\",\"-\",GB182)),(IF(GB182=\"-\",GB180,(SUM(GB180,GB182)))))","v":473},{"$f":"IF(GC180=\"-\",(IF(GC182=\"-\",\"-\",GC182)),(IF(GC182=\"-\",GC180,(SUM(GC180,GC182)))))","v":529},540,556,476,433,402]
["Thu",200,0,5,0,0,0,0,0,0,0,0,0,0,0,0,0,0,0,1,0,3,1,0,0,0,0,0,0,0,0,0,0,0,41.3,"-",31,49.2,"Thu",200,0,1,0,0,0,0,0,0,0,0,0,0,0,0,0,0,0,1,0,0,0,0,0,0,0,0,0,0,0,0,0,0,31.8,"-",31.8,31.8,"Thu",200,0,6,0,0,0,0,0,0,0,0,0,0,0,0,0,0,0,2,0,3,1,0,0,0,0,0,0,0,0,0,0,0,39.716666666666669,"-",31,49.2,0,5,0,0,0,5,0,1,0,0,0,1,0,6,0,0,0,6]
["Thu",1030,2,88,0,8,2,0,0,0,1,2,0,0,0,0,0,4,25,27,22,13,9,3,0,0,0,0,0,0,0,0,0,0,35.200000000000003,42.1,21,53,"Thu",1030,3,76,0,12,1,1,0,0,0,1,0,0,0,0,2,14,8,21,37,12,0,0,0,0,0,0,0,0,0,0,0,0,33.299999999999997,39.4,17.5,44.8,"Thu",1030,5,164,0,20,3,1,0,0,1,3,0,0,0,0,2,18,33,48,59,25,9,3,0,0,0,0,0,0,0,0,0,0,34.293401015228426,40.75,17.5,53,2,88,8,2,3,103,3,76,12,2,1,94,5,164,20,4,4,197]
["Thu",1600,2,108,2,14,0,0,0,0,2,2,0,0,0,0,0,7,20,27,39,29,7,0,1,0,0,0,0,0,0,0,0,0,36.1,42.5,20.7,57.2,"Thu",1600,0,112,1,9,0,0,0,0,0,0,0,0,0,0,4,1,11,57,33,13,1,1,1,0,0,0,0,0,0,0,0,0,34.700000000000003,39.6,16,59.7,"Thu",1600,2,220,3,{"$f":"SUM(F357+AR357)","v":23},{"$f":"SUM(G357+AS357)","v":0},{"$f":"SUM(H357+AT357)","v":0},{"$f":"SUM(I357+AU357)","v":0},0,2,2,0,0,0,0,4,8,31,84,72,42,8,1,2,0,0,0,0,0,0,0,0,0,35.422222222222231,41.05,16,59.7,2,110,14,0,4,130,0,113,9,0,0,122,2,223,23,0,4,252]
["Thu",2130,1,34,0,1,0,0,0,0,0,0,0,0,0,0,0,0,5,3,10,8,8,2,0,0,0,0,0,0,0,0,0,0,39.799999999999997,46.3,26.1,53.4,"Thu",2130,2,35,0,2,0,0,0,0,0,0,0,0,0,0,0,0,1,6,8,8,11,4,1,0,0,0,0,0,0,0,0,0,42.4,49.7,29.7,56.4,"Thu",2130,3,69,0,3,0,0,0,0,0,0,0,0,0,0,0,0,6,9,18,16,19,6,1,0,0,0,0,0,0,0,0,0,41.151999999999994,48,26.1,56.4,1,34,1,0,0,36,2,35,2,0,0,39,3,69,3,0,0,75]
["Fri",15,0,4,0,0,0,0,0,0,0,0,0,0,0,0,0,0,2,0,0,1,1,0,0,0,0,0,0,0,0,0,0,0,37.4,"-",29.1,47.7,"Fri",15,0,13,0,5,0,0,0,0,0,0,0,0,0,0,0,0,1,0,8,3,3,2,1,0,0,0,0,0,0,0,0,0,42.8,49.2,28.7,57.8,"Fri",15,0,{"$f":"SUM(D390+AP390)","v":17},{"$f":"SUM(E390+AQ390)","v":0},{"$f":"SUM(F390+AR390)","v":5},{"$f":"SUM(G390+AS390)","v":0},0,0,0,0,{"$f":"SUM(L390+AX390)","v":0},{"$f":"SUM(M390+AY390)","v":0},{"$f":"SUM(N390+AZ390)","v":0},{"$f":"SUM(O390+BA390)","v":0},0,0,0,3,0,8,4,4,2,1,0,0,0,0,0,0,0,0,0,{"$f":"IF(EB390=0,\"-\",IF(DP390=0,BU390,IF(DV390=0,AI390,SUM((AI390*DP390),(BU390*DV390))/EB390)))","v":41.81818181818182},{"$f":"IFERROR(IF(BV390=\"-\",IF(AJ390=\"-\",\"-\",AJ390),IF(AJ390=\"-\",BV390,AVERAGE(AJ390,BV390))), \"-\")","v":49.2},{"$f":"IF(MIN(AK390,BW390)=0,\"-\",MIN(AK390,BW390))","v":28.7},{"$f":"IF(MAX(AL390,BX390)=0,\"-\",MAX(AL390,BX390))","v":57.8},{"$f":"SUM(C390)","v":0},{"$f":"SUM(D390+E390)","v":4},{"$f":"F390","v":0},{"$f":"SUM(G390:H390)","v":0},{"$f":"SUM(I390:N390)","v":0},{"$f":"SUM(C390:N390)","v":4},{"$f":"SUM(AO390)","v":0},{"$f":"SUM(AP390+AQ390)","v":13},{"$f":"AR390","v":5},{"$f":"SUM(AS390:AT390)","v":0},{"$f":"SUM(AU390:AZ390)","v":0},{"$f":"SUM(AO390:AZ390)","v":18},0,17,5,0,0,22]
["Fri",545,0,39,0,2,0,0,0,0,0,0,0,0,0,0,0,1,6,7,9,6,10,1,0,0,1,0,0,0,0,0,0,0,39.299999999999997,47.6,24.9,68.2,"Fri",545,0,16,0,1,0,0,1,2,0,0,0,0,0,0,0,0,2,1,3,6,6,1,1,0,0,0,0,0,0,0,0,0,42.2,46.8,29.4,55.8,"Fri",545,0,55,0,3,0,0,1,2,0,0,0,0,0,0,0,1,8,8,12,12,16,2,1,0,1,0,0,0,0,0,0,0,40.250819672131151,47.2,24.9,68.2,0,39,2,0,0,41,0,16,1,0,3,20,0,55,3,0,3,61]
["Fri",1415,2,90,0,5,0,1,0,0,0,0,0,0,0,0,0,4,12,10,36,27,7,2,0,0,0,0,0,0,0,0,0,0,37.299999999999997,42.1,20.3,52,"Fri",1415,2,93,0,9,1,1,0,0,0,1,0,0,0,0,0,2,21,42,23,14,2,3,0,0,0,0,0,0,0,0,0,0,34.700000000000003,40.9,23.4,52,"Fri",1415,4,183,0,14,1,2,0,0,0,1,0,0,0,0,0,6,33,52,59,41,9,5,0,0,0,0,0,0,0,0,0,0,35.942926829268288,41.5,20.3,52,2,90,5,1,0,98,2,93,9,2,1,107,4,183,14,3,1,205]
["Fri",1945,2,45,0,2,0,0,0,0,0,0,0,0,0,0,0,3,11,3,7,10,11,3,0,1,0,0,0,0,0,0,0,0,38.5,47.4,21.5,61.5,"Fri",1945,1,43,2,0,0,0,0,0,0,0,0,0,0,0,1,3,6,10,6,9,8,3,0,0,0,0,0,0,0,0,0,0,37.5,46.8,19.100000000000001,51.6,"Fri",1945,3,88,2,2,0,0,0,0,0,0,0,0,0,0,1,6,17,13,13,19,19,6,0,1,0,0,0,0,0,0,0,0,38.015789473684208,47.099999999999994,19.100000000000001,61.5,2,45,2,0,0,49,1,45,0,0,0,46,{"$f":"SUM(DK468+DQ468)","v":3},{"$f":"SUM(DL468+DR468)","v":90},{"$f":"SUM(DM468+DS468)","v":2},0,0,95]
["Sat",115,0,6,0,1,0,0,0,0,0,0,0,0,0,0,0,0,1,1,1,1,1,1,0,1,0,0,0,0,0,0,0,0,41.9,"-",26.6,62.2,"Sat",115,0,6,0,1,0,0,0,0,0,0,0,0,0,0,0,0,1,3,2,0,0,1,0,0,0,0,0,0,0,0,0,0,37.4,"-",29.6,54.8,"Sat",115,0,12,0,2,0,0,0,0,0,0,0,0,0,0,0,0,2,4,3,1,1,2,0,1,0,0,0,0,0,0,0,0,39.65,"-",26.6,62.2,0,6,1,0,0,7,0,6,1,0,0,7,0,12,2,0,0,14]
["Sat",945,2,71,1,3,0,1,0,0,0,0,0,0,0,0,0,3,19,11,18,16,6,4,0,0,1,0,0,0,0,0,0,0,36.6,43.6,20.3,65.599999999999994,"Sat",945,1,47,1,3,0,0,0,0,0,1,1,0,0,0,5,3,7,5,19,8,5,1,1,0,0,0,0,0,0,0,0,0,35.299999999999997,43.2,15.2,56.6,"Sat",945,3,118,2,6,0,1,0,0,0,1,1,0,0,0,5,6,26,16,37,24,11,5,1,0,1,0,0,0,0,0,0,0,36.06818181818182,43.400000000000006,15.2,65.599999999999994,2,72,3,1,0,78,1,48,3,0,2,54,3,120,6,1,2,132]
["Sat",1515,6,64,1,4,0,2,0,0,0,0,0,0,0,0,1,2,13,8,20,25,8,0,0,0,0,0,0,0,0,0,0,0,37.5,43.6,18.5,49,"Sat",1515,4,90,2,2,0,0,0,0,0,0,0,0,0,0,0,5,18,24,25,18,6,0,1,0,0,1,0,0,0,0,0,0,35.5,42.1,21.8,73.7,"Sat",1515,10,154,3,6,0,2,0,0,0,0,0,0,0,0,1,7,31,32,45,43,14,{"$f":"SUM(X546+BJ546)","v":0},{"$f":"SUM(Y546+BK546)","v":1},{"$f":"SUM(Z546+BL546)","v":0},{"$f":"SUM(AA546+BM546)","v":0},{"$f":"SUM(AB546+BN546)","v":1},{"$f":"SUM(AC546+BO546)","v":0},{"$f":"SUM(AD546+BP546)","v":0},{"$f":"SUM(AE546+BQ546)","v":0},{"$f":"SUM(AF546+BR546)","v":0},{"$f":"SUM(AG546+BS546)","v":0},{"$f":"SUM(AH546+BT546)","v":0},36.380000000000003,42.85,18.5,73.7,6,65,4,2,0,77,4,92,2,0,0,98,10,157,6,2,0,175]
["Sat",2045,1,22,0,2,0,0,0,0,0,0,0,0,0,0,0,2,3,5,3,3,5,2,1,1,0,0,0,0,0,0,0,0,39.799999999999997,47.9,23.2,64.5,"Sat",2045,0,39,1,3,0,0,0,0,0,0,0,0,0,0,0,0,1,10,13,14,2,2,1,0,0,0,0,0,0,0,0,0,39.6,43.8,29.6,57,"Sat",2045,1,61,1,5,0,0,0,0,0,0,0,0,0,0,0,2,4,15,16,17,7,4,2,1,0,0,0,0,0,0,0,0,39.673529411764704,45.849999999999994,23.2,64.5,1,22,2,0,0,25,0,40,3,0,0,43,1,62,5,0,0,68]
["Sat",2330,0,24,0,1,0,0,0,0,0,0,0,0,0,0,0,1,2,10,2,4,4,1,1,0,0,0,0,0,0,0,0,0,38,46.1,24,56.6,"Sat",2330,1,23,0,1,0,0,0,0,0,0,0,0,0,0,0,1,4,2,7,3,3,5,0,0,0,0,0,0,0,0,0,0,40.1,50.6,22.1,54.9,"Sat",2330,1,47,0,2,0,0,0,0,0,0,0,0,0,0,0,2,6,12,9,7,7,6,1,0,0,0,0,0,0,0,0,0,39.049999999999997,48.35,22.1,56.6,0,24,1,0,0,25,1,23,1,0,0,25,1,47,2,0,0,50]
["Sun",500,0,10,0,0,0,0,0,0,0,0,0,0,0,0,0,0,1,2,2,4,1,0,0,0,0,0,0,0,0,0,0,0,38,"-",28.5,46.1,"Sun",500,0,8,0,0,0,0,0,0,0,0,0,0,0,0,0,0,0,2,3,0,1,2,0,0,0,0,0,0,0,0,0,0,42,"-",33.200000000000003,54.5,"Sun",500,0,18,0,0,0,0,0,0,0,0,0,0,0,0,0,0,1,4,5,4,2,2,0,0,0,0,0,0,0,0,0,0,39.777777777777779,"-",28.5,54.5,0,10,0,0,0,10,0,8,0,0,0,8,0,18,0,0,0,18]
["Sun",1330,2,84,1,3,0,1,0,0,0,0,0,0,0,0,1,8,11,19,20,19,11,1,1,0,0,0,0,0,0,0,0,0,36.299999999999997,44.5,19.600000000000001,55.5,"Sun",1330,5,90,0,1,0,0,0,0,0,0,0,0,0,0,0,0,8,17,32,24,12,3,0,0,0,0,0,0,0,0,0,0,38.6,45,26.3,51.2,"Sun",1330,7,174,1,4,0,1,0,0,0,0,0,0,0,0,1,8,19,36,52,43,23,4,1,0,0,0,0,0,0,0,0,0,37.4807486631016,44.75,19.600000000000001,55.5,2,85,3,1,0,91,5,90,1,0,0,96,7,175,4,1,0,187]
["Sun",1900,0,63,0,2,0,0,0,0,0,0,0,0,0,0,0,3,12,12,14,13,5,6,0,0,0,0,0,0,0,0,0,0,37.200000000000003,46.8,24.2,54.9,"Sun",1900,2,51,1,1,0,0,0,0,0,0,0,0,0,0,0,0,5,15,12,12,8,2,0,1,0,0,0,0,0,0,0,0,39.1,45.9,28.4,64.3,"Sun",1900,2,114,1,3,0,0,0,0,0,0,0,0,0,0,0,3,17,27,26,25,13,8,0,1,0,0,0,0,0,0,0,0,38.070833333333333,46.349999999999994,24.2,64.3,0,63,2,0,0,65,2,52,1,0,0,55,2,115,3,0,0,120]
["WD Ave",30,{"$f":"IF(C7+C103+C199+C295+C391=0,0,AVERAGE(C7,C103,C199,C295,C391))","v":0},4,0,0.8,0,0,0,0,0,0,0,0,0,0,0,0.2,0.8,0.4,0.8,1.4,0.4,0.4,0.4,0,0,0,0,0,0,0,0,0,{"$f":"IF(SUM(AI7,AI103,AI199,AI295,AI391)=0,\"-\",AVERAGEIF(B5:B484,B679,AI5:AI484))","v":39.06},{"$f":"IF(SUM(AJ7,AJ103,AJ199,AJ295,AJ391)=0,\"-\",AVERAGEIF(B5:B484,B679,AJ5:AJ484))","v":"-"},22.3,58.6,"WD Ave",30,{"$f":"IF(AO7+AO103+AO199+AO295+AO391=0,0,AVERAGE(AO7,AO103,AO199,AO295,AO391))","v":0.6},6.2,0,0.6,0,0,0,0,0,0,0,0,0,0,0,0,0,0.8,1.8,1,1.8,1.4,0.2,0.2,0.2,0,0,0,0,0,0,0,{"$f":"IF(SUM(BU7,BU103,BU199,BU295,BU391)=0,\"-\",AVERAGEIF(AN5:AN484,AN679,BU5:BU484))","v":44.560000000000009},{"$f":"IF(SUM(BV7,BV103,BV199,BV295,BV391)=0,\"-\",AVERAGEIF(AN5:AN484,AN679,BV5:BV484))","v":48.3},30.2,65.900000000000006,"WD Ave",30,{"$f":"IF(CA7+CA103+CA199+CA295+CA391=0,0,AVERAGE(CA7,CA103,CA199,CA295,CA391))","v":0.6},10.199999999999999,0,1.4,0,0,0,0,0,0,0,0,0,0,0,0.2,0.8,1.2,2.6,2.4,2.2000000000000002,1.8,0.6,0.2,0.2,0,0,0,0,0,0,0,43.138939393939395,48.3,22.3,65.900000000000006,0,4,0.8,0,0,4.8,0.6,6.2,0.6,0,0,7.3999999999999995,0.6,10.199999999999999,1.4,0,0,12.2]
["WD Ave",315,{"$f":"IF(C18+C114+C210+C306+C402=0,0,AVERAGE(C18,C114,C210,C306,C402))","v":0},6.2,0,0.4,0,0,0,0,0,0,0,0,0,0,0,0.4,0.4,0.8,1.6,1.8,1.2,0.2,0.2,0,0,0,0,0,0,0,0,0,{"$f":"IF(SUM(AI18,AI114,AI210,AI306,AI402)=0,\"-\",AVERAGEIF(B5:B484,B690,AI5:AI484))","v":38.86},{"$f":"IF(SUM(AJ18,AJ114,AJ210,AJ306,AJ402)=0,\"-\",AVERAGEIF(B5:B484,B690,AJ5:AJ484))","v":"-"},24.6,56.6,"WD Ave",315,{"$f":"IF(AO18+AO114+AO210+AO306+AO402=0,0,AVERAGE(AO18,AO114,AO210,AO306,AO402))","v":0},5,0,0.2,0,0,0,0,0,0,0,0,0,0,0,0.2,0.6,0.8,1,1.4,0.6,0.2,0,0.2,0,0,0.2,0,0,0,0,0,{"$f":"IF(SUM(BU18,BU114,BU210,BU306,BU402)=0,\"-\",AVERAGEIF(AN5:AN484,AN690,BU5:BU484))","v":42.179999999999993},{"$f":"IF(SUM(BV18,BV114,BV210,BV306,BV402)=0,\"-\",AVERAGEIF(AN5:AN484,AN690,BV5:BV484))","v":"-"},24.9,78.099999999999994,"WD Ave",315,{"$f":"IF(CA18+CA114+CA210+CA306+CA402=0,0,AVERAGE(CA18,CA114,CA210,CA306,CA402))","v":0},11.2,0,0.6,0,0,0,0,0,0,0,0,0,0,0,0.6,1,1.6,2.6,3.2,1.8,0.4,0.2,0.2,0,0,0.2,0,0,0,0,0,39.925179487179484,"-",24.6,78.099999999999994,0,6.2,0.4,0,0,6.6000000000000005,0,5,0.2,0,0,5.2,0,11.2,0.60000000000000009,0,0,11.8]
["WD Ave",845,{"$f":"IF(C40+C136+C232+C328+C424=0,0,AVERAGE(C40,C136,C232,C328,C424))","v":2.6},89.2,1.4,6.2,1,0.4,0.2,0.4,0,0.6,0,0,0,0,0.8,5.2,17.2,18.399999999999999,28.8,22.2,7.8,1,0.2,0.2,0.2,0,0,0,0,0,0,0,{"$f":"IF(SUM(AI40,AI136,AI232,AI328,AI424)=0,\"-\",AVERAGEIF(B5:B484,B712,AI5:AI484))","v":36.159999999999997},{"$f":"IF(SUM(AJ40,AJ136,AJ232,AJ328,AJ424)=0,\"-\",AVERAGEIF(B5:B484,B712,AJ5:AJ484))","v":43.100000000000009},18.8,69.8,"WD Ave",845,{"$f":"IF(AO40+AO136+AO232+AO328+AO424=0,0,AVERAGE(AO40,AO136,AO232,AO328,AO424))","v":0.4},78.2,0.6,7.4,0,1.4,0.2,0.8,0.8,0.8,0,0.2,0,0.2,2.4,6,12.2,21,24.4,15.6,7.2,1.8,0,0,0,0,0,0,0,0,0,0,{"$f":"IF(SUM(BU40,BU136,BU232,BU328,BU424)=0,\"-\",AVERAGEIF(AN5:AN484,AN712,BU5:BU484))","v":35.260000000000005},{"$f":"IF(SUM(BV40,BV136,BV232,BV328,BV424)=0,\"-\",AVERAGEIF(AN5:AN484,AN712,BV5:BV484))","v":42.6},14.6,52.8,"WD Ave",845,{"$f":"IF(CA40+CA136+CA232+CA328+CA424=0,0,AVERAGE(CA40,CA136,CA232,CA328,CA424))","v":3},167.4,2,13.6,1,1.8,0.4,1.2,0.8,1.4,0,0.2,0,0.2,3.2,11.2,29.4,39.4,53.2,37.799999999999997,15,2.8,0.2,0.2,0.2,0,0,0,0,0,0,0,35.784814822891846,42.850000000000009,14.6,69.8,2.6,90.600000000000009,6.2,1.4,1.2000000000000002,102.00000000000001,0.4,78.8,7.4,1.4,2.8000000000000003,90.800000000000011,3,169.4,13.600000000000001,2.8,4,192.8]
["WD Ave",1715,{"$f":"IF(C74+C170+C266+C362+C458=0,0,AVERAGE(C74,C170,C266,C362,C458))","v":1.6},99,0,4,0.2,0.4,0,0.2,0.4,0.6,0,0,0,0.2,0.6,2,14,20,37.4,21,9.1999999999999993,1.4,0.4,0,0.2,0,0,0,0,0,0,0,{"$f":"IF(SUM(AI74,AI170,AI266,AI362,AI458)=0,\"-\",AVERAGEIF(B5:B484,B746,AI5:AI484))","v":37.1},{"$f":"IF(SUM(AJ74,AJ170,AJ266,AJ362,AJ458)=0,\"-\",AVERAGEIF(B5:B484,B746,AJ5:AJ484))","v":43.280000000000008},12.8,69,"WD Ave",1715,{"$f":"IF(AO74+AO170+AO266+AO362+AO458=0,0,AVERAGE(AO74,AO170,AO266,AO362,AO458))","v":1.8},124.8,1.8,5.6,0.2,0.8,0.2,0.2,0.2,0.8,0,0,0.4,1.8,4.2,9.8000000000000007,19.8,37,34.6,22.6,4.8,1.2,0,0.2,0,0,0,0,0,0,0,0,{"$f":"IF(SUM(BU74,BU170,BU266,BU362,BU458)=0,\"-\",AVERAGEIF(AN5:AN484,AN746,BU5:BU484))","v":33.88000000000001},{"$f":"IF(SUM(BV74,BV170,BV266,BV362,BV458)=0,\"-\",AVERAGEIF(AN5:AN484,AN746,BV5:BV484))","v":40.86},5.5,61.4,"WD Ave",1715,{"$f":"IF(CA74+CA170+CA266+CA362+CA458=0,0,AVERAGE(CA74,CA170,CA266,CA362,CA458))","v":3.4},223.8,1.8,9.6,0.4,1.2,0.2,0.4,0.6,1.4,0,0,0.4,2,4.8,11.8,33.799999999999997,57,72,43.6,14,2.6,0.4,0.2,0.2,0,0,0,0,0,0,0,35.274192500272292,42.070000000000007,5.5,69,1.6,99,4,0.60000000000000009,1.2000000000000002,106.4,1.8,126.6,5.6,1,1.4000000000000001,136.39999999999998,3.4000000000000004,225.6,9.6,1.6,2.6000000000000005,242.79999999999998]
["WD Ave",2245,{"$f":"IF(C96+C192+C288+C384+C480=0,0,AVERAGE(C96,C192,C288,C384,C480))","v":0.2},19,0.4,0.8,0,0,0,0,0,0,0,0,0,0,0,1.6,2.4,3.2,5.6,4,2.4,0.8,0.2,0.2,0,0,0,0,0,0,0,0,{"$f":"IF(SUM(AI96,AI192,AI288,AI384,AI480)=0,\"-\",AVERAGEIF(B5:B484,B768,AI5:AI484))","v":37.780000000000008},{"$f":"IF(SUM(AJ96,AJ192,AJ288,AJ384,AJ480)=0,\"-\",AVERAGEIF(B5:B484,B768,AJ5:AJ484))","v":45.900000000000006},20.5,62.9,"WD Ave",2245,{"$f":"IF(AO96+AO192+AO288+AO384+AO480=0,0,AVERAGE(AO96,AO192,AO288,AO384,AO480))","v":0},21.8,0,0.6,0.2,0,0,0,0,0,0,0,0,0,0,1,4,5,4.8,3.8,2.4,0.8,0.6,0.2,0,0,0,0,0,0,0,0,{"$f":"IF(SUM(BU96,BU192,BU288,BU384,BU480)=0,\"-\",AVERAGEIF(AN5:AN484,AN768,BU5:BU484))","v":37.200000000000003},{"$f":"IF(SUM(BV96,BV192,BV288,BV384,BV480)=0,\"-\",AVERAGEIF(AN5:AN484,AN768,BV5:BV484))","v":45.12},22.1,60.6,"WD Ave",2245,{"$f":"IF(CA96+CA192+CA288+CA384+CA480=0,0,AVERAGE(CA96,CA192,CA288,CA384,CA480))","v":0.2},40.799999999999997,0.4,1.4,0.2,0,0,0,0,0,0,0,0,0,0,2.6,6.4,8.1999999999999993,10.4,7.8,4.8,1.6,0.8,0.4,0,0,0,0,0,0,0,0,37.446501988150359,45.510000000000005,20.5,62.9,0.2,19.399999999999999,0.8,0,0,20.399999999999999,0,21.8,0.6,0.2,0,22.6,0.2,41.2,1.4,0.2,0,43]
["7 Day Ave",415,{"$f":"IF(C22+C118+C214+C310+C406+C502+C598=0,0,AVERAGE(C22,C118,C214,C310,C406,C502,C598))","v":0.14285714285714285},7.1428571428571432,0,0.2857142857142857,0,0,0,0,0,0,0,0,0,0,0,0.14285714285714285,1.1428571428571428,1.4285714285714286,1.2857142857142858,1.8571428571428572,0.7142857142857143,0.5714285714285714,0.42857142857142855,0,0,0,0,0,0,0,0,0,{"$f":"IF(SUM(AI22,AI118,AI214,AI310,AI406,AI502,AI598)=0,\"-\",AVERAGEIF(B5:B676,B790,AI5:AI676))","v":38.200000000000003},{"$f":"IF(SUM(AJ22,AJ118,AJ214,AJ310,AJ406,AJ502,AJ598)=0,\"-\",AVERAGEIF(B5:B676,B790,AJ5:AJ676))","v":49.3},22.8,58.4,"7 Day Ave",415,{"$f":"IF(AO22+AO118+AO214+AO310+AO406+AO502+AO598=0,0,AVERAGE(AO22,AO118,AO214,AO310,AO406,AO502,AO598))","v":0.14285714285714285},2.7142857142857144,0,0.2857142857142857,0,0,0,0,0,0,0,0,0,0,0,0,0,0.42857142857142855,0.8571428571428571,0.7142857142857143,0.8571428571428571,0.14285714285714285,0.14285714285714285,0,0,0,0,0,0,0,0,0,{"$f":"IF(SUM(BU22,BU118,BU214,BU310,BU406,BU502,BU598)=0,\"-\",AVERAGEIF(AN5:AN676,AN790,BU5:BU676))","v":41.657142857142858},{"$f":"IF(SUM(BV22,BV118,BV214,BV310,BV406,BV502,BV598)=0,\"-\",AVERAGEIF(AN5:AN676,AN790,BV5:BV676))","v":"-"},33.1,55.9,"7 Day Ave",415,{"$f":"IF(CA22+CA118+CA214+CA310+CA406+CA502+CA598=0,0,AVERAGE(CA22,CA118,CA214,CA310,CA406,CA502,CA598))","v":0.2857142857142857},9.8571428571428577,0,0.5714285714285714,0,0,0,0,0,0,0,0,0,0,0,0.14285714285714285,1.1428571428571428,1.8571428571428572,2.1428571428571428,2.5714285714285716,1.5714285714285714,0.7142857142857143,0.5714285714285714,0,0,0,0,0,0,0,0,0,39.851526251526252,49.3,22.8,58.4,0.14285714285714285,7.1428571428571432,0.2857142857142857,0,0,7.5714285714285721,0.14285714285714285,2.7142857142857144,0.2857142857142857,0,0,3.1428571428571428,0.2857142857142857,9.8571428571428577,0.5714285714285714,0,0,10.714285714285715]
["7 Day Ave",1245,{"$f":"IF(C56+C152+C248+C344+C440+C536+C632=0,0,AVERAGE(C56,C152,C248,C344,C440,C536,C632))","v":1.2857142857142858},76.285714285714292,0.14285714285714285,4.7142857142857144,0.7142857142857143,0.42857142857142855,0,0,0.42857142857142855,1.2857142857142858,0.2857142857142857,0,0,0.14285714285714285,1.1428571428571428,3.7142857142857144,14.285714285714286,14.714285714285714,24.428571428571427,17.571428571428573,7.4285714285714288,1.2857142857142858,0.7142857142857143,0.14285714285714285,0,0,0,0,0,0,0,0,{"$f":"IF(SUM(AI56,AI152,AI248,AI344,AI440,AI536,AI632)=0,\"-\",AVERAGEIF(B5:B676,B824,AI5:AI676))","v":36.385714285714286},{"$f":"IF(SUM(AJ56,AJ152,AJ248,AJ344,AJ440,AJ536,AJ632)=0,\"-\",AVERAGEIF(B5:B676,B824,AJ5:AJ676))","v":43.014285714285712},12.4,63.3,"7 Day Ave",1245,{"$f":"IF(AO56+AO152+AO248+AO344+AO440+AO536+AO632=0,0,AVERAGE(AO56,AO152,AO248,AO344,AO440,AO536,AO632))","v":1.2857142857142858},82.285714285714292,1,7.2857142857142856,0.14285714285714285,0.14285714285714285,0,0.14285714285714285,0.5714285714285714,0.2857142857142857,0,0,0.14285714285714285,1.4285714285714286,2.2857142857142856,0.8571428571428571,11.714285714285714,24.428571428571427,28.428571428571427,16.571428571428573,5.4285714285714288,1.5714285714285714,0.2857142857142857,0,0,0,0,0,0,0,0,0,{"$f":"IF(SUM(BU56,BU152,BU248,BU344,BU440,BU536,BU632)=0,\"-\",AVERAGEIF(AN5:AN676,AN824,BU5:BU676))","v":35.671428571428564},{"$f":"IF(SUM(BV56,BV152,BV248,BV344,BV440,BV536,BV632)=0,\"-\",AVERAGEIF(AN5:AN676,AN824,BV5:BV676))","v":41.9},7.7,59.2,"7 Day Ave",1245,{"$f":"IF(CA56+CA152+CA248+CA344+CA440+CA536+CA632=0,0,AVERAGE(CA56,CA152,CA248,CA344,CA440,CA536,CA632))","v":2.5714285714285716},158.57142857142858,1.1428571428571428,12,0.8571428571428571,0.5714285714285714,0,0.14285714285714285,1,1.5714285714285714,0.2857142857142857,0,0.14285714285714285,1.5714285714285714,3.4285714285714284,4.5714285714285712,26,39.142857142857146,52.857142857142854,34.142857142857146,12.857142857142858,2.8571428571428572,1,0.14285714285714285,0,0,0,0,0,0,0,0,35.977068394857028,42.457142857142856,7.7,63.3,1.2857142857142858,76.428571428571431,4.7142857142857144,1.1428571428571428,2,85.571428571428584,1.2857142857142858,83.285714285714292,7.2857142857142856,0.2857142857142857,0.99999999999999989,93.142857142857153,2.5714285714285716,159.71428571428572,12,1.4285714285714284,3,178.71428571428572]
["7 Day Ave",1815,{"$f":"IF(C78+C174+C270+C366+C462+C558+C654=0,0,AVERAGE(C78,C174,C270,C366,C462,C558,C654))","v":2.5714285714285716},64.142857142857139,0.5714285714285714,2.7142857142857144,0,0,0,0,0.2857142857142857,0.14285714285714285,0,0,0,0,0.5714285714285714,1.2857142857142858,10.428571428571429,11.428571428571429,16.714285714285715,18,9,2.5714285714285716,0.42857142857142855,0,0,0,0,0,0,0,0,0,{"$f":"IF(SUM(AI78,AI174,AI270,AI366,AI462,AI558,AI654)=0,\"-\",AVERAGEIF(B5:B676,B846,AI5:AI676))","v":38.071428571428569},{"$f":"IF(SUM(AJ78,AJ174,AJ270,AJ366,AJ462,AJ558,AJ654)=0,\"-\",AVERAGEIF(B5:B676,B846,AJ5:AJ676))","v":45.157142857142858},15.9,59.1,"7 Day Ave",1815,{"$f":"IF(AO78+AO174+AO270+AO366+AO462+AO558+AO654=0,0,AVERAGE(AO78,AO174,AO270,AO366,AO462,AO558,AO654))","v":1.1428571428571428},87.285714285714292,0.5714285714285714,4.1428571428571432,0.2857142857142857,0,0,0,0.14285714285714285,0,0.14285714285714285,0,0,0.14285714285714285,0.8571428571428571,4.7142857142857144,8.2857142857142865,24.857142857142858,28.142857142857142,19.142857142857142,5,2.2857142857142856,0,0.14285714285714285,0.14285714285714285,0,0,0,0,0,0,0,{"$f":"IF(SUM(BU78,BU174,BU270,BU366,BU462,BU558,BU654)=0,\"-\",AVERAGEIF(AN5:AN676,AN846,BU5:BU676))","v":36.357142857142861},{"$f":"IF(SUM(BV78,BV174,BV270,BV366,BV462,BV558,BV654)=0,\"-\",AVERAGEIF(AN5:AN676,AN846,BV5:BV676))","v":42.828571428571429},14.2,69.400000000000006,"7 Day Ave",1815,{"$f":"IF(CA78+CA174+CA270+CA366+CA462+CA558+CA654=0,0,AVERAGE(CA78,CA174,CA270,CA366,CA462,CA558,CA654))","v":3.7142857142857144},151.42857142857142,1.1428571428571428,6.8571428571428568,0.2857142857142857,0,0,0,0.42857142857142855,0.14285714285714285,0.14285714285714285,0,0,0.14285714285714285,1.4285714285714286,6,18.714285714285715,36.285714285714285,44.857142857142854,37.142857142857146,14,4.8571428571428568,0.42857142857142855,0.14285714285714285,0.14285714285714285,0,0,0,0,0,0,0,37.031005636618815,43.992857142857147,14.2,{"$f":"IF(MAX(AL846,BX846)=0,\"-\",MAX(AL846,BX846))","v":69.400000000000006},2.5714285714285716,64.714285714285708,2.7142857142857144,0,0.42857142857142855,70.428571428571416,1.1428571428571428,87.857142857142861,4.1428571428571432,0.2857142857142857,0.2857142857142857,93.714285714285708,3.7142857142857144,152.57142857142856,6.8571428571428577,0.2857142857142857,0.71428571428571419,164.14285714285711]
["7 Day Ave",2345,{"$f":"IF(C100+C196+C292+C388+C484+C580+C676=0,0,AVERAGE(C100,C196,C292,C388,C484,C580,C676))","v":0},7.8571428571428568,0.14285714285714285,1.2857142857142858,0.14285714285714285,0,0,0,0,0,0,0,0,0,0,0.5714285714285714,1,1.5714285714285714,2.4285714285714284,1.4285714285714286,1,1.1428571428571428,0.14285714285714285,0,0.14285714285714285,0,0,0,0,0,0,0,{"$f":"IF(SUM(AI100,AI196,AI292,AI388,AI484,AI580,AI676)=0,\"-\",AVERAGEIF(B5:B676,B868,AI5:AI676))","v":40.185714285714276},{"$f":"IF(SUM(AJ100,AJ196,AJ292,AJ388,AJ484,AJ580,AJ676)=0,\"-\",AVERAGEIF(B5:B676,B868,AJ5:AJ676))","v":42.5},22.6,68.900000000000006,"7 Day Ave",2345,{"$f":"IF(AO100+AO196+AO292+AO388+AO484+AO580+AO676=0,0,AVERAGE(AO100,AO196,AO292,AO388,AO484,AO580,AO676))","v":0.42857142857142855},14.142857142857142,0,0.5714285714285714,0,0,0,0,0,0,0,0,0,0,0,0.14285714285714285,0.7142857142857143,2.4285714285714284,4,3,2.8571428571428572,1.4285714285714286,0.5714285714285714,0,0,0,0,0,0,0,0,0,{"$f":"IF(SUM(BU100,BU196,BU292,BU388,BU484,BU580,BU676)=0,\"-\",AVERAGEIF(AN5:AN676,AN868,BU5:BU676))","v":41.357142857142854},{"$f":"IF(SUM(BV100,BV196,BV292,BV388,BV484,BV580,BV676)=0,\"-\",AVERAGEIF(AN5:AN676,AN868,BV5:BV676))","v":48.65},24.9,59.8,"7 Day Ave",2345,{"$f":"IF(CA100+CA196+CA292+CA388+CA484+CA580+CA676=0,0,AVERAGE(CA100,CA196,CA292,CA388,CA484,CA580,CA676))","v":0.42857142857142855},22,0.14285714285714285,1.8571428571428572,0.14285714285714285,0,0,0,0,0,0,0,0,0,0,0.7142857142857143,1.7142857142857142,4,6.4285714285714288,4.4285714285714288,3.8571428571428572,2.5714285714285716,0.7142857142857143,0,0.14285714285714285,0,0,0,0,0,0,0,41.223580730148676,45.575000000000003,22.6,68.900000000000006,0,8,1.2857142857142858,0.14285714285714285,0,9.4285714285714288,0.42857142857142855,14.142857142857142,0.5714285714285714,0,0,15.142857142857142,0.42857142857142855,22.142857142857142,1.8571428571428572,0.14285714285714285,0,24.571428571428569]
["Mon",145,0,1,0,0,0,0,0,0,0,0,0,0,0,0,0,0,1,0,0,0,0,0,0,0,0,0,0,0,0,0,0,0,27.5,"-",27.5,27.5,"Mon",145,0,1,0,0,0,0,0,0,0,0,0,0,0,0,0,0,1,0,0,0,0,0,0,0,0,0,0,0,0,0,0,0,25.6,"-",25.6,25.6,"Mon",145,0,2,0,0,0,0,0,0,0,0,0,0,0,0,0,0,2,0,0,0,0,0,0,0,0,0,0,0,0,0,0,0,26.55,"-",25.6,27.5,0,1,0,0,0,1,0,1,0,0,0,1,0,2,0,0,0,2,1,1,2,4,1,9,3,1,1,2,2,0,2,3,2,2,4,6,1,11,6,1.8,3,null,null,null,null,null,1.2,1.5714285714285714,null,null,null,null,null,3,4.5714285714285712,1,1,2,4,1,9,3,1,1,2,2,0,2,3,2,2,4,6,1,11,6]
["Mon",715,0,22,0,3,0,0,0,0,0,0,0,0,0,1,1,1,5,16,1,0,0,0,0,0,0,0,0,0,0,0,0,0,30.2,33.799999999999997,14.2,35.799999999999997,"Mon",715,0,31,0,1,0,0,0,0,0,0,0,0,0,0,1,3,15,10,3,0,0,0,0,0,0,0,0,0,0,0,0,0,29.1,32.9,20,37.6,"Mon",715,0,53,0,4,0,0,0,0,0,0,0,0,0,1,2,4,20,26,4,0,0,0,0,0,0,0,0,0,0,0,0,0,29.582456140350878,33.349999999999994,14.2,37.6,0,22,3,0,0,25,0,31,1,0,0,32,0,53,4,0,0,57,25,37,36,30,28,13,6,32,49,43,33,49,9,8,57,86,79,63,77,22,14,31.2,25,null,null,null,null,null,41.2,31.857142857142858,null,null,null,null,null,72.400000000000006,56.857142857142854,25,37,36,30,28,13,6,32,49,43,33,49,9,8,57,86,79,63,77,22,14]
["Mon",1545,1,65,0,3,0,0,0,1,0,0,0,0,0,0,2,10,29,21,6,1,1,0,0,0,0,0,0,0,0,0,0,0,29.1,33.299999999999997,18.600000000000001,47.3,"Mon",1545,1,33,0,8,0,1,0,0,1,0,0,0,0,0,3,7,22,10,2,0,0,0,0,0,0,0,0,0,0,0,0,0,27.1,31.1,15.3,36.799999999999997,"Mon",1545,2,98,0,11,0,1,0,1,1,0,0,0,0,0,5,17,51,31,8,1,1,0,0,0,0,0,0,0,0,0,0,0,28.328070175438597,32.200000000000003,15.3,47.3,1,65,3,0,1,70,1,33,8,1,1,44,2,98,11,1,2,114,70,62,49,48,61,44,51,44,47,58,44,57,33,32,114,109,107,92,118,77,83,58,55,null,null,null,null,null,50,45,null,null,null,null,null,108,100,70,62,49,48,61,44,51,44,47,58,44,57,33,32,114,109,107,92,118,77,83]
["Mon",2115,0,11,0,0,0,0,0,0,0,0,0,0,0,1,1,1,3,1,4,0,0,0,0,0,0,0,0,0,0,0,0,0,28.9,36.200000000000003,13,38.200000000000003,"Mon",2115,1,14,0,0,0,0,0,0,0,0,0,0,0,0,0,4,5,5,1,0,0,0,0,0,0,0,0,0,0,0,0,0,28.7,32.700000000000003,22.9,35.4,"Mon",2115,1,25,0,0,0,0,0,0,0,0,0,0,0,1,1,5,8,6,5,0,0,0,0,0,0,0,0,0,0,0,0,0,28.784615384615385,34.450000000000003,13,38.200000000000003,0,11,0,0,0,11,1,14,0,0,0,15,1,25,0,0,0,26,11,23,26,18,17,15,20,15,16,17,24,19,12,13,26,39,43,42,36,27,33,19,18.571428571428573,null,null,null,null,null,18.2,16.571428571428573,null,null,null,null,null,37.200000000000003,35.142857142857146,11,23,26,18,17,15,20,15,16,17,24,19,12,13,26,39,43,42,36,27,33]
["Mon",2300,2,2,0,0,0,0,0,0,0,0,0,0,0,0,1,0,1,2,0,0,0,0,0,0,0,0,0,0,0,0,0,0,27.3,"-",18.100000000000001,33.4,"Mon",2300,2,1,0,0,0,0,0,0,0,0,0,0,0,0,0,0,0,2,0,1,0,0,0,0,0,0,0,0,0,0,0,0,34.299999999999997,"-",30.7,41.1,"Mon",2300,4,3,0,0,0,0,0,0,0,0,0,0,0,0,1,0,1,4,0,1,0,0,0,0,0,0,0,0,0,0,0,0,30.3,"-",18.100000000000001,41.1,2,2,0,0,0,4,2,1,0,0,0,3,4,3,0,0,0,7,4,10,11,7,12,8,3,3,1,5,3,4,10,3,7,11,16,10,16,18,6,8.8000000000000007,7.8571428571428568,null,null,null,null,null,3.2,4.1428571428571432,null,null,null,null,null,12,12,4,10,11,7,12,8,3,3,1,5,3,4,10,3,7,11,16,10,16,18,6]
["Tues",545,1,5,0,1,0,0,0,0,0,0,0,0,0,0,0,0,0,4,3,0,0,0,0,0,0,0,0,0,0,0,0,0,33.799999999999997,"-",30.8,39.4,"Tues",545,0,15,0,0,0,0,0,0,0,0,0,0,0,0,0,2,3,9,1,0,0,0,0,0,0,0,0,0,0,0,0,0,30.6,33.1,24.4,36.200000000000003,"Tues",545,1,20,0,1,0,0,0,0,0,0,0,0,0,0,0,2,3,13,4,0,0,0,0,0,0,0,0,0,0,0,0,0,31.618181818181814,33.1,24.4,39.4,1,5,1,0,0,7,0,15,0,0,0,15,1,20,1,0,0,22,null,null,null,null,null,null,null,null,null,null,null,null,null,null,null,null,null,null,null,null,null,{"$f":"IF((SUM(FN991:FR991))>0,AVERAGE(FN991:FR991),0)","v":4.8},{"$f":"IF((SUM(FN991:FT991))>0,AVERAGE(FN991:FT991),0)","v":5.4285714285714288},null,null,null,null,null,{"$f":"IF((SUM(FU991:FY991))>0,AVERAGE(FU991:FY991),0)","v":15.4},{"$f":"IF((SUM(FU991:GA991))>0,AVERAGE(FU991:GA991),0)","v":14.285714285714286},null,null,null,null,null,{"$f":"IF((SUM(GB991:GF991))>0,AVERAGE(GB991:GF991),0)","v":20.2},{"$f":"IF((SUM(GB991:GH991))>0,AVERAGE(GB991:GH991),0)","v":19.714285714285715},{"$f":"IF(FN892=\"-\",(IF(FN893=\"-\",\"-\",FN893)),(IF(FN893=\"-\",FN892,(SUM(FN892:FN893)))))","v":5},{"$f":"IF(FO892=\"-\",(IF(FO893=\"-\",\"-\",FO893)),(IF(FO893=\"-\",FO892,(SUM(FO892:FO893)))))","v":4},6,6,3,7,7,{"$f":"IF(FU892=\"-\",(IF(FU893=\"-\",\"-\",FU893)),(IF(FU893=\"-\",FU892,(SUM(FU892:FU893)))))","v":20},{"$f":"IF(FV892=\"-\",(IF(FV893=\"-\",\"-\",FV893)),(IF(FV893=\"-\",FV892,(SUM(FV892:FV893)))))","v":9},16,15,17,12,11,{"$f":"IF(GB892=\"-\",(IF(GB893=\"-\",\"-\",GB893)),(IF(GB893=\"-\",GB892,(SUM(GB892:GB893)))))","v":25},{"$f":"IF(GC892=\"-\",(IF(GC893=\"-\",\"-\",GC893)),(IF(GC893=\"-\",GC892,(SUM(GC892:GC893)))))","v":13},22,21,20,19,18]
["Tues",1115,0,36,0,1,0,0,0,0,0,0,0,0,0,0,0,7,17,11,2,0,0,0,0,0,0,0,0,0,0,0,0,0,28.6,31.5,21.5,39.4,"Tues",1115,0,42,0,5,0,0,0,0,0,0,0,0,0,0,0,10,24,11,1,1,0,0,0,0,0,0,0,0,0,0,0,0,28,32.200000000000003,21.8,43.8,"Tues",1115,0,78,0,6,0,0,0,0,0,0,0,0,0,0,0,17,41,22,3,1,0,{"$f":"SUM(X1013+BJ1013)","v":0},{"$f":"SUM(Y1013+BK1013)","v":0},{"$f":"SUM(Z1013+BL1013)","v":0},{"$f":"SUM(AA1013+BM1013)","v":0},{"$f":"SUM(AB1013+BN1013)","v":0},{"$f":"SUM(AC1013+BO1013)","v":0},{"$f":"SUM(AD1013+BP1013)","v":0},{"$f":"SUM(AE1013+BQ1013)","v":0},{"$f":"SUM(AF1013+BR1013)","v":0},{"$f":"SUM(AG1013+BS1013)","v":0},{"$f":"SUM(AH1013+BT1013)","v":0},28.264285714285712,31.85,21.5,43.8,0,36,1,0,0,37,0,42,5,0,0,47,0,78,6,0,0,84,null,null,null,null,null,null,null,null,null,null,null,null,null,null,null,null,null,null,null,null,null,{"$f":"IF((SUM(FN1013:FR1013))>0,AVERAGE(FN1013:FR1013),0)","v":63.4},{"$f":"IF((SUM(FN1013:FT1013))>0,AVERAGE(FN1013:FT1013),0)","v":62.857142857142854},null,null,null,null,null,{"$f":"IF((SUM(FU1013:FY1013))>0,AVERAGE(FU1013:FY1013),0)","v":80.8},{"$f":"IF((SUM(FU1013:GA1013))>0,AVERAGE(FU1013:GA1013),0)","v":83.142857142857139},null,null,null,null,null,{"$f":"IF((SUM(GB1013:GF1013))>0,AVERAGE(GB1013:GF1013),0)","v":144.19999999999999},{"$f":"IF((SUM(GB1013:GH1013))>0,AVERAGE(GB1013:GH1013),0)","v":146},{"$f":"IF(FN914=\"-\",(IF(FN915=\"-\",\"-\",FN915)),(IF(FN915=\"-\",FN914,(SUM(FN914:FN915)))))","v":56},{"$f":"IF(FO914=\"-\",(IF(FO915=\"-\",\"-\",FO915)),(IF(FO915=\"-\",FO914,(SUM(FO914:FO915)))))","v":66},73,63,59,72,51,{"$f":"IF(FU914=\"-\",(IF(FU915=\"-\",\"-\",FU915)),(IF(FU915=\"-\",FU914,(SUM(FU914:FU915)))))","v":70},{"$f":"IF(FV914=\"-\",(IF(FV915=\"-\",\"-\",FV915)),(IF(FV915=\"-\",FV914,(SUM(FV914:FV915)))))","v":75},83,104,72,88,90,{"$f":"IF(GB914=\"-\",(IF(GB915=\"-\",\"-\",GB915)),(IF(GB915=\"-\",GB914,(SUM(GB914:GB915)))))","v":126},{"$f":"IF(GC914=\"-\",(IF(GC915=\"-\",\"-\",GC915)),(IF(GC915=\"-\",GC914,(SUM(GC914:GC915)))))","v":141},156,167,131,160,141]
["Tues",1645,2,60,0,3,0,0,0,0,0,0,0,0,0,0,1,3,14,33,13,0,1,0,0,0,0,0,0,0,0,0,0,0,32.1,36,19.7,49.3,"Tues",1645,2,48,0,4,0,0,0,0,0,0,0,0,0,0,1,9,22,16,6,0,0,0,0,0,0,0,0,0,0,0,0,0,29.1,32.9,18.100000000000001,38.6,"Tues",1645,4,108,0,7,0,0,0,0,0,0,0,0,0,0,2,12,36,49,19,0,1,0,0,0,0,0,0,0,0,0,0,0,30.738655462184873,34.450000000000003,18.100000000000001,49.3,2,60,3,0,0,65,2,48,4,0,0,54,4,108,7,0,0,119,null,null,null,null,null,null,null,null,null,null,null,null,null,null,null,null,null,null,null,null,null,{"$f":"IF((SUM(FN1035:FR1035))>0,AVERAGE(FN1035:FR1035),0)","v":111.6},{"$f":"IF((SUM(FN1035:FT1035))>0,AVERAGE(FN1035:FT1035),0)","v":102.85714285714286},null,null,null,null,null,{"$f":"IF((SUM(FU1035:FY1035))>0,AVERAGE(FU1035:FY1035),0)","v":98},{"$f":"IF((SUM(FU1035:GA1035))>0,AVERAGE(FU1035:GA1035),0)","v":87.857142857142861},null,null,null,null,null,{"$f":"IF((SUM(GB1035:GF1035))>0,AVERAGE(GB1035:GF1035),0)","v":209.6},{"$f":"IF((SUM(GB1035:GH1035))>0,AVERAGE(GB1035:GH1035),0)","v":190.71428571428572},{"$f":"IF(FN936=\"-\",(IF(FN937=\"-\",\"-\",FN937)),(IF(FN937=\"-\",FN936,(SUM(FN936:FN937)))))","v":112},{"$f":"IF(FO936=\"-\",(IF(FO937=\"-\",\"-\",FO937)),(IF(FO937=\"-\",FO936,(SUM(FO936:FO937)))))","v":129},110,103,104,81,81,{"$f":"IF(FU936=\"-\",(IF(FU937=\"-\",\"-\",FU937)),(IF(FU937=\"-\",FU936,(SUM(FU936:FU937)))))","v":88},{"$f":"IF(FV936=\"-\",(IF(FV937=\"-\",\"-\",FV937)),(IF(FV937=\"-\",FV936,(SUM(FV936:FV937)))))","v":99},109,98,96,62,63,{"$f":"IF(GB936=\"-\",(IF(GB937=\"-\",\"-\",GB937)),(IF(GB937=\"-\",GB936,(SUM(GB936:GB937)))))","v":200},{"$f":"IF(GC936=\"-\",(IF(GC937=\"-\",\"-\",GC937)),(IF(GC937=\"-\",GC936,(SUM(GC936:GC937)))))","v":228},219,201,200,143,144]
["Wed",115,0,1,0,0,0,0,0,0,0,0,0,0,0,0,0,0,0,0,1,0,0,0,0,0,0,0,0,0,0,0,0,0,37.700000000000003,"-",37.700000000000003,37.700000000000003,"Wed",115,0,1,0,0,0,0,0,0,0,0,0,0,0,0,0,0,0,1,0,0,0,0,0,0,0,0,0,0,0,0,0,0,30.2,"-",30.2,30.2,"Wed",115,0,2,0,0,0,0,0,0,0,0,0,0,0,0,0,0,0,1,1,0,0,0,0,0,0,0,0,0,0,0,0,0,33.950000000000003,"-",30.2,37.700000000000003,0,1,0,0,0,1,0,1,0,0,0,1,0,2,0,0,0,2,null,null,null,null,null,null,null,null,null,null,null,null,null,null,null,null,null,null,null,null,null,null,null,null,null,null,null,null,null,null,null,null,null,null,null,null,null,"Mon","Tue","Wed","Thu","Fri","Sat","Sun","Mon","Tue","Wed","Thu","Fri","Sat","Sun","Mon","Tue","Wed","Thu","Fri","Sat","Sun"]
["Wed",645,0,13,0,2,0,0,0,0,0,0,0,0,0,0,0,4,5,5,1,0,0,0,0,0,0,0,0,0,0,0,0,0,28.4,31.3,21.3,35.299999999999997,"Wed",645,0,27,0,4,0,0,0,0,0,0,0,0,0,1,0,2,9,12,6,1,0,0,0,0,0,0,0,0,0,0,0,0,30.7,35.799999999999997,12.7,40.9,"Wed",645,0,40,0,6,0,0,0,0,0,0,0,0,0,1,0,6,14,17,7,1,0,0,0,0,0,0,0,0,0,0,0,0,29.949999999999996,33.549999999999997,12.7,40.9,0,13,2,0,0,15,0,27,4,0,0,31,0,40,6,0,0,46]
["Wed",1515,0,37,1,8,0,0,0,0,0,0,0,0,0,0,3,5,22,14,1,0,1,0,0,0,0,0,0,0,0,0,0,0,28.6,32.700000000000003,15.5,45.9,"Wed",1515,1,34,0,8,1,0,0,0,0,0,0,0,0,0,2,7,16,14,5,0,0,0,0,0,0,0,0,0,0,0,0,0,29.1,34.4,15.3,39.9,"Wed",1515,1,71,1,16,1,0,0,0,0,0,0,0,0,0,5,12,38,28,6,0,1,0,0,0,0,0,0,0,0,0,0,0,28.844444444444445,33.549999999999997,15.3,45.9,0,38,8,0,0,46,1,34,8,1,0,44,1,72,16,1,0,90]
["Wed",2045,0,18,0,0,0,0,0,0,0,0,0,0,0,0,0,0,12,3,2,1,0,0,0,0,0,0,0,0,0,0,0,0,29.5,32.700000000000003,25.1,41.1,"Wed",2045,2,19,0,0,0,0,0,0,0,0,0,0,0,0,0,6,6,7,0,2,0,0,0,0,0,0,0,0,0,0,0,0,29.1,33.1,21.8,41.2,"Wed",2045,2,37,0,0,0,0,0,0,0,0,0,0,0,0,0,6,18,10,2,3,0,0,0,0,0,0,0,0,0,0,0,0,29.284615384615382,32.900000000000006,21.8,41.2,0,18,0,0,0,18,2,19,0,0,0,21,2,37,0,0,0,39]
["Thu",215,0,2,0,0,0,0,0,0,0,0,0,0,0,0,0,0,0,2,0,0,0,0,0,0,0,0,0,0,0,0,0,0,31,"-",30.1,31.8,"Thu",215,0,0,0,0,0,0,0,0,0,0,0,0,0,0,0,0,0,0,0,0,0,0,0,0,0,0,0,0,0,0,0,0,"-","-","-","-","Thu",215,0,2,0,0,0,0,0,0,0,0,0,0,0,0,0,0,0,2,0,0,0,0,0,0,0,0,0,0,0,0,0,0,31,"-",30.1,31.8,0,2,0,0,0,2,0,0,0,0,0,0,0,2,0,0,0,2]
["Thu",500,0,0,0,0,0,0,0,0,0,0,0,0,0,0,0,0,0,0,0,0,0,0,0,0,0,0,0,0,0,0,0,0,"-","-","-","-","Thu",500,0,4,0,1,0,0,0,0,0,0,0,0,0,0,0,0,3,1,0,1,0,0,0,0,0,0,0,0,0,0,0,0,31.8,"-",27.4,40.299999999999997,"Thu",500,0,4,0,1,0,0,0,0,0,0,0,0,0,0,0,0,3,1,0,1,0,0,0,0,0,0,0,0,0,0,0,0,31.8,"-",27.4,40.299999999999997,0,0,0,0,0,0,0,4,1,0,0,5,0,4,1,0,0,5]
["Thu",1030,0,25,0,5,0,1,0,0,0,1,0,0,0,1,2,4,13,8,2,2,0,0,0,0,0,0,0,0,0,0,0,0,28.5,33.799999999999997,10.1,43.3,"Thu",1030,0,48,0,5,0,0,0,0,0,0,0,0,0,0,1,6,27,14,5,0,0,0,0,0,0,0,0,0,0,0,0,0,29,32.4,18.2,38.5,"Thu",1030,{"$f":"SUM(C1202+AO1202)","v":0},{"$f":"SUM(D1202+AP1202)","v":73},0,10,0,1,0,0,0,1,0,0,0,1,3,10,40,22,7,2,0,0,0,0,0,0,0,0,0,0,0,0,28.811764705882354,33.099999999999994,10.1,43.3,0,25,5,1,1,32,0,48,5,0,0,53,0,73,10,1,1,85]
["Thu",1900,0,52,0,2,0,0,0,0,0,0,0,0,0,2,1,13,21,10,6,1,0,0,0,0,0,0,0,0,0,0,0,0,28.3,33.799999999999997,13.9,40.9,"Thu",1900,1,30,0,1,0,0,0,0,0,0,0,0,0,0,0,1,14,13,3,1,0,0,0,0,0,0,0,0,0,0,0,0,31,34.200000000000003,24.9,42.1,"Thu",1900,1,82,0,3,0,0,0,0,0,0,0,0,0,2,1,14,35,23,9,2,0,0,0,0,0,0,0,0,0,0,0,0,29.304651162790694,34,13.9,42.1,0,52,2,0,0,54,1,30,1,0,0,32,1,82,3,0,0,86]
["Fri",30,0,3,0,0,0,0,0,0,0,0,0,0,0,0,0,0,1,1,1,0,0,0,0,0,0,0,0,0,0,0,0,0,33.9,"-",29.9,38.799999999999997,"Fri",30,0,1,0,1,0,0,0,0,0,0,0,0,0,0,0,0,2,0,0,0,0,0,0,0,0,0,0,0,0,0,0,0,28.5,"-",28.3,28.8,"Fri",30,0,4,0,1,0,0,0,0,0,0,0,0,0,0,0,0,3,1,1,0,0,0,0,0,0,0,0,0,0,0,0,0,31.74,"-",28.3,38.799999999999997,0,3,0,0,0,3,0,1,1,0,0,2,0,4,1,0,0,5]
["Fri",600,1,4,0,1,0,0,0,0,0,0,0,0,0,0,0,0,3,1,1,1,0,0,0,0,0,0,0,0,0,0,0,0,31.7,"-",25.9,41.9,"Fri",600,0,20,0,1,0,0,0,0,0,0,0,0,0,0,0,1,7,10,2,1,0,0,0,0,0,0,0,0,0,0,0,0,31.3,34,23.3,44.6,"Fri",600,1,24,0,2,0,0,0,0,0,0,0,0,0,0,0,1,10,11,3,2,0,0,0,0,0,0,0,0,0,0,0,0,31.388888888888889,34,23.3,44.6,1,4,1,0,0,6,0,20,1,0,0,21,1,24,2,0,0,27]
["Fri",845,0,28,1,1,1,0,0,0,2,0,0,0,0,0,2,5,10,14,2,0,0,0,0,0,0,0,0,0,0,0,0,0,28.9,33.6,15.6,38.799999999999997,"Fri",845,1,40,0,3,1,1,0,0,0,0,0,0,0,0,0,3,27,14,0,1,1,0,0,0,0,0,0,0,0,0,0,0,29.6,32.9,21,45.1,"Fri",845,1,68,1,4,2,1,0,0,2,0,0,0,0,0,2,8,37,28,2,1,1,0,0,0,0,0,0,0,0,0,0,0,29.307594936708863,33.25,15.6,45.1,0,29,1,1,2,33,1,40,3,2,0,46,1,69,4,3,2,79]
["Fri",1415,1,40,0,2,0,1,0,0,0,0,0,0,0,1,0,3,23,13,4,0,0,0,0,0,0,0,0,0,0,0,0,0,29.3,32.700000000000003,14.1,39.5,"Fri",1415,0,30,0,0,0,0,0,0,0,0,0,0,0,0,1,4,14,9,2,0,0,0,0,0,0,0,0,0,0,0,0,0,28.9,33.799999999999997,19.8,36.799999999999997,"Fri",1415,1,70,0,2,0,1,0,0,0,0,0,0,0,1,1,7,37,22,6,0,0,0,0,0,0,0,0,0,0,0,0,0,29.137837837837836,33.25,14.1,39.5,1,40,2,1,0,44,0,30,0,0,0,30,1,70,2,1,0,74]
["Fri",1945,0,16,1,0,0,0,0,0,0,0,0,0,0,0,1,0,10,4,1,1,0,0,0,0,0,0,0,0,0,0,0,0,29.7,31.5,16.100000000000001,41.8,"Fri",1945,1,20,0,0,0,0,0,0,0,0,0,0,0,0,0,3,11,2,4,1,0,0,0,0,0,0,0,0,0,0,0,0,29.7,36.5,22.1,42.7,"Fri",1945,1,36,1,0,0,0,0,0,0,0,0,0,0,0,1,3,21,6,5,2,0,0,0,0,0,0,0,0,0,0,0,0,29.7,34,16.100000000000001,42.7,0,17,0,0,0,17,1,20,0,0,0,21,{"$f":"SUM(DK1335+DQ1335)","v":1},{"$f":"SUM(DL1335+DR1335)","v":37},{"$f":"SUM(DM1335+DS1335)","v":0},0,0,38]
["Sat",415,0,0,0,0,0,0,0,0,0,0,0,0,0,0,0,0,0,0,0,0,0,0,0,0,0,0,0,0,0,0,0,0,"-","-","-","-","Sat",415,0,1,0,0,0,0,0,0,0,0,0,0,0,0,0,0,0,1,0,0,0,0,0,0,0,0,0,0,0,0,0,0,33.299999999999997,"-",33.299999999999997,33.299999999999997,"Sat",415,0,1,0,0,0,0,0,0,0,0,0,0,0,0,0,0,0,1,0,0,0,0,0,0,0,0,0,0,0,0,0,0,33.299999999999997,"-",33.299999999999997,33.299999999999997,0,0,0,0,0,0,0,1,0,0,0,1,0,1,0,0,0,1]
["Sat",945,0,19,0,1,0,0,0,0,0,0,1,0,0,0,1,2,12,2,3,1,0,0,0,0,0,0,0,0,0,0,0,0,28.9,35.1,16.2,43.6,"Sat",945,1,40,0,2,0,0,0,0,0,0,0,0,0,0,0,6,23,12,2,0,0,0,0,0,0,0,0,0,0,0,0,0,28.5,31.5,20.6,36.700000000000003,"Sat",945,1,59,0,3,0,0,0,0,0,0,1,0,0,0,1,8,35,14,5,1,0,0,0,0,0,0,0,0,0,0,0,0,28.631250000000001,33.299999999999997,16.2,43.6,0,19,1,0,1,21,1,40,2,0,0,43,1,59,3,0,1,64]
["Sat",1230,2,36,1,4,1,0,0,0,0,0,0,0,1,1,6,6,16,13,1,0,0,0,0,0,0,0,0,0,0,0,0,0,26.4,31.8,7.1,38.4,"Sat",1230,1,52,0,3,0,0,0,0,0,0,0,0,0,0,1,8,37,8,2,0,0,0,0,0,0,0,0,0,0,0,0,0,27.9,30.2,16.399999999999999,37.6,"Sat",1230,3,88,1,7,1,0,0,0,0,0,0,0,1,1,7,14,53,21,3,0,0,0,0,0,0,0,0,0,0,0,0,0,27.24,31,7.1,38.4,2,37,4,1,0,44,1,52,3,0,0,56,3,89,7,1,0,100]
["Sat",2345,0,6,0,1,0,0,0,0,0,0,0,0,0,0,1,1,3,1,1,0,0,0,0,0,0,0,0,0,0,0,0,0,27.8,"-",19.7,35.1,"Sat",2345,0,7,0,1,0,0,0,0,0,0,0,0,0,0,0,2,4,2,0,0,0,0,0,0,0,0,0,0,0,0,0,0,28.5,"-",23.4,34.799999999999997,"Sat",2345,0,13,0,2,0,0,0,0,0,0,0,0,0,0,1,3,7,3,1,0,0,0,0,0,0,0,0,0,0,0,0,0,28.173333333333336,"-",19.7,35.1,0,6,1,0,0,7,0,7,1,0,0,8,0,13,2,0,0,15]
["Sun",515,0,5,0,0,0,0,0,0,0,0,0,0,0,0,0,1,1,1,1,1,0,0,0,0,0,0,0,0,0,0,0,0,31.5,"-",23.1,40,"Sun",515,0,8,0,0,0,0,0,0,0,0,0,0,0,0,0,1,3,2,2,0,0,0,0,0,0,0,0,0,0,0,0,0,29.6,"-",23.4,36.799999999999997,"Sun",515,0,13,0,0,0,0,0,0,0,0,0,0,0,0,0,2,4,3,3,1,0,0,0,0,0,0,0,0,0,0,0,0,30.330769230769231,"-",23.1,40,0,5,0,0,0,5,0,8,0,0,0,8,0,13,0,0,0,13]
["Sun",800,0,9,0,0,0,0,0,0,0,0,0,0,0,0,1,0,4,3,0,0,0,1,0,0,0,0,0,0,0,0,0,0,31.1,"-",17.5,51.7,"Sun",800,0,13,0,0,0,0,0,0,0,0,0,0,0,0,0,1,7,4,1,0,0,0,0,0,0,0,0,0,0,0,0,0,29.8,33.799999999999997,24.4,35.299999999999997,"Sun",800,0,22,0,0,0,0,0,0,0,0,0,0,0,0,1,1,11,7,1,0,0,1,0,0,0,0,0,0,0,0,0,0,30.331818181818186,33.799999999999997,17.5,51.7,0,9,0,0,0,9,0,13,0,0,0,13,0,22,0,0,0,22]
["Sun",1330,0,28,0,2,0,0,0,0,0,0,0,0,0,3,4,4,9,8,1,0,1,0,0,0,0,0,0,0,0,0,0,0,26.4,34.200000000000003,10,45.5,"Sun",1330,1,32,0,1,0,0,0,0,0,0,0,0,0,0,0,4,12,14,2,2,0,0,0,0,0,0,0,0,0,0,0,0,30.1,34,20.6,40.299999999999997,"Sun",1330,1,60,0,3,0,0,0,0,0,0,0,0,0,3,4,8,21,22,3,2,1,0,0,0,0,0,0,0,0,0,0,0,28.365625000000001,34.1,10,45.5,0,28,2,0,0,30,1,32,1,0,0,34,1,60,3,0,0,64]
["Sun",2200,0,18,0,1,0,0,0,0,0,0,0,0,0,0,0,1,7,6,0,4,1,0,0,0,0,0,0,0,0,0,0,0,33.5,43.2,21.9,47.4,"Sun",2200,1,7,0,1,0,0,0,0,0,0,0,0,0,0,0,0,5,1,3,0,0,0,0,0,0,0,0,0,0,0,0,0,31.3,"-",25.3,39.9,"Sun",2200,1,25,0,2,0,0,0,0,0,0,0,0,0,0,0,1,12,7,3,4,1,0,0,0,0,0,0,0,0,0,0,0,32.792857142857144,43.2,21.9,47.4,0,18,1,0,0,19,1,7,1,0,0,9,{"$f":"SUM(DK1536+DQ1536)","v":1},{"$f":"SUM(DL1536+DR1536)","v":25},{"$f":"SUM(DM1536+DS1536)","v":2},{"$f":"SUM(DN1536+DT1536)","v":0},{"$f":"SUM(DO1536+DU1536)","v":0},{"$f":"SUM(DP1536+DV1536)","v":28}]
["WD Ave",330,{"$f":"IF(C886+C982+C1078+C1174+C1270=0,0,AVERAGE(C886,C982,C1078,C1174,C1270))","v":0},0.2,0,0,0,0,0,0,0,0,0,0,0,0,0,0,0,0.2,0,0,0,0,0,0,0,0,0,0,0,0,0,0,{"$f":"IF(SUM(AI886,AI982,AI1078,AI1174,AI1270)=0,\"-\",AVERAGEIF(B872:B1351,B1558,AI872:AI1351))","v":30.2},{"$f":"IF(SUM(AJ886,AJ982,AJ1078,AJ1174,AJ1270)=0,\"-\",AVERAGEIF(B872:B1351,B1558,AJ872:AJ1351))","v":"-"},30.2,30.2,"WD Ave",330,{"$f":"IF(AO886+AO982+AO1078+AO1174+AO1270=0,0,AVERAGE(AO886,AO982,AO1078,AO1174,AO1270))","v":0},1.4,0,0.2,0,0,0,0,0,0,0,0,0,0,0,0.2,0.6,0.4,0.4,0,0,0,0,0,0,0,0,0,0,0,0,0,{"$f":"IF(SUM(BU886,BU982,BU1078,BU1174,BU1270)=0,\"-\",AVERAGEIF(AN872:AN1351,AN1558,BU872:BU1351))","v":29.65},{"$f":"IF(SUM(BV886,BV982,BV1078,BV1174,BV1270)=0,\"-\",AVERAGEIF(AN872:AN1351,AN1558,BV872:BV1351))","v":"-"},20.6,37.6,"WD Ave",330,{"$f":"IF(CA886+CA982+CA1078+CA1174+CA1270=0,0,AVERAGE(CA886,CA982,CA1078,CA1174,CA1270))","v":0},1.6,0,0.2,0,0,0,0,0,0,0,0,0,0,0,0.2,0.6,0.6,0.4,0,0,0,0,0,0,0,0,0,0,0,0,0,30.083333333333332,"-",20.6,37.6,0,0.2,0,0,0,0.2,0,1.4,0.2,0,0,1.5999999999999999,0,1.5999999999999999,0.2,0,0,1.7999999999999998]
["WD Ave",900,{"$f":"IF(C908+C1004+C1100+C1196+C1292=0,0,AVERAGE(C908,C1004,C1100,C1196,C1292))","v":0.2},33.200000000000003,0.6,4.5999999999999996,0.2,0.2,0,0,0,0,0,0,0.2,1.6,2.2000000000000002,4.8,14.6,12,2.2000000000000002,1,0.4,0,0,0,0,0,0,0,0,0,0,0,{"$f":"IF(SUM(AI908,AI1004,AI1100,AI1196,AI1292)=0,\"-\",AVERAGEIF(B872:B1351,B1580,AI872:AI1351))","v":28.3},{"$f":"IF(SUM(AJ908,AJ1004,AJ1100,AJ1196,AJ1292)=0,\"-\",AVERAGEIF(B872:B1351,B1580,AJ872:AJ1351))","v":33.06},9.4,48.4,"WD Ave",900,{"$f":"IF(AO908+AO1004+AO1100+AO1196+AO1292=0,0,AVERAGE(AO908,AO1004,AO1100,AO1196,AO1292))","v":0},41.4,0,3.8,0.4,0,0.2,0,0,0,0,0,0,0,0.6,6.4,20.399999999999999,14.6,3.4,0.4,0,0,0,0,0,0,0,0,0,0,0,0,{"$f":"IF(SUM(BU908,BU1004,BU1100,BU1196,BU1292)=0,\"-\",AVERAGEIF(AN872:AN1351,AN1580,BU872:BU1351))","v":29.02},{"$f":"IF(SUM(BV908,BV1004,BV1100,BV1196,BV1292)=0,\"-\",AVERAGEIF(AN872:AN1351,AN1580,BV872:BV1351))","v":33.100000000000009},16.7,42.4,"WD Ave",900,{"$f":"IF(CA908+CA1004+CA1100+CA1196+CA1292=0,0,AVERAGE(CA908,CA1004,CA1100,CA1196,CA1292))","v":0.2},74.599999999999994,0.6,8.4,0.6,0.2,0.2,0,0,0,0,0,0.2,1.6,2.8,11.2,35,26.6,5.6,1.4,0.4,0,0,0,0,0,0,0,0,0,0,0,28.695117379403143,33.080000000000005,9.4,48.4,0.2,33.800000000000004,4.5999999999999996,0.4,0,39.000000000000014,0,41.4,3.8,0.4,0.2,45.8,0.2,75.2,8.3999999999999986,0.8,0.2,84.800000000000011]
["WD Ave",1145,{"$f":"IF(C919+C1015+C1111+C1207+C1303=0,0,AVERAGE(C919,C1015,C1111,C1207,C1303))","v":0.2},29.4,0.4,3.2,0,0.6,0,0,0,0,0,0,0,0.8,2,5.4,12.4,11.4,1.8,0,0,0,0,0,0,0,0,0,0,0,0,0,{"$f":"IF(SUM(AI919,AI1015,AI1111,AI1207,AI1303)=0,\"-\",AVERAGEIF(B872:B1351,B1591,AI872:AI1351))","v":27.96},{"$f":"IF(SUM(AJ919,AJ1015,AJ1111,AJ1207,AJ1303)=0,\"-\",AVERAGEIF(B872:B1351,B1591,AJ872:AJ1351))","v":32.64},12.7,37.799999999999997,"WD Ave",1145,{"$f":"IF(AO919+AO1015+AO1111+AO1207+AO1303=0,0,AVERAGE(AO919,AO1015,AO1111,AO1207,AO1303))","v":1.2},34.799999999999997,0.6,4.5999999999999996,0,0.8,0,0,0,0,0,0,0,0,1,8,19.399999999999999,11.6,1.4,0.6,0,0,0,0,0,0,0,0,0,0,0,0,{"$f":"IF(SUM(BU919,BU1015,BU1111,BU1207,BU1303)=0,\"-\",AVERAGEIF(AN872:AN1351,AN1591,BU872:BU1351))","v":28.18},{"$f":"IF(SUM(BV919,BV1015,BV1111,BV1207,BV1303)=0,\"-\",AVERAGEIF(AN872:AN1351,AN1591,BV872:BV1351))","v":32.019999999999996},16.8,43,"WD Ave",1145,{"$f":"IF(CA919+CA1015+CA1111+CA1207+CA1303=0,0,AVERAGE(CA919,CA1015,CA1111,CA1207,CA1303))","v":1.4},64.2,1,7.8,0,1.4,0,0,0,0,0,0,0,0.8,3,13.4,31.8,23,3.2,0.6,0,0,0,0,0,0,0,0,0,0,0,0,28.050694842476776,32.33,12.7,43,0.2,29.799999999999997,3.2,0.6,0,33.799999999999997,1.2,35.4,4.5999999999999996,0.8,0,42,1.4,65.199999999999989,7.8,1.4,0,75.8]
["WD Ave",1715,{"$f":"IF(C941+C1037+C1133+C1229+C1325=0,0,AVERAGE(C941,C1037,C1133,C1229,C1325))","v":0.2},60.6,1,3.6,0,0,0,0,0,0,0,0,0,0.2,1.8,9,29,20,4.4000000000000004,0.8,0.2,0,0,0,0,0,0,0,0,0,0,0,{"$f":"IF(SUM(AI941,AI1037,AI1133,AI1229,AI1325)=0,\"-\",AVERAGEIF(B872:B1351,B1613,AI872:AI1351))","v":28.860000000000003},{"$f":"IF(SUM(AJ941,AJ1037,AJ1133,AJ1229,AJ1325)=0,\"-\",AVERAGEIF(B872:B1351,B1613,AJ872:AJ1351))","v":32.299999999999997},14.8,45.6,"WD Ave",1715,{"$f":"IF(AO941+AO1037+AO1133+AO1229+AO1325=0,0,AVERAGE(AO941,AO1037,AO1133,AO1229,AO1325))","v":0.2},35.6,0.2,1.4,0,0,0,0.2,0,0,0,0,0,0.4,0.4,7,11.6,13.6,4.2,0,0.2,0.2,0,0,0,0,0,0,0,0,0,0,{"$f":"IF(SUM(BU941,BU1037,BU1133,BU1229,BU1325)=0,\"-\",AVERAGEIF(AN872:AN1351,AN1613,BU872:BU1351))","v":29.660000000000004},{"$f":"IF(SUM(BV941,BV1037,BV1133,BV1229,BV1325)=0,\"-\",AVERAGEIF(AN872:AN1351,AN1613,BV872:BV1351))","v":34.58},11.3,53.1,"WD Ave",1715,{"$f":"IF(CA941+CA1037+CA1133+CA1229+CA1325=0,0,AVERAGE(CA941,CA1037,CA1133,CA1229,CA1325))","v":0.4},96.2,1.2,5,0,0,0,0.2,0,0,0,0,0,0.6,2.2000000000000002,16,40.6,33.6,8.6,0.8,0.4,0.2,0,0,0,0,0,0,0,0,0,0,29.104818594734191,33.44,11.3,53.1,0.2,61.6,3.6,0,0,65.400000000000006,0.2,35.800000000000004,1.4,0,0.2,37.600000000000009,0.4,97.4,5,0,0.2,103.00000000000001]
["WD Ave",2245,{"$f":"IF(C963+C1059+C1155+C1251+C1347=0,0,AVERAGE(C963,C1059,C1155,C1251,C1347))","v":0.2},10.4,0,0.2,0,0.2,0,0,0,0,0,0,0,0,0.2,1.2,3.8,3.8,1.4,0.6,0,0,0,0,0,0,0,0,0,0,0,0,{"$f":"IF(SUM(AI963,AI1059,AI1155,AI1251,AI1347)=0,\"-\",AVERAGEIF(B872:B1351,B1635,AI872:AI1351))","v":30.360000000000003},{"$f":"IF(SUM(AJ963,AJ1059,AJ1155,AJ1251,AJ1347)=0,\"-\",AVERAGEIF(B872:B1351,B1635,AJ872:AJ1351))","v":34.6},18.100000000000001,43.6,"WD Ave",2245,{"$f":"IF(AO963+AO1059+AO1155+AO1251+AO1347=0,0,AVERAGE(AO963,AO1059,AO1155,AO1251,AO1347))","v":0.2},7.6,0.6,0.2,0,0,0,0,0.2,0,0,0,0,0,0.2,1.4,3.4,2.2000000000000002,1,0.4,0.2,0,0,0,0,0,0,0,0,0,0,0,{"$f":"IF(SUM(BU963,BU1059,BU1155,BU1251,BU1347)=0,\"-\",AVERAGEIF(AN872:AN1351,AN1635,BU872:BU1351))","v":30.1},{"$f":"IF(SUM(BV963,BV1059,BV1155,BV1251,BV1347)=0,\"-\",AVERAGEIF(AN872:AN1351,AN1635,BV872:BV1351))","v":36.799999999999997},19.399999999999999,46.2,"WD Ave",2245,{"$f":"IF(CA963+CA1059+CA1155+CA1251+CA1347=0,0,AVERAGE(CA963,CA1059,CA1155,CA1251,CA1347))","v":0.4},18,0.6,0.4,0,0.2,0,0,0.2,0,0,0,0,0,0.4,2.6,7.2,6,2.4,1,0.2,0,0,0,0,0,0,0,0,0,0,0,30.277294330775788,35.700000000000003,18.100000000000001,46.2,0.2,10.4,0.2,0.2,0,10.999999999999998,0.2,8.1999999999999993,0.2,0,0.2,8.7999999999999989,0.4,18.600000000000001,0.4,0.2,0.2,19.799999999999997]
["7 Day Ave",715,{"$f":"IF(C901+C997+C1093+C1189+C1285+C1381+C1477=0,0,AVERAGE(C901,C997,C1093,C1189,C1285,C1381,C1477))","v":1},19.571428571428573,0.2857142857142857,3.5714285714285716,0.42857142857142855,0,0,0,0.14285714285714285,0,0,0,0,0.42857142857142855,1.5714285714285714,2.8571428571428572,9,9.1428571428571423,1.5714285714285714,0.42857142857142855,0,0,0,0,0,0,0,0,0,0,0,0,{"$f":"IF(SUM(AI901,AI997,AI1093,AI1189,AI1285,AI1381,AI1477)=0,\"-\",AVERAGEIF(B872:B1543,B1669,AI872:AI1543))","v":29.057142857142857},{"$f":"IF(SUM(AJ901,AJ997,AJ1093,AJ1189,AJ1285,AJ1381,AJ1477)=0,\"-\",AVERAGEIF(B872:B1543,B1669,AJ872:AJ1543))","v":33.18333333333333},11.2,43,"7 Day Ave",715,{"$f":"IF(AO901+AO997+AO1093+AO1189+AO1285+AO1381+AO1477=0,0,AVERAGE(AO901,AO997,AO1093,AO1189,AO1285,AO1381,AO1477))","v":0.42857142857142855},29.857142857142858,0,1.4285714285714286,0.14285714285714285,0,0,0,0,0,0,0,0,0.14285714285714285,0.2857142857142857,4.5714285714285712,12,12.142857142857142,2.7142857142857144,0,0,0,0,0,0,0,0,0,0,0,0,0,{"$f":"IF(SUM(BU901,BU997,BU1093,BU1189,BU1285,BU1381,BU1477)=0,\"-\",AVERAGEIF(AN872:AN1543,AN1669,BU872:BU1543))","v":29.37142857142857},{"$f":"IF(SUM(BV901,BV997,BV1093,BV1189,BV1285,BV1381,BV1477)=0,\"-\",AVERAGEIF(AN872:AN1543,AN1669,BV872:BV1543))","v":33.64},12.3,39.6,"7 Day Ave",715,{"$f":"IF(CA901+CA997+CA1093+CA1189+CA1285+CA1381+CA1477=0,0,AVERAGE(CA901,CA997,CA1093,CA1189,CA1285,CA1381,CA1477))","v":1.4285714285714286},49.428571428571431,0.2857142857142857,5,0.5714285714285714,0,0,0,0.14285714285714285,0,0,0,0,0.5714285714285714,1.8571428571428572,7.4285714285714288,21,21.285714285714285,4.2857142857142856,0.42857142857142855,0,0,0,0,0,0,0,0,0,0,0,0,29.207173079620134,33.411666666666662,11.2,43,1,19.857142857142858,3.5714285714285716,0.42857142857142855,0.14285714285714285,25,0.42857142857142855,29.857142857142858,1.4285714285714286,0.14285714285714285,0,31.857142857142854,1.4285714285714286,49.714285714285715,5,0.5714285714285714,0.14285714285714285,56.857142857142854]
["7 Day Ave",1315,{"$f":"IF(C925+C1021+C1117+C1213+C1309+C1405+C1501=0,0,AVERAGE(C925,C1021,C1117,C1213,C1309,C1405,C1501))","v":0.42857142857142855},35.571428571428569,0.2857142857142857,2.4285714285714284,0,0,0,0.14285714285714285,0,0.14285714285714285,0,0,0.2857142857142857,1,4.2857142857142856,7.4285714285714288,13.571428571428571,9.4285714285714288,3,0,0,0,0,0,0,0,0,0,0,0,0,0,{"$f":"IF(SUM(AI925,AI1021,AI1117,AI1213,AI1309,AI1405,AI1501)=0,\"-\",AVERAGEIF(B872:B1543,B1693,AI872:AI1543))","v":26.857142857142858},{"$f":"IF(SUM(AJ925,AJ1021,AJ1117,AJ1213,AJ1309,AJ1405,AJ1501)=0,\"-\",AVERAGEIF(B872:B1543,B1693,AJ872:AJ1543))","v":32},4.5,39.6,"7 Day Ave",1315,{"$f":"IF(AO925+AO1021+AO1117+AO1213+AO1309+AO1405+AO1501=0,0,AVERAGE(AO925,AO1021,AO1117,AO1213,AO1309,AO1405,AO1501))","v":0.2857142857142857},32.714285714285715,0.14285714285714285,2.4285714285714284,0.2857142857142857,0.42857142857142855,0,0,0,0,0,0,0,0,1,5.8571428571428568,16.857142857142858,10.857142857142858,1.7142857142857142,0,0,0,0,0,0,0,0,0,0,0,0,0,{"$f":"IF(SUM(BU925,BU1021,BU1117,BU1213,BU1309,BU1405,BU1501)=0,\"-\",AVERAGEIF(AN872:AN1543,AN1693,BU872:BU1543))","v":28.3},{"$f":"IF(SUM(BV925,BV1021,BV1117,BV1213,BV1309,BV1405,BV1501)=0,\"-\",AVERAGEIF(AN872:AN1543,AN1693,BV872:BV1543))","v":32.1},16,37.700000000000003,"7 Day Ave",1315,{"$f":"IF(CA925+CA1021+CA1117+CA1213+CA1309+CA1405+CA1501=0,0,AVERAGE(CA925,CA1021,CA1117,CA1213,CA1309,CA1405,CA1501))","v":0.7142857142857143},68.285714285714292,0.42857142857142855,4.8571428571428568,0.2857142857142857,0.42857142857142855,0,0.14285714285714285,0,0.14285714285714285,0,0,0.2857142857142857,1,5.2857142857142856,13.285714285714286,30.428571428571427,20.285714285714285,4.7142857142857144,0,0,0,0,0,0,0,0,0,0,0,0,0,27.535250501646249,32.049999999999997,4.5,39.6,0.42857142857142855,35.857142857142854,2.4285714285714284,0,0.2857142857142857,39.000000000000007,0.2857142857142857,32.857142857142861,2.4285714285714284,0.71428571428571419,0,36.285714285714292,0.71428571428571419,68.714285714285722,4.8571428571428568,0.71428571428571419,0.2857142857142857,75.285714285714306]
["7 Day Ave",1545,{"$f":"IF(C935+C1031+C1127+C1223+C1319+C1415+C1511=0,0,AVERAGE(C935,C1031,C1127,C1223,C1319,C1415,C1511))","v":0.5714285714285714},49.714285714285715,0.5714285714285714,3.8571428571428572,0.14285714285714285,0,0,0.14285714285714285,0,0,0,0,1,0.8571428571428571,4.8571428571428568,8.1428571428571423,20.714285714285715,15,3.7142857142857144,0.5714285714285714,0.14285714285714285,0,0,0,0,0,0,0,0,0,0,0,{"$f":"IF(SUM(AI935,AI1031,AI1127,AI1223,AI1319,AI1415,AI1511)=0,\"-\",AVERAGEIF(B872:B1543,B1703,AI872:AI1543))","v":27.471428571428579},{"$f":"IF(SUM(AJ935,AJ1031,AJ1127,AJ1223,AJ1319,AJ1415,AJ1511)=0,\"-\",AVERAGEIF(B872:B1543,B1703,AJ872:AJ1543))","v":32.571428571428569},6.6,47.3,"7 Day Ave",1545,{"$f":"IF(AO935+AO1031+AO1127+AO1223+AO1319+AO1415+AO1511=0,0,AVERAGE(AO935,AO1031,AO1127,AO1223,AO1319,AO1415,AO1511))","v":1.5714285714285714},37.428571428571431,0.2857142857142857,5.1428571428571432,0,0.2857142857142857,0,0,0.2857142857142857,0,0,0,0,0.42857142857142855,2.4285714285714284,9.1428571428571423,20.857142857142858,9.7142857142857135,2,0.2857142857142857,0.14285714285714285,0,0,0,0,0,0,0,0,0,0,0,{"$f":"IF(SUM(BU935,BU1031,BU1127,BU1223,BU1319,BU1415,BU1511)=0,\"-\",AVERAGEIF(AN872:AN1543,AN1703,BU872:BU1543))","v":27.442857142857143},{"$f":"IF(SUM(BV935,BV1031,BV1127,BV1223,BV1319,BV1415,BV1511)=0,\"-\",AVERAGEIF(AN872:AN1543,AN1703,BV872:BV1543))","v":31.228571428571431},10.199999999999999,45.8,"7 Day Ave",1545,{"$f":"IF(CA935+CA1031+CA1127+CA1223+CA1319+CA1415+CA1511=0,0,AVERAGE(CA935,CA1031,CA1127,CA1223,CA1319,CA1415,CA1511))","v":2.1428571428571428},87.142857142857139,0.8571428571428571,9,0.14285714285714285,0.2857142857142857,0,0.14285714285714285,0.2857142857142857,0,0,0,1,1.2857142857142858,7.2857142857142856,17.285714285714285,41.571428571428569,24.714285714285715,5.7142857142857144,0.8571428571428571,0.2857142857142857,0,0,0,0,0,0,0,0,0,0,0,27.539207733163778,31.9,6.6,47.3,0.5714285714285714,50.285714285714285,3.8571428571428572,0.14285714285714285,0.14285714285714285,55,1.5714285714285714,37.714285714285715,5.1428571428571432,0.2857142857142857,0.2857142857142857,45,2.1428571428571428,88,9,0.42857142857142855,0.42857142857142855,100]
["7 Day Ave",2115,{"$f":"IF(C957+C1053+C1149+C1245+C1341+C1437+C1533=0,0,AVERAGE(C957,C1053,C1149,C1245,C1341,C1437,C1533))","v":0.2857142857142857},17.142857142857142,0.2857142857142857,0.5714285714285714,0,0.14285714285714285,0,0,0.14285714285714285,0,0,0,0,0.2857142857142857,1,2.5714285714285716,6.5714285714285712,4.1428571428571432,3.1428571428571428,0.7142857142857143,0.14285714285714285,0,0,0,0,0,0,0,0,0,0,0,{"$f":"IF(SUM(AI957,AI1053,AI1149,AI1245,AI1341,AI1437,AI1533)=0,\"-\",AVERAGEIF(B872:B1543,B1725,AI872:AI1543))","v":29.75714285714286},{"$f":"IF(SUM(AJ957,AJ1053,AJ1149,AJ1245,AJ1341,AJ1437,AJ1533)=0,\"-\",AVERAGEIF(B872:B1543,B1725,AJ872:AJ1543))","v":35.328571428571429},13,48.6,"7 Day Ave",2115,{"$f":"IF(AO957+AO1053+AO1149+AO1245+AO1341+AO1437+AO1533=0,0,AVERAGE(AO957,AO1053,AO1149,AO1245,AO1341,AO1437,AO1533))","v":1},15,0.42857142857142855,0.14285714285714285,0,0,0,0,0,0,0,0,0.14285714285714285,0.14285714285714285,0.2857142857142857,3.2857142857142856,7,3.8571428571428572,1.1428571428571428,0.5714285714285714,0.14285714285714285,0,0,0,0,0,0,0,0,0,0,0,{"$f":"IF(SUM(BU957,BU1053,BU1149,BU1245,BU1341,BU1437,BU1533)=0,\"-\",AVERAGEIF(AN872:AN1543,AN1725,BU872:BU1543))","v":28.714285714285715},{"$f":"IF(SUM(BV957,BV1053,BV1149,BV1245,BV1341,BV1437,BV1533)=0,\"-\",AVERAGEIF(AN872:AN1543,AN1725,BV872:BV1543))","v":33.057142857142857},9.6999999999999993,46,"7 Day Ave",2115,{"$f":"IF(CA957+CA1053+CA1149+CA1245+CA1341+CA1437+CA1533=0,0,AVERAGE(CA957,CA1053,CA1149,CA1245,CA1341,CA1437,CA1533))","v":1.2857142857142858},32.142857142857146,0.7142857142857143,0.7142857142857143,0,0.14285714285714285,0,0,0.14285714285714285,0,0,0,0.14285714285714285,0.42857142857142855,1.2857142857142858,5.8571428571428568,13.571428571428571,8,4.2857142857142856,1.2857142857142858,0.2857142857142857,0,0,0,0,0,0,0,0,0,0,0,29.261760563172523,34.192857142857143,9.6999999999999993,48.6,0.2857142857142857,17.428571428571427,0.5714285714285714,0.14285714285714285,0.14285714285714285,18.571428571428569,1,15.428571428571429,0.14285714285714285,0,0,16.571428571428569,1.2857142857142856,32.857142857142854,0.71428571428571419,0.14285714285714285,0.14285714285714285,35.142857142857139]
["Mon",745,0,27,0,0,0,0,0,0,2,0,0,0,0,0,0,1,2,5,15,6,0,0,0,0,0,0,0,0,0,0,0,0,36.6,40.9,25,44,"Mon",745,0,23,0,0,0,0,0,0,0,0,0,0,0,0,0,0,1,7,9,4,1,1,0,0,0,0,0,0,0,0,0,0,37.4,42.1,29.3,53.7,"Mon",745,0,50,0,0,0,0,0,0,2,0,0,0,0,0,0,1,3,12,24,10,1,1,0,0,0,0,0,0,0,0,0,0,36.95384615384615,41.5,25,53.7,0,27,0,0,2,29,0,23,0,0,0,23,0,50,0,0,2,52,29,28,33,36,38,7,5,23,31,25,24,30,8,2,52,59,58,60,68,15,7,32.799999999999997,25.142857142857142,null,null,null,null,null,26.6,20.428571428571427,null,null,null,null,null,59.4,45.571428571428569,29,28,33,36,38,7,5,23,31,25,24,30,8,2,52,59,58,60,68,15,7]
["Mon",1030,0,14,0,1,0,0,0,0,1,0,0,0,2,0,2,0,2,1,3,4,2,0,0,0,0,0,0,0,0,0,0,0,32.1,42.7,8.6,49.7,"Mon",1030,0,8,0,1,0,0,0,0,0,0,0,0,0,0,0,0,2,2,2,3,0,0,0,0,0,0,0,0,0,0,0,0,36.5,"-",28.4,44,"Mon",1030,0,22,0,2,0,0,0,0,1,0,0,0,2,0,2,0,4,3,5,7,2,0,0,0,0,0,0,0,0,0,0,0,33.683999999999997,42.7,8.6,49.7,0,14,1,0,1,16,0,8,1,0,0,9,0,22,2,0,1,25,16,10,15,19,19,9,11,9,8,19,18,14,13,13,25,18,34,37,33,22,24,15.8,14.142857142857142,null,null,null,null,null,13.6,13.428571428571429,null,null,null,null,null,29.4,27.571428571428573,16,10,15,19,19,9,11,9,8,19,18,14,13,13,25,18,34,37,33,22,24]
["Mon",1600,0,23,0,3,0,0,0,0,0,0,0,0,0,0,0,1,1,7,9,5,3,0,0,0,0,0,0,0,0,0,0,0,37.9,43.8,24.6,48.6,"Mon",1600,0,13,0,2,0,0,0,0,0,0,0,0,0,0,0,0,0,4,7,3,1,0,0,0,0,0,0,0,0,0,0,0,37.700000000000003,42.5,30.5,45.6,"Mon",1600,{"$f":"SUM(C1803+AO1803)","v":0},{"$f":"SUM(D1803+AP1803)","v":36},{"$f":"SUM(E1803+AQ1803)","v":0},{"$f":"SUM(F1803+AR1803)","v":5},{"$f":"SUM(G1803+AS1803)","v":0},{"$f":"SUM(H1803+AT1803)","v":0},{"$f":"SUM(I1803+AU1803)","v":0},{"$f":"SUM(J1803+AV1803)","v":0},{"$f":"SUM(K1803+AW1803)","v":0},{"$f":"SUM(L1803+AX1803)","v":0},{"$f":"SUM(M1803+AY1803)","v":0},{"$f":"SUM(N1803+AZ1803)","v":0},{"$f":"SUM(O1803+BA1803)","v":0},{"$f":"SUM(P1803+BB1803)","v":0},{"$f":"SUM(Q1803+BC1803)","v":0},{"$f":"SUM(R1803+BD1803)","v":1},{"$f":"SUM(S1803+BE1803)","v":1},{"$f":"SUM(T1803+BF1803)","v":11},{"$f":"SUM(U1803+BG1803)","v":16},{"$f":"SUM(V1803+BH1803)","v":8},{"$f":"SUM(W1803+BI1803)","v":4},{"$f":"SUM(X1803+BJ1803)","v":0},{"$f":"SUM(Y1803+BK1803)","v":0},{"$f":"SUM(Z1803+BL1803)","v":0},{"$f":"SUM(AA1803+BM1803)","v":0},{"$f":"SUM(AB1803+BN1803)","v":0},{"$f":"SUM(AC1803+BO1803)","v":0},{"$f":"SUM(AD1803+BP1803)","v":0},{"$f":"SUM(AE1803+BQ1803)","v":0},{"$f":"SUM(AF1803+BR1803)","v":0},{"$f":"SUM(AG1803+BS1803)","v":0},{"$f":"SUM(AH1803+BT1803)","v":0},37.826829268292684,43.15,24.6,48.6,0,23,3,0,0,26,0,13,2,0,0,15,0,36,5,0,0,41,26,19,26,26,33,8,24,15,33,27,24,23,12,8,41,52,53,50,56,20,32,26,23.142857142857142,null,null,null,null,null,24.4,20.285714285714285,null,null,null,null,null,50.4,43.428571428571431,26,19,26,26,33,8,24,15,33,27,24,23,12,8,41,52,53,{"$f":"IF(FQ1803=\"-\",\"-\",IF(FX1803=\"-\",\"-\",FQ1803+FX1803))","v":50},{"$f":"IF(FR1803=\"-\",\"-\",IF(FY1803=\"-\",\"-\",FR1803+FY1803))","v":56},{"$f":"IF(FS1803=\"-\",\"-\",IF(FZ1803=\"-\",\"-\",FS1803+FZ1803))","v":20},{"$f":"IF(FT1803=\"-\",\"-\",IF(GA1803=\"-\",\"-\",FT1803+GA1803))","v":32}]
["Mon",2130,0,2,0,0,0,0,0,0,0,0,0,0,0,0,0,0,0,0,1,1,0,0,0,0,0,0,0,0,0,0,0,0,38.799999999999997,"-",37.299999999999997,40.200000000000003,"Mon",2130,0,4,0,0,0,0,0,0,0,0,0,0,0,0,0,1,0,0,1,2,0,0,0,0,0,0,0,0,0,0,0,0,36.700000000000003,"-",24.3,43.5,"Mon",2130,0,6,0,0,0,0,0,0,0,0,0,0,0,0,0,1,0,0,2,3,0,0,0,0,0,0,0,0,0,0,0,0,37.4,"-",24.3,43.5,0,2,0,0,0,2,0,4,0,0,0,4,0,6,0,0,0,6,2,12,6,4,0,5,2,4,11,14,13,10,5,6,6,23,20,17,10,10,8,4.8,4.4285714285714288,null,null,null,null,null,10.4,9,null,null,null,null,null,15.2,13.428571428571429,2,12,6,4,0,5,2,4,11,14,13,10,5,6,6,23,20,17,10,10,8]
["Tues",600,1,7,0,1,0,0,0,0,0,0,0,0,0,0,0,0,0,0,3,3,3,0,0,0,0,0,0,0,0,0,0,0,42.2,"-",36,48,"Tues",600,0,8,0,0,0,0,0,0,0,0,0,0,0,0,0,0,0,0,0,7,1,0,0,0,0,0,0,0,0,0,0,0,43.3,"-",41,46.1,"Tues",600,1,15,0,1,0,0,0,0,0,0,0,0,0,0,0,0,0,0,3,10,4,0,0,0,0,0,0,0,0,0,0,0,42.71764705882353,"-",36,48,1,7,1,0,0,9,0,8,0,0,0,8,1,15,1,0,0,17]
["Tues",1130,1,17,0,4,0,0,0,0,0,0,0,0,0,0,0,1,3,2,11,4,1,0,0,0,0,0,0,0,0,0,0,0,36.299999999999997,40.700000000000003,20,45.5,"Tues",1130,0,14,0,1,0,0,0,0,0,0,0,0,0,0,0,0,5,8,1,1,0,0,0,0,0,0,0,0,0,0,0,0,31.5,34.4,25.4,41.4,"Tues",1130,1,31,0,5,0,0,0,0,0,0,0,0,0,0,0,1,8,10,12,5,1,0,0,0,0,0,0,0,0,0,0,0,34.354054054054053,37.549999999999997,20,45.5,1,17,4,0,0,22,0,14,1,0,0,15,1,31,5,0,0,37]
["Tues",1415,0,12,0,1,0,0,0,0,0,0,0,0,0,0,0,0,1,1,6,5,0,0,0,0,0,0,0,0,0,0,0,0,38.200000000000003,42.9,25.7,43.8,"Tues",1415,1,11,0,0,0,0,0,0,0,0,0,0,0,0,0,1,1,3,5,1,1,0,0,0,0,0,0,0,0,0,0,0,35.6,39.6,21.8,47,"Tues",1415,1,23,0,1,0,0,0,0,0,0,0,0,0,0,0,1,2,4,11,6,1,0,0,0,0,0,0,0,0,0,0,0,36.952000000000005,41.25,21.8,47,0,12,1,0,0,13,1,11,0,0,0,12,1,23,1,0,0,25,null,null,null,null,null,null,null,null,null,null,null,null,null,null,null,null,null,null,null,null,null,{"$f":"IF((SUM(FN1892:FR1892))>0,AVERAGE(FN1892:FR1892),0)","v":27},{"$f":"IF((SUM(FN1892:FT1892))>0,AVERAGE(FN1892:FT1892),0)","v":27.428571428571427},null,null,null,null,null,{"$f":"IF((SUM(FU1892:FY1892))>0,AVERAGE(FU1892:FY1892),0)","v":28},{"$f":"IF((SUM(FU1892:GA1892))>0,AVERAGE(FU1892:GA1892),0)","v":27.714285714285715},null,null,null,null,null,{"$f":"IF((SUM(GB1892:GF1892))>0,AVERAGE(GB1892:GF1892),0)","v":55},{"$f":"IF((SUM(GB1892:GH1892))>0,AVERAGE(GB1892:GH1892),0)","v":55.142857142857146},{"$f":"IF(FN1793=\"-\",(IF(FN1794=\"-\",\"-\",FN1794)),(IF(FN1794=\"-\",FN1793,(SUM(FN1793:FN1794)))))","v":18},{"$f":"IF(FO1793=\"-\",(IF(FO1794=\"-\",\"-\",FO1794)),(IF(FO1794=\"-\",FO1793,(SUM(FO1793:FO1794)))))","v":23},22,32,40,37,20,{"$f":"IF(FU1793=\"-\",(IF(FU1794=\"-\",\"-\",FU1794)),(IF(FU1794=\"-\",FU1793,(SUM(FU1793:FU1794)))))","v":12},{"$f":"IF(FV1793=\"-\",(IF(FV1794=\"-\",\"-\",FV1794)),(IF(FV1794=\"-\",FV1793,(SUM(FV1793:FV1794)))))","v":26},35,41,26,26,28,{"$f":"IF(GB1793=\"-\",(IF(GB1794=\"-\",\"-\",GB1794)),(IF(GB1794=\"-\",GB1793,(SUM(GB1793:GB1794)))))","v":30},{"$f":"IF(GC1793=\"-\",(IF(GC1794=\"-\",\"-\",GC1794)),(IF(GC1794=\"-\",GC1793,(SUM(GC1793:GC1794)))))","v":49},57,73,66,63,48]
["Tues",1945,0,8,0,1,0,0,0,0,0,0,0,0,0,0,0,0,0,3,4,2,0,0,0,0,0,0,0,0,0,0,0,0,36.6,"-",31,43.4,"Tues",1945,2,15,2,1,0,0,0,0,0,0,0,0,0,0,0,2,3,3,10,2,0,0,0,0,0,0,0,0,0,0,0,0,33.9,37.1,23.2,42,"Tues",1945,2,23,2,2,0,0,0,0,0,0,0,0,0,0,0,2,3,6,14,4,0,0,0,0,0,0,0,0,0,0,0,0,34.737931034482763,37.1,23.2,43.4,0,8,1,0,0,9,2,17,1,0,0,20,2,25,2,0,0,29,null,null,null,null,null,null,null,null,null,null,null,null,null,null,null,null,null,null,null,null,null,{"$f":"IF((SUM(FN1914:FR1914))>0,AVERAGE(FN1914:FR1914),0)","v":23.6},{"$f":"IF((SUM(FN1914:FT1914))>0,AVERAGE(FN1914:FT1914),0)","v":21.857142857142858},null,null,null,null,null,{"$f":"IF((SUM(FU1914:FY1914))>0,AVERAGE(FU1914:FY1914),0)","v":28},{"$f":"IF((SUM(FU1914:GA1914))>0,AVERAGE(FU1914:GA1914),0)","v":24.571428571428573},null,null,null,null,null,{"$f":"IF((SUM(GB1914:GF1914))>0,AVERAGE(GB1914:GF1914),0)","v":51.6},{"$f":"IF((SUM(GB1914:GH1914))>0,AVERAGE(GB1914:GH1914),0)","v":46.428571428571431},{"$f":"IF(FN1815=\"-\",(IF(FN1816=\"-\",\"-\",FN1816)),(IF(FN1816=\"-\",FN1815,(SUM(FN1815:FN1816)))))","v":25},{"$f":"IF(FO1815=\"-\",(IF(FO1816=\"-\",\"-\",FO1816)),(IF(FO1816=\"-\",FO1815,(SUM(FO1815:FO1816)))))","v":28},23,24,18,18,17,{"$f":"IF(FU1815=\"-\",(IF(FU1816=\"-\",\"-\",FU1816)),(IF(FU1816=\"-\",FU1815,(SUM(FU1815:FU1816)))))","v":22},{"$f":"IF(FV1815=\"-\",(IF(FV1816=\"-\",\"-\",FV1816)),(IF(FV1816=\"-\",FV1815,(SUM(FV1815:FV1816)))))","v":31},22,32,33,15,17,{"$f":"IF(GB1815=\"-\",(IF(GB1816=\"-\",\"-\",GB1816)),(IF(GB1816=\"-\",GB1815,(SUM(GB1815:GB1816)))))","v":47},{"$f":"IF(GC1815=\"-\",(IF(GC1816=\"-\",\"-\",GC1816)),(IF(GC1816=\"-\",GC1815,(SUM(GC1815:GC1816)))))","v":59},45,56,51,33,34]
["Wed",115,0,0,0,0,0,0,0,0,0,0,0,0,0,0,0,0,0,0,0,0,0,0,0,0,0,0,0,0,0,0,0,0,"-","-","-","-","Wed",115,0,0,0,0,0,0,0,0,0,0,0,0,0,0,0,0,0,0,0,0,0,0,0,0,0,0,0,0,0,0,0,0,"-","-","-","-","Wed",115,0,0,0,0,0,0,0,0,0,0,0,0,0,0,0,0,0,0,0,0,0,0,0,0,0,0,0,0,0,0,0,0,"-","-","-","-",0,0,0,0,0,0,0,0,0,0,0,0,0,0,0,0,0,0,null,null,null,null,null,null,null,null,null,null,null,null,null,null,null,null,null,null,null,null,null,null,null,null,null,null,null,null,null,null,null,null,null,null,null,null,null,"Mon","Tue","Wed","Thu","Fri","Sat","Sun","Mon","Tue","Wed","Thu","Fri","Sat","Sun","Mon","Tue","Wed","Thu","Fri","Sat","Sun"]
["Wed",945,1,10,1,1,0,0,0,0,1,0,0,0,0,0,1,0,1,5,5,2,0,0,0,0,0,0,0,0,0,0,0,0,34.299999999999997,39.6,15.4,41.2,"Wed",945,1,10,2,4,0,0,0,1,1,0,0,0,0,0,0,2,4,5,6,2,0,0,0,0,0,0,0,0,0,0,0,0,32.799999999999997,38,22.6,40.799999999999997,"Wed",945,2,20,3,5,0,0,0,1,2,0,0,0,0,0,1,2,5,10,11,4,0,0,0,0,0,0,0,0,0,0,0,0,33.43636363636363,38.799999999999997,15.4,41.2,1,11,1,0,1,14,1,12,4,0,2,19,2,23,5,0,3,33]
["Wed",1515,1,20,0,1,0,0,0,0,1,0,0,0,0,0,0,3,1,4,9,4,2,0,0,0,0,0,0,0,0,0,0,0,36.299999999999997,42.7,22.9,48.5,"Wed",1515,1,13,0,0,1,0,0,0,0,0,0,0,0,0,0,2,2,3,5,0,1,2,0,0,0,0,0,0,0,0,0,0,35.9,45.6,20.2,50.4,"Wed",1515,2,33,0,1,1,0,0,0,1,0,0,0,0,0,0,5,3,7,14,4,3,2,0,0,0,0,0,0,0,0,0,0,36.142105263157895,44.150000000000006,20.2,50.4,1,20,1,0,1,23,1,13,0,1,0,15,2,33,1,1,1,38]
["Wed",1800,0,15,1,0,0,0,0,0,0,0,0,0,0,0,0,0,0,3,7,5,1,0,0,0,0,0,0,0,0,0,0,0,38.4,42.1,30.6,45.8,"Wed",1800,2,13,0,2,0,0,0,0,0,0,0,0,0,1,1,0,3,2,4,4,2,0,0,0,0,0,0,0,0,0,0,0,35,42.5,10.9,49.3,"Wed",1800,2,28,1,2,0,0,0,0,0,0,0,0,0,1,1,0,3,5,11,9,3,0,0,0,0,0,0,0,0,0,0,0,36.648484848484848,42.3,10.9,49.3,0,16,0,0,0,16,2,13,2,0,0,17,2,29,2,0,0,33]
["Wed",2330,0,2,0,0,0,0,0,0,0,0,0,0,0,0,0,0,1,0,0,0,1,0,0,0,0,0,0,0,0,0,0,0,37.1,"-",26.9,47.3,"Wed",2330,0,5,0,0,0,0,0,0,0,0,0,0,0,0,0,0,0,0,0,4,0,0,0,0,1,0,0,0,0,0,0,0,47.2,"-",41.1,65.900000000000006,"Wed",2330,0,7,0,0,0,0,0,0,0,0,0,0,0,0,0,0,1,0,0,4,1,0,0,0,1,0,0,0,0,0,0,0,44.31428571428571,"-",26.9,65.900000000000006,0,2,0,0,0,2,0,5,0,0,0,5,0,7,0,0,0,7,null,null,null,null,null,null,null,null,null,null,null,null,null,null,null,null,null,null,null,null,null,{"$f":"IF((SUM(FN2025:FR2025))>0,AVERAGE(FN2025:FR2025),0)","v":13.4},{"$f":"IF((SUM(FN2025:FT2025))>0,AVERAGE(FN2025:FT2025),0)","v":11.285714285714286},null,null,null,null,null,{"$f":"IF((SUM(FU2025:FY2025))>0,AVERAGE(FU2025:FY2025),0)","v":20.8},{"$f":"IF((SUM(FU2025:GA2025))>0,AVERAGE(FU2025:GA2025),0)","v":20.142857142857142},null,null,null,null,null,{"$f":"IF((SUM(GB2025:GF2025))>0,AVERAGE(GB2025:GF2025),0)","v":34.200000000000003},{"$f":"IF((SUM(GB2025:GH2025))>0,AVERAGE(GB2025:GH2025),0)","v":31.428571428571427},{"$f":"IF(FN1926=\"-\",(IF(FN1928=\"-\",\"-\",FN1928)),(IF(FN1928=\"-\",FN1926,(SUM(FN1926,FN1928)))))","v":8},{"$f":"IF(FO1926=\"-\",(IF(FO1928=\"-\",\"-\",FO1928)),(IF(FO1928=\"-\",FO1926,(SUM(FO1926,FO1928)))))","v":20},19,5,15,10,2,{"$f":"IF(FU1926=\"-\",(IF(FU1928=\"-\",\"-\",FU1928)),(IF(FU1928=\"-\",FU1926,(SUM(FU1926,FU1928)))))","v":15},{"$f":"IF(FV1926=\"-\",(IF(FV1928=\"-\",\"-\",FV1928)),(IF(FV1928=\"-\",FV1926,(SUM(FV1926,FV1928)))))","v":31},16,19,23,19,18,{"$f":"IF(GB1926=\"-\",(IF(GB1928=\"-\",\"-\",GB1928)),(IF(GB1928=\"-\",GB1926,(SUM(GB1926,GB1928)))))","v":23},{"$f":"IF(GC1926=\"-\",(IF(GC1928=\"-\",\"-\",GC1928)),(IF(GC1928=\"-\",GC1926,(SUM(GC1926,GC1928)))))","v":51},35,24,38,29,20]
["Thu",500,0,3,0,0,0,0,0,0,0,0,0,0,0,0,0,0,0,0,1,2,0,0,0,0,0,0,0,0,0,0,0,0,40.700000000000003,"-",39.299999999999997,41.5,"Thu",500,0,3,0,0,0,0,0,0,0,0,0,0,0,0,0,0,0,1,0,1,1,0,0,0,0,0,0,0,0,0,0,0,42,"-",32.700000000000003,50,"Thu",500,0,6,0,0,0,0,0,0,0,0,0,0,0,0,0,0,0,1,1,3,1,0,0,0,0,0,0,0,0,0,0,0,41.35,"-",32.700000000000003,50,0,3,0,0,0,3,0,3,0,0,0,3,0,6,0,0,0,6]
["Thu",1330,0,15,0,1,0,0,0,0,0,0,0,0,0,0,0,1,0,5,7,3,0,0,0,0,0,0,0,0,0,0,0,0,35.9,40.5,22.5,42.3,"Thu",1330,2,21,0,2,0,0,0,0,0,0,0,0,0,0,0,0,2,4,10,9,0,0,0,0,0,0,0,0,0,0,0,0,37.799999999999997,40.700000000000003,28.3,43.4,"Thu",1330,2,36,0,3,0,0,0,0,0,0,0,0,0,0,0,1,2,9,17,12,0,0,0,0,0,0,0,0,0,0,0,0,37.05853658536585,40.6,22.5,43.4,0,15,1,0,0,16,2,21,2,0,0,25,2,36,3,0,0,41]
["Thu",1900,1,9,1,0,0,1,0,0,0,0,0,0,0,0,0,1,2,0,7,2,0,0,0,0,0,0,0,0,0,0,0,0,35.1,39.799999999999997,22.5,40.9,"Thu",1900,1,16,0,1,0,0,0,0,0,0,0,0,0,0,0,1,0,1,12,2,1,1,0,0,0,0,0,0,0,0,0,0,38.700000000000003,40.299999999999997,23.9,51.6,"Thu",1900,2,25,1,1,0,1,0,0,0,0,0,0,0,0,0,2,2,1,19,4,1,1,0,0,0,0,0,0,0,0,0,0,37.260000000000005,40.049999999999997,22.5,51.6,1,10,0,1,0,12,1,16,1,0,0,18,2,26,1,1,0,30]
["Fri",30,0,0,0,0,0,0,0,0,0,0,0,0,0,0,0,0,0,0,0,0,0,0,0,0,0,0,0,0,0,0,0,0,"-","-","-","-","Fri",30,0,0,0,0,0,0,0,0,0,0,0,0,0,0,0,0,0,0,0,0,0,0,0,0,0,0,0,0,0,0,0,0,"-","-","-","-","Fri",30,0,0,0,0,0,0,0,0,0,0,0,0,0,0,0,0,0,0,0,0,0,0,0,0,0,0,0,0,0,0,0,0,"-","-","-","-",0,0,0,0,0,0,0,0,0,0,0,0,0,0,0,0,0,0]
["Fri",900,0,15,0,1,0,0,0,0,0,0,0,0,0,0,0,0,0,5,8,1,2,0,0,0,0,0,0,0,0,0,0,0,38,41.4,32.200000000000003,48.7,"Fri",900,1,20,0,3,0,0,0,0,0,0,0,0,1,0,0,0,0,7,11,5,0,0,0,0,0,0,0,0,0,0,0,0,35.5,40,9.1999999999999993,41.7,"Fri",900,1,35,0,4,0,0,0,0,0,0,0,0,1,0,0,0,0,12,19,6,2,0,0,0,0,0,0,0,0,0,0,0,36.5,40.700000000000003,9.1999999999999993,48.7,0,15,1,0,0,16,1,20,3,0,0,24,1,35,4,0,0,40]
["Fri",1430,0,20,0,3,0,1,0,0,0,0,0,0,0,0,0,0,0,3,10,8,1,2,0,0,0,0,0,0,0,0,0,0,40.299999999999997,43.4,30.3,51.1,"Fri",1430,0,16,0,2,0,0,0,0,0,0,0,0,0,0,0,0,3,3,3,7,1,0,1,0,0,0,0,0,0,0,0,0,38.700000000000003,44.3,25.5,56.8,"Fri",1430,0,36,0,5,0,1,0,0,0,0,0,0,0,0,0,0,3,6,13,15,2,2,1,0,0,0,0,0,0,0,0,0,39.614285714285714,43.849999999999994,25.5,56.8,0,20,3,1,0,24,0,16,2,0,0,18,0,36,5,1,0,42]
["Fri",1715,2,15,1,0,0,0,0,0,1,0,0,0,0,0,1,1,2,4,6,3,1,0,1,0,0,0,0,0,0,0,0,0,35.799999999999997,42.7,19.899999999999999,58.2,"Fri",1715,2,25,0,1,0,0,0,0,0,0,0,0,0,0,0,1,2,6,10,4,3,1,1,0,0,0,0,0,0,0,0,0,38.4,45.6,23,58.7,"Fri",1715,4,40,1,1,0,{"$f":"SUM(H2192+AT2192)","v":0},0,0,1,{"$f":"SUM(L2192+AX2192)","v":0},{"$f":"SUM(M2192+AY2192)","v":0},{"$f":"SUM(N2192+AZ2192)","v":0},{"$f":"SUM(O2192+BA2192)","v":0},0,1,2,4,10,16,7,4,1,2,0,0,0,0,0,0,0,0,0,37.348936170212767,44.150000000000006,19.899999999999999,58.7,2,16,0,0,1,19,2,25,1,0,0,28,4,41,1,0,1,47]
["Fri",2245,0,4,0,0,0,0,0,0,0,0,0,0,0,0,0,0,0,1,2,1,0,0,0,0,0,0,0,0,0,0,0,0,38,"-",34.5,41.5,"Fri",2245,0,2,0,0,0,0,0,0,0,0,0,0,0,0,0,0,0,0,0,1,1,0,0,0,0,0,0,0,0,0,0,0,45.5,"-",42.1,48.9,"Fri",2245,0,6,0,0,0,0,0,0,0,0,0,0,0,0,0,0,0,1,2,2,1,0,0,0,0,0,0,0,0,0,0,0,40.5,"-",34.5,48.9,0,4,0,0,0,4,0,2,0,0,0,2,0,6,0,0,0,6]
["Sat",415,0,0,0,0,0,0,0,0,0,0,0,0,0,0,0,0,0,0,0,0,0,0,0,0,0,0,0,0,0,0,0,0,"-","-","-","-","Sat",415,0,2,0,0,0,0,0,0,0,0,0,0,0,0,0,0,0,0,1,1,0,0,0,0,0,0,0,0,0,0,0,0,39.299999999999997,"-",35.6,43,"Sat",415,0,2,0,0,0,0,0,0,0,0,0,0,0,0,0,0,0,0,1,1,0,0,0,0,0,0,0,0,0,0,0,0,39.299999999999997,"-",35.6,43,0,0,0,0,0,0,0,2,0,0,0,2,0,2,0,0,0,2]
["Sat",1245,2,11,0,0,0,0,0,0,0,0,0,0,0,0,0,0,2,4,4,2,1,0,0,0,0,0,0,0,0,0,0,0,36.5,43.6,27.1,45.7,"Sat",1245,0,9,0,1,0,0,0,0,0,0,0,0,0,0,1,0,0,4,2,2,0,1,0,0,0,0,0,0,0,0,0,0,36.200000000000003,"-",18,50.4,"Sat",1245,2,20,0,1,0,0,0,0,0,0,0,0,0,0,1,0,2,8,6,4,1,1,0,0,0,0,0,0,0,0,0,0,36.369565217391305,43.6,18,50.4,2,11,0,0,0,13,0,9,1,0,0,10,2,20,1,0,0,23]
["Sat",1815,0,7,0,0,0,0,0,0,0,0,0,0,0,0,0,0,0,1,4,2,0,0,0,0,0,0,0,0,0,0,0,0,38.700000000000003,"-",34.799999999999997,42.5,"Sat",1815,0,15,0,1,0,0,0,0,0,0,0,0,0,0,0,0,1,6,5,3,0,0,1,0,0,0,0,0,0,0,0,0,37.5,43.2,28.3,55.3,"Sat",1815,0,22,0,1,0,0,0,0,0,0,0,0,0,0,0,0,1,7,9,5,0,0,1,0,0,0,0,0,0,0,0,0,37.865217391304348,43.2,28.3,55.3,0,7,0,0,0,7,0,15,1,0,0,16,0,22,1,0,0,23]
["Sat",2345,0,2,0,0,0,0,0,0,0,0,0,0,0,0,0,0,0,2,0,0,0,0,0,0,0,0,0,0,0,0,0,0,33.299999999999997,"-",32.1,34.5,"Sat",2345,0,4,0,0,0,0,0,0,0,0,0,0,0,0,0,0,0,0,2,1,1,0,0,0,0,0,0,0,0,0,0,0,40.4,"-",35.6,46.3,"Sat",2345,0,6,0,0,0,0,0,0,0,0,0,0,0,0,0,0,0,2,2,1,1,0,0,0,0,0,0,0,0,0,0,0,38.033333333333331,"-",32.1,46.3,0,2,0,0,0,2,0,4,0,0,0,4,0,6,0,0,0,6]
["Sun",230,0,1,0,0,0,0,0,0,0,0,0,0,0,0,0,0,0,0,1,0,0,0,0,0,0,0,0,0,0,0,0,0,37.4,"-",37.4,37.4,"Sun",230,0,1,0,0,0,0,0,0,0,0,0,0,0,0,0,0,1,0,0,0,0,0,0,0,0,0,0,0,0,0,0,0,26.1,"-",26.1,26.1,"Sun",230,0,2,0,0,0,0,0,0,0,0,0,0,0,0,0,0,1,0,1,0,0,0,0,0,0,0,0,0,0,0,0,0,31.75,"-",26.1,37.4,0,1,0,0,0,1,0,1,0,0,0,1,0,2,0,0,0,2]
["Sun",800,0,2,0,0,0,0,0,0,0,0,0,0,0,0,0,0,0,1,0,1,0,0,0,0,0,0,0,0,0,0,0,0,37.6,"-",33.9,41.3,"Sun",800,0,4,0,0,0,0,0,0,0,0,0,0,0,0,0,0,0,0,2,2,0,0,0,0,0,0,0,0,0,0,0,0,40.4,"-",36.1,43.2,"Sun",800,0,6,0,0,0,0,0,0,0,0,0,0,0,0,0,0,0,1,2,3,0,0,0,0,0,0,0,0,0,0,0,0,39.466666666666669,"-",33.9,43.2,0,2,0,0,0,2,0,4,0,0,0,4,0,6,0,0,0,6]
["Sun",1630,1,14,0,0,0,0,0,0,0,0,0,0,0,0,0,0,2,3,6,2,0,1,1,0,0,0,0,0,0,0,0,0,38,40.5,26.1,57.7,"Sun",1630,0,14,0,1,0,0,0,0,0,0,0,0,0,0,0,1,0,2,8,4,0,0,0,0,0,0,0,0,0,0,0,0,37.4,41.4,23.4,44.9,"Sun",1630,1,28,0,1,0,0,0,0,0,0,0,0,0,0,0,1,2,5,14,6,0,1,1,0,0,0,0,0,0,0,0,0,37.700000000000003,40.950000000000003,23.4,57.7,1,14,0,0,0,15,0,14,1,0,0,15,1,28,1,0,0,30]
["Sun",2045,1,3,0,0,0,0,0,0,0,0,0,0,0,0,1,0,0,0,3,0,0,0,0,0,0,0,0,0,0,0,0,0,31.3,"-",16.7,37.9,"Sun",2045,0,7,0,0,0,1,0,0,0,0,0,0,0,0,0,0,2,3,1,1,1,0,0,0,0,0,0,0,0,0,0,0,35.6,"-",28.3,48.9,"Sun",2045,1,10,0,0,0,1,0,0,0,0,0,0,0,0,1,0,2,3,4,1,1,0,0,0,0,0,0,0,0,0,0,0,34.166666666666664,"-",16.7,48.9,1,3,0,0,0,4,0,7,0,1,0,8,1,10,0,1,0,12]
["WD Ave",345,{"$f":"IF(C1754+C1850+C1946+C2042+C2138=0,0,AVERAGE(C1754,C1850,C1946,C2042,C2138))","v":0},0,0,0,0,0,0,0,0,0,0,0,0,0,0,0,0,0,0,0,0,0,0,0,0,0,0,0,0,0,0,0,{"$f":"IF(SUM(AI1754,AI1850,AI1946,AI2042,AI2138)=0,\"-\",AVERAGEIF(B1739:B2218,B2426,AI1739:AI2218))","v":"-"},{"$f":"IF(SUM(AJ1754,AJ1850,AJ1946,AJ2042,AJ2138)=0,\"-\",AVERAGEIF(B1739:B2218,B2426,AJ1739:AJ2218))","v":"-"},"-","-","WD Ave",345,{"$f":"IF(AO1754+AO1850+AO1946+AO2042+AO2138=0,0,AVERAGE(AO1754,AO1850,AO1946,AO2042,AO2138))","v":0},0.2,0,0,0,0,0,0,0,0,0,0,0,0,0,0.2,0,0,0,0,0,0,0,0,0,0,0,0,0,0,0,0,{"$f":"IF(SUM(BU1754,BU1850,BU1946,BU2042,BU2138)=0,\"-\",AVERAGEIF(AN1739:AN2218,AN2426,BU1739:BU2218))","v":23.8},{"$f":"IF(SUM(BV1754,BV1850,BV1946,BV2042,BV2138)=0,\"-\",AVERAGEIF(AN1739:AN2218,AN2426,BV1739:BV2218))","v":"-"},23.8,23.8,"WD Ave",345,{"$f":"IF(CA1754+CA1850+CA1946+CA2042+CA2138=0,0,AVERAGE(CA1754,CA1850,CA1946,CA2042,CA2138))","v":0},0.2,0,0,0,0,0,0,0,0,0,0,0,0,0,0.2,0,0,0,0,0,0,0,0,0,0,0,0,0,0,0,0,23.8,"-",23.8,23.8,0,0,0,0,0,0,0,0.2,0,0,0,0.2,0,0.2,0,0,0,0.2]
["WD Ave",1215,{"$f":"IF(C1788+C1884+C1980+C2076+C2172=0,0,AVERAGE(C1788,C1884,C1980,C2076,C2172))","v":1},13.4,0.2,0.8,0.2,0,0,0,0,0.2,0,0,0,0.2,0.2,0.6,1.6,5.8,5.2,2.2000000000000002,0,0,0,0,0,0,0,0,0,0,0,0,{"$f":"IF(SUM(AI1788,AI1884,AI1980,AI2076,AI2172)=0,\"-\",AVERAGEIF(B1739:B2218,B2460,AI1739:AI2218))","v":34.54},{"$f":"IF(SUM(AJ1788,AJ1884,AJ1980,AJ2076,AJ2172)=0,\"-\",AVERAGEIF(B1739:B2218,B2460,AJ1739:AJ2218))","v":39.739999999999995},11.2,44.2,"WD Ave",1215,{"$f":"IF(AO1788+AO1884+AO1980+AO2076+AO2172=0,0,AVERAGE(AO1788,AO1884,AO1980,AO2076,AO2172))","v":0},10.6,0.2,0.8,0,0,0,0,0,0,0,0,0,0,0,0,0.6,5,2.8,1.6,1.2,0.2,0,0.2,0,0,0,0,0,0,0,0,{"$f":"IF(SUM(BU1788,BU1884,BU1980,BU2076,BU2172)=0,\"-\",AVERAGEIF(AN1739:AN2218,AN2460,BU1739:BU2218))","v":37.679999999999993},{"$f":"IF(SUM(BV1788,BV1884,BV1980,BV2076,BV2172)=0,\"-\",AVERAGEIF(AN1739:AN2218,AN2460,BV1739:BV2218))","v":41.9},25.2,60.8,"WD Ave",1215,{"$f":"IF(CA1788+CA1884+CA1980+CA2076+CA2172=0,0,AVERAGE(CA1788,CA1884,CA1980,CA2076,CA2172))","v":1},24,0.4,1.6,0.2,0,0,0,0,0.2,0,0,0,0.2,0.2,0.6,2.2000000000000002,10.8,8,3.8,1.2,0.2,0,0.2,0,0,0,0,0,0,0,0,35.743809195402299,40.819999999999993,11.2,60.8,1,13.6,0.8,0.2,0.2,15.799999999999999,0,10.799999999999999,0.8,0,0,11.6,1,24.4,1.6,0.2,0.2,27.4]
["WD Ave",1745,{"$f":"IF(C1810+C1906+C2002+C2098+C2194=0,0,AVERAGE(C1810,C1906,C2002,C2098,C2194))","v":0.2},17,0.2,0.6,0,0,0,0,0,0,0,0,0,0,0.8,0.6,0,2.8,5.8,5.8,1.6,0.4,0.2,0,0,0,0,0,0,0,0,0,{"$f":"IF(SUM(AI1810,AI1906,AI2002,AI2098,AI2194)=0,\"-\",AVERAGEIF(B1739:B2218,B2482,AI1739:AI2218))","v":38.620000000000005},{"$f":"IF(SUM(AJ1810,AJ1906,AJ2002,AJ2098,AJ2194)=0,\"-\",AVERAGEIF(B1739:B2218,B2482,AJ1739:AJ2218))","v":43.739999999999995},19,55.7,"WD Ave",1745,{"$f":"IF(AO1810+AO1906+AO2002+AO2098+AO2194=0,0,AVERAGE(AO1810,AO1906,AO2002,AO2098,AO2194))","v":1.4},23.2,0.2,0.6,0,0,0,0,0.4,0,0,0,0,0,0,1,1.8,5.2,10,5.6,2.2000000000000002,0,0,0,0,0,0,0,0,0,0,0,{"$f":"IF(SUM(BU1810,BU1906,BU2002,BU2098,BU2194)=0,\"-\",AVERAGEIF(AN1739:AN2218,AN2482,BU1739:BU2218))","v":37.18},{"$f":"IF(SUM(BV1810,BV1906,BV2002,BV2098,BV2194)=0,\"-\",AVERAGEIF(AN1739:AN2218,AN2482,BV1739:BV2218))","v":42.980000000000004},20.9,48.3,"WD Ave",1745,{"$f":"IF(CA1810+CA1906+CA2002+CA2098+CA2194=0,0,AVERAGE(CA1810,CA1906,CA2002,CA2098,CA2194))","v":1.6},40.200000000000003,0.4,1.2,0,0,0,0,0.4,0,0,0,0,0,0.8,1.6,1.8,8,15.8,11.4,3.8,0.4,0.2,0,0,0,0,0,0,0,0,0,37.821999372461377,43.36,19,55.7,0.2,17.2,0.6,0,0,18,1.4,23.4,0.6,0,0.4,25.799999999999997,1.5999999999999999,40.599999999999994,1.2,0,0.4,43.8]
["WD Ave",2030,{"$f":"IF(C1821+C1917+C2013+C2109+C2205=0,0,AVERAGE(C1821,C1917,C2013,C2109,C2205))","v":0.4},5,0.8,0,0,0,0,0,0.2,0,0,0,0,0,0.2,0.2,0.8,1.4,1.4,1.6,0.6,0,0.2,0,0,0,0,0,0,0,0,0,{"$f":"IF(SUM(AI1821,AI1917,AI2013,AI2109,AI2205)=0,\"-\",AVERAGEIF(B1739:B2218,B2493,AI1739:AI2218))","v":36.74},{"$f":"IF(SUM(AJ1821,AJ1917,AJ2013,AJ2109,AJ2205)=0,\"-\",AVERAGEIF(B1739:B2218,B2493,AJ1739:AJ2218))","v":"-"},18.399999999999999,55.1,"WD Ave",2030,{"$f":"IF(AO1821+AO1917+AO2013+AO2109+AO2205=0,0,AVERAGE(AO1821,AO1917,AO2013,AO2109,AO2205))","v":0},7.4,0.6,0.2,0,0,0,0,0,0,0,0,0,0,0,0,0.8,2.4,2.6,1.6,0.6,0,0,0.2,0,0,0,0,0,0,0,0,{"$f":"IF(SUM(BU1821,BU1917,BU2013,BU2109,BU2205)=0,\"-\",AVERAGEIF(AN1739:AN2218,AN2493,BU1739:BU2218))","v":38.059999999999995},{"$f":"IF(SUM(BV1821,BV1917,BV2013,BV2109,BV2205)=0,\"-\",AVERAGEIF(AN1739:AN2218,AN2493,BV1739:BV2218))","v":39.4},25.7,63.6,"WD Ave",2030,{"$f":"IF(CA1821+CA1917+CA2013+CA2109+CA2205=0,0,AVERAGE(CA1821,CA1917,CA2013,CA2109,CA2205))","v":0.4},12.4,1.4,0.2,0,0,0,0,0.2,0,0,0,0,0,0.2,0.2,1.6,3.8,4,3.2,1.2,0,0.2,0.2,0,0,0,0,0,0,0,0,37.552666666666667,39.4,18.399999999999999,63.6,0.4,5.8,0,0,0.2,6.4,0,8,0.2,0,0,8.1999999999999993,0.4,13.8,0.2,0,0.2,14.6]
["7 Day Ave",200,{"$f":"IF(C1747+C1843+C1939+C2035+C2131+C2227+C2323=0,0,AVERAGE(C1747,C1843,C1939,C2035,C2131,C2227,C2323))","v":0},0.2857142857142857,0,0,0,0,0,0,0,0,0,0,0,0,0,0,0,0.14285714285714285,0,0,0.14285714285714285,0,0,0,0,0,0,0,0,0,0,0,{"$f":"IF(SUM(AI1747,AI1843,AI1939,AI2035,AI2131,AI2227,AI2323)=0,\"-\",AVERAGEIF(B1739:B2410,B2515,AI1739:AI2410))","v":39.200000000000003},{"$f":"IF(SUM(AJ1747,AJ1843,AJ1939,AJ2035,AJ2131,AJ2227,AJ2323)=0,\"-\",AVERAGEIF(B1739:B2410,B2515,AJ1739:AJ2410))","v":"-"},31.5,46.9,"7 Day Ave",200,{"$f":"IF(AO1747+AO1843+AO1939+AO2035+AO2131+AO2227+AO2323=0,0,AVERAGE(AO1747,AO1843,AO1939,AO2035,AO2131,AO2227,AO2323))","v":0},0.2857142857142857,0,0.14285714285714285,0,0,0,0,0,0,0,0,0,0,0,0,0.14285714285714285,0.14285714285714285,0.14285714285714285,0,0,0,0,0,0,0,0,0,0,0,0,0,{"$f":"IF(SUM(BU1747,BU1843,BU1939,BU2035,BU2131,BU2227,BU2323)=0,\"-\",AVERAGEIF(AN1739:AN2410,AN2515,BU1739:BU2410))","v":32.65},{"$f":"IF(SUM(BV1747,BV1843,BV1939,BV2035,BV2131,BV2227,BV2323)=0,\"-\",AVERAGEIF(AN1739:AN2410,AN2515,BV1739:BV2410))","v":"-"},26,39.799999999999997,"7 Day Ave",200,{"$f":"IF(CA1747+CA1843+CA1939+CA2035+CA2131+CA2227+CA2323=0,0,AVERAGE(CA1747,CA1843,CA1939,CA2035,CA2131,CA2227,CA2323))","v":0},0.5714285714285714,0,0.14285714285714285,0,0,0,0,0,0,0,0,0,0,0,0,0.14285714285714285,0.2857142857142857,0.14285714285714285,0,0.14285714285714285,0,0,0,0,0,0,0,0,0,0,0,35.925000000000004,"-",26,46.9,0,0.2857142857142857,0,0,0,0.2857142857142857,0,0.2857142857142857,0.14285714285714285,0,0,0.42857142857142855,0,0.5714285714285714,0.14285714285714285,0,0,0.71428571428571419]
["7 Day Ave",730,{"$f":"IF(C1769+C1865+C1961+C2057+C2153+C2249+C2345=0,0,AVERAGE(C1769,C1865,C1961,C2057,C2153,C2249,C2345))","v":0.2857142857142857},16.571428571428573,0,1.1428571428571428,0,0,0,0,0,0,0,0,0,0,0.14285714285714285,0,0,2.2857142857142856,8,5.5714285714285712,1.7142857142857142,0.2857142857142857,0,0,0,0,0,0,0,0,0,0,{"$f":"IF(SUM(AI1769,AI1865,AI1961,AI2057,AI2153,AI2249,AI2345)=0,\"-\",AVERAGEIF(B1739:B2410,B2537,AI1739:AI2410))","v":40.171428571428571},{"$f":"IF(SUM(AJ1769,AJ1865,AJ1961,AJ2057,AJ2153,AJ2249,AJ2345)=0,\"-\",AVERAGEIF(B1739:B2410,B2537,AJ1739:AJ2410))","v":43.480000000000004},17.7,53.5,"7 Day Ave",730,{"$f":"IF(AO1769+AO1865+AO1961+AO2057+AO2153+AO2249+AO2345=0,0,AVERAGE(AO1769,AO1865,AO1961,AO2057,AO2153,AO2249,AO2345))","v":0.42857142857142855},17.285714285714285,0,0.2857142857142857,0,0,0,0,0,0,0,0,0,0,0.14285714285714285,0,0.7142857142857143,1.7142857142857142,8.2857142857142865,5.1428571428571432,1.5714285714285714,0.14285714285714285,0.14285714285714285,0.14285714285714285,0,0,0,0,0,0,0,0,{"$f":"IF(SUM(BU1769,BU1865,BU1961,BU2057,BU2153,BU2249,BU2345)=0,\"-\",AVERAGEIF(AN1739:AN2410,AN2537,BU1739:BU2410))","v":39.285714285714285},{"$f":"IF(SUM(BV1769,BV1865,BV1961,BV2057,BV2153,BV2249,BV2345)=0,\"-\",AVERAGEIF(AN1739:AN2410,AN2537,BV1739:BV2410))","v":43},16,60.5,"7 Day Ave",730,{"$f":"IF(CA1769+CA1865+CA1961+CA2057+CA2153+CA2249+CA2345=0,0,AVERAGE(CA1769,CA1865,CA1961,CA2057,CA2153,CA2249,CA2345))","v":0.7142857142857143},33.857142857142854,0,1.4285714285714286,0,0,0,0,0,0,0,0,0,0,0.2857142857142857,0,0.7142857142857143,4,16.285714285714285,10.714285714285714,3.2857142857142856,0.42857142857142855,0.14285714285714285,0.14285714285714285,0,0,0,0,0,0,0,0,39.608574381307854,43.24,16,60.5,0.2857142857142857,16.571428571428573,1.1428571428571428,0,0,18,0.42857142857142855,17.285714285714285,0.2857142857142857,0,0,17.999999999999996,0.71428571428571419,33.857142857142861,1.4285714285714284,0,0,36]
["7 Day Ave",1600,{"$f":"IF(C1803+C1899+C1995+C2091+C2187+C2283+C2379=0,0,AVERAGE(C1803,C1899,C1995,C2091,C2187,C2283,C2379))","v":0.5714285714285714},20.142857142857142,0.7142857142857143,1.5714285714285714,0,0.14285714285714285,0,0,0,0,0,0,0,0,0.14285714285714285,0.5714285714285714,0.5714285714285714,5.4285714285714288,8.4285714285714288,5.4285714285714288,1.8571428571428572,0.7142857142857143,0,0,0,0,0,0,0,0,0,0,{"$f":"IF(SUM(AI1803,AI1899,AI1995,AI2091,AI2187,AI2283,AI2379)=0,\"-\",AVERAGEIF(B1739:B2410,B2571,AI1739:AI2410))","v":38.25714285714286},{"$f":"IF(SUM(AJ1803,AJ1899,AJ1995,AJ2091,AJ2187,AJ2283,AJ2379)=0,\"-\",AVERAGEIF(B1739:B2410,B2571,AJ1739:AJ2410))","v":42.216666666666669},17.5,54.5,"7 Day Ave",1600,{"$f":"IF(AO1803+AO1899+AO1995+AO2091+AO2187+AO2283+AO2379=0,0,AVERAGE(AO1803,AO1899,AO1995,AO2091,AO2187,AO2283,AO2379))","v":0.7142857142857143},16.857142857142858,0.14285714285714285,2,0,0,0,0,0.5714285714285714,0,0,0,0,0,0.2857142857142857,0.8571428571428571,1.5714285714285714,3.7142857142857144,7.1428571428571432,5.2857142857142856,1.1428571428571428,0.14285714285714285,0.14285714285714285,0,0,0,0,0,0,0,0,0,{"$f":"IF(SUM(BU1803,BU1899,BU1995,BU2091,BU2187,BU2283,BU2379)=0,\"-\",AVERAGEIF(AN1739:AN2410,AN2571,BU1739:BU2410))","v":37.157142857142851},{"$f":"IF(SUM(BV1803,BV1899,BV1995,BV2091,BV2187,BV2283,BV2379)=0,\"-\",AVERAGEIF(AN1739:AN2410,AN2571,BV1739:BV2410))","v":42.766666666666659},17.600000000000001,56.8,"7 Day Ave",1600,{"$f":"IF(CA1803+CA1899+CA1995+CA2091+CA2187+CA2283+CA2379=0,0,AVERAGE(CA1803,CA1899,CA1995,CA2091,CA2187,CA2283,CA2379))","v":1.2857142857142858},37,0.8571428571428571,3.5714285714285716,0,0.14285714285714285,0,0,0.5714285714285714,0,0,0,0,0,0.42857142857142855,1.4285714285714286,2.1428571428571428,9.1428571428571423,15.571428571428571,10.714285714285714,3,0.8571428571428571,0.14285714285714285,0,0,0,0,0,0,0,0,0,37.760757740024751,42.49166666666666,17.5,56.8,0.5714285714285714,20.857142857142858,1.5714285714285714,0.14285714285714285,0,23.142857142857146,0.7142857142857143,17,2,0,0.5714285714285714,20.285714285714288,1.2857142857142856,37.857142857142861,3.5714285714285712,0.14285714285714285,0.5714285714285714,43.428571428571431]
["7 Day Ave",2130,{"$f":"IF(C1825+C1921+C2017+C2113+C2209+C2305+C2401=0,0,AVERAGE(C1825,C1921,C2017,C2113,C2209,C2305,C2401))","v":0.14285714285714285},3.7142857142857144,0.5714285714285714,0,0,0,0,0,0,0,0,0,0,0,0,0.42857142857142855,0.2857142857142857,0.8571428571428571,2.1428571428571428,0.2857142857142857,0.2857142857142857,0,0.14285714285714285,0,0,0,0,0,0,0,0,0,{"$f":"IF(SUM(AI1825,AI1921,AI2017,AI2113,AI2209,AI2305,AI2401)=0,\"-\",AVERAGEIF(B1739:B2410,B2593,AI1739:AI2410))","v":38.083333333333336},{"$f":"IF(SUM(AJ1825,AJ1921,AJ2017,AJ2113,AJ2209,AJ2305,AJ2401)=0,\"-\",AVERAGEIF(B1739:B2410,B2593,AJ1739:AJ2410))","v":39.799999999999997},23.6,56.2,"7 Day Ave",2130,{"$f":"IF(AO1825+AO1921+AO2017+AO2113+AO2209+AO2305+AO2401=0,0,AVERAGE(AO1825,AO1921,AO2017,AO2113,AO2209,AO2305,AO2401))","v":0.2857142857142857},8.2857142857142865,0.42857142857142855,0,0,0,0,0,0,0,0,0,0,0.14285714285714285,0,0.2857142857142857,0.5714285714285714,2.5714285714285716,2.8571428571428572,1.2857142857142858,0.8571428571428571,0.14285714285714285,0,0.2857142857142857,0,0,0,0,0,0,0,0,{"$f":"IF(SUM(BU1825,BU1921,BU2017,BU2113,BU2209,BU2305,BU2401)=0,\"-\",AVERAGEIF(AN1739:AN2410,AN2593,BU1739:BU2410))","v":37.457142857142856},{"$f":"IF(SUM(BV1825,BV1921,BV2017,BV2113,BV2209,BV2305,BV2401)=0,\"-\",AVERAGEIF(AN1739:AN2410,AN2593,BV1739:BV2410))","v":42.133333333333333},12.9,64.8,"7 Day Ave",2130,{"$f":"IF(CA1825+CA1921+CA2017+CA2113+CA2209+CA2305+CA2401=0,0,AVERAGE(CA1825,CA1921,CA2017,CA2113,CA2209,CA2305,CA2401))","v":0.42857142857142855},12,1,0,0,0,0,0,0,0,0,0,0,0.14285714285714285,0,0.7142857142857143,0.8571428571428571,3.4285714285714284,5,1.5714285714285714,1.1428571428571428,0.14285714285714285,0.14285714285714285,0.2857142857142857,0,0,0,0,0,0,0,0,37.377055169894042,40.966666666666669,12.9,64.8,0.14285714285714285,4.2857142857142856,0,0,0,4.4285714285714288,0.2857142857142857,8.7142857142857153,0,0,0,9.0000000000000018,0.42857142857142855,13,0,0,0,13.428571428571431]
["Mon",215,0,5,0,0,0,0,0,0,0,0,0,0,0,0,0,0,0,0,0,2,0,2,1,0,0,0,0,0,0,0,0,0,48.7,"-",40.700000000000003,59,"Mon",215,0,1,0,0,0,0,0,0,0,0,0,0,0,0,0,0,0,0,0,1,0,0,0,0,0,0,0,0,0,0,0,0,40.1,"-",40.1,40.1,"Mon",215,0,6,0,0,0,0,0,0,0,0,0,0,0,0,0,0,0,0,0,3,0,2,1,0,0,0,0,0,0,0,0,0,47.266666666666673,"-",40.1,59,0,5,0,0,0,5,0,1,0,0,0,1,0,6,0,0,0,6,5,3,3,2,1,2,7,1,3,1,0,2,1,4,6,6,4,2,3,3,11,2.8,3.2857142857142856,null,null,null,null,null,1.4,1.7142857142857142,null,null,null,null,null,4.2,5,5,3,3,2,1,2,7,1,3,1,0,2,1,4,6,6,4,2,3,3,11]
["Mon",500,0,10,0,3,0,0,0,0,0,0,0,0,0,0,0,0,0,0,1,0,5,0,3,0,1,2,1,0,0,0,0,0,56.3,70.2,36.299999999999997,77.099999999999994,"Mon",500,0,6,0,0,0,0,0,0,0,0,0,0,0,1,0,0,0,0,0,1,2,1,0,1,0,0,0,0,0,0,0,0,44.4,"-",13.7,61.9,"Mon",500,0,16,0,3,0,0,0,0,0,0,0,0,0,1,0,0,0,0,1,1,7,1,3,1,1,2,1,0,0,0,0,0,52.542105263157893,70.2,13.7,77.099999999999994,0,10,3,0,0,13,0,6,0,0,0,6,0,16,3,0,0,19,13,5,9,10,7,5,4,6,4,6,6,5,10,2,19,9,15,16,12,15,6,8.8000000000000007,7.5714285714285712,null,null,null,null,null,5.4,5.5714285714285712,null,null,null,null,null,14.2,13.142857142857142,13,5,9,10,7,5,4,6,4,6,6,5,10,2,19,9,15,16,12,15,6]
["Mon",1030,0,31,0,6,0,0,0,0,1,1,0,0,0,0,0,0,0,0,1,3,17,14,2,2,0,0,0,0,0,0,0,0,50.1,53.7,35.299999999999997,64.599999999999994,"Mon",1030,1,43,0,6,1,2,0,0,2,0,0,0,0,0,3,0,0,3,14,26,9,0,0,0,0,0,0,0,0,0,0,0,39.9,45,15.7,47.4,"Mon",1030,1,74,0,12,1,2,0,0,3,1,0,0,0,0,3,0,0,3,15,29,26,14,2,2,0,0,0,0,0,0,0,0,44.131914893617015,49.35,15.7,64.599999999999994,0,31,6,0,2,39,1,43,6,3,2,55,1,74,12,3,4,94,39,55,49,61,50,37,38,55,50,43,52,61,35,36,94,105,92,113,111,72,74,50.8,47,null,null,null,null,null,52.2,47.428571428571431,null,null,null,null,null,103,94.428571428571431,39,55,49,61,50,37,38,55,50,43,52,61,35,36,94,105,92,113,111,72,74]
["Mon",1900,1,38,0,3,0,0,0,0,0,0,0,0,0,0,0,0,0,1,1,1,9,17,4,3,3,1,0,1,1,0,0,0,54.3,63.8,34.9,89.3,"Mon",1900,1,34,0,1,0,0,0,0,0,0,0,0,0,0,0,0,0,0,6,19,6,3,0,1,0,1,0,0,0,0,0,0,45.1,49.2,36.4,71,"Mon",1900,2,72,0,4,0,0,0,0,0,0,0,0,0,0,0,0,0,1,7,20,15,20,4,4,3,2,0,1,1,0,0,0,50.053846153846152,56.5,34.9,89.3,1,38,3,0,0,42,1,34,1,0,0,36,2,72,4,0,0,78,42,43,64,47,37,47,28,36,46,44,40,30,23,25,78,89,108,87,67,70,53,46.6,44,null,null,null,null,null,39.200000000000003,34.857142857142854,null,null,null,null,null,85.8,78.857142857142861,42,43,64,47,37,47,28,36,46,44,40,30,23,25,78,89,108,87,67,70,53]
["Tues",30,0,1,0,0,0,0,0,0,0,0,0,0,0,0,0,0,0,0,0,0,0,0,1,0,0,0,0,0,0,0,0,0,55.7,"-",55.7,55.7,"Tues",30,0,1,0,1,0,0,0,0,0,0,0,0,0,0,0,0,0,0,0,1,0,1,0,0,0,0,0,0,0,0,0,0,45.4,"-",40.1,50.8,"Tues",30,0,2,0,1,0,0,0,0,0,0,0,0,0,0,0,0,0,0,0,1,0,1,1,0,0,0,0,0,0,0,0,0,48.833333333333336,"-",40.1,55.7,0,1,0,0,0,1,0,1,1,0,0,2,0,2,1,0,0,3,null,null,null,null,null,null,null,null,null,null,null,null,null,null,null,null,null,null,null,null,null,null,null,null,null,null,null,null,null,null,null,null,null,null,null,null,null,"Mon","Tue","Wed","Thu","Fri","Sat","Sun","Mon","Tue","Wed","Thu","Fri","Sat","Sun","Mon","Tue","Wed","Thu","Fri","Sat","Sun"]
["Tues",600,1,23,0,1,0,0,0,0,0,4,0,0,0,0,0,0,0,0,4,0,4,6,8,3,3,0,1,0,0,0,0,0,54.1,62.6,37.299999999999997,76.099999999999994,"Tues",600,0,9,0,0,0,0,0,3,3,0,0,0,0,1,0,0,0,0,2,2,4,6,0,0,0,0,0,0,0,0,0,0,45,53,13.9,54.1,"Tues",600,1,32,0,1,0,0,0,3,3,4,0,0,0,1,0,0,0,0,6,2,8,12,8,3,3,0,1,0,0,0,0,0,50.997727272727275,57.8,13.9,76.099999999999994,1,23,1,0,4,29,0,9,0,0,6,15,1,32,1,0,10,44]
["Tues",1430,0,33,0,9,0,0,0,0,1,0,0,0,0,0,0,0,0,0,5,10,11,10,1,5,1,0,0,0,0,0,0,0,48.5,56.4,38,65.400000000000006,"Tues",1430,0,67,0,5,0,0,0,1,1,0,0,1,0,0,0,0,0,1,25,33,12,3,1,0,0,0,0,0,0,0,0,0,42.3,46.1,34.700000000000003,57,"Tues",1430,0,100,0,14,0,0,0,1,2,0,0,1,0,0,0,0,0,1,30,43,23,13,2,5,1,0,0,0,0,0,0,0,44.559322033898304,51.25,34.700000000000003,65.400000000000006,0,33,9,0,1,43,0,67,5,0,3,75,0,100,14,0,4,118]
["Tues",2000,0,30,0,2,0,0,0,0,0,0,0,0,0,0,0,0,0,0,0,2,5,18,0,3,2,0,2,0,0,0,0,0,54.7,62.4,41.7,77.5,"Tues",2000,0,16,0,0,0,0,0,0,0,0,0,0,0,0,0,0,0,0,0,3,8,0,4,1,0,0,0,0,0,0,0,0,50.3,58.6,40.6,64.900000000000006,"Tues",2000,0,46,0,2,0,0,0,0,0,0,0,0,0,0,0,0,0,0,0,5,13,18,4,4,2,0,2,0,0,0,0,0,53.233333333333327,60.5,40.6,77.5,0,30,2,0,0,32,0,16,0,0,0,16,0,46,2,0,0,48]
["Tues",2245,0,3,0,0,0,0,0,0,0,0,0,0,0,0,0,0,0,0,0,0,0,0,2,1,0,0,0,0,0,0,0,0,58.1,"-",55.1,63.9,"Tues",2245,0,8,0,0,0,0,0,0,0,0,0,0,0,0,0,0,0,0,3,0,1,3,0,1,0,0,0,0,0,0,0,0,47.7,"-",36.6,62.5,"Tues",2245,0,11,0,0,0,0,0,0,0,0,0,0,0,0,0,0,0,0,3,0,1,3,2,2,0,0,0,0,0,0,0,0,50.536363636363646,"-",36.6,63.9,0,3,0,0,0,3,0,8,0,0,0,8,0,11,0,0,0,11,null,null,null,null,null,null,null,null,null,null,null,null,null,null,null,null,null,null,null,null,null,{"$f":"IF((SUM(FN2793:FR2793))>0,AVERAGE(FN2793:FR2793),0)","v":29},{"$f":"IF((SUM(FN2793:FT2793))>0,AVERAGE(FN2793:FT2793),0)","v":27},null,null,null,null,null,{"$f":"IF((SUM(FU2793:FY2793))>0,AVERAGE(FU2793:FY2793),0)","v":26},{"$f":"IF((SUM(FU2793:GA2793))>0,AVERAGE(FU2793:GA2793),0)","v":25.571428571428573},null,null,null,null,null,{"$f":"IF((SUM(GB2793:GF2793))>0,AVERAGE(GB2793:GF2793),0)","v":55},{"$f":"IF((SUM(GB2793:GH2793))>0,AVERAGE(GB2793:GH2793),0)","v":52.571428571428569},{"$f":"IF(FN2694=\"-\",(IF(FN2695=\"-\",\"-\",FN2695)),(IF(FN2695=\"-\",FN2694,(SUM(FN2694:FN2695)))))","v":18},{"$f":"IF(FO2694=\"-\",(IF(FO2695=\"-\",\"-\",FO2695)),(IF(FO2695=\"-\",FO2694,(SUM(FO2694:FO2695)))))","v":26},26,32,43,29,15,{"$f":"IF(FU2694=\"-\",(IF(FU2695=\"-\",\"-\",FU2695)),(IF(FU2695=\"-\",FU2694,(SUM(FU2694:FU2695)))))","v":18},{"$f":"IF(FV2694=\"-\",(IF(FV2695=\"-\",\"-\",FV2695)),(IF(FV2695=\"-\",FV2694,(SUM(FV2694:FV2695)))))","v":25},30,23,34,30,19,{"$f":"IF(GB2694=\"-\",(IF(GB2695=\"-\",\"-\",GB2695)),(IF(GB2695=\"-\",GB2694,(SUM(GB2694:GB2695)))))","v":36},{"$f":"IF(GC2694=\"-\",(IF(GC2695=\"-\",\"-\",GC2695)),(IF(GC2695=\"-\",GC2694,(SUM(GC2694:GC2695)))))","v":51},56,55,77,59,34]
["Wed",415,0,2,0,1,0,0,0,0,1,0,0,0,0,0,0,0,0,0,0,1,1,1,0,1,0,0,0,0,0,0,0,0,51.1,"-",44.2,63.8,"Wed",415,0,1,0,0,0,0,0,0,0,0,0,0,0,0,0,0,0,0,0,0,0,0,1,0,0,0,0,0,0,0,0,0,57.1,"-",57.1,57.1,"Wed",415,0,3,0,1,0,0,0,0,1,0,0,0,0,0,0,0,0,0,0,1,1,1,1,1,0,0,0,0,0,0,0,0,52.3,"-",44.2,63.8,0,2,1,0,1,4,0,1,0,0,0,1,0,3,1,0,1,5]
["Wed",945,0,37,1,9,0,0,0,0,1,3,0,0,0,0,0,0,0,0,1,12,11,19,7,1,0,0,0,0,0,0,0,0,49.7,54.8,39.9,63.2,"Wed",945,3,41,0,4,0,0,0,2,0,1,0,0,0,0,0,0,0,0,13,22,14,0,0,2,0,0,0,0,0,0,0,0,43.7,47,35.9,64.599999999999994,"Wed",945,3,78,1,13,0,0,0,2,1,4,0,0,0,0,0,0,0,0,14,34,25,19,7,3,0,0,0,0,0,0,0,0,46.7,50.9,35.9,64.599999999999994,0,38,9,0,4,51,3,41,4,0,3,51,3,79,13,0,7,102]
["Wed",1815,1,53,0,8,0,0,0,0,0,0,0,0,0,0,0,0,0,0,1,8,23,16,10,1,2,1,0,0,0,0,0,0,50.9,56.1,39.700000000000003,72,"Wed",1815,5,47,0,1,0,0,0,0,0,0,0,0,0,1,0,0,0,1,5,22,15,4,1,3,1,0,0,0,0,0,0,0,45,50.6,12.5,66.400000000000006,"Wed",1815,6,100,0,9,0,0,0,0,0,0,0,0,0,1,0,0,0,1,6,30,38,20,11,4,3,1,0,0,0,0,0,0,48.180869565217385,53.35,12.5,72,1,53,8,0,0,62,5,47,1,0,0,53,6,100,9,0,0,115]
["Wed",2345,0,3,0,2,0,0,0,0,0,0,0,0,0,0,0,0,0,0,0,1,1,1,0,0,1,0,1,0,0,0,0,0,57.4,"-",43.9,75.2,"Wed",2345,0,7,0,0,0,0,0,0,0,0,0,0,0,0,0,0,0,0,0,1,3,2,1,0,0,0,0,0,0,0,0,0,49.6,"-",42.9,58.3,"Wed",2345,0,10,0,2,0,0,0,0,0,0,0,0,0,0,0,0,0,0,0,2,4,3,1,0,1,0,1,0,0,0,0,0,52.85,"-",42.9,75.2,0,3,2,0,0,5,0,7,0,0,0,7,0,10,2,0,0,12]
["Thu",515,0,9,0,3,0,0,0,0,0,0,0,0,0,0,0,0,0,0,0,0,2,2,0,4,3,1,0,0,0,0,0,0,60.4,66.900000000000006,45.1,71.2,"Thu",515,1,9,0,0,0,0,0,0,0,0,0,0,0,1,0,0,0,0,0,1,3,2,3,0,0,0,0,0,0,0,0,0,48.1,"-",11.2,59.4,"Thu",515,1,18,0,3,0,0,0,0,0,0,0,0,0,1,0,0,0,0,0,1,5,4,3,4,3,1,0,0,0,0,0,0,54.809090909090905,66.900000000000006,11.2,71.2,0,9,3,0,0,12,1,9,0,0,0,10,1,18,3,0,0,22]
["Thu",800,0,70,1,12,0,0,1,0,0,0,0,1,0,0,0,0,0,0,6,20,19,23,11,2,3,1,0,0,0,0,0,0,49.4,55.3,35.299999999999997,70,"Thu",800,0,55,0,6,0,0,0,2,0,2,0,0,0,0,0,0,0,4,11,16,30,3,1,0,0,0,0,0,0,0,0,0,44.2,48.1,33.5,59.6,"Thu",800,0,125,1,18,0,0,1,2,0,2,0,1,0,0,0,0,0,4,17,36,49,26,12,2,3,1,0,0,0,0,0,0,47.146666666666668,51.7,33.5,70,0,71,12,0,2,85,0,55,6,0,4,65,0,126,18,{"$f":"SUM(DN2926+DT2926)","v":0},{"$f":"SUM(DO2926+DU2926)","v":6},{"$f":"SUM(DP2926+DV2926)","v":150}]
["Thu",1330,0,36,1,12,0,0,2,0,0,4,0,0,0,0,0,0,0,0,2,5,21,13,10,2,0,0,0,0,1,0,1,0,51.5,56.6,36.200000000000003,99,"Thu",1330,0,49,1,3,0,0,0,1,0,0,0,0,0,0,0,0,1,1,13,20,13,2,3,1,0,0,0,0,0,0,0,0,43.8,48.5,26.3,60.8,"Thu",1330,0,85,2,15,0,0,2,1,0,4,0,0,0,0,0,0,1,1,15,25,34,15,13,3,0,0,0,0,1,0,1,0,47.685321100917427,52.55,26.3,99,0,37,12,0,6,55,0,50,3,0,1,54,0,87,15,0,7,109]
["Thu",2200,0,14,0,0,0,0,0,0,0,0,0,0,0,0,0,0,0,0,1,2,2,2,4,2,1,0,0,0,0,0,0,0,53.1,62,39.200000000000003,69.2,"Thu",2200,0,12,0,0,0,0,0,0,0,0,0,0,0,0,0,0,0,4,0,3,3,1,1,0,0,0,0,0,0,0,0,0,43.2,48.5,33.700000000000003,55.2,"Thu",2200,0,26,0,0,0,0,0,0,0,0,0,0,0,0,0,0,0,4,1,5,5,3,5,2,1,0,0,0,0,0,0,0,48.530769230769238,55.25,33.700000000000003,69.2,0,14,0,0,0,14,0,12,0,0,0,12,0,26,0,0,0,26]
["Fri",330,0,1,0,0,0,0,0,0,0,0,0,0,0,0,0,0,0,0,0,0,0,1,0,0,0,0,0,0,0,0,0,0,52.8,"-",52.8,52.8,"Fri",330,0,1,0,0,0,0,0,0,0,0,0,0,0,0,0,0,0,0,0,0,1,0,0,0,0,0,0,0,0,0,0,0,48.7,"-",48.7,48.7,"Fri",330,0,2,0,0,0,0,0,0,0,0,0,0,0,0,0,0,0,0,0,0,1,1,0,0,0,0,0,0,0,0,0,0,50.75,"-",48.7,52.8,0,1,0,0,0,1,0,1,0,0,0,1,0,2,0,0,{"$f":"SUM(DO3004+DU3004)","v":0},{"$f":"SUM(DP3004+DV3004)","v":2}]
["Fri",900,0,41,0,7,0,0,0,0,0,2,0,0,0,0,0,0,0,0,1,18,20,8,2,1,0,0,0,0,0,0,0,0,47.1,50.8,39,64.599999999999994,"Fri",900,1,43,1,5,0,0,0,0,0,0,0,0,0,0,0,0,0,4,6,21,10,7,1,1,0,0,0,0,0,0,0,0,43.9,50.3,31.9,61.6,"Fri",900,1,84,1,12,0,0,0,0,0,2,0,0,0,0,0,0,0,4,7,39,30,15,3,2,0,0,0,0,0,0,0,0,45.5,50.55,31.9,64.599999999999994,0,41,7,0,2,50,1,44,5,0,0,50,1,85,12,0,2,100]
["Fri",1145,1,48,0,9,1,0,0,0,0,0,0,0,0,0,0,0,0,1,5,19,11,17,4,2,0,0,0,0,0,0,0,0,47.6,54.8,33.1,63.1,"Fri",1145,3,37,0,4,0,0,0,1,2,0,0,0,0,1,0,0,0,1,10,15,16,3,0,0,0,0,1,0,0,0,0,0,43.8,48.3,13.7,76.8,"Fri",1145,4,85,0,13,1,0,0,1,2,0,0,0,0,1,0,0,0,2,15,34,27,20,4,2,0,0,1,0,0,0,0,0,45.915094339622641,51.55,13.7,76.8,1,48,9,1,0,59,3,37,4,0,3,47,4,85,13,1,3,106]
["Fri",2300,0,14,0,0,0,0,0,0,0,0,0,0,0,0,0,0,0,0,0,5,2,3,1,2,1,0,0,0,0,0,0,0,50.7,60.4,41.1,67.8,"Fri",2300,0,19,0,0,0,0,0,0,0,0,0,0,0,0,0,0,1,1,3,6,4,3,1,0,0,0,0,0,0,0,0,0,44,50.1,29.8,59.9,"Fri",2300,0,33,0,0,0,0,0,0,0,0,0,0,0,0,0,0,1,1,3,11,6,6,2,2,1,0,0,0,0,0,0,0,46.842424242424251,55.25,29.8,67.8,0,14,0,0,0,14,0,19,0,0,0,19,0,33,0,0,0,33]
["Sat",430,0,5,0,1,0,0,0,0,0,0,0,0,0,0,0,0,0,0,0,0,1,3,0,1,1,0,0,0,0,0,0,0,56,"-",49.4,66.099999999999994,"Sat",430,0,0,0,0,0,0,0,0,0,0,0,0,0,0,0,0,0,0,0,0,0,0,0,0,0,0,0,0,0,0,0,0,"-","-","-","-","Sat",430,0,5,0,1,0,0,0,0,0,0,0,0,0,0,0,0,0,0,0,0,1,3,0,1,1,0,0,0,0,0,0,0,56,"-",49.4,66.099999999999994,0,5,1,0,0,6,0,0,0,0,0,0,0,5,1,0,0,6]
["Sat",1015,2,42,0,3,0,1,0,0,0,0,0,0,0,0,0,0,3,0,0,7,16,14,4,1,2,0,1,0,0,0,0,0,49.3,55.5,25.8,76.599999999999994,"Sat",1015,0,33,0,0,0,1,0,0,0,0,0,0,0,1,0,0,0,0,4,14,12,3,0,0,0,0,0,0,0,0,0,0,43.5,47.2,14.9,53.7,"Sat",1015,2,75,0,3,0,2,0,0,0,0,0,0,0,1,0,0,3,0,4,21,28,17,4,1,2,0,1,0,0,0,0,0,46.895121951219508,51.35,14.9,76.599999999999994,2,42,3,1,0,48,0,33,0,1,0,34,2,75,3,2,0,82]
["Sat",1300,0,43,0,4,0,0,0,0,0,0,0,0,0,0,0,0,0,0,1,16,19,11,0,0,0,0,0,0,0,0,0,0,46.7,50.8,39.5,53.7,"Sat",1300,0,57,2,0,0,0,0,0,0,0,0,0,0,0,0,0,0,1,9,22,16,10,0,1,0,0,0,0,0,0,0,0,44.7,50.3,33.200000000000003,62.6,"Sat",1300,0,100,2,4,0,0,0,0,0,0,0,0,0,0,0,0,0,1,10,38,35,21,0,1,0,0,0,0,0,0,0,0,45.586792452830196,50.55,33.200000000000003,62.6,0,43,4,0,0,47,0,59,0,0,0,59,0,102,4,0,0,106]
["Sat",2130,0,7,0,0,0,0,0,0,0,0,0,0,0,0,0,0,0,0,1,1,3,0,0,1,1,0,0,0,0,0,0,0,50.1,"-",36.799999999999997,67.3,"Sat",2130,0,12,0,0,0,0,0,0,0,0,0,0,0,0,0,0,0,0,3,5,2,2,0,0,0,0,0,0,0,0,0,0,43.1,48.8,35.1,53.3,"Sat",2130,0,19,0,0,0,0,0,0,0,0,0,0,0,0,0,0,0,0,4,6,5,2,0,1,1,0,0,0,0,0,0,0,45.678947368421056,48.8,35.1,67.3,0,7,0,0,0,7,0,12,0,0,0,12,0,19,0,0,0,19]
["Sun",300,0,1,0,1,0,0,0,0,0,0,0,0,0,0,0,0,0,0,0,0,0,0,0,0,2,0,0,0,0,0,0,0,66.900000000000006,"-",65.8,67.900000000000006,"Sun",300,0,0,0,0,0,0,0,0,0,0,0,0,0,0,0,0,0,0,0,0,0,0,0,0,0,0,0,0,0,0,0,0,"-","-","-","-","Sun",300,0,1,0,1,0,0,0,0,0,0,0,0,0,0,0,0,0,0,0,0,0,0,0,0,2,0,0,0,0,0,0,0,66.900000000000006,"-",65.8,67.900000000000006,0,1,1,0,0,2,0,0,0,0,0,0,0,1,1,0,0,2]
["Sun",830,0,18,0,1,0,0,0,0,0,0,0,0,0,0,0,0,0,0,0,2,5,7,2,1,1,0,1,0,0,0,0,0,53.5,57,41.5,77.2,"Sun",830,0,18,0,0,0,0,0,0,0,0,0,0,0,0,0,0,0,2,2,7,3,4,0,0,0,0,0,0,0,0,0,0,43.7,50.1,34.1,54.2,"Sun",830,0,36,0,1,0,0,{"$f":"SUM(I3216+AU3216)","v":0},{"$f":"SUM(J3216+AV3216)","v":0},{"$f":"SUM(K3216+AW3216)","v":0},0,0,0,0,0,0,0,0,2,2,9,8,11,2,1,1,0,1,0,0,0,0,0,48.732432432432432,53.55,34.1,77.2,0,18,1,0,0,19,0,18,0,0,0,18,0,36,1,0,0,37]
["Sun",1115,0,37,0,5,0,0,0,0,0,0,0,0,0,0,0,0,0,0,0,5,14,8,12,2,0,0,0,0,1,0,0,0,52.3,57,41.6,85.2,"Sun",1115,0,31,1,1,1,0,0,0,0,0,0,0,0,0,0,0,0,0,9,11,11,2,1,0,0,0,0,0,0,0,0,0,44,48.8,37.6,59.3,"Sun",1115,0,68,1,6,1,0,0,0,0,0,0,0,0,0,0,0,0,0,9,16,25,{"$f":"SUM(X3227+BJ3227)","v":10},{"$f":"SUM(Y3227+BK3227)","v":13},{"$f":"SUM(Z3227+BL3227)","v":2},{"$f":"SUM(AA3227+BM3227)","v":0},{"$f":"SUM(AB3227+BN3227)","v":0},{"$f":"SUM(AC3227+BO3227)","v":0},{"$f":"SUM(AD3227+BP3227)","v":0},{"$f":"SUM(AE3227+BQ3227)","v":1},{"$f":"SUM(AF3227+BR3227)","v":0},{"$f":"SUM(AG3227+BS3227)","v":0},{"$f":"SUM(AH3227+BT3227)","v":0},48.586842105263159,52.9,37.6,85.2,0,37,5,0,0,42,0,32,1,1,0,34,0,69,6,1,0,76]
["Sun",1645,2,39,0,6,0,0,0,0,0,0,0,0,0,0,0,0,1,0,3,12,15,9,3,3,0,1,0,0,0,0,0,0,48,53.5,26.6,72.8,"Sun",1645,3,42,0,5,0,0,0,0,0,0,0,0,0,0,0,0,0,5,5,20,12,5,1,2,0,0,0,0,0,0,0,0,44.1,50.1,30.5,63.9,"Sun",1645,5,81,0,11,0,0,0,0,0,0,0,0,0,0,0,0,1,5,8,32,27,14,4,5,0,1,0,0,0,0,0,0,45.989690721649481,51.8,26.6,72.8,2,39,6,0,0,47,3,42,5,0,0,50,5,81,11,0,0,97]
["WD Ave",115,{"$f":"IF(C2611+C2707+C2803+C2899+C2995=0,0,AVERAGE(C2611,C2707,C2803,C2899,C2995))","v":0},1.6,0,0.2,0,0,0,0,0,0,0,0,0,0,0,0,0,0,0,0,0,0.8,0.2,0.4,0.2,0.2,0,0,0,0,0,0,{"$f":"IF(SUM(AI2611,AI2707,AI2803,AI2899,AI2995)=0,\"-\",AVERAGEIF(B2606:B3085,B3283,AI2606:AI3085))","v":59.88000000000001},{"$f":"IF(SUM(AJ2611,AJ2707,AJ2803,AJ2899,AJ2995)=0,\"-\",AVERAGEIF(B2606:B3085,B3283,AJ2606:AJ3085))","v":"-"},50,72.900000000000006,"WD Ave",115,{"$f":"IF(AO2611+AO2707+AO2803+AO2899+AO2995=0,0,AVERAGE(AO2611,AO2707,AO2803,AO2899,AO2995))","v":0},2.6,0,0,0,0,0,0,0,0,0,0,0,0,0,0,0,0,0.8,0.6,0.8,0.4,0,0,0,0,0,0,0,0,0,0,{"$f":"IF(SUM(BU2611,BU2707,BU2803,BU2899,BU2995)=0,\"-\",AVERAGEIF(AN2606:AN3085,AN3283,BU2606:BU3085))","v":44.733333333333327},{"$f":"IF(SUM(BV2611,BV2707,BV2803,BV2899,BV2995)=0,\"-\",AVERAGEIF(AN2606:AN3085,AN3283,BV2606:BV3085))","v":"-"},37.1,52.5,"WD Ave",115,{"$f":"IF(CA2611+CA2707+CA2803+CA2899+CA2995=0,0,AVERAGE(CA2611,CA2707,CA2803,CA2899,CA2995))","v":0},4.2,0,0.2,0,0,0,0,0,0,0,0,0,0,0,0,0,0,0.8,0.6,0.8,1.2,0.2,0.4,0.2,0.2,0,0,0,0,0,0,56.02,"-",37.1,72.900000000000006,0,1.6,0.2,0,0,1.8,0,2.6,0,0,0,2.6,0,4.2,0.2,0,0,4.4000000000000004]
["WD Ave",645,{"$f":"IF(C2633+C2729+C2825+C2921+C3017=0,0,AVERAGE(C2633,C2729,C2825,C2921,C3017))","v":0.4},22.2,0,2.8,0.4,0,0.2,0,0,0.6,0,0,0,0,0,0,0,0.6,0.2,1.6,5.6,8.4,6.8,1,1.4,0.8,0,0,0,0.2,0,0,{"$f":"IF(SUM(AI2633,AI2729,AI2825,AI2921,AI3017)=0,\"-\",AVERAGEIF(B2606:B3085,B3305,AI2606:AI3085))","v":53.879999999999995},{"$f":"IF(SUM(AJ2633,AJ2729,AJ2825,AJ2921,AJ3017)=0,\"-\",AVERAGEIF(B2606:B3085,B3305,AJ2606:AJ3085))","v":58.679999999999993},30.9,90.9,"WD Ave",645,{"$f":"IF(AO2633+AO2729+AO2825+AO2921+AO3017=0,0,AVERAGE(AO2633,AO2729,AO2825,AO2921,AO3017))","v":0.8},36.6,0,2.2000000000000002,0,0,0,0.4,0,0.2,0,0,0,0,0.2,0,0,0.2,3,13.4,13.2,7.8,1.2,0.6,0.6,0,0,0,0,0,0,0,{"$f":"IF(SUM(BU2633,BU2729,BU2825,BU2921,BU3017)=0,\"-\",AVERAGEIF(AN2606:AN3085,AN3305,BU2606:BU3085))","v":46.92},{"$f":"IF(SUM(BV2633,BV2729,BV2825,BV2921,BV3017)=0,\"-\",AVERAGEIF(AN2606:AN3085,AN3305,BV2606:BV3085))","v":51.820000000000007},15.2,69,"WD Ave",645,{"$f":"IF(CA2633+CA2729+CA2825+CA2921+CA3017=0,0,AVERAGE(CA2633,CA2729,CA2825,CA2921,CA3017))","v":1.2},58.8,0,5,0.4,0,0.2,0.4,0,0.8,0,0,0,0,0.2,0,0,0.8,3.2,15,18.8,16.2,8,1.6,2,0.8,0,0,0,0.2,0,0,49.668311736995534,55.25,15.2,90.9,0.4,22.2,2.8,0.4,0.8,26.599999999999998,0.8,36.6,2.2000000000000002,0,0.60000000000000009,40.200000000000003,1.2000000000000002,58.8,5,0.4,1.4000000000000001,66.8]
["WD Ave",1215,{"$f":"IF(C2655+C2751+C2847+C2943+C3039=0,0,AVERAGE(C2655,C2751,C2847,C2943,C3039))","v":1.4},42,0.4,7,0.2,0,0,0.2,0,0.2,0,0,0,0,0,0.2,0.2,0,1.8,9.1999999999999993,18.600000000000001,13.8,4.4000000000000004,2,0.6,0.6,0,0,0,0,0,0,{"$f":"IF(SUM(AI2655,AI2751,AI2847,AI2943,AI3039)=0,\"-\",AVERAGEIF(B2606:B3085,B3327,AI2606:AI3085))","v":49.42},{"$f":"IF(SUM(AJ2655,AJ2751,AJ2847,AJ2943,AJ3039)=0,\"-\",AVERAGEIF(B2606:B3085,B3327,AJ2606:AJ3085))","v":54.36},20.100000000000001,73.3,"WD Ave",1215,{"$f":"IF(AO2655+AO2751+AO2847+AO2943+AO3039=0,0,AVERAGE(AO2655,AO2751,AO2847,AO2943,AO3039))","v":0.4},50.6,0,4.2,0.8,0.6,0.2,0.6,0.6,0.4,0,0,0,0,0.2,0,0,2.4,11.6,22.6,14.4,4.2,2.4,0.4,0,0.2,0,0,0,0,0,0,{"$f":"IF(SUM(BU2655,BU2751,BU2847,BU2943,BU3039)=0,\"-\",AVERAGEIF(AN2606:AN3085,AN3327,BU2606:BU3085))","v":44.08},{"$f":"IF(SUM(BV2655,BV2751,BV2847,BV2943,BV3039)=0,\"-\",AVERAGEIF(AN2606:AN3085,AN3327,BV2606:BV3085))","v":49.2},19.600000000000001,71.400000000000006,"WD Ave",1215,{"$f":"IF(CA2655+CA2751+CA2847+CA2943+CA3039=0,0,AVERAGE(CA2655,CA2751,CA2847,CA2943,CA3039))","v":1.8},92.6,0.4,11.2,1,0.6,0.2,0.8,0.6,0.6,0,0,0,0,0.2,0.2,0.2,2.4,13.4,31.8,33,18,6.8,2.4,0.6,0.8,0,0,0,0,0,0,46.547542121274276,51.78,19.600000000000001,73.3,1.4,42.4,7,0.2,0.4,51.400000000000006,0.4,50.6,4.2,1.4,1.7999999999999998,58.400000000000006,1.7999999999999998,93,11.2,1.5999999999999999,2.1999999999999997,109.80000000000001]
["WD Ave",1500,{"$f":"IF(C2666+C2762+C2858+C2954+C3050=0,0,AVERAGE(C2666,C2762,C2858,C2954,C3050))","v":0.8},44.6,0.6,7,0,0,0,0,0.4,1,0,0,0,0,0,0,0.2,0,4.8,10,16.600000000000001,13,5.2,2.2000000000000002,1.2,1,0,0,0,0,0,0.2,{"$f":"IF(SUM(AI2666,AI2762,AI2858,AI2954,AI3050)=0,\"-\",AVERAGEIF(B2606:B3085,B3338,AI2606:AI3085))","v":49.540000000000006},{"$f":"IF(SUM(AJ2666,AJ2762,AJ2858,AJ2954,AJ3050)=0,\"-\",AVERAGEIF(B2606:B3085,B3338,AJ2606:AJ3085))","v":55.92},26.6,110.7,"WD Ave",1500,{"$f":"IF(AO2666+AO2762+AO2858+AO2954+AO3050=0,0,AVERAGE(AO2666,AO2762,AO2858,AO2954,AO3050))","v":0},59.2,0.2,4.8,0.4,0.4,0,0.6,0.4,0.2,0,0,0,0,0,0,0,1.4,11.8,27.4,19.2,3.4,2.2000000000000002,0.6,0.2,0,0,0,0,0,0,0,{"$f":"IF(SUM(BU2666,BU2762,BU2858,BU2954,BU3050)=0,\"-\",AVERAGEIF(AN2606:AN3085,AN3338,BU2606:BU3085))","v":44},{"$f":"IF(SUM(BV2666,BV2762,BV2858,BV2954,BV3050)=0,\"-\",AVERAGEIF(AN2606:AN3085,AN3338,BV2606:BV3085))","v":47.94},31.6,68,"WD Ave",1500,{"$f":"IF(CA2666+CA2762+CA2858+CA2954+CA3050=0,0,AVERAGE(CA2666,CA2762,CA2858,CA2954,CA3050))","v":0.8},103.8,0.8,11.8,0.4,0.4,0,0.6,0.8,1.2,0,0,0,0,0,0,0.2,1.4,16.600000000000001,37.4,35.799999999999997,16.399999999999999,7.4,2.8,1.4,1,0,0,0,0,0,0.2,46.576565150340564,51.93,26.6,110.7,0.8,45.2,7,0,1.4,54.4,0,59.400000000000006,4.8,0.8,1.2,66.200000000000017,0.8,104.60000000000001,11.8,0.8,2.5999999999999996,120.60000000000002]
["WD Ave",2030,{"$f":"IF(C2688+C2784+C2880+C2976+C3072=0,0,AVERAGE(C2688,C2784,C2880,C2976,C3072))","v":0.8},23.2,0,1.8,0,0,0,0,0,0,0,0,0,0,0,0.2,0,0.2,0,0.8,6.6,9.4,4.8,2.6,0.8,0.2,0,0,0,0.2,0,0,{"$f":"IF(SUM(AI2688,AI2784,AI2880,AI2976,AI3072)=0,\"-\",AVERAGEIF(B2606:B3085,B3360,AI2606:AI3085))","v":53.3},{"$f":"IF(SUM(AJ2688,AJ2784,AJ2880,AJ2976,AJ3072)=0,\"-\",AVERAGEIF(B2606:B3085,B3360,AJ2606:AJ3085))","v":59.36},20.3,91.5,"WD Ave",2030,{"$f":"IF(AO2688+AO2784+AO2880+AO2976+AO3072=0,0,AVERAGE(AO2688,AO2784,AO2880,AO2976,AO3072))","v":1},18.8,0,0.4,0,0,0,0,0,0,0,0,0,0.2,0,0.2,0,0,0.8,7.4,6,3.2,1.8,0.2,0.4,0,0,0,0,0,0,0,{"$f":"IF(SUM(BU2688,BU2784,BU2880,BU2976,BU3072)=0,\"-\",AVERAGEIF(AN2606:AN3085,AN3360,BU2606:BU3085))","v":47.38},{"$f":"IF(SUM(BV2688,BV2784,BV2880,BV2976,BV3072)=0,\"-\",AVERAGEIF(AN2606:AN3085,AN3360,BV2606:BV3085))","v":52.320000000000007},14.8,68,"WD Ave",2030,{"$f":"IF(CA2688+CA2784+CA2880+CA2976+CA3072=0,0,AVERAGE(CA2688,CA2784,CA2880,CA2976,CA3072))","v":1.8},42,0,2.2000000000000002,0,0,0,0,0,0,0,0,0,0.2,0,0.4,0,0.2,0.8,8.1999999999999993,12.6,12.6,6.6,2.8,1.2,0.2,0,0,0,0.2,0,0,50.682007256235828,55.84,14.8,91.5,0.8,23.2,1.8,0,0,25.8,1,18.8,0.4,0,0,20.2,1.8,42,2.2000000000000002,0,0,46]
["7 Day Ave",745,{"$f":"IF(C2637+C2733+C2829+C2925+C3021+C3117+C3213=0,0,AVERAGE(C2637,C2733,C2829,C2925,C3021,C3117,C3213))","v":0.42857142857142855},60.285714285714285,0.5714285714285714,10.428571428571429,0.14285714285714285,0.5714285714285714,0.14285714285714285,0.2857142857142857,0.14285714285714285,2.1428571428571428,0,0,0,0,0,0.14285714285714285,0.14285714285714285,0.14285714285714285,4.5714285714285712,11.714285714285714,25,21.857142857142858,6.1428571428571432,3.5714285714285716,1.4285714285714286,0.14285714285714285,0.14285714285714285,0.14285714285714285,0,0,0,0,{"$f":"IF(SUM(AI2637,AI2733,AI2829,AI2925,AI3021,AI3117,AI3213)=0,\"-\",AVERAGEIF(B2606:B3277,B3405,AI2606:AI3277))","v":51.01428571428572},{"$f":"IF(SUM(AJ2637,AJ2733,AJ2829,AJ2925,AJ3021,AJ3117,AJ3213)=0,\"-\",AVERAGEIF(B2606:B3277,B3405,AJ2606:AJ3277))","v":56.814285714285724},24.2,80.2,"7 Day Ave",745,{"$f":"IF(AO2637+AO2733+AO2829+AO2925+AO3021+AO3117+AO3213=0,0,AVERAGE(AO2637,AO2733,AO2829,AO2925,AO3021,AO3117,AO3213))","v":0.42857142857142855},53.142857142857146,0.2857142857142857,7.2857142857142856,0,0.14285714285714285,0,0.42857142857142855,0,0.2857142857142857,0,0,0,0.14285714285714285,0,0,0.14285714285714285,2.2857142857142856,9.1428571428571423,22,17.714285714285715,6.1428571428571432,3.1428571428571428,0.8571428571428571,0.42857142857142855,0,0,0,0,0,0,0,{"$f":"IF(SUM(BU2637,BU2733,BU2829,BU2925,BU3021,BU3117,BU3213)=0,\"-\",AVERAGEIF(AN2606:AN3277,AN3405,BU2606:BU3277))","v":44.942857142857143},{"$f":"IF(SUM(BV2637,BV2733,BV2829,BV2925,BV3021,BV3117,BV3213)=0,\"-\",AVERAGEIF(AN2606:AN3277,AN3405,BV2606:BV3277))","v":51.616666666666674},12.2,69.400000000000006,"7 Day Ave",745,{"$f":"IF(CA2637+CA2733+CA2829+CA2925+CA3021+CA3117+CA3213=0,0,AVERAGE(CA2637,CA2733,CA2829,CA2925,CA3021,CA3117,CA3213))","v":0.8571428571428571},113.42857142857143,0.8571428571428571,17.714285714285715,0.14285714285714285,0.7142857142857143,0.14285714285714285,0.7142857142857143,0.14285714285714285,2.4285714285714284,0,0,0,0.14285714285714285,0,0.14285714285714285,0.2857142857142857,2.4285714285714284,13.714285714285714,33.714285714285715,42.714285714285715,28,9.2857142857142865,4.4285714285714288,1.8571428571428572,0.14285714285714285,0.14285714285714285,0.14285714285714285,0,0,0,0,48.111658738883357,54.215476190476195,12.2,80.2,0.42857142857142855,60.857142857142854,10.428571428571429,0.71428571428571419,2.7142857142857144,75.142857142857125,0.42857142857142855,53.428571428571431,7.2857142857142856,0.14285714285714285,0.71428571428571419,62.000000000000007,0.8571428571428571,114.28571428571428,17.714285714285715,0.85714285714285698,3.4285714285714288,137.14285714285714]
["7 Day Ave",1030,{"$f":"IF(C2648+C2744+C2840+C2936+C3032+C3128+C3224=0,0,AVERAGE(C2648,C2744,C2840,C2936,C3032,C3128,C3224))","v":0.42857142857142855},38.428571428571431,0.14285714285714285,6.4285714285714288,0,0.14285714285714285,0,0.2857142857142857,0.5714285714285714,0.5714285714285714,0,0,0,0,0,0,0.14285714285714285,0.2857142857142857,1.8571428571428572,7.7142857142857144,17.714285714285715,12.142857142857142,4.5714285714285712,1.7142857142857142,0.42857142857142855,0,0,0.42857142857142855,0,0,0,0,{"$f":"IF(SUM(AI2648,AI2744,AI2840,AI2936,AI3032,AI3128,AI3224)=0,\"-\",AVERAGEIF(B2606:B3277,B3416,AI2606:AI3277))","v":49.614285714285714},{"$f":"IF(SUM(AJ2648,AJ2744,AJ2840,AJ2936,AJ3032,AJ3128,AJ3224)=0,\"-\",AVERAGEIF(B2606:B3277,B3416,AJ2606:AJ3277))","v":54.842857142857142},25.3,80.3,"7 Day Ave",1030,{"$f":"IF(AO2648+AO2744+AO2840+AO2936+AO3032+AO3128+AO3224=0,0,AVERAGE(AO2648,AO2744,AO2840,AO2936,AO3032,AO3128,AO3224))","v":1.2857142857142858},40,0.5714285714285714,3.4285714285714284,0.2857142857142857,1,0,0,0.7142857142857143,0.14285714285714285,0,0,0.14285714285714285,0,0.42857142857142855,0,0.14285714285714285,2.1428571428571428,11.571428571428571,18.285714285714285,11.285714285714286,2.5714285714285716,0.42857142857142855,0,0.2857142857142857,0.14285714285714285,0,0,0,0,0,0,{"$f":"IF(SUM(BU2648,BU2744,BU2840,BU2936,BU3032,BU3128,BU3224)=0,\"-\",AVERAGEIF(AN2606:AN3277,AN3416,BU2606:BU3277))","v":42.785714285714285},{"$f":"IF(SUM(BV2648,BV2744,BV2840,BV2936,BV3032,BV3128,BV3224)=0,\"-\",AVERAGEIF(AN2606:AN3277,AN3416,BV2606:BV3277))","v":47.657142857142851},9.5,70.099999999999994,"7 Day Ave",1030,{"$f":"IF(CA2648+CA2744+CA2840+CA2936+CA3032+CA3128+CA3224=0,0,AVERAGE(CA2648,CA2744,CA2840,CA2936,CA3032,CA3128,CA3224))","v":1.7142857142857142},78.428571428571431,0.7142857142857143,9.8571428571428577,0.2857142857142857,1.1428571428571428,0,0.2857142857142857,1.2857142857142858,0.7142857142857143,0,0,0.14285714285714285,0,0.42857142857142855,0,0.2857142857142857,2.4285714285714284,13.428571428571429,26,29,14.714285714285714,5,1.7142857142857142,0.7142857142857143,0.14285714285714285,0,0.42857142857142855,0,0,0,0,46.124439422574767,51.25,9.5,80.3,0.42857142857142855,38.571428571428577,6.4285714285714288,0.14285714285714285,1.4285714285714284,47.000000000000007,1.2857142857142858,40.571428571428569,3.4285714285714284,1.2857142857142856,0.85714285714285721,47.428571428571431,1.7142857142857144,79.142857142857139,9.8571428571428577,1.4285714285714284,2.2857142857142856,94.428571428571445]
["7 Day Ave",1600,{"$f":"IF(C2670+C2766+C2862+C2958+C3054+C3150+C3246=0,0,AVERAGE(C2670,C2766,C2862,C2958,C3054,C3150,C3246))","v":1},52.714285714285715,0.2857142857142857,7.1428571428571432,0,0.14285714285714285,0,0.42857142857142855,0.42857142857142855,1,0.14285714285714285,0,0,0,0,0,0,0.14285714285714285,2.4285714285714284,13.142857142857142,24,14.142857142857142,5.5714285714285712,1.8571428571428572,0.42857142857142855,0.8571428571428571,0.5714285714285714,0.14285714285714285,0,0,0,0,{"$f":"IF(SUM(AI2670,AI2766,AI2862,AI2958,AI3054,AI3150,AI3246)=0,\"-\",AVERAGEIF(B2606:B3277,B3438,AI2606:AI3277))","v":49.428571428571431},{"$f":"IF(SUM(AJ2670,AJ2766,AJ2862,AJ2958,AJ3054,AJ3150,AJ3246)=0,\"-\",AVERAGEIF(B2606:B3277,B3438,AJ2606:AJ3277))","v":54.471428571428575},31.8,84.6,"7 Day Ave",1600,{"$f":"IF(AO2670+AO2766+AO2862+AO2958+AO3054+AO3150+AO3246=0,0,AVERAGE(AO2670,AO2766,AO2862,AO2958,AO3054,AO3150,AO3246))","v":1.5714285714285714},70.142857142857139,0.2857142857142857,4.2857142857142856,0.14285714285714285,0.5714285714285714,0,0.2857142857142857,0,0.2857142857142857,0,0,0,0.2857142857142857,0,0,0.2857142857142857,1,16.285714285714285,33.142857142857146,19,5.2857142857142856,1.5714285714285714,0.2857142857142857,0.14285714285714285,0.14285714285714285,0.14285714285714285,0,0,0,0,0,{"$f":"IF(SUM(BU2670,BU2766,BU2862,BU2958,BU3054,BU3150,BU3246)=0,\"-\",AVERAGEIF(AN2606:AN3277,AN3438,BU2606:BU3277))","v":43.728571428571435},{"$f":"IF(SUM(BV2670,BV2766,BV2862,BV2958,BV3054,BV3150,BV3246)=0,\"-\",AVERAGEIF(AN2606:AN3277,AN3438,BV2606:BV3277))","v":47.914285714285711},10.8,77,"7 Day Ave",1600,{"$f":"IF(CA2670+CA2766+CA2862+CA2958+CA3054+CA3150+CA3246=0,0,AVERAGE(CA2670,CA2766,CA2862,CA2958,CA3054,CA3150,CA3246))","v":2.5714285714285716},122.85714285714286,0.5714285714285714,11.428571428571429,0.14285714285714285,0.7142857142857143,0,0.7142857142857143,0.42857142857142855,1.2857142857142858,0.14285714285714285,0,0,0.2857142857142857,0,0,0.2857142857142857,1.1428571428571428,18.714285714285715,46.285714285714285,43,19.428571428571427,7.1428571428571432,2.1428571428571428,0.5714285714285714,1,0.7142857142857143,0.14285714285714285,0,0,0,0,46.315089205410466,51.192857142857143,10.8,84.6,1,53,7.1428571428571432,0.14285714285714285,2,63.285714285714299,1.5714285714285714,70.428571428571431,4.2857142857142856,0.71428571428571419,0.5714285714285714,77.571428571428584,2.5714285714285712,123.42857142857143,11.428571428571429,0.85714285714285698,2.5714285714285712,140.85714285714289]
[null,null,1,2,3,4,5,6,7,8,9,10,11,12,10,1015,1520,2025,2530,3035,3540,4045,4550,5055,5560,6065,6570,7075,7580,8085,8590,9095,95100,"100+","Ave","85%ile","Min","Max",null,null,1,2,3,4,5,6,7,8,9,10,11,12,"010","1015","1520","2025","2530","3035","3540","4045","4550","5055","5560","6065","6570","7075","7580","8085","8590","9095","95100","100+","Ave","85%ile","Min","Max",null,null,1,2,3,4,5,6,7,8,9,10,11,12,"010","1015","1520","2025","2530","3035","3540","4045","4550","5055","5560","6065","6570","7075","7580","8085","8590","9095","95100","100+","Ave","85%ile","Min","Max",null,null,null,null,null,null,null,null,null,null,null,null,null,null,null,null,null,null,"Mon","Tue","Wed","Thu","Fri","Sat","Sun","Mon","Tue","Wed","Thu","Fri","Sat","Sun","Mon","Tue","Wed","Thu","Fri","Sat","Sun",null,null,null,null,null,null,null,null,null,null,null,null,null,null,null,null,"Mon","Tue","Wed","Thu","Fri","Sat","Sun","Mon","Tue","Wed","Thu","Fri","Sat","Sun","Mon","Tue","Wed","Thu","Fri","Sat","Sun"]
["Mon",515,0,1,0,0,0,0,0,0,0,0,0,0,0,0,0,0,0,0,0,0,0,0,1,0,0,0,0,0,0,0,0,0,55.1,"-",55.1,55.1,"Mon",515,0,2,0,0,0,0,0,0,0,0,0,0,0,0,0,0,0,0,1,1,0,0,0,0,0,0,0,0,0,0,0,0,38.299999999999997,"-",36.299999999999997,40.299999999999997,"Mon",515,0,3,0,0,0,0,0,0,0,0,0,0,0,0,0,0,0,0,1,1,0,0,1,0,0,0,0,0,0,0,0,0,43.9,"-",36.299999999999997,55.1,0,1,0,0,0,1,0,2,0,0,0,2,0,3,0,0,0,3,1,0,0,1,1,0,0,2,1,2,0,1,3,3,3,1,2,1,2,3,3,0.6,0.42857142857142855,null,null,null,null,null,1.2,1.7142857142857142,null,null,null,null,null,1.8,2.1428571428571428,1,0,0,1,1,0,0,2,1,2,0,1,3,3,3,1,2,1,2,3,3]
["Mon",1045,0,9,0,1,0,0,0,0,0,0,0,0,0,0,1,0,2,1,3,1,1,1,0,0,0,0,0,0,0,0,0,0,35.799999999999997,"-",17.899999999999999,54.6,"Mon",1045,0,12,0,3,0,0,0,0,0,0,0,0,0,0,0,0,3,8,3,1,0,0,0,0,0,0,0,0,0,0,0,0,33,36.200000000000003,28.3,42.6,"Mon",1045,0,21,0,4,0,0,0,0,0,0,0,0,0,0,1,0,5,9,6,2,1,1,0,0,0,0,0,0,0,0,0,0,34.119999999999997,36.200000000000003,17.899999999999999,54.6,0,9,1,0,0,10,0,12,3,0,0,15,0,21,4,0,0,25,10,17,13,6,15,18,13,15,10,15,13,24,22,15,25,27,28,19,39,40,28,12.2,13.142857142857142,null,null,null,null,null,15.4,16.285714285714285,null,null,null,null,null,27.6,29.428571428571427,10,17,13,6,15,18,13,15,10,15,13,24,22,15,25,27,28,19,39,40,28]
["Mon",1330,0,9,0,2,0,0,0,0,0,0,0,0,0,0,1,0,4,3,0,2,0,1,0,0,0,0,0,0,0,0,0,0,33.1,39.799999999999997,18.100000000000001,50.8,"Mon",1330,0,10,1,2,0,0,0,0,0,0,0,0,0,0,1,0,9,1,1,1,0,0,0,0,0,0,0,0,0,0,0,0,29.2,30.6,17.2,43.5,"Mon",1330,0,19,1,4,0,0,0,0,0,0,0,0,0,0,2,0,13,4,1,3,0,1,0,0,0,0,0,0,0,0,0,0,30.987500000000001,35.200000000000003,17.2,50.8,0,9,2,0,0,11,0,11,2,0,0,13,0,20,4,0,0,24,11,15,16,12,15,22,16,13,17,16,9,14,23,10,{"$f":"SUM(EC3527+EJ3527)","v":24},{"$f":"SUM(ED3527+EK3527)","v":32},{"$f":"SUM(EE3527+EL3527)","v":32},21,29,45,26,13.8,15.285714285714286,null,null,null,null,null,13.8,14.571428571428571,null,null,null,null,null,27.6,29.857142857142858,11,15,16,12,15,22,16,13,17,16,9,14,23,10,24,32,32,21,29,45,26]
["Mon",1900,0,18,0,0,0,0,0,0,0,0,0,0,0,0,0,0,1,5,7,1,3,1,0,0,0,0,0,0,0,0,0,0,38.6,47,29.8,53,"Mon",1900,0,16,0,0,0,0,0,0,0,0,0,0,0,0,0,1,3,8,4,0,0,0,0,0,0,0,0,0,0,0,0,0,32.299999999999997,36.200000000000003,25,37.799999999999997,"Mon",1900,0,34,0,0,0,0,0,0,0,0,0,0,0,0,0,1,4,13,11,1,3,1,0,0,0,0,0,0,0,0,0,0,35.635294117647057,41.6,25,53,0,18,0,0,0,18,0,16,0,0,0,16,0,34,0,0,0,34,18,13,18,23,25,14,14,16,18,16,24,25,16,9,34,31,34,47,50,30,23,19.399999999999999,17.857142857142858,null,null,null,null,null,19.8,17.714285714285715,null,null,null,null,null,39.200000000000003,35.571428571428569,18,13,18,23,25,14,14,16,18,16,24,25,16,9,34,31,34,47,50,30,23]
["Tues",330,0,1,0,0,0,0,0,0,0,0,0,0,0,0,0,0,0,1,0,0,0,0,0,0,0,0,0,0,0,0,0,0,34.6,"-",34.6,34.6,"Tues",330,0,0,0,0,0,0,0,0,0,0,0,0,0,0,0,0,0,0,0,0,0,0,0,0,0,0,0,0,0,0,0,0,"-","-","-","-","Tues",330,0,1,0,0,0,0,0,0,0,0,0,0,0,0,0,0,0,1,0,0,0,0,0,0,0,0,0,0,0,0,0,0,34.6,"-",34.6,34.6,0,1,0,0,0,1,0,0,0,0,0,0,0,1,0,0,0,1]
["Tues",900,0,17,0,2,0,0,0,0,0,0,0,0,0,0,0,1,4,4,3,6,1,0,0,0,0,0,0,0,0,0,0,0,35.299999999999997,40.700000000000003,23.7,49.3,"Tues",900,1,24,1,1,0,0,0,0,0,0,0,0,0,0,0,1,15,6,3,2,0,0,0,0,0,0,0,0,0,0,0,0,30.3,35.6,22.3,42.1,"Tues",900,1,41,1,3,0,0,0,0,0,0,0,0,0,0,0,2,19,10,6,8,1,0,0,0,0,0,0,0,0,0,0,0,32.365217391304348,38.150000000000006,22.3,49.3,0,17,2,0,0,19,1,25,1,0,0,27,1,42,3,0,0,46]
["Tues",1430,1,23,0,3,0,0,0,1,0,0,0,0,0,0,2,1,4,5,9,5,0,1,1,0,0,0,0,0,0,0,0,0,35.1,40.5,16.7,57.1,"Tues",1430,2,24,0,1,0,0,0,0,0,0,0,0,2,2,5,3,6,4,5,0,0,0,0,0,0,0,0,0,0,0,0,0,25.3,35.799999999999997,6.8,38,"Tues",1430,3,47,0,4,0,0,0,1,0,0,0,0,2,2,7,4,10,9,14,5,0,1,1,0,0,0,0,0,0,0,0,0,30.289090909090909,38.15,6.8,57.1,1,23,3,0,1,28,2,24,1,0,0,27,3,47,4,0,1,55]
["Tues",1715,0,15,0,5,0,0,0,0,0,0,0,0,0,0,0,0,2,4,10,1,2,0,1,0,0,0,0,0,0,0,0,0,37.5,40.5,25.8,55.4,"Tues",1715,1,24,0,0,0,0,0,0,0,0,0,0,0,1,0,0,5,12,3,3,0,1,0,0,0,0,0,0,0,0,0,0,33.4,38.700000000000003,11.6,53.2,"Tues",1715,1,39,0,5,0,0,0,0,0,0,0,0,0,1,0,0,7,16,13,4,2,1,1,0,0,0,0,0,0,0,0,0,35.222222222222221,39.6,11.6,55.4,0,15,5,0,0,20,1,24,0,0,0,25,1,39,5,0,0,45,null,null,null,null,null,null,null,null,null,null,null,null,null,null,null,null,null,null,null,null,null,{"$f":"IF((SUM(FN3638:FR3638))>0,AVERAGE(FN3638:FR3638),0)","v":56.4},{"$f":"IF((SUM(FN3638:FT3638))>0,AVERAGE(FN3638:FT3638),0)","v":50.285714285714285},null,null,null,null,null,{"$f":"IF((SUM(FU3638:FY3638))>0,AVERAGE(FU3638:FY3638),0)","v":49.4},{"$f":"IF((SUM(FU3638:GA3638))>0,AVERAGE(FU3638:GA3638),0)","v":43},null,null,null,null,null,{"$f":"IF((SUM(GB3638:GF3638))>0,AVERAGE(GB3638:GF3638),0)","v":105.8},{"$f":"IF((SUM(GB3638:GH3638))>0,AVERAGE(GB3638:GH3638),0)","v":93.285714285714292},{"$f":"IF(FN3539=\"-\",(IF(FN3540=\"-\",\"-\",FN3540)),(IF(FN3540=\"-\",FN3539,(SUM(FN3539:FN3540)))))","v":53},{"$f":"IF(FO3539=\"-\",(IF(FO3540=\"-\",\"-\",FO3540)),(IF(FO3540=\"-\",FO3539,(SUM(FO3539:FO3540)))))","v":40},67,63,59,43,27,{"$f":"IF(FU3539=\"-\",(IF(FU3540=\"-\",\"-\",FU3540)),(IF(FU3540=\"-\",FU3539,(SUM(FU3539:FU3540)))))","v":51},{"$f":"IF(FV3539=\"-\",(IF(FV3540=\"-\",\"-\",FV3540)),(IF(FV3540=\"-\",FV3539,(SUM(FV3539:FV3540)))))","v":52},53,56,35,31,23,{"$f":"IF(GB3539=\"-\",(IF(GB3540=\"-\",\"-\",GB3540)),(IF(GB3540=\"-\",GB3539,(SUM(GB3539:GB3540)))))","v":104},{"$f":"IF(GC3539=\"-\",(IF(GC3540=\"-\",\"-\",GC3540)),(IF(GC3540=\"-\",GC3539,(SUM(GC3539:GC3540)))))","v":92},120,119,94,74,50]
["Tues",2245,0,1,0,0,0,0,0,0,0,0,0,0,0,0,0,0,0,0,0,1,0,0,0,0,0,0,0,0,0,0,0,0,41.9,"-",41.9,41.9,"Tues",2245,0,1,0,0,0,0,0,0,0,0,0,0,0,0,0,0,1,0,0,0,0,0,0,0,0,0,0,0,0,0,0,0,29.7,"-",29.7,29.7,"Tues",2245,0,2,0,0,0,0,0,0,0,0,0,0,0,0,0,0,1,0,0,1,0,0,0,0,0,0,0,0,0,0,0,0,35.799999999999997,"-",29.7,41.9,0,1,0,0,0,1,0,1,0,0,0,1,0,2,0,0,0,2,null,null,null,null,null,null,null,null,null,null,null,null,null,null,null,null,null,null,null,null,null,{"$f":"IF((SUM(FN3660:FR3660))>0,AVERAGE(FN3660:FR3660),0)","v":11},{"$f":"IF((SUM(FN3660:FT3660))>0,AVERAGE(FN3660:FT3660),0)","v":12.142857142857142},null,null,null,null,null,{"$f":"IF((SUM(FU3660:FY3660))>0,AVERAGE(FU3660:FY3660),0)","v":9},{"$f":"IF((SUM(FU3660:GA3660))>0,AVERAGE(FU3660:GA3660),0)","v":9.5714285714285712},null,null,null,null,null,{"$f":"IF((SUM(GB3660:GF3660))>0,AVERAGE(GB3660:GF3660),0)","v":20},{"$f":"IF((SUM(GB3660:GH3660))>0,AVERAGE(GB3660:GH3660),0)","v":21.714285714285715},{"$f":"IF(FN3561=\"-\",(IF(FN3562=\"-\",\"-\",FN3562)),(IF(FN3562=\"-\",FN3561,(SUM(FN3561:FN3562)))))","v":11},{"$f":"IF(FO3561=\"-\",(IF(FO3562=\"-\",\"-\",FO3562)),(IF(FO3562=\"-\",FO3561,(SUM(FO3561:FO3562)))))","v":10},10,13,11,17,13,{"$f":"IF(FU3561=\"-\",(IF(FU3562=\"-\",\"-\",FU3562)),(IF(FU3562=\"-\",FU3561,(SUM(FU3561:FU3562)))))","v":6},{"$f":"IF(FV3561=\"-\",(IF(FV3562=\"-\",\"-\",FV3562)),(IF(FV3562=\"-\",FV3561,(SUM(FV3561:FV3562)))))","v":8},9,9,13,13,9,{"$f":"IF(GB3561=\"-\",(IF(GB3562=\"-\",\"-\",GB3562)),(IF(GB3562=\"-\",GB3561,(SUM(GB3561:GB3562)))))","v":17},{"$f":"IF(GC3561=\"-\",(IF(GC3562=\"-\",\"-\",GC3562)),(IF(GC3562=\"-\",GC3561,(SUM(GC3561:GC3562)))))","v":18},19,22,24,30,22]
["Wed",415,0,0,0,0,0,0,0,0,0,0,0,0,0,0,0,0,0,0,0,0,0,0,0,0,0,0,0,0,0,0,0,0,"-","-","-","-","Wed",415,0,0,0,0,0,0,0,0,0,0,0,0,0,0,0,0,0,0,0,0,0,0,0,0,0,0,0,0,0,0,0,0,"-","-","-","-","Wed",415,0,0,0,0,0,0,0,0,0,0,0,0,0,0,0,0,0,0,0,0,0,0,0,0,0,0,0,0,0,0,0,0,"-","-","-","-",0,0,0,0,0,0,0,0,0,0,0,0,0,0,0,0,0,0]
["Wed",1245,0,11,0,0,0,0,0,0,0,0,0,0,0,0,0,0,0,1,8,2,0,0,0,0,0,0,0,0,0,0,0,0,38.799999999999997,39.799999999999997,35,43.5,"Wed",1245,1,30,0,0,0,0,0,0,0,0,0,0,0,0,1,1,12,9,7,1,0,0,0,0,0,0,0,0,0,0,0,0,31.2,37.1,16,41.6,"Wed",1245,1,41,0,0,0,0,0,0,0,0,0,0,0,0,1,1,12,10,15,3,0,0,0,0,0,0,0,0,0,0,0,0,33.19047619047619,38.450000000000003,16,43.5,0,11,0,0,0,11,1,30,0,0,0,31,1,41,0,0,0,42]
["Wed",1815,0,15,0,2,0,0,0,0,0,0,0,0,0,0,0,0,1,5,4,4,2,0,1,0,0,0,0,0,0,0,0,0,38.9,42.7,29.7,58.2,"Wed",1815,0,17,0,1,0,0,0,0,0,0,0,0,0,0,0,1,4,8,5,0,0,0,0,0,0,0,0,0,0,0,0,0,32.200000000000003,36.200000000000003,21.9,39.700000000000003,"Wed",1815,0,32,0,3,0,0,0,0,0,0,0,0,0,0,0,1,5,13,9,4,2,0,1,0,0,0,0,0,0,0,0,0,35.454285714285717,39.450000000000003,21.9,58.2,0,15,2,0,0,17,0,17,1,0,0,18,0,32,3,0,0,35]
["Thu",245,0,0,0,0,0,0,0,0,0,0,0,0,0,0,0,0,0,0,0,0,0,0,0,0,0,0,0,0,0,0,0,0,"-","-","-","-","Thu",245,0,1,0,0,0,0,0,0,0,0,0,0,0,0,0,1,0,0,0,0,0,0,0,0,0,0,0,0,0,0,0,0,24.4,"-",24.4,24.4,"Thu",245,0,1,0,0,0,0,0,0,0,0,0,0,0,0,0,1,0,0,0,0,0,0,0,0,0,0,0,0,0,0,0,0,24.4,"-",24.4,24.4,0,0,0,0,0,0,0,1,0,0,0,1,0,1,0,0,0,1]
["Thu",815,0,16,0,4,0,0,0,0,0,0,0,0,0,1,0,3,2,6,3,3,2,0,0,0,0,0,0,0,0,0,0,0,32.9,41.4,13,45.7,"Thu",815,0,32,0,6,0,0,0,0,0,0,0,0,0,0,2,3,9,15,7,2,0,0,0,0,0,0,0,0,0,0,0,0,31.3,36.200000000000003,18.899999999999999,42.7,"Thu",815,0,48,0,10,0,0,0,0,0,0,0,0,0,1,2,6,11,21,10,5,2,0,0,0,0,0,0,0,0,0,0,0,{"$f":"IF(EB3794=0,\"-\",IF(DP3794=0,BU3794,IF(DV3794=0,AI3794,SUM((AI3794*DP3794),(BU3794*DV3794))/EB3794)))","v":31.851724137931036},{"$f":"IFERROR(IF(BV3794=\"-\",IF(AJ3794=\"-\",\"-\",AJ3794),IF(AJ3794=\"-\",BV3794,AVERAGE(AJ3794,BV3794))), \"-\")","v":38.799999999999997},{"$f":"IF(MIN(AK3794,BW3794)=0,\"-\",MIN(AK3794,BW3794))","v":13},{"$f":"IF(MAX(AL3794,BX3794)=0,\"-\",MAX(AL3794,BX3794))","v":45.7},{"$f":"SUM(C3794)","v":0},{"$f":"SUM(D3794+E3794)","v":16},4,{"$f":"SUM(G3794:H3794)","v":0},{"$f":"SUM(I3794:N3794)","v":0},{"$f":"SUM(C3794:N3794)","v":20},{"$f":"SUM(AO3794)","v":0},{"$f":"SUM(AP3794+AQ3794)","v":32},{"$f":"AR3794","v":6},{"$f":"SUM(AS3794:AT3794)","v":0},{"$f":"SUM(AU3794:AZ3794)","v":0},{"$f":"SUM(AO3794:AZ3794)","v":38},{"$f":"SUM(DK3794+DQ3794)","v":0},{"$f":"SUM(DL3794+DR3794)","v":48},{"$f":"SUM(DM3794+DS3794)","v":10},0,0,58]
["Thu",1345,0,11,0,1,0,0,0,0,0,0,0,0,0,0,0,0,0,5,5,1,1,0,0,0,0,0,0,0,0,0,0,0,36.5,39.6,30.5,45.1,"Thu",1345,2,9,0,1,0,0,0,0,0,0,0,0,0,1,2,0,4,4,1,0,0,0,0,0,0,0,0,0,0,0,0,0,26,31.5,11.5,35.5,"Thu",1345,2,20,0,2,0,0,0,0,0,0,0,0,0,1,2,0,4,9,6,1,1,0,0,0,0,0,0,0,0,0,0,0,31.25,35.549999999999997,11.5,45.1,0,11,1,0,0,12,2,9,1,0,0,12,2,20,2,0,0,24]
["Thu",1630,2,31,0,2,0,0,0,0,0,0,0,0,0,4,0,0,1,10,10,7,2,0,1,0,0,0,0,0,0,0,0,0,35.200000000000003,42.5,11.7,58.5,"Thu",1630,2,29,0,2,0,0,0,0,0,0,0,0,0,0,0,1,8,19,4,1,0,0,0,0,0,0,0,0,0,0,0,0,31.8,34.9,20.5,42.1,"Thu",1630,4,60,0,4,0,0,{"$f":"SUM(I3827+AU3827)","v":0},{"$f":"SUM(J3827+AV3827)","v":0},{"$f":"SUM(K3827+AW3827)","v":0},0,0,0,0,4,0,1,9,29,14,8,2,0,1,0,0,0,0,0,0,0,0,0,33.550000000000004,38.700000000000003,11.7,58.5,2,31,2,0,0,35,2,29,2,0,0,33,4,60,4,0,0,68]
["Fri",145,0,0,0,0,0,0,0,0,0,0,0,0,0,0,0,0,0,0,0,0,0,0,0,0,0,0,0,0,0,0,0,0,"-","-","-","-","Fri",145,0,0,0,0,0,0,0,0,0,0,0,0,0,0,0,0,0,0,0,0,0,0,0,0,0,0,0,0,0,0,0,0,"-","-","-","-","Fri",145,0,0,0,0,0,0,0,0,0,0,0,0,0,0,0,0,0,0,0,0,0,0,0,0,0,0,0,0,0,0,0,0,"-","-","-","-",0,0,0,0,0,0,0,0,0,0,0,0,0,0,0,0,0,0]
["Fri",345,0,0,0,0,0,0,0,0,0,0,0,0,0,0,0,0,0,0,0,0,0,0,0,0,0,0,0,0,0,0,0,0,"-","-","-","-","Fri",345,0,0,0,0,0,0,0,0,0,0,0,0,0,0,0,0,0,0,0,0,0,0,0,0,0,0,0,0,0,0,0,0,"-","-","-","-","Fri",345,0,0,0,0,0,0,0,0,0,0,0,0,0,0,0,0,0,0,0,0,0,0,0,0,0,0,0,0,0,0,0,0,"-","-","-","-",0,0,0,0,0,0,0,0,0,0,0,0,{"$f":"SUM(DK3872+DQ3872)","v":0},0,0,0,0,0]
["Fri",1215,0,9,0,1,0,0,0,0,0,0,0,0,0,0,0,0,2,4,3,1,0,0,0,0,0,0,0,0,0,0,0,0,34.700000000000003,"-",29.6,41.9,"Fri",1215,1,25,0,2,0,0,0,0,0,0,0,0,0,0,1,4,6,14,3,0,0,0,0,0,0,0,0,0,0,0,0,0,29.6,33.799999999999997,18.899999999999999,36.200000000000003,"Fri",1215,1,34,0,3,0,0,0,0,0,0,0,0,0,0,1,4,8,18,6,1,0,0,0,0,0,0,0,0,0,0,0,0,30.942105263157899,33.799999999999997,18.899999999999999,41.9,0,9,1,0,0,10,1,25,2,0,0,28,1,34,3,0,0,38]
["Fri",1745,0,21,0,2,0,0,0,0,0,0,0,0,0,0,0,0,3,4,7,7,2,0,0,0,0,0,0,0,0,0,0,0,37.799999999999997,44.1,27.2,47.5,"Fri",1745,1,16,0,0,0,0,0,0,0,0,0,0,0,1,1,1,2,8,0,3,1,0,0,0,0,0,0,0,0,0,0,0,31.6,40.299999999999997,14.5,46.2,"Fri",1745,1,37,0,2,0,0,0,0,0,0,0,0,0,1,1,1,5,12,7,10,3,0,0,0,0,0,0,0,0,0,0,0,35.164999999999999,42.2,14.5,47.5,0,21,2,0,0,23,1,16,0,0,0,17,1,37,2,0,0,40]
["Fri",2030,0,13,0,1,0,0,0,0,0,0,0,0,0,0,0,0,1,3,4,3,1,2,0,0,0,0,0,0,0,0,0,0,39.200000000000003,46.5,27.4,52.7,"Fri",2030,0,7,0,0,0,0,0,0,0,0,0,0,0,0,0,0,3,1,2,0,1,0,0,0,0,0,0,0,0,0,0,0,33.4,"-",27.2,45.2,"Fri",2030,0,20,0,1,0,0,0,0,0,0,0,0,0,0,0,0,4,4,6,3,2,2,0,0,0,0,0,0,0,0,0,0,37.266666666666666,46.5,27.2,52.7,0,13,1,0,0,14,0,7,0,0,0,7,0,20,1,0,0,21]
["Sat",200,0,0,0,0,0,0,0,0,0,0,0,0,0,0,0,0,0,0,0,0,0,0,0,0,0,0,0,0,0,0,0,0,"-","-","-","-","Sat",200,0,1,0,0,0,0,0,0,0,0,0,0,0,0,0,0,1,0,0,0,0,0,0,0,0,0,0,0,0,0,0,0,29.1,"-",29.1,29.1,"Sat",200,0,1,0,0,0,0,0,0,0,0,0,0,0,0,0,0,1,0,0,0,0,0,0,0,0,0,0,0,0,0,0,0,29.1,"-",29.1,29.1,0,0,0,0,0,0,0,1,0,0,0,1,0,1,0,0,0,1]
["Sat",730,0,4,1,2,0,0,0,0,0,0,0,0,0,0,0,2,0,3,2,0,0,0,0,0,0,0,0,0,0,0,0,0,30.9,"-",21.5,39.9,"Sat",730,0,3,0,0,0,0,0,0,0,0,0,0,0,0,0,0,0,1,0,2,0,0,0,0,0,0,0,0,0,0,0,0,39.5,"-",32.700000000000003,44.3,"Sat",730,0,7,1,2,0,0,0,0,0,0,0,0,0,0,0,2,0,4,2,2,0,0,0,0,0,0,0,0,0,0,0,0,33.479999999999997,"-",21.5,44.3,0,5,2,0,0,7,0,3,0,0,0,3,0,8,2,0,0,10]
["Sat",1600,0,22,0,1,0,0,0,0,0,0,0,0,0,0,1,0,2,6,10,2,0,2,0,0,0,0,0,0,0,0,0,0,35.9,40,17.2,53.3,"Sat",1600,1,21,0,0,0,0,0,0,0,0,0,0,0,0,0,0,6,5,8,2,1,0,0,0,0,0,0,0,0,0,0,0,34.5,39.799999999999997,26.2,48.6,"Sat",1600,1,43,0,1,0,0,0,0,0,0,0,0,0,0,1,0,8,11,18,4,1,2,0,0,0,0,0,0,0,0,0,0,35.215555555555554,39.9,17.2,53.3,0,22,1,0,0,23,1,21,0,0,0,22,1,43,1,0,0,45]
["Sat",2130,0,10,0,0,0,0,0,0,0,0,0,0,0,0,1,0,2,2,1,1,1,0,2,0,0,0,0,0,0,0,0,0,38.4,"-",18.8,59.5,"Sat",2130,0,5,0,1,0,0,0,0,0,0,0,0,0,0,0,0,0,0,5,1,0,0,0,0,0,0,0,0,0,0,0,0,38.700000000000003,"-",35.5,44.3,"Sat",2130,0,15,0,1,0,0,0,0,0,0,0,0,0,0,1,0,2,2,6,2,1,0,2,0,0,0,0,0,0,0,0,0,38.512500000000003,"-",18.8,59.5,0,10,0,0,0,10,0,5,1,0,0,6,0,15,1,0,0,16]
["Sun",600,0,0,0,0,0,0,0,0,0,0,0,0,0,0,0,0,0,0,0,0,0,0,0,0,0,0,0,0,0,0,0,0,"-","-","-","-","Sun",600,0,0,0,0,0,0,0,0,0,0,0,0,0,0,0,0,0,0,0,0,0,0,0,0,0,0,0,0,0,0,0,0,"-","-","-","-","Sun",600,0,0,0,0,0,0,0,0,0,0,0,0,0,0,0,0,0,0,0,0,0,0,0,0,0,0,0,0,0,0,0,0,"-","-","-","-",0,0,0,0,0,0,0,0,0,0,0,0,0,0,0,0,0,0]
["Sun",1130,0,16,0,1,0,0,0,0,0,0,0,0,0,0,0,0,0,8,7,1,1,0,0,0,0,0,0,0,0,0,0,0,35.9,38,30.1,47.1,"Sun",1130,0,16,0,0,0,0,0,0,0,0,0,0,0,0,0,0,7,6,2,1,0,0,0,0,0,0,0,0,0,0,0,0,31.2,37.6,25.2,40.200000000000003,"Sun",1130,0,32,0,1,0,0,0,0,0,0,0,0,0,{"$f":"SUM(P4095+BB4095)","v":0},{"$f":"SUM(Q4095+BC4095)","v":0},{"$f":"SUM(R4095+BD4095)","v":0},{"$f":"SUM(S4095+BE4095)","v":7},{"$f":"SUM(T4095+BF4095)","v":14},{"$f":"SUM(U4095+BG4095)","v":9},{"$f":"SUM(V4095+BH4095)","v":2},{"$f":"SUM(W4095+BI4095)","v":1},0,0,0,0,0,0,0,0,0,0,0,33.621212121212125,37.799999999999997,25.2,47.1,0,16,1,0,0,17,0,16,0,0,0,16,0,32,1,0,0,33]
["Sun",1700,0,18,0,3,0,0,0,0,0,0,0,0,0,0,0,0,1,3,9,6,1,0,1,0,0,0,0,0,0,0,0,0,39.4,42.3,29.4,57.2,"Sun",1700,0,17,0,0,0,0,0,0,0,0,0,0,0,0,0,0,2,11,4,0,0,0,0,0,0,0,0,0,0,0,0,0,32.700000000000003,35.1,25.5,36,"Sun",1700,0,35,0,3,0,0,0,0,0,0,0,0,0,0,0,0,3,14,13,6,1,0,1,0,0,0,0,0,0,0,0,0,36.402631578947371,38.700000000000003,25.5,57.2,0,18,3,0,0,21,0,17,0,0,0,17,0,35,3,0,0,38]
["Sun",1945,0,11,0,0,0,0,0,0,0,0,0,0,0,0,0,0,0,4,6,0,1,0,0,0,0,0,0,0,0,0,0,0,36.4,39.1,30.5,45.6,"Sun",1945,0,14,0,3,0,0,0,0,0,0,0,0,0,0,0,0,1,7,6,2,0,1,0,0,0,0,0,0,0,0,0,0,35.9,39.799999999999997,27.8,51.1,"Sun",1945,0,25,0,3,0,0,0,0,0,0,0,0,0,0,0,0,1,11,12,2,1,1,0,0,0,0,0,0,0,0,0,0,36.096428571428568,39.450000000000003,27.8,51.1,0,11,0,0,0,11,0,14,3,0,0,17,0,25,3,0,0,28]
["WD Ave",115,{"$f":"IF(C3478+C3574+C3670+C3766+C3862=0,0,AVERAGE(C3478,C3574,C3670,C3766,C3862))","v":0},0.2,0,0,0,0,0,0,0,0,0,0,0,0,0,0,0,0.2,0,0,0,0,0,0,0,0,0,0,0,0,0,0,{"$f":"IF(SUM(AI3478,AI3574,AI3670,AI3766,AI3862)=0,\"-\",AVERAGEIF(B3473:B3952,B4150,AI3473:AI3952))","v":34.4},{"$f":"IF(SUM(AJ3478,AJ3574,AJ3670,AJ3766,AJ3862)=0,\"-\",AVERAGEIF(B3473:B3952,B4150,AJ3473:AJ3952))","v":"-"},34.4,34.4,"WD Ave",115,{"$f":"IF(AO3478+AO3574+AO3670+AO3766+AO3862=0,0,AVERAGE(AO3478,AO3574,AO3670,AO3766,AO3862))","v":0},0.4,0,0,0,0,0,0,0,0,0,0,0,0,0,0,0,0.2,0.2,0,0,0,0,0,0,0,0,0,0,0,0,0,{"$f":"IF(SUM(BU3478,BU3574,BU3670,BU3766,BU3862)=0,\"-\",AVERAGEIF(AN3473:AN3952,AN4150,BU3473:BU3952))","v":35.9},{"$f":"IF(SUM(BV3478,BV3574,BV3670,BV3766,BV3862)=0,\"-\",AVERAGEIF(AN3473:AN3952,AN4150,BV3473:BV3952))","v":"-"},34.9,36.9,"WD Ave",115,{"$f":"IF(CA3478+CA3574+CA3670+CA3766+CA3862=0,0,AVERAGE(CA3478,CA3574,CA3670,CA3766,CA3862))","v":0},0.6,0,0,0,0,0,0,0,0,0,0,0,0,0,0,0,0.4,0.2,0,0,0,0,0,0,0,0,0,0,0,0,0,35.15,"-",34.4,36.9,0,0.2,0,0,0,0.2,0,0.4,0,0,0,0.4,0,0.60000000000000009,0,0,0,0.60000000000000009]
["WD Ave",645,{"$f":"IF(C3500+C3596+C3692+C3788+C3884=0,0,AVERAGE(C3500,C3596,C3692,C3788,C3884))","v":0.2},5.4,0,0.4,0,0,0,0,0,0,0,0,0.2,0,0,0.2,0.2,1.2,2.4,1.2,0.4,0,0.2,0,0,0,0,0,0,0,0,0,{"$f":"IF(SUM(AI3500,AI3596,AI3692,AI3788,AI3884)=0,\"-\",AVERAGEIF(B3473:B3952,B4172,AI3473:AI3952))","v":37.36},{"$f":"IF(SUM(AJ3500,AJ3596,AJ3692,AJ3788,AJ3884)=0,\"-\",AVERAGEIF(B3473:B3952,B4172,AJ3473:AJ3952))","v":"-"},9.6,57,"WD Ave",645,{"$f":"IF(AO3500+AO3596+AO3692+AO3788+AO3884=0,0,AVERAGE(AO3500,AO3596,AO3692,AO3788,AO3884))","v":0.2},5.8,0,0.2,0,0,0,0.4,0,0,0,0,0,0,0,0.4,1.4,2.6,1.4,0.6,0.2,0,0,0,0,0,0,0,0,0,0,0,{"$f":"IF(SUM(BU3500,BU3596,BU3692,BU3788,BU3884)=0,\"-\",AVERAGEIF(AN3473:AN3952,AN4172,BU3473:BU3952))","v":33.559999999999995},{"$f":"IF(SUM(BV3500,BV3596,BV3692,BV3788,BV3884)=0,\"-\",AVERAGEIF(AN3473:AN3952,AN4172,BV3473:BV3952))","v":"-"},21.1,47.3,"WD Ave",645,{"$f":"IF(CA3500+CA3596+CA3692+CA3788+CA3884=0,0,AVERAGE(CA3500,CA3596,CA3692,CA3788,CA3884))","v":0.4},11.2,0,0.6,0,0,0,0.4,0,0,0,0,0.2,0,0,0.6,1.6,3.8,3.8,1.8,0.6,0,0.2,0,0,0,0,0,0,0,0,0,35.308076923076925,"-",9.6,57,0.2,5.4,0.4,0,0,6.0000000000000009,0.2,5.8,0.2,0,0.4,6.6000000000000005,0.4,11.2,0.60000000000000009,0,0.4,12.600000000000001]
["WD Ave",1515,{"$f":"IF(C3534+C3630+C3726+C3822+C3918=0,0,AVERAGE(C3534,C3630,C3726,C3822,C3918))","v":0.6},22.6,0,2.2000000000000002,0,0,0,0,0,0,0,0,0,0.4,0.6,0.6,1.8,6.2,10.8,4.5999999999999996,0.2,0.2,0,0,0,0,0,0,0,0,0,0,{"$f":"IF(SUM(AI3534,AI3630,AI3726,AI3822,AI3918)=0,\"-\",AVERAGEIF(B3473:B3952,B4206,AI3473:AI3952))","v":35.339999999999996},{"$f":"IF(SUM(AJ3534,AJ3630,AJ3726,AJ3822,AJ3918)=0,\"-\",AVERAGEIF(B3473:B3952,B4206,AJ3473:AJ3952))","v":40.179999999999993},12.7,51.8,"WD Ave",1515,{"$f":"IF(AO3534+AO3630+AO3726+AO3822+AO3918=0,0,AVERAGE(AO3534,AO3630,AO3726,AO3822,AO3918))","v":0},13.4,0,4.2,0,0,0,0,0,0,0,0,0,0,0.6,1.4,6,5.4,3.8,0.2,0.2,0,0,0,0,0,0,0,0,0,0,0,{"$f":"IF(SUM(BU3534,BU3630,BU3726,BU3822,BU3918)=0,\"-\",AVERAGEIF(AN3473:AN3952,AN4206,BU3473:BU3952))","v":30.9},{"$f":"IF(SUM(BV3534,BV3630,BV3726,BV3822,BV3918)=0,\"-\",AVERAGEIF(AN3473:AN3952,AN4206,BV3473:BV3952))","v":35.660000000000004},15.8,48.2,"WD Ave",1515,{"$f":"IF(CA3534+CA3630+CA3726+CA3822+CA3918=0,0,AVERAGE(CA3534,CA3630,CA3726,CA3822,CA3918))","v":0.6},36,0,6.4,0,0,0,0,0,0,0,0,0,0.4,1.2,2,7.8,11.6,14.6,4.8,0.4,0.2,0,0,0,0,0,0,0,0,0,0,33.67113710346392,37.92,12.7,51.8,0.6,22.6,2.2000000000000002,0,0,25.400000000000002,0,13.4,4.2,0,0,17.600000000000001,0.6,36,6.4,0,0,43]
["WD Ave",2045,{"$f":"IF(C3556+C3652+C3748+C3844+C3940=0,0,AVERAGE(C3556,C3652,C3748,C3844,C3940))","v":0.6},7.2,0,0.8,0,0,0,0,0,0,0,0,0,0,0,0.2,0.6,2.2000000000000002,3,1.8,0.6,0,0,0.2,0,0,0,0,0,0,0,0,{"$f":"IF(SUM(AI3556,AI3652,AI3748,AI3844,AI3940)=0,\"-\",AVERAGEIF(B3473:B3952,B4228,AI3473:AI3952))","v":37.82},{"$f":"IF(SUM(AJ3556,AJ3652,AJ3748,AJ3844,AJ3940)=0,\"-\",AVERAGEIF(B3473:B3952,B4228,AJ3473:AJ3952))","v":42.05},24.2,63.1,"WD Ave",2045,{"$f":"IF(AO3556+AO3652+AO3748+AO3844+AO3940=0,0,AVERAGE(AO3556,AO3652,AO3748,AO3844,AO3940))","v":0.2},7.2,0,0.4,0,0,0,0,0,0,0,0,0,0,0.2,0.4,1.4,3.4,1.6,0,0.4,0.2,0,0.2,0,0,0,0,0,0,0,0,{"$f":"IF(SUM(BU3556,BU3652,BU3748,BU3844,BU3940)=0,\"-\",AVERAGEIF(AN3473:AN3952,AN4228,BU3473:BU3952))","v":33.739999999999995},{"$f":"IF(SUM(BV3556,BV3652,BV3748,BV3844,BV3940)=0,\"-\",AVERAGEIF(AN3473:AN3952,AN4228,BV3473:BV3952))","v":"-"},16.2,60.5,"WD Ave",2045,{"$f":"IF(CA3556+CA3652+CA3748+CA3844+CA3940=0,0,AVERAGE(CA3556,CA3652,CA3748,CA3844,CA3940))","v":0.8},14.4,0,1.2,0,0,0,0,0,0,0,0,0,0,0.2,0.6,2,5.6,4.5999999999999996,1.8,1,0.2,0,0.4,0,0,0,0,0,0,0,0,35.499853479853478,42.05,16.2,63.1,0.6,7.2,0.8,0,0,8.6,0.2,7.2,0.4,0,0,7.8000000000000007,0.8,14.4,1.2000000000000002,0,0,16.399999999999999]
["WD Ave",2330,{"$f":"IF(C3567+C3663+C3759+C3855+C3951=0,0,AVERAGE(C3567,C3663,C3759,C3855,C3951))","v":0},1.6,0,0.4,0,0,0,0,0,0,0,0,0,0,0,0,0,0.4,0.6,0.4,0.2,0,0.4,0,0,0,0,0,0,0,0,0,{"$f":"IF(SUM(AI3567,AI3663,AI3759,AI3855,AI3951)=0,\"-\",AVERAGEIF(B3473:B3952,B4239,AI3473:AI3952))","v":41.6},{"$f":"IF(SUM(AJ3567,AJ3663,AJ3759,AJ3855,AJ3951)=0,\"-\",AVERAGEIF(B3473:B3952,B4239,AJ3473:AJ3952))","v":"-"},31.4,59.7,"WD Ave",2330,{"$f":"IF(AO3567+AO3663+AO3759+AO3855+AO3951=0,0,AVERAGE(AO3567,AO3663,AO3759,AO3855,AO3951))","v":0.2},0.4,0,0,0,0,0,0,0,0,0,0,0,0,0,0,0.2,0.2,0.2,0,0,0,0,0,0,0,0,0,0,0,0,0,{"$f":"IF(SUM(BU3567,BU3663,BU3759,BU3855,BU3951)=0,\"-\",AVERAGEIF(AN3473:AN3952,AN4239,BU3473:BU3952))","v":29.950000000000003},{"$f":"IF(SUM(BV3567,BV3663,BV3759,BV3855,BV3951)=0,\"-\",AVERAGEIF(AN3473:AN3952,AN4239,BV3473:BV3952))","v":"-"},25.7,36.200000000000003,"WD Ave",2330,{"$f":"IF(CA3567+CA3663+CA3759+CA3855+CA3951=0,0,AVERAGE(CA3567,CA3663,CA3759,CA3855,CA3951))","v":0.2},2,0,0.4,0,0,0,0,0,0,0,0,0,0,0,0,0.2,0.6,0.8,0.4,0.2,0,0.4,0,0,0,0,0,0,0,0,0,38.040000000000006,"-",25.7,59.7,0,1.6,0.4,0,0,2,0.2,0.4,0,0,0,0.60000000000000009,0.2,2,0.4,0,0,2.6]
["7 Day Ave",500,{"$f":"IF(C3493+C3589+C3685+C3781+C3877+C3973+C4069=0,0,AVERAGE(C3493,C3589,C3685,C3781,C3877,C3973,C4069))","v":0},1.1428571428571428,0,0,0,0,0,0,0,0,0,0,0,0,0,0,0,0.14285714285714285,0,0.42857142857142855,0.42857142857142855,0.14285714285714285,0,0,0,0,0,0,0,0,0,0,{"$f":"IF(SUM(AI3493,AI3589,AI3685,AI3781,AI3877,AI3973,AI4069)=0,\"-\",AVERAGEIF(B3473:B4144,B4261,AI3473:AI4144))","v":45.099999999999994},{"$f":"IF(SUM(AJ3493,AJ3589,AJ3685,AJ3781,AJ3877,AJ3973,AJ4069)=0,\"-\",AVERAGEIF(B3473:B4144,B4261,AJ3473:AJ4144))","v":"-"},34.6,52.3,"7 Day Ave",500,{"$f":"IF(AO3493+AO3589+AO3685+AO3781+AO3877+AO3973+AO4069=0,0,AVERAGE(AO3493,AO3589,AO3685,AO3781,AO3877,AO3973,AO4069))","v":0},0.5714285714285714,0,0,0,0,0,0,0,0,0,0,0,0,0,0.14285714285714285,0.14285714285714285,0.14285714285714285,0.14285714285714285,0,0,0,0,0,0,0,0,0,0,0,0,0,{"$f":"IF(SUM(BU3493,BU3589,BU3685,BU3781,BU3877,BU3973,BU4069)=0,\"-\",AVERAGEIF(AN3473:AN4144,AN4261,BU3473:BU4144))","v":30.1},{"$f":"IF(SUM(BV3493,BV3589,BV3685,BV3781,BV3877,BV3973,BV4069)=0,\"-\",AVERAGEIF(AN3473:AN4144,AN4261,BV3473:BV4144))","v":"-"},20.6,37.299999999999997,"7 Day Ave",500,{"$f":"IF(CA3493+CA3589+CA3685+CA3781+CA3877+CA3973+CA4069=0,0,AVERAGE(CA3493,CA3589,CA3685,CA3781,CA3877,CA3973,CA4069))","v":0},1.7142857142857142,0,0,0,0,0,0,0,0,0,0,0,0,0,0.14285714285714285,0.14285714285714285,0.2857142857142857,0.14285714285714285,0.42857142857142855,0.42857142857142855,0.14285714285714285,0,0,0,0,0,0,0,0,0,0,42.579999999999991,"-",20.6,52.3,0,1.1428571428571428,0,0,0,1.1428571428571428,0,0.5714285714285714,0,0,0,0.5714285714285714,0,1.7142857142857142,0,0,0,1.7142857142857142]
["7 Day Ave",1030,{"$f":"IF(C3515+C3611+C3707+C3803+C3899+C3995+C4091=0,0,AVERAGE(C3515,C3611,C3707,C3803,C3899,C3995,C4091))","v":0.2857142857142857},12.285714285714286,0,2.5714285714285716,0,0,0,0,0,0,0,0,0,0,0.2857142857142857,0.2857142857142857,1.8571428571428572,4.8571428571428568,4.2857142857142856,2.1428571428571428,0.7142857142857143,0.7142857142857143,0,0,0,0,0,0,0,0,0,0,{"$f":"IF(SUM(AI3515,AI3611,AI3707,AI3803,AI3899,AI3995,AI4091)=0,\"-\",AVERAGEIF(B3473:B4144,B4283,AI3473:AI4144))","v":36.157142857142858},{"$f":"IF(SUM(AJ3515,AJ3611,AJ3707,AJ3803,AJ3899,AJ3995,AJ4091)=0,\"-\",AVERAGEIF(B3473:B4144,B4283,AJ3473:AJ4144))","v":40.842857142857149},16.7,54.3,"7 Day Ave",1030,{"$f":"IF(AO3515+AO3611+AO3707+AO3803+AO3899+AO3995+AO4091=0,0,AVERAGE(AO3515,AO3611,AO3707,AO3803,AO3899,AO3995,AO4091))","v":0.5714285714285714},15.428571428571429,0.2857142857142857,1,0,0,0,0.14285714285714285,0,0,0,0,0,0,1,1.7142857142857142,4.8571428571428568,5.2857142857142856,3.2857142857142856,1,0.2857142857142857,0,0,0,0,0,0,0,0,0,0,0,{"$f":"IF(SUM(BU3515,BU3611,BU3707,BU3803,BU3899,BU3995,BU4091)=0,\"-\",AVERAGEIF(AN3473:AN4144,AN4283,BU3473:BU4144))","v":30.757142857142856},{"$f":"IF(SUM(BV3515,BV3611,BV3707,BV3803,BV3899,BV3995,BV4091)=0,\"-\",AVERAGEIF(AN3473:AN4144,AN4283,BV3473:BV4144))","v":35.585714285714289},15.7,46.1,"7 Day Ave",1030,{"$f":"IF(CA3515+CA3611+CA3707+CA3803+CA3899+CA3995+CA4091=0,0,AVERAGE(CA3515,CA3611,CA3707,CA3803,CA3899,CA3995,CA4091))","v":0.8571428571428571},27.714285714285715,0.2857142857142857,3.5714285714285716,0,0,0,0.14285714285714285,0,0,0,0,0,0,1.2857142857142858,2,6.7142857142857144,10.142857142857142,7.5714285714285712,3.1428571428571428,1,0.7142857142857143,0,0,0,0,0,0,0,0,0,0,33.233272564839886,38.214285714285722,15.7,54.3,0.2857142857142857,12.285714285714286,2.5714285714285716,0,0,15.142857142857144,0.5714285714285714,15.714285714285715,1,0,0.14285714285714285,17.428571428571427,0.8571428571428571,28,3.5714285714285716,0,0.14285714285714285,32.571428571428569]
["7 Day Ave",1900,{"$f":"IF(C3549+C3645+C3741+C3837+C3933+C4029+C4125=0,0,AVERAGE(C3549,C3645,C3741,C3837,C3933,C4029,C4125))","v":0.7142857142857143},15.857142857142858,0,1.1428571428571428,0,0.14285714285714285,0,0,0,0,0,0,0,0.42857142857142855,0.2857142857142857,0.2857142857142857,1,3.2857142857142856,6.4285714285714288,4.2857142857142856,1.5714285714285714,0.14285714285714285,0,0.14285714285714285,0,0,0,0,0,0,0,0,{"$f":"IF(SUM(AI3549,AI3645,AI3741,AI3837,AI3933,AI4029,AI4125)=0,\"-\",AVERAGEIF(B3473:B4144,B4317,AI3473:AI4144))","v":36.800000000000004},{"$f":"IF(SUM(AJ3549,AJ3645,AJ3741,AJ3837,AJ3933,AJ4029,AJ4125)=0,\"-\",AVERAGEIF(B3473:B4144,B4317,AJ3473:AJ4144))","v":42.885714285714286},10.3,63.7,"7 Day Ave",1900,{"$f":"IF(AO3549+AO3645+AO3741+AO3837+AO3933+AO4029+AO4125=0,0,AVERAGE(AO3549,AO3645,AO3741,AO3837,AO3933,AO4029,AO4125))","v":0.5714285714285714},16.857142857142858,0,0.2857142857142857,0,0,0,0,0,0,0,0,0,0,0.5714285714285714,0.2857142857142857,4.8571428571428568,6.7142857142857144,4.2857142857142856,0.42857142857142855,0.42857142857142855,0.14285714285714285,0,0,0,0,0,0,0,0,0,0,{"$f":"IF(SUM(BU3549,BU3645,BU3741,BU3837,BU3933,BU4029,BU4125)=0,\"-\",AVERAGEIF(AN3473:AN4144,AN4317,BU3473:BU4144))","v":32.74285714285714},{"$f":"IF(SUM(BV3549,BV3645,BV3741,BV3837,BV3933,BV4029,BV4125)=0,\"-\",AVERAGEIF(AN3473:AN4144,AN4317,BV3473:BV4144))","v":36.566666666666663},15.1,54.9,"7 Day Ave",1900,{"$f":"IF(CA3549+CA3645+CA3741+CA3837+CA3933+CA4029+CA4125=0,0,AVERAGE(CA3549,CA3645,CA3741,CA3837,CA3933,CA4029,CA4125))","v":1.2857142857142858},32.714285714285715,0,1.4285714285714286,0,0.14285714285714285,0,0,0,0,0,0,0,0.42857142857142855,0.8571428571428571,0.5714285714285714,5.8571428571428568,10,10.714285714285714,4.7142857142857144,2,0.2857142857142857,0,0.14285714285714285,0,0,0,0,0,0,0,0,34.854199244079474,39.726190476190474,10.3,63.7,0.7142857142857143,15.857142857142858,1.1428571428571428,{"$f":"SUM(G4317:H4317)","v":0.14285714285714285},0,17.857142857142858,0.5714285714285714,16.857142857142858,0.2857142857142857,0,0,17.714285714285715,1.2857142857142856,32.714285714285715,1.4285714285714284,0.14285714285714285,0,35.571428571428569]
[null,null,1,2,3,4,5,6,7,8,9,10,11,12,10,1015,1520,2025,2530,3035,3540,4045,4550,5055,5560,6065,6570,7075,7580,8085,8590,9095,95100,"100+","Ave","85%ile","Min","Max",null,null,1,2,3,4,5,6,7,8,9,10,11,12,"010","1015","1520","2025","2530","3035","3540","4045","4550","5055","5560","6065","6570","7075","7580","8085","8590","9095","95100","100+","Ave","85%ile","Min","Max",null,null,1,2,3,4,5,6,7,8,9,10,11,12,"010","1015","1520","2025","2530","3035","3540","4045","4550","5055","5560","6065","6570","7075","7580","8085","8590","9095","95100","100+","Ave","85%ile","Min","Max",null,null,null,null,null,null,null,null,null,null,null,null,null,null,null,null,null,null,"Mon","Tue","Wed","Thu","Fri","Sat","Sun","Mon","Tue","Wed","Thu","Fri","Sat","Sun","Mon","Tue","Wed","Thu","Fri","Sat","Sun",null,null,null,null,null,null,null,null,null,null,null,null,null,null,null,null,"Mon","Tue","Wed","Thu","Fri","Sat","Sun","Mon","Tue","Wed","Thu","Fri","Sat","Sun","Mon","Tue","Wed","Thu","Fri","Sat","Sun"]
["Mon",515,null,null,null,null,null,null,null,null,null,null,null,null,null,null,null,null,null,null,null,null,null,null,null,null,null,null,null,null,null,null,null,null,null,null,null,null,"Mon",515,null,null,null,null,null,null,null,null,null,null,null,null,null,null,null,null,null,null,null,null,null,null,null,null,null,null,null,null,null,null,null,null,null,null,null,null,"Mon",515,0,0,0,0,0,0,0,0,0,0,0,0,0,0,0,0,0,0,0,0,0,0,0,0,0,0,0,0,0,0,0,0,"-","-","-","-",0,0,0,0,0,0,0,0,0,0,0,0,0,0,0,0,0,0,0,0,0,0,0,0,0,0,0,0,0,0,0,0,0,0,0,0,0,0,0,0,0,null,null,null,null,null,0,0,null,null,null,null,null,0,0,"-","-","-","-","-","-","-","-","-","-","-","-","-","-","-","-","-","-","-","-","-"]
["Mon",1345,null,null,null,null,null,null,null,null,null,null,null,null,null,null,null,null,null,null,null,null,null,null,null,null,null,null,null,null,null,null,null,null,null,null,null,null,"Mon",1345,null,null,null,null,null,null,null,null,null,null,null,null,null,null,null,null,null,null,null,null,null,null,null,null,null,null,null,null,null,null,null,null,null,null,null,null,"Mon",1345,0,0,0,0,0,0,0,0,0,0,0,0,0,0,0,0,0,0,0,0,0,0,0,0,0,0,0,0,0,0,0,0,"-","-","-","-",0,0,0,0,0,0,0,0,0,0,0,0,0,0,0,0,0,0,0,0,0,0,0,0,0,0,0,0,0,0,0,0,0,0,0,0,0,0,0,0,0,null,null,null,null,null,0,0,null,null,null,null,null,0,0,"-","-","-","-","-","-","-","-","-","-","-","-","-","-","-","-","-","-","-","-","-"]
["Mon",1915,null,null,null,null,null,null,null,null,null,null,null,null,null,null,null,null,null,null,null,null,null,null,null,null,null,null,null,null,null,null,null,null,null,null,null,null,"Mon",1915,null,null,null,null,null,null,null,null,null,null,null,null,null,null,null,null,null,null,null,null,null,null,null,null,null,null,null,null,null,null,null,null,null,null,null,null,"Mon",1915,0,0,0,0,0,0,0,0,0,0,0,0,0,0,0,0,0,0,0,0,0,0,0,0,0,0,0,0,0,0,0,0,"-","-","-","-",0,0,0,0,0,0,0,0,0,0,0,0,0,0,0,0,0,0,0,0,0,0,0,0,0,0,0,0,0,0,0,0,0,0,0,0,0,0,0,0,0,null,null,null,null,null,0,0,null,null,null,null,null,0,0,"-","-","-","-","-","-","-","-","-","-","-","-","-","-","-","-","-","-","-","-","-"]
["Mon",2200,null,null,null,null,null,null,null,null,null,null,null,null,null,null,null,null,null,null,null,null,null,null,null,null,null,null,null,null,null,null,null,null,null,null,null,null,"Mon",2200,null,null,null,null,null,null,null,null,null,null,null,null,null,null,null,null,null,null,null,null,null,null,null,null,null,null,null,null,null,null,null,null,null,null,null,null,"Mon",2200,0,0,0,0,0,0,0,0,0,0,0,0,0,0,0,0,0,0,0,0,0,0,0,0,0,0,0,0,0,0,0,0,"-","-","-","-",0,0,0,0,0,0,0,0,0,0,0,0,0,0,0,0,0,0,0,0,0,0,0,0,0,0,0,0,0,0,0,0,0,0,0,0,0,0,0,0,0,null,null,null,null,null,0,0,null,null,null,null,null,0,0,"-","-","-","-","-","-","-","-","-","-","-","-","-","-","-","-","-","-","-","-","-"]
["Tues",330,null,null,null,null,null,null,null,null,null,null,null,null,null,null,null,null,null,null,null,null,null,null,null,null,null,null,null,null,null,null,null,null,null,null,null,null,"Tues",330,null,null,null,null,null,null,null,null,null,null,null,null,null,null,null,null,null,null,null,null,null,null,null,null,null,null,null,null,null,null,null,null,null,null,null,null,"Tues",330,0,0,0,0,0,0,0,0,0,0,0,0,0,0,0,0,0,0,0,0,0,0,0,0,0,0,0,0,0,0,0,0,"-","-","-","-",0,0,0,0,0,0,0,0,0,0,0,0,0,0,0,0,0,0]
["Tues",900,null,null,null,null,null,null,null,null,null,null,null,null,null,null,null,null,null,null,null,null,null,null,null,null,null,null,null,null,null,null,null,null,null,null,null,null,"Tues",900,null,null,null,null,null,null,null,null,null,null,null,null,null,null,null,null,null,null,null,null,null,null,null,null,null,null,null,null,null,null,null,null,null,null,null,null,"Tues",900,0,0,0,0,0,0,0,0,0,0,0,0,0,0,0,0,0,0,0,0,0,0,0,0,0,0,0,0,0,0,0,0,"-","-","-","-",0,0,0,0,0,0,0,0,0,0,0,0,0,0,0,0,0,0]
["Tues",1730,null,null,null,null,null,null,null,null,null,null,null,null,null,null,null,null,null,null,null,null,null,null,null,null,null,null,null,null,null,null,null,null,null,null,null,null,"Tues",1730,null,null,null,null,null,null,null,null,null,null,null,null,null,null,null,null,null,null,null,null,null,null,null,null,null,null,null,null,null,null,null,null,null,null,null,null,"Tues",1730,0,0,{"$f":"SUM(E4506+AQ4506)","v":0},0,0,0,0,0,0,0,0,{"$f":"SUM(N4506+AZ4506)","v":0},0,0,0,0,0,0,0,0,0,0,0,0,0,0,0,0,0,0,0,0,"-","-","-","-",0,0,0,0,0,0,0,0,0,0,0,0,0,0,0,0,0,0]
["Tues",2300,null,null,null,null,null,null,null,null,null,null,null,null,null,null,null,null,null,null,null,null,null,null,null,null,null,null,null,null,null,null,null,null,null,null,null,null,"Tues",2300,null,null,null,null,null,null,null,null,null,null,null,null,null,null,null,null,null,null,null,null,null,null,null,null,null,null,null,null,null,null,null,null,null,null,null,null,"Tues",2300,0,0,0,0,0,0,0,0,0,0,0,0,0,0,0,0,0,0,0,0,0,0,0,0,0,0,0,0,0,0,0,0,"-","-","-","-",0,0,0,0,0,0,0,0,0,0,0,0,0,0,0,0,0,0]
["Wed",145,null,null,null,null,null,null,null,null,null,null,null,null,null,null,null,null,null,null,null,null,null,null,null,null,null,null,null,null,null,null,null,null,null,null,null,null,"Wed",145,null,null,null,null,null,null,null,null,null,null,null,null,null,null,null,null,null,null,null,null,null,null,null,null,null,null,null,null,null,null,null,null,null,null,null,null,"Wed",145,0,0,0,0,0,0,0,0,0,0,0,0,0,0,0,0,0,0,0,0,0,0,0,0,0,0,0,0,0,0,0,0,"-","-","-","-",0,0,0,0,0,0,0,0,0,0,0,0,0,0,0,0,0,0]
["Wed",915,null,null,null,null,null,null,null,null,null,null,null,null,null,null,null,null,null,null,null,null,null,null,null,null,null,null,null,null,null,null,null,null,null,null,null,null,"Wed",915,null,null,null,null,null,null,null,null,null,null,null,null,null,null,null,null,null,null,null,null,null,null,null,null,null,null,null,null,null,null,null,null,null,null,null,null,"Wed",915,0,0,0,0,0,0,0,0,0,0,0,0,0,0,0,0,0,0,0,0,0,0,0,0,0,0,0,0,0,0,0,0,"-","-","-","-",0,0,0,0,0,0,0,0,0,0,0,0,0,0,0,0,0,0]
["Wed",1300,null,null,null,null,null,null,null,null,null,null,null,null,null,null,null,null,null,null,null,null,null,null,null,null,null,null,null,null,null,null,null,null,null,null,null,null,"Wed",1300,null,null,null,null,null,null,null,null,null,null,null,null,null,null,null,null,null,null,null,null,null,null,null,null,null,null,null,null,null,null,null,null,null,null,null,null,"Wed",1300,0,0,0,0,0,0,0,0,0,0,0,0,0,0,0,0,0,0,0,0,0,0,0,0,0,0,0,0,0,0,0,0,"-","-","-","-",0,0,0,0,0,0,0,0,0,0,0,0,0,0,0,0,0,0]
["Wed",2130,null,null,null,null,null,null,null,null,null,null,null,null,null,null,null,null,null,null,null,null,null,null,null,null,null,null,null,null,null,null,null,null,null,null,null,null,"Wed",2130,null,null,null,null,null,null,null,null,null,null,null,null,null,null,null,null,null,null,null,null,null,null,null,null,null,null,null,null,null,null,null,null,null,null,null,null,"Wed",2130,0,0,0,0,0,0,0,0,0,0,0,0,0,0,0,0,0,0,0,0,0,0,0,0,0,0,0,0,0,0,0,0,"-","-","-","-",0,0,0,0,0,0,0,0,0,0,0,0,0,0,0,0,0,0,null,null,null,null,null,null,null,null,null,null,null,null,null,null,null,null,null,null,null,null,null,{"$f":"IF((SUM(FN4618:FR4618))>0,AVERAGE(FN4618:FR4618),0)","v":0},{"$f":"IF((SUM(FN4618:FT4618))>0,AVERAGE(FN4618:FT4618),0)","v":0},null,null,null,null,null,{"$f":"IF((SUM(FU4618:FY4618))>0,AVERAGE(FU4618:FY4618),0)","v":0},{"$f":"IF((SUM(FU4618:GA4618))>0,AVERAGE(FU4618:GA4618),0)","v":0},null,null,null,null,null,{"$f":"IF((SUM(GB4618:GF4618))>0,AVERAGE(GB4618:GF4618),0)","v":0},{"$f":"IF((SUM(GB4618:GH4618))>0,AVERAGE(GB4618:GH4618),0)","v":0},{"$f":"IF(FN4519=\"-\",(IF(FN4521=\"-\",\"-\",FN4521)),(IF(FN4521=\"-\",FN4519,(SUM(FN4519,FN4521)))))","v":"-"},{"$f":"IF(FO4519=\"-\",(IF(FO4521=\"-\",\"-\",FO4521)),(IF(FO4521=\"-\",FO4519,(SUM(FO4519,FO4521)))))","v":"-"},"-","-","-","-","-",{"$f":"IF(FU4519=\"-\",(IF(FU4521=\"-\",\"-\",FU4521)),(IF(FU4521=\"-\",FU4519,(SUM(FU4519,FU4521)))))","v":"-"},{"$f":"IF(FV4519=\"-\",(IF(FV4521=\"-\",\"-\",FV4521)),(IF(FV4521=\"-\",FV4519,(SUM(FV4519,FV4521)))))","v":"-"},"-","-","-","-","-",{"$f":"IF(GB4519=\"-\",(IF(GB4521=\"-\",\"-\",GB4521)),(IF(GB4521=\"-\",GB4519,(SUM(GB4519,GB4521)))))","v":"-"},{"$f":"IF(GC4519=\"-\",(IF(GC4521=\"-\",\"-\",GC4521)),(IF(GC4521=\"-\",GC4519,(SUM(GC4519,GC4521)))))","v":"-"},"-","-","-","-","-"]
["Thu",300,null,null,null,null,null,null,null,null,null,null,null,null,null,null,null,null,null,null,null,null,null,null,null,null,null,null,null,null,null,null,null,null,null,null,null,null,"Thu",300,null,null,null,null,null,null,null,null,null,null,null,null,null,null,null,null,null,null,null,null,null,null,null,null,null,null,null,null,null,null,null,null,null,null,null,null,"Thu",300,0,0,0,0,0,0,0,0,0,0,0,0,0,0,0,0,0,0,0,0,0,0,0,0,0,0,0,0,0,0,0,0,"-","-","-","-",0,0,0,0,0,0,0,0,0,0,0,0,0,0,0,0,0,0]
["Thu",830,null,null,null,null,null,null,null,null,null,null,null,null,null,null,null,null,null,null,null,null,null,null,null,null,null,null,null,null,null,null,null,null,null,null,null,null,"Thu",830,null,null,null,null,null,null,null,null,null,null,null,null,null,null,null,null,null,null,null,null,null,null,null,null,null,null,null,null,null,null,null,null,null,null,null,null,"Thu",830,0,0,0,0,0,0,0,0,0,0,0,0,0,0,0,0,0,0,0,0,0,0,0,0,0,0,0,0,0,0,0,0,"-","-","-","-",0,0,0,0,0,0,0,0,0,0,0,0,0,0,0,0,0,0]
["Thu",1115,null,null,null,null,null,null,null,null,null,null,null,null,null,null,null,null,null,null,null,null,null,null,null,null,null,null,null,null,null,null,null,null,null,null,null,null,"Thu",1115,null,null,null,null,null,null,null,null,null,null,null,null,null,null,null,null,null,null,null,null,null,null,null,null,null,null,null,null,null,null,null,null,null,null,null,null,"Thu",1115,0,0,0,0,0,0,0,0,0,0,0,0,0,0,0,0,0,0,0,0,0,0,0,0,0,0,0,0,0,0,0,0,"-","-","-","-",0,0,0,0,0,0,0,0,0,0,0,0,0,0,0,0,0,0]
["Thu",2230,null,null,null,null,null,null,null,null,null,null,null,null,null,null,null,null,null,null,null,null,null,null,null,null,null,null,null,null,null,null,null,null,null,null,null,null,"Thu",2230,null,null,null,null,null,null,null,null,null,null,null,null,null,null,null,null,null,null,null,null,null,null,null,null,null,null,null,null,null,null,null,null,null,null,null,null,"Thu",2230,0,0,0,0,0,0,0,0,0,0,0,0,0,0,0,0,0,0,0,0,0,0,0,0,0,0,0,0,0,0,0,0,"-","-","-","-",0,0,0,0,0,0,0,0,0,0,0,0,0,0,0,0,0,0]
["Fri",115,null,null,null,null,null,null,null,null,null,null,null,null,null,null,null,null,null,null,null,null,null,null,null,null,null,null,null,null,null,null,null,null,null,null,null,null,"Fri",115,null,null,null,null,null,null,null,null,null,null,null,null,null,null,null,null,null,null,null,null,null,null,null,null,null,null,null,null,null,null,null,null,null,null,null,null,"Fri",115,0,0,0,0,0,{"$f":"SUM(H4729+AT4729)","v":0},0,0,0,{"$f":"SUM(L4729+AX4729)","v":0},{"$f":"SUM(M4729+AY4729)","v":0},{"$f":"SUM(N4729+AZ4729)","v":0},{"$f":"SUM(O4729+BA4729)","v":0},0,0,0,0,0,0,0,0,0,0,0,0,0,0,0,0,0,0,0,"-","-","-","-",0,0,0,0,0,0,0,0,0,0,0,0,0,0,0,0,0,0]
["Fri",645,null,null,null,null,null,null,null,null,null,null,null,null,null,null,null,null,null,null,null,null,null,null,null,null,null,null,null,null,null,null,null,null,null,null,null,null,"Fri",645,null,null,null,null,null,null,null,null,null,null,null,null,null,null,null,null,null,null,null,null,null,null,null,null,null,null,null,null,null,null,null,null,null,null,null,null,"Fri",645,0,0,0,0,0,0,0,0,0,0,0,0,0,0,0,0,0,0,0,0,0,0,0,0,0,0,0,0,0,0,0,0,"-","-","-","-",0,0,0,0,0,0,0,0,0,0,0,0,0,0,0,0,0,0]
["Fri",1215,null,null,null,null,null,null,null,null,null,null,null,null,null,null,null,null,null,null,null,null,null,null,null,null,null,null,null,null,null,null,null,null,null,null,null,null,"Fri",1215,null,null,null,null,null,null,null,null,null,null,null,null,null,null,null,null,null,null,null,null,null,null,null,null,null,null,null,null,null,null,null,null,null,null,null,null,"Fri",1215,0,0,0,0,0,0,0,0,0,0,0,0,0,0,0,0,0,0,0,0,0,0,0,0,0,0,0,0,0,0,0,0,"-","-","-","-",0,0,0,0,0,0,0,0,0,0,0,0,0,0,0,0,0,0]
["Fri",2045,null,null,null,null,null,null,null,null,null,null,null,null,null,null,null,null,null,null,null,null,null,null,null,null,null,null,null,null,null,null,null,null,null,null,null,null,"Fri",2045,null,null,null,null,null,null,null,null,null,null,null,null,null,null,null,null,null,null,null,null,null,null,null,null,null,null,null,null,null,null,null,null,null,null,null,null,"Fri",2045,0,0,0,0,0,0,0,0,0,0,0,0,0,0,0,0,0,0,0,0,0,0,0,0,0,0,0,0,0,0,0,0,"-","-","-","-",0,0,0,0,0,0,0,0,0,0,0,0,0,0,0,0,0,0]
["Sat",215,null,null,null,null,null,null,null,null,null,null,null,null,null,null,null,null,null,null,null,null,null,null,null,null,null,null,null,null,null,null,null,null,null,null,null,null,"Sat",215,null,null,null,null,null,null,null,null,null,null,null,null,null,null,null,null,null,null,null,null,null,null,null,null,null,null,null,null,null,null,null,null,null,null,null,null,"Sat",215,0,0,0,0,0,0,0,0,0,0,0,0,0,0,0,0,0,0,0,0,0,0,0,0,0,0,0,0,0,0,0,0,"-","-","-","-",0,0,0,0,0,0,0,0,0,0,0,0,0,0,0,0,0,0]
["Sat",500,null,null,null,null,null,null,null,null,null,null,null,null,null,null,null,null,null,null,null,null,null,null,null,null,null,null,null,null,null,null,null,null,null,null,null,null,"Sat",500,null,null,null,null,null,null,null,null,null,null,null,null,null,null,null,null,null,null,null,null,null,null,null,null,null,null,null,null,null,null,null,null,null,null,null,null,"Sat",500,0,0,0,0,0,0,0,0,0,0,0,0,0,0,0,0,0,0,0,0,0,0,0,0,0,0,0,0,0,0,0,0,"-","-","-","-",0,0,0,0,0,0,0,0,0,0,0,0,0,0,0,0,0,0]
["Sat",1030,null,null,null,null,null,null,null,null,null,null,null,null,null,null,null,null,null,null,null,null,null,null,null,null,null,null,null,null,null,null,null,null,null,null,null,null,"Sat",1030,null,null,null,null,null,null,null,null,null,null,null,null,null,null,null,null,null,null,null,null,null,null,null,null,null,null,null,null,null,null,null,null,null,null,null,null,"Sat",1030,0,0,0,0,0,0,0,0,0,0,0,0,0,0,0,0,0,0,0,0,0,0,0,0,0,0,0,0,0,0,0,0,"-","-","-","-",0,0,0,0,0,0,0,0,0,0,0,0,0,0,0,0,0,0]
["Sat",1600,null,null,null,null,null,null,null,null,null,null,null,null,null,null,null,null,null,null,null,null,null,null,null,null,null,null,null,null,null,null,null,null,null,null,null,null,"Sat",1600,null,null,null,null,null,null,null,null,null,null,null,null,null,null,null,null,null,null,null,null,null,null,null,null,null,null,null,null,null,null,null,null,null,null,null,null,"Sat",1600,0,0,0,0,0,0,0,0,0,0,0,0,0,0,0,0,0,0,0,0,0,0,0,0,0,0,0,0,0,0,0,0,"-","-","-","-",0,0,0,0,0,0,0,0,0,0,0,0,0,0,0,0,0,0]
["Sun",30,null,null,null,null,null,null,null,null,null,null,null,null,null,null,null,null,null,null,null,null,null,null,null,null,null,null,null,null,null,null,null,null,null,null,null,null,"Sun",30,null,null,null,null,null,null,null,null,null,null,null,null,null,null,null,null,null,null,null,null,null,null,null,null,null,null,null,null,null,null,null,null,null,null,null,null,"Sun",30,0,0,0,0,0,0,0,0,0,0,0,0,0,0,0,0,0,0,0,0,0,0,0,0,0,0,0,0,0,0,0,0,"-","-","-","-",0,0,0,0,0,0,0,0,0,0,0,0,0,0,0,0,0,0]
["Sun",600,null,null,null,null,null,null,null,null,null,null,null,null,null,null,null,null,null,null,null,null,null,null,null,null,null,null,null,null,null,null,null,null,null,null,null,null,"Sun",600,null,null,null,null,null,null,null,null,null,null,null,null,null,null,null,null,null,null,null,null,null,null,null,null,null,null,null,null,null,null,null,null,null,null,null,null,"Sun",600,0,0,0,0,0,0,0,0,0,0,0,0,0,0,0,0,0,0,0,0,0,0,0,0,0,0,0,0,0,0,0,0,"-","-","-","-",0,0,0,0,0,0,0,0,0,0,0,0,0,0,0,0,0,0]
["Sun",1130,null,null,null,null,null,null,null,null,null,null,null,null,null,null,null,null,null,null,null,null,null,null,null,null,null,null,null,null,null,null,null,null,null,null,null,null,"Sun",1130,null,null,null,null,null,null,null,null,null,null,null,null,null,null,null,null,null,null,null,null,null,null,null,null,null,null,null,null,null,null,null,null,null,null,null,null,"Sun",1130,0,0,0,0,0,0,0,0,0,0,0,0,0,{"$f":"SUM(P4962+BB4962)","v":0},{"$f":"SUM(Q4962+BC4962)","v":0},{"$f":"SUM(R4962+BD4962)","v":0},{"$f":"SUM(S4962+BE4962)","v":0},{"$f":"SUM(T4962+BF4962)","v":0},{"$f":"SUM(U4962+BG4962)","v":0},{"$f":"SUM(V4962+BH4962)","v":0},{"$f":"SUM(W4962+BI4962)","v":0},0,0,0,0,0,0,0,0,0,0,0,"-","-","-","-",0,0,0,0,0,0,0,0,0,0,0,0,0,0,0,0,0,0]
["Sun",1415,null,null,null,null,null,null,null,null,null,null,null,null,null,null,null,null,null,null,null,null,null,null,null,null,null,null,null,null,null,null,null,null,null,null,null,null,"Sun",1415,null,null,null,null,null,null,null,null,null,null,null,null,null,null,null,null,null,null,null,null,null,null,null,null,null,null,null,null,null,null,null,null,null,null,null,null,"Sun",1415,0,0,0,0,0,0,0,0,0,0,0,0,0,0,0,0,0,0,0,0,0,0,0,0,0,0,0,0,0,0,0,0,"-","-","-","-",0,0,0,0,0,0,0,0,0,0,0,0,0,0,0,0,0,0]
["Sun",1945,null,null,null,null,null,null,null,null,null,null,null,null,null,null,null,null,null,null,null,null,null,null,null,null,null,null,null,null,null,null,null,null,null,null,null,null,"Sun",1945,null,null,null,null,null,null,null,null,null,null,null,null,null,null,null,null,null,null,null,null,null,null,null,null,null,null,null,null,null,null,null,null,null,null,null,null,"Sun",1945,0,0,0,0,0,0,0,0,0,0,0,0,0,0,0,0,0,0,0,0,0,0,0,0,0,0,0,0,0,0,0,0,"-","-","-","-",0,0,0,0,0,0,0,0,0,0,0,0,0,0,0,0,0,0]
["WD Ave",415,{"$f":"IF(C4357+C4453+C4549+C4645+C4741=0,0,AVERAGE(C4357,C4453,C4549,C4645,C4741))","v":0},0,0,0,0,0,0,0,0,0,0,0,0,0,0,0,0,0,0,0,0,0,0,0,0,0,0,0,0,0,0,0,{"$f":"IF(SUM(AI4357,AI4453,AI4549,AI4645,AI4741)=0,\"-\",AVERAGEIF(B4340:B4819,B5029,AI4340:AI4819))","v":"-"},{"$f":"IF(SUM(AJ4357,AJ4453,AJ4549,AJ4645,AJ4741)=0,\"-\",AVERAGEIF(B4340:B4819,B5029,AJ4340:AJ4819))","v":"-"},"-","-","WD Ave",415,{"$f":"IF(AO4357+AO4453+AO4549+AO4645+AO4741=0,0,AVERAGE(AO4357,AO4453,AO4549,AO4645,AO4741))","v":0},0,0,0,0,0,0,0,0,0,0,0,0,0,0,0,0,0,0,0,0,0,0,0,0,0,0,0,0,0,0,0,{"$f":"IF(SUM(BU4357,BU4453,BU4549,BU4645,BU4741)=0,\"-\",AVERAGEIF(AN4340:AN4819,AN5029,BU4340:BU4819))","v":"-"},{"$f":"IF(SUM(BV4357,BV4453,BV4549,BV4645,BV4741)=0,\"-\",AVERAGEIF(AN4340:AN4819,AN5029,BV4340:BV4819))","v":"-"},"-","-","WD Ave",415,{"$f":"IF(CA4357+CA4453+CA4549+CA4645+CA4741=0,0,AVERAGE(CA4357,CA4453,CA4549,CA4645,CA4741))","v":0},0,0,0,0,0,0,0,0,0,0,0,0,0,0,0,0,0,0,0,0,0,0,0,0,0,0,0,0,0,0,0,"-","-","-","-",0,0,0,0,0,0,0,0,0,0,0,0,0,0,0,0,0,0]
["WD Ave",945,{"$f":"IF(C4379+C4475+C4571+C4667+C4763=0,0,AVERAGE(C4379,C4475,C4571,C4667,C4763))","v":0},0,0,0,0,0,0,0,0,0,0,0,0,0,0,0,0,0,0,0,0,0,0,0,0,0,0,0,0,0,0,0,{"$f":"IF(SUM(AI4379,AI4475,AI4571,AI4667,AI4763)=0,\"-\",AVERAGEIF(B4340:B4819,B5051,AI4340:AI4819))","v":"-"},{"$f":"IF(SUM(AJ4379,AJ4475,AJ4571,AJ4667,AJ4763)=0,\"-\",AVERAGEIF(B4340:B4819,B5051,AJ4340:AJ4819))","v":"-"},"-","-","WD Ave",945,{"$f":"IF(AO4379+AO4475+AO4571+AO4667+AO4763=0,0,AVERAGE(AO4379,AO4475,AO4571,AO4667,AO4763))","v":0},0,0,0,0,0,0,0,0,0,0,0,0,0,0,0,0,0,0,0,0,0,0,0,0,0,0,0,0,0,0,0,{"$f":"IF(SUM(BU4379,BU4475,BU4571,BU4667,BU4763)=0,\"-\",AVERAGEIF(AN4340:AN4819,AN5051,BU4340:BU4819))","v":"-"},{"$f":"IF(SUM(BV4379,BV4475,BV4571,BV4667,BV4763)=0,\"-\",AVERAGEIF(AN4340:AN4819,AN5051,BV4340:BV4819))","v":"-"},"-","-","WD Ave",945,{"$f":"IF(CA4379+CA4475+CA4571+CA4667+CA4763=0,0,AVERAGE(CA4379,CA4475,CA4571,CA4667,CA4763))","v":0},0,0,0,0,0,0,0,0,0,0,0,0,0,0,0,0,0,0,0,0,0,0,0,0,0,0,0,0,0,0,0,"-","-","-","-",0,0,0,0,0,0,0,0,0,0,0,0,0,0,0,0,0,0]
["WD Ave",1515,{"$f":"IF(C4401+C4497+C4593+C4689+C4785=0,0,AVERAGE(C4401,C4497,C4593,C4689,C4785))","v":0},0,0,0,0,0,0,0,0,0,0,0,0,0,0,0,0,0,0,0,0,0,0,0,0,0,0,0,0,0,0,0,{"$f":"IF(SUM(AI4401,AI4497,AI4593,AI4689,AI4785)=0,\"-\",AVERAGEIF(B4340:B4819,B5073,AI4340:AI4819))","v":"-"},{"$f":"IF(SUM(AJ4401,AJ4497,AJ4593,AJ4689,AJ4785)=0,\"-\",AVERAGEIF(B4340:B4819,B5073,AJ4340:AJ4819))","v":"-"},"-","-","WD Ave",1515,{"$f":"IF(AO4401+AO4497+AO4593+AO4689+AO4785=0,0,AVERAGE(AO4401,AO4497,AO4593,AO4689,AO4785))","v":0},0,0,0,0,0,0,0,0,0,0,0,0,0,0,0,0,0,0,0,0,0,0,0,0,0,0,0,0,0,0,0,{"$f":"IF(SUM(BU4401,BU4497,BU4593,BU4689,BU4785)=0,\"-\",AVERAGEIF(AN4340:AN4819,AN5073,BU4340:BU4819))","v":"-"},{"$f":"IF(SUM(BV4401,BV4497,BV4593,BV4689,BV4785)=0,\"-\",AVERAGEIF(AN4340:AN4819,AN5073,BV4340:BV4819))","v":"-"},"-","-","WD Ave",1515,{"$f":"IF(CA4401+CA4497+CA4593+CA4689+CA4785=0,0,AVERAGE(CA4401,CA4497,CA4593,CA4689,CA4785))","v":0},0,0,0,0,0,0,0,0,0,0,0,0,0,0,0,0,0,0,0,0,0,0,0,0,0,0,0,0,0,0,0,"-","-","-","-",0,0,0,0,0,0,0,0,0,0,0,0,0,0,0,0,0,0]
["WD Ave",2345,{"$f":"IF(C4435+C4531+C4627+C4723+C4819=0,0,AVERAGE(C4435,C4531,C4627,C4723,C4819))","v":0},0,0,0,0,0,0,0,0,0,0,0,0,0,0,0,0,0,0,0,0,0,0,0,0,0,0,0,0,0,0,0,{"$f":"IF(SUM(AI4435,AI4531,AI4627,AI4723,AI4819)=0,\"-\",AVERAGEIF(B4340:B4819,B5107,AI4340:AI4819))","v":"-"},{"$f":"IF(SUM(AJ4435,AJ4531,AJ4627,AJ4723,AJ4819)=0,\"-\",AVERAGEIF(B4340:B4819,B5107,AJ4340:AJ4819))","v":"-"},"-","-","WD Ave",2345,{"$f":"IF(AO4435+AO4531+AO4627+AO4723+AO4819=0,0,AVERAGE(AO4435,AO4531,AO4627,AO4723,AO4819))","v":0},0,0,0,0,0,0,0,0,0,0,0,0,0,0,0,0,0,0,0,0,0,0,0,0,0,0,0,0,0,0,0,{"$f":"IF(SUM(BU4435,BU4531,BU4627,BU4723,BU4819)=0,\"-\",AVERAGEIF(AN4340:AN4819,AN5107,BU4340:BU4819))","v":"-"},{"$f":"IF(SUM(BV4435,BV4531,BV4627,BV4723,BV4819)=0,\"-\",AVERAGEIF(AN4340:AN4819,AN5107,BV4340:BV4819))","v":"-"},"-","-","WD Ave",2345,{"$f":"IF(CA4435+CA4531+CA4627+CA4723+CA4819=0,0,AVERAGE(CA4435,CA4531,CA4627,CA4723,CA4819))","v":0},0,0,0,0,0,0,0,0,0,0,0,0,0,0,0,0,0,0,0,0,0,0,0,0,0,0,0,0,0,0,0,"-","-","-","-",0,0,0,0,0,0,0,0,0,0,0,0,0,0,0,{"$f":"SUM(DN5107+DT5107)","v":0},{"$f":"SUM(DO5107+DU5107)","v":0},{"$f":"SUM(DP5107+DV5107)","v":0}]
["7 Day Ave",515,{"$f":"IF(C4361+C4457+C4553+C4649+C4745+C4841+C4937=0,0,AVERAGE(C4361,C4457,C4553,C4649,C4745,C4841,C4937))","v":0},0,0,0,0,0,0,0,0,0,0,0,0,0,0,0,0,0,0,0,0,0,0,0,0,0,0,0,0,0,0,0,{"$f":"IF(SUM(AI4361,AI4457,AI4553,AI4649,AI4745,AI4841,AI4937)=0,\"-\",AVERAGEIF(B4340:B5011,B5129,AI4340:AI5011))","v":"-"},{"$f":"IF(SUM(AJ4361,AJ4457,AJ4553,AJ4649,AJ4745,AJ4841,AJ4937)=0,\"-\",AVERAGEIF(B4340:B5011,B5129,AJ4340:AJ5011))","v":"-"},"-","-","7 Day Ave",515,{"$f":"IF(AO4361+AO4457+AO4553+AO4649+AO4745+AO4841+AO4937=0,0,AVERAGE(AO4361,AO4457,AO4553,AO4649,AO4745,AO4841,AO4937))","v":0},0,0,0,0,0,0,0,0,0,0,0,0,0,0,0,0,0,0,0,0,0,0,0,0,0,0,0,0,0,0,0,{"$f":"IF(SUM(BU4361,BU4457,BU4553,BU4649,BU4745,BU4841,BU4937)=0,\"-\",AVERAGEIF(AN4340:AN5011,AN5129,BU4340:BU5011))","v":"-"},{"$f":"IF(SUM(BV4361,BV4457,BV4553,BV4649,BV4745,BV4841,BV4937)=0,\"-\",AVERAGEIF(AN4340:AN5011,AN5129,BV4340:BV5011))","v":"-"},"-","-","7 Day Ave",515,{"$f":"IF(CA4361+CA4457+CA4553+CA4649+CA4745+CA4841+CA4937=0,0,AVERAGE(CA4361,CA4457,CA4553,CA4649,CA4745,CA4841,CA4937))","v":0},0,0,0,0,0,0,0,0,0,0,0,0,0,0,0,0,0,0,0,0,0,0,0,0,0,0,0,0,0,0,0,"-","-","-","-",0,0,0,0,0,0,0,0,0,0,0,0,0,0,0,0,0,0]
["7 Day Ave",1045,{"$f":"IF(C4383+C4479+C4575+C4671+C4767+C4863+C4959=0,0,AVERAGE(C4383,C4479,C4575,C4671,C4767,C4863,C4959))","v":0},0,0,0,0,0,0,0,0,0,0,0,0,0,0,0,0,0,0,0,0,0,0,0,0,0,0,0,0,0,0,0,{"$f":"IF(SUM(AI4383,AI4479,AI4575,AI4671,AI4767,AI4863,AI4959)=0,\"-\",AVERAGEIF(B4340:B5011,B5151,AI4340:AI5011))","v":"-"},{"$f":"IF(SUM(AJ4383,AJ4479,AJ4575,AJ4671,AJ4767,AJ4863,AJ4959)=0,\"-\",AVERAGEIF(B4340:B5011,B5151,AJ4340:AJ5011))","v":"-"},"-","-","7 Day Ave",1045,{"$f":"IF(AO4383+AO4479+AO4575+AO4671+AO4767+AO4863+AO4959=0,0,AVERAGE(AO4383,AO4479,AO4575,AO4671,AO4767,AO4863,AO4959))","v":0},0,0,0,0,0,0,0,0,0,0,0,0,0,0,0,0,0,0,0,0,0,0,0,0,0,0,0,0,0,0,0,{"$f":"IF(SUM(BU4383,BU4479,BU4575,BU4671,BU4767,BU4863,BU4959)=0,\"-\",AVERAGEIF(AN4340:AN5011,AN5151,BU4340:BU5011))","v":"-"},{"$f":"IF(SUM(BV4383,BV4479,BV4575,BV4671,BV4767,BV4863,BV4959)=0,\"-\",AVERAGEIF(AN4340:AN5011,AN5151,BV4340:BV5011))","v":"-"},"-","-","7 Day Ave",1045,{"$f":"IF(CA4383+CA4479+CA4575+CA4671+CA4767+CA4863+CA4959=0,0,AVERAGE(CA4383,CA4479,CA4575,CA4671,CA4767,CA4863,CA4959))","v":0},0,0,0,0,0,0,0,0,0,0,0,0,0,0,0,0,0,0,0,0,0,0,0,0,0,0,0,0,0,0,0,"-","-","-","-",0,0,0,0,0,0,0,0,0,0,0,0,0,0,0,0,0,0]
["7 Day Ave",1330,{"$f":"IF(C4394+C4490+C4586+C4682+C4778+C4874+C4970=0,0,AVERAGE(C4394,C4490,C4586,C4682,C4778,C4874,C4970))","v":0},0,0,0,0,0,0,0,0,0,0,0,0,0,0,0,0,0,0,0,0,0,0,0,0,0,0,0,0,0,0,0,{"$f":"IF(SUM(AI4394,AI4490,AI4586,AI4682,AI4778,AI4874,AI4970)=0,\"-\",AVERAGEIF(B4340:B5011,B5162,AI4340:AI5011))","v":"-"},{"$f":"IF(SUM(AJ4394,AJ4490,AJ4586,AJ4682,AJ4778,AJ4874,AJ4970)=0,\"-\",AVERAGEIF(B4340:B5011,B5162,AJ4340:AJ5011))","v":"-"},"-","-","7 Day Ave",1330,{"$f":"IF(AO4394+AO4490+AO4586+AO4682+AO4778+AO4874+AO4970=0,0,AVERAGE(AO4394,AO4490,AO4586,AO4682,AO4778,AO4874,AO4970))","v":0},0,0,0,0,0,0,0,0,0,0,0,0,0,0,0,0,0,0,0,0,0,0,0,0,0,0,0,0,0,0,0,{"$f":"IF(SUM(BU4394,BU4490,BU4586,BU4682,BU4778,BU4874,BU4970)=0,\"-\",AVERAGEIF(AN4340:AN5011,AN5162,BU4340:BU5011))","v":"-"},{"$f":"IF(SUM(BV4394,BV4490,BV4586,BV4682,BV4778,BV4874,BV4970)=0,\"-\",AVERAGEIF(AN4340:AN5011,AN5162,BV4340:BV5011))","v":"-"},"-","-","7 Day Ave",1330,{"$f":"IF(CA4394+CA4490+CA4586+CA4682+CA4778+CA4874+CA4970=0,0,AVERAGE(CA4394,CA4490,CA4586,CA4682,CA4778,CA4874,CA4970))","v":0},0,0,0,0,0,0,0,0,0,0,0,0,0,0,0,0,0,0,0,0,0,0,0,0,0,0,0,0,0,0,0,"-","-","-","-",0,0,0,0,0,0,0,0,0,0,0,0,0,0,0,0,0,0]
["7 Day Ave",1900,{"$f":"IF(C4416+C4512+C4608+C4704+C4800+C4896+C4992=0,0,AVERAGE(C4416,C4512,C4608,C4704,C4800,C4896,C4992))","v":0},0,0,0,0,0,0,0,0,0,0,0,0,0,0,0,0,0,0,0,0,0,0,0,0,0,0,0,0,0,0,0,{"$f":"IF(SUM(AI4416,AI4512,AI4608,AI4704,AI4800,AI4896,AI4992)=0,\"-\",AVERAGEIF(B4340:B5011,B5184,AI4340:AI5011))","v":"-"},{"$f":"IF(SUM(AJ4416,AJ4512,AJ4608,AJ4704,AJ4800,AJ4896,AJ4992)=0,\"-\",AVERAGEIF(B4340:B5011,B5184,AJ4340:AJ5011))","v":"-"},"-","-","7 Day Ave",1900,{"$f":"IF(AO4416+AO4512+AO4608+AO4704+AO4800+AO4896+AO4992=0,0,AVERAGE(AO4416,AO4512,AO4608,AO4704,AO4800,AO4896,AO4992))","v":0},0,0,0,0,0,0,0,0,0,0,0,0,0,0,0,0,0,0,0,0,0,0,0,0,0,0,0,0,0,0,0,{"$f":"IF(SUM(BU4416,BU4512,BU4608,BU4704,BU4800,BU4896,BU4992)=0,\"-\",AVERAGEIF(AN4340:AN5011,AN5184,BU4340:BU5011))","v":"-"},{"$f":"IF(SUM(BV4416,BV4512,BV4608,BV4704,BV4800,BV4896,BV4992)=0,\"-\",AVERAGEIF(AN4340:AN5011,AN5184,BV4340:BV5011))","v":"-"},"-","-","7 Day Ave",1900,{"$f":"IF(CA4416+CA4512+CA4608+CA4704+CA4800+CA4896+CA4992=0,0,AVERAGE(CA4416,CA4512,CA4608,CA4704,CA4800,CA4896,CA4992))","v":0},0,0,0,0,0,0,0,0,0,0,0,0,0,0,0,0,0,0,0,0,0,0,0,0,0,0,0,0,0,0,0,"-","-","-","-",0,0,0,{"$f":"SUM(G5184:H5184)","v":0},0,0,0,0,0,0,0,0,0,0,0,0,0,0]
["Mon",245,null,null,null,null,null,null,null,null,null,null,null,null,null,null,null,null,null,null,null,null,null,null,null,null,null,null,null,null,null,null,null,null,null,null,null,null,"Mon",245,null,null,null,null,null,null,null,null,null,null,null,null,null,null,null,null,null,null,null,null,null,null,null,null,null,null,null,null,null,null,null,null,null,null,null,null,"Mon",245,0,0,0,0,0,0,0,0,0,0,0,0,0,0,0,0,0,0,0,0,0,0,0,0,0,0,0,0,0,0,0,0,"-","-","-","-",0,0,0,0,0,0,0,0,0,0,0,0,0,0,0,0,0,0,0,0,0,0,0,0,0,0,0,0,0,0,0,0,0,0,0,0,0,0,0,0,0,null,null,null,null,null,0,0,null,null,null,null,null,0,0,"-","-","-","-","-","-","-","-","-","-","-","-","-","-","-","-","-","-","-","-","-"]
["Mon",815,null,null,null,null,null,null,null,null,null,null,null,null,null,null,null,null,null,null,null,null,null,null,null,null,null,null,null,null,null,null,null,null,null,null,null,null,"Mon",815,null,null,null,null,null,null,null,null,null,null,null,null,null,null,null,null,null,null,null,null,null,null,null,null,null,null,null,null,null,null,null,null,null,null,null,null,"Mon",815,0,0,0,0,0,0,0,0,0,0,0,0,0,0,0,0,0,0,0,0,0,0,0,0,0,0,0,0,0,0,0,0,"-","-","-","-",0,0,0,0,0,0,0,0,0,0,0,0,0,0,0,0,0,0,0,0,0,0,0,0,0,0,0,0,0,0,0,0,0,0,0,0,0,0,0,0,0,null,null,null,null,null,0,0,null,null,null,null,null,0,0,"-","-","-","-","-","-","-","-","-","-","-","-","-","-","-","-","-","-","-","-","-"]
["Mon",1345,null,null,null,null,null,null,null,null,null,null,null,null,null,null,null,null,null,null,null,null,null,null,null,null,null,null,null,null,null,null,null,null,null,null,null,null,"Mon",1345,null,null,null,null,null,null,null,null,null,null,null,null,null,null,null,null,null,null,null,null,null,null,null,null,null,null,null,null,null,null,null,null,null,null,null,null,"Mon",1345,0,0,0,0,0,0,0,0,0,0,0,0,0,0,0,0,0,0,0,0,0,0,0,0,0,0,0,0,0,0,0,0,"-","-","-","-",0,0,0,0,0,0,0,0,0,0,0,0,0,0,0,0,0,0,0,0,0,0,0,0,0,0,0,0,0,0,0,0,0,0,0,0,0,0,0,0,0,null,null,null,null,null,0,0,null,null,null,null,null,0,0,"-","-","-","-","-","-","-","-","-","-","-","-","-","-","-","-","-","-","-","-","-"]
["Mon",1645,null,null,null,null,null,null,null,null,null,null,null,null,null,null,null,null,null,null,null,null,null,null,null,null,null,null,null,null,null,null,null,null,null,null,null,null,"Mon",1645,null,null,null,null,null,null,null,null,null,null,null,null,null,null,null,null,null,null,null,null,null,null,null,null,null,null,null,null,null,null,null,null,null,null,null,null,"Mon",1645,0,0,0,0,0,0,0,0,0,0,0,0,0,0,0,0,0,0,0,0,0,0,0,0,0,0,0,0,0,0,0,0,"-","-","-","-",0,0,0,0,0,0,0,0,0,0,0,0,0,0,0,0,0,0,0,0,0,0,0,0,0,0,0,0,0,0,0,0,0,0,0,0,0,0,0,0,0,null,null,null,null,null,0,0,null,null,null,null,null,0,0,"-","-","-","-","-","-","-","-","-","-","-","-","-","-",{"$f":"IF(FN5274=\"-\",\"-\",IF(FU5274=\"-\",\"-\",FN5274+FU5274))","v":"-"},"-","-","-","-","-","-"]
["Mon",2215,null,null,null,null,null,null,null,null,null,null,null,null,null,null,null,null,null,null,null,null,null,null,null,null,null,null,null,null,null,null,null,null,null,null,null,null,"Mon",2215,null,null,null,null,null,null,null,null,null,null,null,null,null,null,null,null,null,null,null,null,null,null,null,null,null,null,null,null,null,null,null,null,null,null,null,null,"Mon",2215,0,0,0,0,0,0,0,0,0,0,0,0,0,0,0,0,0,0,0,0,0,0,0,0,0,0,0,0,0,0,0,0,"-","-","-","-",0,0,0,0,0,0,0,0,0,0,0,0,0,0,0,0,0,0,0,0,0,0,0,0,0,0,0,0,0,0,0,0,0,0,0,0,0,0,0,0,0,null,null,null,null,null,0,0,null,null,null,null,null,0,0,"-","-","-","-","-","-","-","-","-","-","-","-","-","-","-","-","-","-","-","-","-"]
["Tues",645,null,null,null,null,null,null,null,null,null,null,null,null,null,null,null,null,null,null,null,null,null,null,null,null,null,null,null,null,null,null,null,null,null,null,null,null,"Tues",645,null,null,null,null,null,null,null,null,null,null,null,null,null,null,null,null,null,null,null,null,null,null,null,null,null,null,null,null,null,null,null,null,null,null,null,null,"Tues",645,0,0,0,0,0,0,0,0,0,0,0,0,0,0,0,0,0,0,0,0,0,0,0,0,0,0,0,0,0,0,0,0,"-","-","-","-",0,0,0,0,0,0,0,0,0,0,0,0,0,0,0,0,0,0,null,null,null,null,null,null,null,null,null,null,null,null,null,null,null,null,null,null,null,null,null,{"$f":"IF((SUM(FN5330:FR5330))>0,AVERAGE(FN5330:FR5330),0)","v":0},{"$f":"IF((SUM(FN5330:FT5330))>0,AVERAGE(FN5330:FT5330),0)","v":0},null,null,null,null,null,{"$f":"IF((SUM(FU5330:FY5330))>0,AVERAGE(FU5330:FY5330),0)","v":0},{"$f":"IF((SUM(FU5330:GA5330))>0,AVERAGE(FU5330:GA5330),0)","v":0},null,null,null,null,null,{"$f":"IF((SUM(GB5330:GF5330))>0,AVERAGE(GB5330:GF5330),0)","v":0},{"$f":"IF((SUM(GB5330:GH5330))>0,AVERAGE(GB5330:GH5330),0)","v":0},{"$f":"IF(FN5231=\"-\",(IF(FN5232=\"-\",\"-\",FN5232)),(IF(FN5232=\"-\",FN5231,(SUM(FN5231:FN5232)))))","v":"-"},{"$f":"IF(FO5231=\"-\",(IF(FO5232=\"-\",\"-\",FO5232)),(IF(FO5232=\"-\",FO5231,(SUM(FO5231:FO5232)))))","v":"-"},"-","-","-","-","-",{"$f":"IF(FU5231=\"-\",(IF(FU5232=\"-\",\"-\",FU5232)),(IF(FU5232=\"-\",FU5231,(SUM(FU5231:FU5232)))))","v":"-"},{"$f":"IF(FV5231=\"-\",(IF(FV5232=\"-\",\"-\",FV5232)),(IF(FV5232=\"-\",FV5231,(SUM(FV5231:FV5232)))))","v":"-"},"-","-","-","-","-",{"$f":"IF(GB5231=\"-\",(IF(GB5232=\"-\",\"-\",GB5232)),(IF(GB5232=\"-\",GB5231,(SUM(GB5231:GB5232)))))","v":"-"},{"$f":"IF(GC5231=\"-\",(IF(GC5232=\"-\",\"-\",GC5232)),(IF(GC5232=\"-\",GC5231,(SUM(GC5231:GC5232)))))","v":"-"},"-","-","-","-","-"]
["Tues",1215,null,null,null,null,null,null,null,null,null,null,null,null,null,null,null,null,null,null,null,null,null,null,null,null,null,null,null,null,null,null,null,null,null,null,null,null,"Tues",1215,null,null,null,null,null,null,null,null,null,null,null,null,null,null,null,null,null,null,null,null,null,null,null,null,null,null,null,null,null,null,null,null,null,null,null,null,"Tues",1215,0,0,0,0,0,0,0,0,0,0,0,0,0,0,0,0,0,0,0,0,0,0,0,0,0,0,0,0,0,0,0,0,"-","-","-","-",0,0,0,0,0,0,0,0,0,0,0,0,0,0,0,0,0,0,null,null,null,null,null,null,null,null,null,null,null,null,null,null,null,null,null,null,null,null,null,{"$f":"IF((SUM(FN5352:FR5352))>0,AVERAGE(FN5352:FR5352),0)","v":0},{"$f":"IF((SUM(FN5352:FT5352))>0,AVERAGE(FN5352:FT5352),0)","v":0},null,null,null,null,null,{"$f":"IF((SUM(FU5352:FY5352))>0,AVERAGE(FU5352:FY5352),0)","v":0},{"$f":"IF((SUM(FU5352:GA5352))>0,AVERAGE(FU5352:GA5352),0)","v":0},null,null,null,null,null,{"$f":"IF((SUM(GB5352:GF5352))>0,AVERAGE(GB5352:GF5352),0)","v":0},{"$f":"IF((SUM(GB5352:GH5352))>0,AVERAGE(GB5352:GH5352),0)","v":0},{"$f":"IF(FN5253=\"-\",(IF(FN5254=\"-\",\"-\",FN5254)),(IF(FN5254=\"-\",FN5253,(SUM(FN5253:FN5254)))))","v":"-"},{"$f":"IF(FO5253=\"-\",(IF(FO5254=\"-\",\"-\",FO5254)),(IF(FO5254=\"-\",FO5253,(SUM(FO5253:FO5254)))))","v":"-"},"-","-","-","-","-",{"$f":"IF(FU5253=\"-\",(IF(FU5254=\"-\",\"-\",FU5254)),(IF(FU5254=\"-\",FU5253,(SUM(FU5253:FU5254)))))","v":"-"},{"$f":"IF(FV5253=\"-\",(IF(FV5254=\"-\",\"-\",FV5254)),(IF(FV5254=\"-\",FV5253,(SUM(FV5253:FV5254)))))","v":"-"},"-","-","-","-","-",{"$f":"IF(GB5253=\"-\",(IF(GB5254=\"-\",\"-\",GB5254)),(IF(GB5254=\"-\",GB5253,(SUM(GB5253:GB5254)))))","v":"-"},{"$f":"IF(GC5253=\"-\",(IF(GC5254=\"-\",\"-\",GC5254)),(IF(GC5254=\"-\",GC5253,(SUM(GC5253:GC5254)))))","v":"-"},"-","-","-","-","-"]
["Tues",1745,null,null,null,null,null,null,null,null,null,null,null,null,null,null,null,null,null,null,null,null,null,null,null,null,null,null,null,null,null,null,null,null,null,null,null,null,"Tues",1745,null,null,null,null,null,null,null,null,null,null,null,null,null,null,null,null,null,null,null,null,null,null,null,null,null,null,null,null,null,null,null,null,null,null,null,null,"Tues",1745,0,0,0,0,0,0,0,0,0,0,0,0,0,0,0,0,0,0,0,0,0,0,0,0,0,0,0,0,0,0,0,0,"-","-","-","-",0,0,0,0,0,0,0,0,0,0,0,0,0,0,0,0,0,0,null,null,null,null,null,null,null,null,null,null,null,null,null,null,null,null,null,null,null,null,null,{"$f":"IF((SUM(FN5374:FR5374))>0,AVERAGE(FN5374:FR5374),0)","v":0},{"$f":"IF((SUM(FN5374:FT5374))>0,AVERAGE(FN5374:FT5374),0)","v":0},null,null,null,null,null,{"$f":"IF((SUM(FU5374:FY5374))>0,AVERAGE(FU5374:FY5374),0)","v":0},{"$f":"IF((SUM(FU5374:GA5374))>0,AVERAGE(FU5374:GA5374),0)","v":0},null,null,null,null,null,{"$f":"IF((SUM(GB5374:GF5374))>0,AVERAGE(GB5374:GF5374),0)","v":0},{"$f":"IF((SUM(GB5374:GH5374))>0,AVERAGE(GB5374:GH5374),0)","v":0},{"$f":"IF(FN5275=\"-\",(IF(FN5276=\"-\",\"-\",FN5276)),(IF(FN5276=\"-\",FN5275,(SUM(FN5275:FN5276)))))","v":"-"},{"$f":"IF(FO5275=\"-\",(IF(FO5276=\"-\",\"-\",FO5276)),(IF(FO5276=\"-\",FO5275,(SUM(FO5275:FO5276)))))","v":"-"},"-","-","-","-","-",{"$f":"IF(FU5275=\"-\",(IF(FU5276=\"-\",\"-\",FU5276)),(IF(FU5276=\"-\",FU5275,(SUM(FU5275:FU5276)))))","v":"-"},{"$f":"IF(FV5275=\"-\",(IF(FV5276=\"-\",\"-\",FV5276)),(IF(FV5276=\"-\",FV5275,(SUM(FV5275:FV5276)))))","v":"-"},"-","-","-","-","-",{"$f":"IF(GB5275=\"-\",(IF(GB5276=\"-\",\"-\",GB5276)),(IF(GB5276=\"-\",GB5275,(SUM(GB5275:GB5276)))))","v":"-"},{"$f":"IF(GC5275=\"-\",(IF(GC5276=\"-\",\"-\",GC5276)),(IF(GC5276=\"-\",GC5275,(SUM(GC5275:GC5276)))))","v":"-"},"-","-","-","-","-"]
["Wed",215,null,null,null,null,null,null,null,null,null,null,null,null,null,null,null,null,null,null,null,null,null,null,null,null,null,null,null,null,null,null,null,null,null,null,null,null,"Wed",215,null,null,null,null,null,null,null,null,null,null,null,null,null,null,null,null,null,null,null,null,null,null,null,null,null,null,null,null,null,null,null,null,null,null,null,null,"Wed",215,0,0,0,0,0,0,0,0,0,0,0,0,0,0,0,0,0,0,0,0,0,0,0,0,0,0,0,0,0,0,0,0,"-","-","-","-",0,0,0,0,0,0,0,0,0,0,0,0,0,0,0,0,0,0]
["Wed",745,null,null,null,null,null,null,null,null,null,null,null,null,null,null,null,null,null,null,null,null,null,null,null,null,null,null,null,null,null,null,null,null,null,null,null,null,"Wed",745,null,null,null,null,null,null,null,null,null,null,null,null,null,null,null,null,null,null,null,null,null,null,null,null,null,null,null,null,null,null,null,null,null,null,null,null,"Wed",745,0,0,0,0,0,0,0,0,0,0,0,0,0,0,0,0,0,0,0,0,0,0,0,0,0,0,0,0,0,0,0,0,"-","-","-","-",0,0,0,0,0,0,0,0,0,0,0,0,0,0,0,0,0,0]
["Wed",1315,null,null,null,null,null,null,null,null,null,null,null,null,null,null,null,null,null,null,null,null,null,null,null,null,null,null,null,null,null,null,null,null,null,null,null,null,"Wed",1315,null,null,null,null,null,null,null,null,null,null,null,null,null,null,null,null,null,null,null,null,null,null,null,null,null,null,null,null,null,null,null,null,null,null,null,null,"Wed",1315,0,0,0,0,0,0,0,0,0,0,0,0,0,0,0,0,0,0,0,0,0,0,0,0,0,0,0,0,0,0,0,0,"-","-","-","-",0,0,0,0,0,0,0,0,0,0,0,0,0,0,0,0,0,0]
["Wed",1600,null,null,null,null,null,null,null,null,null,null,null,null,null,null,null,null,null,null,null,null,null,null,null,null,null,null,null,null,null,null,null,null,null,null,null,null,"Wed",1600,null,null,null,null,null,null,null,null,null,null,null,null,null,null,null,null,null,null,null,null,null,null,null,null,null,null,null,null,null,null,null,null,null,null,null,null,"Wed",1600,0,0,0,0,0,0,0,0,0,0,0,0,0,0,0,0,0,0,0,0,0,0,0,0,0,0,0,0,0,0,0,0,"-","-","-","-",0,0,0,0,0,0,0,0,0,0,0,0,0,0,0,{"$f":"SUM(DN5463+DT5463)","v":0},{"$f":"SUM(DO5463+DU5463)","v":0},{"$f":"SUM(DP5463+DV5463)","v":0}]
["Wed",2130,null,null,null,null,null,null,null,null,null,null,null,null,null,null,null,null,null,null,null,null,null,null,null,null,null,null,null,null,null,null,null,null,null,null,null,null,"Wed",2130,null,null,null,null,null,null,null,null,null,null,null,null,null,null,null,null,null,null,null,null,null,null,null,null,null,null,null,null,null,null,null,null,null,null,null,null,"Wed",2130,0,0,0,0,0,0,0,0,0,0,0,0,0,0,0,0,0,0,0,0,0,0,0,0,0,0,0,0,0,0,0,0,"-","-","-","-",0,0,0,0,0,0,0,0,0,0,0,0,0,0,0,0,0,0,null,null,null,null,null,null,null,null,null,null,null,null,null,null,null,null,null,null,null,null,null,{"$f":"IF((SUM(FN5485:FR5485))>0,AVERAGE(FN5485:FR5485),0)","v":0},{"$f":"IF((SUM(FN5485:FT5485))>0,AVERAGE(FN5485:FT5485),0)","v":0},null,null,null,null,null,{"$f":"IF((SUM(FU5485:FY5485))>0,AVERAGE(FU5485:FY5485),0)","v":0},{"$f":"IF((SUM(FU5485:GA5485))>0,AVERAGE(FU5485:GA5485),0)","v":0},null,null,null,null,null,{"$f":"IF((SUM(GB5485:GF5485))>0,AVERAGE(GB5485:GF5485),0)","v":0},{"$f":"IF((SUM(GB5485:GH5485))>0,AVERAGE(GB5485:GH5485),0)","v":0},{"$f":"IF(FN5386=\"-\",(IF(FN5388=\"-\",\"-\",FN5388)),(IF(FN5388=\"-\",FN5386,(SUM(FN5386,FN5388)))))","v":"-"},{"$f":"IF(FO5386=\"-\",(IF(FO5388=\"-\",\"-\",FO5388)),(IF(FO5388=\"-\",FO5386,(SUM(FO5386,FO5388)))))","v":"-"},"-","-","-","-","-",{"$f":"IF(FU5386=\"-\",(IF(FU5388=\"-\",\"-\",FU5388)),(IF(FU5388=\"-\",FU5386,(SUM(FU5386,FU5388)))))","v":"-"},{"$f":"IF(FV5386=\"-\",(IF(FV5388=\"-\",\"-\",FV5388)),(IF(FV5388=\"-\",FV5386,(SUM(FV5386,FV5388)))))","v":"-"},"-","-","-","-","-",{"$f":"IF(GB5386=\"-\",(IF(GB5388=\"-\",\"-\",GB5388)),(IF(GB5388=\"-\",GB5386,(SUM(GB5386,GB5388)))))","v":"-"},{"$f":"IF(GC5386=\"-\",(IF(GC5388=\"-\",\"-\",GC5388)),(IF(GC5388=\"-\",GC5386,(SUM(GC5386,GC5388)))))","v":"-"},"-","-","-","-","-"]
["Thu",600,null,null,null,null,null,null,null,null,null,null,null,null,null,null,null,null,null,null,null,null,null,null,null,null,null,null,null,null,null,null,null,null,null,null,null,null,"Thu",600,null,null,null,null,null,null,null,null,null,null,null,null,null,null,null,null,null,null,null,null,null,null,null,null,null,null,null,null,null,null,null,null,null,null,null,null,"Thu",600,0,0,0,0,0,0,0,0,0,0,0,0,0,0,0,0,0,0,0,0,0,0,0,0,0,0,0,0,0,0,0,0,"-","-","-","-",0,0,0,0,0,0,0,0,0,0,0,0,0,0,0,0,0,0]
["Thu",1130,null,null,null,null,null,null,null,null,null,null,null,null,null,null,null,null,null,null,null,null,null,null,null,null,null,null,null,null,null,null,null,null,null,null,null,null,"Thu",1130,null,null,null,null,null,null,null,null,null,null,null,null,null,null,null,null,null,null,null,null,null,null,null,null,null,null,null,null,null,null,null,null,null,null,null,null,"Thu",1130,0,0,0,0,0,0,0,0,0,0,0,0,0,0,0,0,0,0,0,0,0,0,0,0,0,0,0,0,0,0,0,0,"-","-","-","-",0,0,0,0,0,0,0,0,0,0,0,0,0,0,0,0,0,0]
["Thu",1700,null,null,null,null,null,null,null,null,null,null,null,null,null,null,null,null,null,null,null,null,null,null,null,null,null,null,null,null,null,null,null,null,null,null,null,null,"Thu",1700,null,null,null,null,null,null,null,null,null,null,null,null,null,null,null,null,null,null,null,null,null,null,null,null,null,null,null,null,null,null,null,null,null,null,null,null,"Thu",1700,0,0,0,0,0,0,0,0,0,0,0,0,0,0,0,0,0,0,0,0,0,0,0,0,0,0,0,0,0,0,0,0,"-","-","-","-",0,0,0,0,0,0,0,0,0,0,0,0,0,0,0,0,0,0]
["Thu",1945,null,null,null,null,null,null,null,null,null,null,null,null,null,null,null,null,null,null,null,null,null,null,null,null,null,null,null,null,null,null,null,null,null,null,null,null,"Thu",1945,null,null,null,null,null,null,null,null,null,null,null,null,null,null,null,null,null,null,null,null,null,null,null,null,null,null,null,null,null,null,null,null,null,null,null,null,"Thu",1945,0,0,0,0,0,0,0,0,0,0,0,0,0,0,0,0,0,0,0,0,0,0,0,0,0,0,0,0,0,0,0,0,"-","-","-","-",0,0,0,0,0,0,0,0,0,0,0,0,0,0,0,0,0,0]
["Fri",115,null,null,null,null,null,null,null,null,null,null,null,null,null,null,null,null,null,null,null,null,null,null,null,null,null,null,null,null,null,null,null,null,null,null,null,null,"Fri",115,null,null,null,null,null,null,null,null,null,null,null,null,null,null,null,null,null,null,null,null,null,null,null,null,null,null,null,null,null,null,null,null,null,null,null,null,"Fri",115,0,0,0,0,0,{"$f":"SUM(H5596+AT5596)","v":0},0,0,0,{"$f":"SUM(L5596+AX5596)","v":0},{"$f":"SUM(M5596+AY5596)","v":0},{"$f":"SUM(N5596+AZ5596)","v":0},{"$f":"SUM(O5596+BA5596)","v":0},0,0,0,0,0,0,0,0,0,0,0,0,0,0,0,0,0,0,0,"-","-","-","-",0,0,0,0,0,0,0,0,0,0,0,0,0,0,0,0,0,0]
["Fri",645,null,null,null,null,null,null,null,null,null,null,null,null,null,null,null,null,null,null,null,null,null,null,null,null,null,null,null,null,null,null,null,null,null,null,null,null,"Fri",645,null,null,null,null,null,null,null,null,null,null,null,null,null,null,null,null,null,null,null,null,null,null,null,null,null,null,null,null,null,null,null,null,null,null,null,null,"Fri",645,0,0,0,0,0,0,0,0,0,0,0,0,0,0,0,0,0,0,0,0,0,0,0,0,0,0,0,0,0,0,0,0,"-","-","-","-",0,0,0,0,0,0,0,0,0,0,0,0,0,0,0,0,0,0]
["Fri",1515,null,null,null,null,null,null,null,null,null,null,null,null,null,null,null,null,null,null,null,null,null,null,null,null,null,null,null,null,null,null,null,null,null,null,null,null,"Fri",1515,null,null,null,null,null,null,null,null,null,null,null,null,null,null,null,null,null,null,null,null,null,null,null,null,null,null,null,null,null,null,null,null,null,null,null,null,"Fri",1515,0,0,0,0,0,0,0,0,0,0,0,0,0,0,0,0,0,0,0,0,0,0,0,0,0,0,0,0,0,0,0,0,"-","-","-","-",0,0,0,0,0,0,0,0,0,0,0,0,0,0,0,0,0,0]
["Fri",2045,null,null,null,null,null,null,null,null,null,null,null,null,null,null,null,null,null,null,null,null,null,null,null,null,null,null,null,null,null,null,null,null,null,null,null,null,"Fri",2045,null,null,null,null,null,null,null,null,null,null,null,null,null,null,null,null,null,null,null,null,null,null,null,null,null,null,null,null,null,null,null,null,null,null,null,null,"Fri",2045,0,0,0,0,0,0,0,0,0,0,0,0,0,0,0,0,0,0,0,0,0,0,0,0,0,0,0,0,0,0,0,0,"-","-","-","-",0,0,0,0,0,0,0,0,0,0,0,0,0,0,0,0,0,0]
["Sat",515,null,null,null,null,null,null,null,null,null,null,null,null,null,null,null,null,null,null,null,null,null,null,null,null,null,null,null,null,null,null,null,null,null,null,null,null,"Sat",515,null,null,null,null,null,null,null,null,null,null,null,null,null,null,null,null,null,null,null,null,null,null,null,null,null,null,null,null,null,null,null,null,null,null,null,null,"Sat",515,0,0,0,0,0,0,0,0,0,0,0,0,0,0,0,0,0,0,0,0,0,0,0,0,0,0,0,0,0,0,0,0,"-","-","-","-",0,0,0,0,0,0,0,0,0,0,0,0,0,0,0,0,0,0]
["Sat",1045,null,null,null,null,null,null,null,null,null,null,null,null,null,null,null,null,null,null,null,null,null,null,null,null,null,null,null,null,null,null,null,null,null,null,null,null,"Sat",1045,null,null,null,null,null,null,null,null,null,null,null,null,null,null,null,null,null,null,null,null,null,null,null,null,null,null,null,null,null,null,null,null,null,null,null,null,"Sat",1045,0,0,0,0,0,0,0,0,0,0,0,0,0,0,0,0,0,0,0,0,0,0,0,0,0,0,0,0,0,0,0,0,"-","-","-","-",0,0,0,0,0,0,0,0,0,0,0,0,0,0,0,0,0,0]
["Sat",1615,null,null,null,null,null,null,null,null,null,null,null,null,null,null,null,null,null,null,null,null,null,null,null,null,null,null,null,null,null,null,null,null,null,null,null,null,"Sat",1615,null,null,null,null,null,null,null,null,null,null,null,null,null,null,null,null,null,null,null,null,null,null,null,null,null,null,null,null,null,null,null,null,null,null,null,null,"Sat",1615,0,0,0,{"$f":"SUM(F5752+AR5752)","v":0},{"$f":"SUM(G5752+AS5752)","v":0},0,0,0,0,0,0,0,0,0,0,0,0,0,0,0,0,0,0,0,0,0,0,0,0,0,0,0,"-","-","-","-",0,0,{"$f":"F5752","v":0},0,0,0,0,0,0,0,0,0,0,0,0,0,0,0]
["Sat",1900,null,null,null,null,null,null,null,null,null,null,null,null,null,null,null,null,null,null,null,null,null,null,null,null,null,null,null,null,null,null,null,null,null,null,null,null,"Sat",1900,null,null,null,null,null,null,null,null,null,null,null,null,null,null,null,null,null,null,null,null,null,null,null,null,null,null,null,null,null,null,null,null,null,null,null,null,"Sat",1900,0,0,0,0,0,0,0,0,0,0,0,0,0,0,0,0,0,0,0,0,0,0,0,0,0,0,0,0,0,0,0,0,"-","-","-","-",0,0,0,0,0,0,0,0,0,0,0,0,0,0,0,0,0,0]
["Sun",30,null,null,null,null,null,null,null,null,null,null,null,null,null,null,null,null,null,null,null,null,null,null,null,null,null,null,null,null,null,null,null,null,null,null,null,null,"Sun",30,null,null,null,null,null,null,null,null,null,null,null,null,null,null,null,null,null,null,null,null,null,null,null,null,null,null,null,null,null,null,null,null,null,null,null,null,"Sun",30,0,0,0,0,0,0,0,0,0,0,0,0,0,0,0,0,0,0,0,0,0,0,0,0,0,0,0,0,0,0,0,0,"-","-","-","-",0,0,0,0,0,0,0,0,0,0,0,0,0,0,0,0,0,0]
["Sun",900,null,null,null,null,null,null,null,null,null,null,null,null,null,null,null,null,null,null,null,null,null,null,null,null,null,null,null,null,null,null,null,null,null,null,null,null,"Sun",900,null,null,null,null,null,null,null,null,null,null,null,null,null,null,null,null,null,null,null,null,null,null,null,null,null,null,null,null,null,null,null,null,null,null,null,null,"Sun",900,0,0,0,0,0,0,0,0,0,0,0,0,0,0,0,0,0,0,0,0,0,0,0,0,0,0,0,0,0,0,0,0,"-","-","-","-",0,0,0,0,0,0,0,0,0,0,0,0,0,0,0,0,0,0]
["Sun",1430,null,null,null,null,null,null,null,null,null,null,null,null,null,null,null,null,null,null,null,null,null,null,null,null,null,null,null,null,null,null,null,null,null,null,null,null,"Sun",1430,null,null,null,null,null,null,null,null,null,null,null,null,null,null,null,null,null,null,null,null,null,null,null,null,null,null,null,null,null,null,null,null,null,null,null,null,"Sun",1430,0,0,0,0,0,0,0,0,0,0,0,0,0,0,0,0,0,0,0,0,0,0,0,0,0,0,0,0,0,0,0,0,"-","-","-","-",0,0,0,0,0,0,0,0,0,0,0,0,0,0,0,0,0,0]
["Sun",2000,null,null,null,null,null,null,null,null,null,null,null,null,null,null,null,null,null,null,null,null,null,null,null,null,null,null,null,null,null,null,null,null,null,null,null,null,"Sun",2000,null,null,null,null,null,null,null,null,null,null,null,null,null,null,null,null,null,null,null,null,null,null,null,null,null,null,null,null,null,null,null,null,null,null,null,null,"Sun",2000,{"$f":"SUM(C5863+AO5863)","v":0},{"$f":"SUM(D5863+AP5863)","v":0},{"$f":"SUM(E5863+AQ5863)","v":0},0,0,0,0,0,0,0,0,0,0,0,0,0,0,0,0,0,0,0,0,0,0,0,0,0,0,0,0,0,"-","-","-","-",0,0,0,0,0,0,0,0,0,0,0,0,0,0,0,0,0,0]
["Sun",2245,null,null,null,null,null,null,null,null,null,null,null,null,null,null,null,null,null,null,null,null,null,null,null,null,null,null,null,null,null,null,null,null,null,null,null,null,"Sun",2245,null,null,null,null,null,null,null,null,null,null,null,null,null,null,null,null,null,null,null,null,null,null,null,null,null,null,null,null,null,null,null,null,null,null,null,null,"Sun",2245,0,0,0,0,0,0,0,0,0,0,0,0,0,0,0,0,0,0,0,0,0,0,0,0,0,0,0,0,0,0,0,0,"-","-","-","-",0,0,0,0,0,0,0,0,0,0,0,0,0,0,0,0,0,0]
["WD Ave",415,{"$f":"IF(C5224+C5320+C5416+C5512+C5608=0,0,AVERAGE(C5224,C5320,C5416,C5512,C5608))","v":0},0,0,0,0,0,0,0,0,0,0,0,0,0,0,0,0,0,0,0,0,0,0,0,0,0,0,0,0,0,0,0,{"$f":"IF(SUM(AI5224,AI5320,AI5416,AI5512,AI5608)=0,\"-\",AVERAGEIF(B5207:B5686,B5896,AI5207:AI5686))","v":"-"},{"$f":"IF(SUM(AJ5224,AJ5320,AJ5416,AJ5512,AJ5608)=0,\"-\",AVERAGEIF(B5207:B5686,B5896,AJ5207:AJ5686))","v":"-"},"-","-","WD Ave",415,{"$f":"IF(AO5224+AO5320+AO5416+AO5512+AO5608=0,0,AVERAGE(AO5224,AO5320,AO5416,AO5512,AO5608))","v":0},0,0,0,0,0,0,0,0,0,0,0,0,0,0,0,0,0,0,0,0,0,0,0,0,0,0,0,0,0,0,0,{"$f":"IF(SUM(BU5224,BU5320,BU5416,BU5512,BU5608)=0,\"-\",AVERAGEIF(AN5207:AN5686,AN5896,BU5207:BU5686))","v":"-"},{"$f":"IF(SUM(BV5224,BV5320,BV5416,BV5512,BV5608)=0,\"-\",AVERAGEIF(AN5207:AN5686,AN5896,BV5207:BV5686))","v":"-"},"-","-","WD Ave",415,{"$f":"IF(CA5224+CA5320+CA5416+CA5512+CA5608=0,0,AVERAGE(CA5224,CA5320,CA5416,CA5512,CA5608))","v":0},0,0,0,0,0,0,0,0,0,0,0,0,0,0,0,0,0,0,0,0,0,0,0,0,0,0,0,0,0,0,0,"-","-","-","-",0,0,0,0,0,0,0,0,0,0,0,0,0,0,0,0,0,0]
["WD Ave",945,{"$f":"IF(C5246+C5342+C5438+C5534+C5630=0,0,AVERAGE(C5246,C5342,C5438,C5534,C5630))","v":0},0,0,0,0,0,0,0,0,0,0,0,0,0,0,0,0,0,0,0,0,0,0,0,0,0,0,0,0,0,0,0,{"$f":"IF(SUM(AI5246,AI5342,AI5438,AI5534,AI5630)=0,\"-\",AVERAGEIF(B5207:B5686,B5918,AI5207:AI5686))","v":"-"},{"$f":"IF(SUM(AJ5246,AJ5342,AJ5438,AJ5534,AJ5630)=0,\"-\",AVERAGEIF(B5207:B5686,B5918,AJ5207:AJ5686))","v":"-"},"-","-","WD Ave",945,{"$f":"IF(AO5246+AO5342+AO5438+AO5534+AO5630=0,0,AVERAGE(AO5246,AO5342,AO5438,AO5534,AO5630))","v":0},0,0,0,0,0,0,0,0,0,0,0,0,0,0,0,0,0,0,0,0,0,0,0,0,0,0,0,0,0,0,0,{"$f":"IF(SUM(BU5246,BU5342,BU5438,BU5534,BU5630)=0,\"-\",AVERAGEIF(AN5207:AN5686,AN5918,BU5207:BU5686))","v":"-"},{"$f":"IF(SUM(BV5246,BV5342,BV5438,BV5534,BV5630)=0,\"-\",AVERAGEIF(AN5207:AN5686,AN5918,BV5207:BV5686))","v":"-"},"-","-","WD Ave",945,{"$f":"IF(CA5246+CA5342+CA5438+CA5534+CA5630=0,0,AVERAGE(CA5246,CA5342,CA5438,CA5534,CA5630))","v":0},0,0,0,0,0,0,0,0,0,0,0,0,0,0,0,0,0,0,0,0,0,0,0,0,0,0,0,0,0,0,0,"-","-","-","-",0,0,0,0,0,0,0,0,0,0,0,0,0,0,0,0,0,0]
["WD Ave",1815,{"$f":"IF(C5280+C5376+C5472+C5568+C5664=0,0,AVERAGE(C5280,C5376,C5472,C5568,C5664))","v":0},0,0,0,0,0,0,0,0,0,0,0,0,0,0,0,0,0,0,0,0,0,0,0,0,0,0,0,0,0,0,0,{"$f":"IF(SUM(AI5280,AI5376,AI5472,AI5568,AI5664)=0,\"-\",AVERAGEIF(B5207:B5686,B5952,AI5207:AI5686))","v":"-"},{"$f":"IF(SUM(AJ5280,AJ5376,AJ5472,AJ5568,AJ5664)=0,\"-\",AVERAGEIF(B5207:B5686,B5952,AJ5207:AJ5686))","v":"-"},"-","-","WD Ave",1815,{"$f":"IF(AO5280+AO5376+AO5472+AO5568+AO5664=0,0,AVERAGE(AO5280,AO5376,AO5472,AO5568,AO5664))","v":0},0,0,0,0,0,0,0,0,0,0,0,0,0,0,0,0,0,0,0,0,0,0,0,0,0,0,0,0,0,0,0,{"$f":"IF(SUM(BU5280,BU5376,BU5472,BU5568,BU5664)=0,\"-\",AVERAGEIF(AN5207:AN5686,AN5952,BU5207:BU5686))","v":"-"},{"$f":"IF(SUM(BV5280,BV5376,BV5472,BV5568,BV5664)=0,\"-\",AVERAGEIF(AN5207:AN5686,AN5952,BV5207:BV5686))","v":"-"},"-","-","WD Ave",1815,{"$f":"IF(CA5280+CA5376+CA5472+CA5568+CA5664=0,0,AVERAGE(CA5280,CA5376,CA5472,CA5568,CA5664))","v":0},0,0,0,0,0,0,0,0,0,0,0,0,0,0,0,0,0,0,0,0,0,0,0,0,0,0,0,0,0,0,0,"-","-","-","-",0,0,0,0,0,0,0,0,0,0,0,0,0,0,0,0,0,0]
["WD Ave",2345,{"$f":"IF(C5302+C5398+C5494+C5590+C5686=0,0,AVERAGE(C5302,C5398,C5494,C5590,C5686))","v":0},0,0,0,0,0,0,0,0,0,0,0,0,0,0,0,0,0,0,0,0,0,0,0,0,0,0,0,0,0,0,0,{"$f":"IF(SUM(AI5302,AI5398,AI5494,AI5590,AI5686)=0,\"-\",AVERAGEIF(B5207:B5686,B5974,AI5207:AI5686))","v":"-"},{"$f":"IF(SUM(AJ5302,AJ5398,AJ5494,AJ5590,AJ5686)=0,\"-\",AVERAGEIF(B5207:B5686,B5974,AJ5207:AJ5686))","v":"-"},"-","-","WD Ave",2345,{"$f":"IF(AO5302+AO5398+AO5494+AO5590+AO5686=0,0,AVERAGE(AO5302,AO5398,AO5494,AO5590,AO5686))","v":0},0,0,0,0,0,0,0,0,0,0,0,0,0,0,0,0,0,0,0,0,0,0,0,0,0,0,0,0,0,0,0,{"$f":"IF(SUM(BU5302,BU5398,BU5494,BU5590,BU5686)=0,\"-\",AVERAGEIF(AN5207:AN5686,AN5974,BU5207:BU5686))","v":"-"},{"$f":"IF(SUM(BV5302,BV5398,BV5494,BV5590,BV5686)=0,\"-\",AVERAGEIF(AN5207:AN5686,AN5974,BV5207:BV5686))","v":"-"},"-","-","WD Ave",2345,{"$f":"IF(CA5302+CA5398+CA5494+CA5590+CA5686=0,0,AVERAGE(CA5302,CA5398,CA5494,CA5590,CA5686))","v":0},0,0,0,0,0,0,0,0,0,0,0,0,0,0,0,0,0,0,0,0,0,0,0,0,0,0,0,0,0,0,0,"-","-","-","-",0,0,0,0,0,0,0,0,0,0,0,0,0,0,0,{"$f":"SUM(DN5974+DT5974)","v":0},{"$f":"SUM(DO5974+DU5974)","v":0},{"$f":"SUM(DP5974+DV5974)","v":0}]
["7 Day Ave",700,{"$f":"IF(C5235+C5331+C5427+C5523+C5619+C5715+C5811=0,0,AVERAGE(C5235,C5331,C5427,C5523,C5619,C5715,C5811))","v":0},0,0,0,0,0,0,0,0,0,0,0,0,0,0,0,0,0,0,0,0,0,0,0,0,0,0,0,0,0,0,0,{"$f":"IF(SUM(AI5235,AI5331,AI5427,AI5523,AI5619,AI5715,AI5811)=0,\"-\",AVERAGEIF(B5207:B5878,B6003,AI5207:AI5878))","v":"-"},{"$f":"IF(SUM(AJ5235,AJ5331,AJ5427,AJ5523,AJ5619,AJ5715,AJ5811)=0,\"-\",AVERAGEIF(B5207:B5878,B6003,AJ5207:AJ5878))","v":"-"},"-","-","7 Day Ave",700,{"$f":"IF(AO5235+AO5331+AO5427+AO5523+AO5619+AO5715+AO5811=0,0,AVERAGE(AO5235,AO5331,AO5427,AO5523,AO5619,AO5715,AO5811))","v":0},0,0,0,0,0,0,0,0,0,0,0,0,0,0,0,0,0,0,0,0,0,0,0,0,0,0,0,0,0,0,0,{"$f":"IF(SUM(BU5235,BU5331,BU5427,BU5523,BU5619,BU5715,BU5811)=0,\"-\",AVERAGEIF(AN5207:AN5878,AN6003,BU5207:BU5878))","v":"-"},{"$f":"IF(SUM(BV5235,BV5331,BV5427,BV5523,BV5619,BV5715,BV5811)=0,\"-\",AVERAGEIF(AN5207:AN5878,AN6003,BV5207:BV5878))","v":"-"},"-","-","7 Day Ave",700,{"$f":"IF(CA5235+CA5331+CA5427+CA5523+CA5619+CA5715+CA5811=0,0,AVERAGE(CA5235,CA5331,CA5427,CA5523,CA5619,CA5715,CA5811))","v":0},0,0,0,0,0,0,0,0,0,0,0,0,0,0,0,0,0,0,0,0,0,0,0,0,0,0,0,0,0,0,0,"-","-","-","-",0,0,0,0,0,0,0,0,0,0,0,0,0,0,0,0,0,0]
["7 Day Ave",830,{"$f":"IF(C5241+C5337+C5433+C5529+C5625+C5721+C5817=0,0,AVERAGE(C5241,C5337,C5433,C5529,C5625,C5721,C5817))","v":0},0,0,0,0,0,0,0,0,0,0,0,0,0,0,0,0,0,0,0,0,0,0,0,0,0,0,0,0,0,0,0,{"$f":"IF(SUM(AI5241,AI5337,AI5433,AI5529,AI5625,AI5721,AI5817)=0,\"-\",AVERAGEIF(B5207:B5878,B6009,AI5207:AI5878))","v":"-"},{"$f":"IF(SUM(AJ5241,AJ5337,AJ5433,AJ5529,AJ5625,AJ5721,AJ5817)=0,\"-\",AVERAGEIF(B5207:B5878,B6009,AJ5207:AJ5878))","v":"-"},"-","-","7 Day Ave",830,{"$f":"IF(AO5241+AO5337+AO5433+AO5529+AO5625+AO5721+AO5817=0,0,AVERAGE(AO5241,AO5337,AO5433,AO5529,AO5625,AO5721,AO5817))","v":0},0,0,0,0,0,0,0,0,0,0,0,0,0,0,0,0,0,0,0,0,0,0,0,0,0,0,0,0,0,0,0,{"$f":"IF(SUM(BU5241,BU5337,BU5433,BU5529,BU5625,BU5721,BU5817)=0,\"-\",AVERAGEIF(AN5207:AN5878,AN6009,BU5207:BU5878))","v":"-"},{"$f":"IF(SUM(BV5241,BV5337,BV5433,BV5529,BV5625,BV5721,BV5817)=0,\"-\",AVERAGEIF(AN5207:AN5878,AN6009,BV5207:BV5878))","v":"-"},"-","-","7 Day Ave",830,{"$f":"IF(CA5241+CA5337+CA5433+CA5529+CA5625+CA5721+CA5817=0,0,AVERAGE(CA5241,CA5337,CA5433,CA5529,CA5625,CA5721,CA5817))","v":0},0,0,0,0,0,0,0,0,0,0,0,0,0,0,0,0,0,0,0,0,0,0,0,0,0,0,0,0,0,0,0,"-","-","-","-",0,0,0,0,0,0,0,0,0,0,0,0,0,0,0,0,0,0]
["7 Day Ave",845,{"$f":"IF(C5242+C5338+C5434+C5530+C5626+C5722+C5818=0,0,AVERAGE(C5242,C5338,C5434,C5530,C5626,C5722,C5818))","v":0},0,0,0,0,0,0,0,0,0,0,0,0,0,0,0,0,0,0,0,0,0,0,0,0,0,0,0,0,0,0,0,{"$f":"IF(SUM(AI5242,AI5338,AI5434,AI5530,AI5626,AI5722,AI5818)=0,\"-\",AVERAGEIF(B5207:B5878,B6010,AI5207:AI5878))","v":"-"},{"$f":"IF(SUM(AJ5242,AJ5338,AJ5434,AJ5530,AJ5626,AJ5722,AJ5818)=0,\"-\",AVERAGEIF(B5207:B5878,B6010,AJ5207:AJ5878))","v":"-"},"-","-","7 Day Ave",845,{"$f":"IF(AO5242+AO5338+AO5434+AO5530+AO5626+AO5722+AO5818=0,0,AVERAGE(AO5242,AO5338,AO5434,AO5530,AO5626,AO5722,AO5818))","v":0},0,0,0,0,0,0,0,0,0,0,0,0,0,0,0,0,0,0,0,0,0,0,0,0,0,0,0,0,0,0,0,{"$f":"IF(SUM(BU5242,BU5338,BU5434,BU5530,BU5626,BU5722,BU5818)=0,\"-\",AVERAGEIF(AN5207:AN5878,AN6010,BU5207:BU5878))","v":"-"},{"$f":"IF(SUM(BV5242,BV5338,BV5434,BV5530,BV5626,BV5722,BV5818)=0,\"-\",AVERAGEIF(AN5207:AN5878,AN6010,BV5207:BV5878))","v":"-"},"-","-","7 Day Ave",845,{"$f":"IF(CA5242+CA5338+CA5434+CA5530+CA5626+CA5722+CA5818=0,0,AVERAGE(CA5242,CA5338,CA5434,CA5530,CA5626,CA5722,CA5818))","v":0},0,0,0,0,0,0,0,0,0,0,0,0,0,0,0,0,0,0,0,0,0,0,0,0,0,0,0,0,0,0,0,"-","-","-","-",0,0,0,0,0,0,0,0,0,0,0,0,0,0,0,0,0,0]
["7 Day Ave",900,{"$f":"IF(C5243+C5339+C5435+C5531+C5627+C5723+C5819=0,0,AVERAGE(C5243,C5339,C5435,C5531,C5627,C5723,C5819))","v":0},0,0,0,0,0,0,0,0,0,0,0,0,0,0,0,0,0,0,0,0,0,0,0,0,0,0,0,0,0,0,0,{"$f":"IF(SUM(AI5243,AI5339,AI5435,AI5531,AI5627,AI5723,AI5819)=0,\"-\",AVERAGEIF(B5207:B5878,B6011,AI5207:AI5878))","v":"-"},{"$f":"IF(SUM(AJ5243,AJ5339,AJ5435,AJ5531,AJ5627,AJ5723,AJ5819)=0,\"-\",AVERAGEIF(B5207:B5878,B6011,AJ5207:AJ5878))","v":"-"},"-","-","7 Day Ave",900,{"$f":"IF(AO5243+AO5339+AO5435+AO5531+AO5627+AO5723+AO5819=0,0,AVERAGE(AO5243,AO5339,AO5435,AO5531,AO5627,AO5723,AO5819))","v":0},0,0,0,0,0,0,0,0,0,0,0,0,0,0,0,0,0,0,0,0,0,0,0,0,0,0,0,0,0,0,0,{"$f":"IF(SUM(BU5243,BU5339,BU5435,BU5531,BU5627,BU5723,BU5819)=0,\"-\",AVERAGEIF(AN5207:AN5878,AN6011,BU5207:BU5878))","v":"-"},{"$f":"IF(SUM(BV5243,BV5339,BV5435,BV5531,BV5627,BV5723,BV5819)=0,\"-\",AVERAGEIF(AN5207:AN5878,AN6011,BV5207:BV5878))","v":"-"},"-","-","7 Day Ave",900,{"$f":"IF(CA5243+CA5339+CA5435+CA5531+CA5627+CA5723+CA5819=0,0,AVERAGE(CA5243,CA5339,CA5435,CA5531,CA5627,CA5723,CA5819))","v":0},0,0,0,0,0,0,0,0,0,0,0,0,0,0,0,0,0,0,0,0,0,0,0,0,0,0,0,0,0,0,0,"-","-","-","-",0,0,0,0,0,0,0,0,0,0,0,0,0,0,0,0,0,0]
["7 Day Ave",915,{"$f":"IF(C5244+C5340+C5436+C5532+C5628+C5724+C5820=0,0,AVERAGE(C5244,C5340,C5436,C5532,C5628,C5724,C5820))","v":0},0,0,0,0,0,0,0,0,0,0,0,0,0,0,0,0,0,0,0,0,0,0,0,0,0,0,0,0,0,0,0,{"$f":"IF(SUM(AI5244,AI5340,AI5436,AI5532,AI5628,AI5724,AI5820)=0,\"-\",AVERAGEIF(B5207:B5878,B6012,AI5207:AI5878))","v":"-"},{"$f":"IF(SUM(AJ5244,AJ5340,AJ5436,AJ5532,AJ5628,AJ5724,AJ5820)=0,\"-\",AVERAGEIF(B5207:B5878,B6012,AJ5207:AJ5878))","v":"-"},"-","-","7 Day Ave",915,{"$f":"IF(AO5244+AO5340+AO5436+AO5532+AO5628+AO5724+AO5820=0,0,AVERAGE(AO5244,AO5340,AO5436,AO5532,AO5628,AO5724,AO5820))","v":0},0,0,0,0,0,0,0,0,0,0,0,0,0,0,0,0,0,0,0,0,0,0,0,0,0,0,0,0,0,0,0,{"$f":"IF(SUM(BU5244,BU5340,BU5436,BU5532,BU5628,BU5724,BU5820)=0,\"-\",AVERAGEIF(AN5207:AN5878,AN6012,BU5207:BU5878))","v":"-"},{"$f":"IF(SUM(BV5244,BV5340,BV5436,BV5532,BV5628,BV5724,BV5820)=0,\"-\",AVERAGEIF(AN5207:AN5878,AN6012,BV5207:BV5878))","v":"-"},"-","-","7 Day Ave",915,{"$f":"IF(CA5244+CA5340+CA5436+CA5532+CA5628+CA5724+CA5820=0,0,AVERAGE(CA5244,CA5340,CA5436,CA5532,CA5628,CA5724,CA5820))","v":0},0,0,0,0,0,0,0,0,0,0,0,0,0,0,0,0,0,0,0,0,0,0,0,0,0,0,0,0,0,0,0,"-","-","-","-",0,0,0,0,0,0,0,0,0,0,0,0,0,0,0,0,0,0]
["7 Day Ave",930,{"$f":"IF(C5245+C5341+C5437+C5533+C5629+C5725+C5821=0,0,AVERAGE(C5245,C5341,C5437,C5533,C5629,C5725,C5821))","v":0},0,0,0,0,0,0,0,0,0,0,0,0,0,0,0,0,0,0,0,0,0,0,0,0,0,0,0,0,0,0,0,{"$f":"IF(SUM(AI5245,AI5341,AI5437,AI5533,AI5629,AI5725,AI5821)=0,\"-\",AVERAGEIF(B5207:B5878,B6013,AI5207:AI5878))","v":"-"},{"$f":"IF(SUM(AJ5245,AJ5341,AJ5437,AJ5533,AJ5629,AJ5725,AJ5821)=0,\"-\",AVERAGEIF(B5207:B5878,B6013,AJ5207:AJ5878))","v":"-"},"-","-","7 Day Ave",930,{"$f":"IF(AO5245+AO5341+AO5437+AO5533+AO5629+AO5725+AO5821=0,0,AVERAGE(AO5245,AO5341,AO5437,AO5533,AO5629,AO5725,AO5821))","v":0},0,0,0,0,0,0,0,0,0,0,0,0,0,0,0,0,0,0,0,0,0,0,0,0,0,0,0,0,0,0,0,{"$f":"IF(SUM(BU5245,BU5341,BU5437,BU5533,BU5629,BU5725,BU5821)=0,\"-\",AVERAGEIF(AN5207:AN5878,AN6013,BU5207:BU5878))","v":"-"},{"$f":"IF(SUM(BV5245,BV5341,BV5437,BV5533,BV5629,BV5725,BV5821)=0,\"-\",AVERAGEIF(AN5207:AN5878,AN6013,BV5207:BV5878))","v":"-"},"-","-","7 Day Ave",930,{"$f":"IF(CA5245+CA5341+CA5437+CA5533+CA5629+CA5725+CA5821=0,0,AVERAGE(CA5245,CA5341,CA5437,CA5533,CA5629,CA5725,CA5821))","v":0},0,0,0,0,0,0,0,0,0,0,0,0,0,0,0,0,0,0,0,0,0,0,0,0,0,0,0,0,0,0,0,"-","-","-","-",0,0,0,0,0,0,0,0,0,0,0,0,0,0,0,0,0,0]
["7 Day Ave",945,{"$f":"IF(C5246+C5342+C5438+C5534+C5630+C5726+C5822=0,0,AVERAGE(C5246,C5342,C5438,C5534,C5630,C5726,C5822))","v":0},0,0,0,0,0,0,0,0,0,0,0,0,0,0,0,0,0,0,0,0,0,0,0,0,0,0,0,0,0,0,0,{"$f":"IF(SUM(AI5246,AI5342,AI5438,AI5534,AI5630,AI5726,AI5822)=0,\"-\",AVERAGEIF(B5207:B5878,B6014,AI5207:AI5878))","v":"-"},{"$f":"IF(SUM(AJ5246,AJ5342,AJ5438,AJ5534,AJ5630,AJ5726,AJ5822)=0,\"-\",AVERAGEIF(B5207:B5878,B6014,AJ5207:AJ5878))","v":"-"},"-","-","7 Day Ave",945,{"$f":"IF(AO5246+AO5342+AO5438+AO5534+AO5630+AO5726+AO5822=0,0,AVERAGE(AO5246,AO5342,AO5438,AO5534,AO5630,AO5726,AO5822))","v":0},0,0,0,0,0,0,0,0,0,0,0,0,0,0,0,0,0,0,0,0,0,0,0,0,0,0,0,0,0,0,0,{"$f":"IF(SUM(BU5246,BU5342,BU5438,BU5534,BU5630,BU5726,BU5822)=0,\"-\",AVERAGEIF(AN5207:AN5878,AN6014,BU5207:BU5878))","v":"-"},{"$f":"IF(SUM(BV5246,BV5342,BV5438,BV5534,BV5630,BV5726,BV5822)=0,\"-\",AVERAGEIF(AN5207:AN5878,AN6014,BV5207:BV5878))","v":"-"},"-","-","7 Day Ave",945,{"$f":"IF(CA5246+CA5342+CA5438+CA5534+CA5630+CA5726+CA5822=0,0,AVERAGE(CA5246,CA5342,CA5438,CA5534,CA5630,CA5726,CA5822))","v":0},0,0,0,0,0,0,0,0,0,0,0,0,0,0,0,0,0,0,0,0,0,0,0,0,0,0,0,0,0,0,0,"-","-","-","-",0,0,0,0,0,0,0,0,0,0,0,0,0,0,0,0,0,0]
["7 Day Ave",1000,{"$f":"IF(C5247+C5343+C5439+C5535+C5631+C5727+C5823=0,0,AVERAGE(C5247,C5343,C5439,C5535,C5631,C5727,C5823))","v":0},0,0,0,0,0,0,0,0,0,0,0,0,0,0,0,0,0,0,0,0,0,0,0,0,0,0,0,0,0,0,0,{"$f":"IF(SUM(AI5247,AI5343,AI5439,AI5535,AI5631,AI5727,AI5823)=0,\"-\",AVERAGEIF(B5207:B5878,B6015,AI5207:AI5878))","v":"-"},{"$f":"IF(SUM(AJ5247,AJ5343,AJ5439,AJ5535,AJ5631,AJ5727,AJ5823)=0,\"-\",AVERAGEIF(B5207:B5878,B6015,AJ5207:AJ5878))","v":"-"},"-","-","7 Day Ave",1000,{"$f":"IF(AO5247+AO5343+AO5439+AO5535+AO5631+AO5727+AO5823=0,0,AVERAGE(AO5247,AO5343,AO5439,AO5535,AO5631,AO5727,AO5823))","v":0},0,0,0,0,0,0,0,0,0,0,0,0,0,0,0,0,0,0,0,0,0,0,0,0,0,0,0,0,0,0,0,{"$f":"IF(SUM(BU5247,BU5343,BU5439,BU5535,BU5631,BU5727,BU5823)=0,\"-\",AVERAGEIF(AN5207:AN5878,AN6015,BU5207:BU5878))","v":"-"},{"$f":"IF(SUM(BV5247,BV5343,BV5439,BV5535,BV5631,BV5727,BV5823)=0,\"-\",AVERAGEIF(AN5207:AN5878,AN6015,BV5207:BV5878))","v":"-"},"-","-","7 Day Ave",1000,{"$f":"IF(CA5247+CA5343+CA5439+CA5535+CA5631+CA5727+CA5823=0,0,AVERAGE(CA5247,CA5343,CA5439,CA5535,CA5631,CA5727,CA5823))","v":0},0,0,0,0,0,0,0,0,0,0,0,0,0,0,0,0,0,0,0,0,0,0,0,0,0,0,0,0,0,0,0,"-","-","-","-",0,0,0,0,0,0,0,0,0,0,0,0,0,0,0,0,0,0]
["7 Day Ave",1015,{"$f":"IF(C5248+C5344+C5440+C5536+C5632+C5728+C5824=0,0,AVERAGE(C5248,C5344,C5440,C5536,C5632,C5728,C5824))","v":0},0,0,0,0,0,0,0,0,0,0,0,0,0,0,0,0,0,0,0,0,0,0,0,0,0,0,0,0,0,0,0,{"$f":"IF(SUM(AI5248,AI5344,AI5440,AI5536,AI5632,AI5728,AI5824)=0,\"-\",AVERAGEIF(B5207:B5878,B6016,AI5207:AI5878))","v":"-"},{"$f":"IF(SUM(AJ5248,AJ5344,AJ5440,AJ5536,AJ5632,AJ5728,AJ5824)=0,\"-\",AVERAGEIF(B5207:B5878,B6016,AJ5207:AJ5878))","v":"-"},"-","-","7 Day Ave",1015,{"$f":"IF(AO5248+AO5344+AO5440+AO5536+AO5632+AO5728+AO5824=0,0,AVERAGE(AO5248,AO5344,AO5440,AO5536,AO5632,AO5728,AO5824))","v":0},0,0,0,0,0,0,0,0,0,0,0,0,0,0,0,0,0,0,0,0,0,0,0,0,0,0,0,0,0,0,0,{"$f":"IF(SUM(BU5248,BU5344,BU5440,BU5536,BU5632,BU5728,BU5824)=0,\"-\",AVERAGEIF(AN5207:AN5878,AN6016,BU5207:BU5878))","v":"-"},{"$f":"IF(SUM(BV5248,BV5344,BV5440,BV5536,BV5632,BV5728,BV5824)=0,\"-\",AVERAGEIF(AN5207:AN5878,AN6016,BV5207:BV5878))","v":"-"},"-","-","7 Day Ave",1015,{"$f":"IF(CA5248+CA5344+CA5440+CA5536+CA5632+CA5728+CA5824=0,0,AVERAGE(CA5248,CA5344,CA5440,CA5536,CA5632,CA5728,CA5824))","v":0},0,0,0,0,0,0,0,0,0,0,0,0,0,0,0,0,0,0,0,0,0,0,0,0,0,0,0,0,0,0,0,"-","-","-","-",0,0,0,0,0,0,0,0,0,0,0,0,0,0,0,0,0,0]
["7 Day Ave",1030,{"$f":"IF(C5249+C5345+C5441+C5537+C5633+C5729+C5825=0,0,AVERAGE(C5249,C5345,C5441,C5537,C5633,C5729,C5825))","v":0},0,0,0,0,0,0,0,0,0,0,0,0,0,0,0,0,0,0,0,0,0,0,0,0,0,0,0,0,0,0,0,{"$f":"IF(SUM(AI5249,AI5345,AI5441,AI5537,AI5633,AI5729,AI5825)=0,\"-\",AVERAGEIF(B5207:B5878,B6017,AI5207:AI5878))","v":"-"},{"$f":"IF(SUM(AJ5249,AJ5345,AJ5441,AJ5537,AJ5633,AJ5729,AJ5825)=0,\"-\",AVERAGEIF(B5207:B5878,B6017,AJ5207:AJ5878))","v":"-"},"-","-","7 Day Ave",1030,{"$f":"IF(AO5249+AO5345+AO5441+AO5537+AO5633+AO5729+AO5825=0,0,AVERAGE(AO5249,AO5345,AO5441,AO5537,AO5633,AO5729,AO5825))","v":0},0,0,0,0,0,0,0,0,0,0,0,0,0,0,0,0,0,0,0,0,0,0,0,0,0,0,0,0,0,0,0,{"$f":"IF(SUM(BU5249,BU5345,BU5441,BU5537,BU5633,BU5729,BU5825)=0,\"-\",AVERAGEIF(AN5207:AN5878,AN6017,BU5207:BU5878))","v":"-"},{"$f":"IF(SUM(BV5249,BV5345,BV5441,BV5537,BV5633,BV5729,BV5825)=0,\"-\",AVERAGEIF(AN5207:AN5878,AN6017,BV5207:BV5878))","v":"-"},"-","-","7 Day Ave",1030,{"$f":"IF(CA5249+CA5345+CA5441+CA5537+CA5633+CA5729+CA5825=0,0,AVERAGE(CA5249,CA5345,CA5441,CA5537,CA5633,CA5729,CA5825))","v":0},0,0,0,0,0,0,0,0,0,0,0,0,0,0,0,0,0,0,0,0,0,0,0,0,0,0,0,0,0,0,0,"-","-","-","-",0,0,0,0,0,0,0,0,0,0,0,0,0,0,0,0,0,0]
["7 Day Ave",1045,{"$f":"IF(C5250+C5346+C5442+C5538+C5634+C5730+C5826=0,0,AVERAGE(C5250,C5346,C5442,C5538,C5634,C5730,C5826))","v":0},0,0,0,0,0,0,0,0,0,0,0,0,0,0,0,0,0,0,0,0,0,0,0,0,0,0,0,0,0,0,0,{"$f":"IF(SUM(AI5250,AI5346,AI5442,AI5538,AI5634,AI5730,AI5826)=0,\"-\",AVERAGEIF(B5207:B5878,B6018,AI5207:AI5878))","v":"-"},{"$f":"IF(SUM(AJ5250,AJ5346,AJ5442,AJ5538,AJ5634,AJ5730,AJ5826)=0,\"-\",AVERAGEIF(B5207:B5878,B6018,AJ5207:AJ5878))","v":"-"},"-","-","7 Day Ave",1045,{"$f":"IF(AO5250+AO5346+AO5442+AO5538+AO5634+AO5730+AO5826=0,0,AVERAGE(AO5250,AO5346,AO5442,AO5538,AO5634,AO5730,AO5826))","v":0},0,0,0,0,0,0,0,0,0,0,0,0,0,0,0,0,0,0,0,0,0,0,0,0,0,0,0,0,0,0,0,{"$f":"IF(SUM(BU5250,BU5346,BU5442,BU5538,BU5634,BU5730,BU5826)=0,\"-\",AVERAGEIF(AN5207:AN5878,AN6018,BU5207:BU5878))","v":"-"},{"$f":"IF(SUM(BV5250,BV5346,BV5442,BV5538,BV5634,BV5730,BV5826)=0,\"-\",AVERAGEIF(AN5207:AN5878,AN6018,BV5207:BV5878))","v":"-"},"-","-","7 Day Ave",1045,{"$f":"IF(CA5250+CA5346+CA5442+CA5538+CA5634+CA5730+CA5826=0,0,AVERAGE(CA5250,CA5346,CA5442,CA5538,CA5634,CA5730,CA5826))","v":0},0,0,0,0,0,0,0,0,0,0,0,0,0,0,0,0,0,0,0,0,0,0,0,0,0,0,0,0,0,0,0,"-","-","-","-",0,0,0,0,0,0,0,0,0,0,0,0,0,0,0,0,0,0]
["7 Day Ave",1100,{"$f":"IF(C5251+C5347+C5443+C5539+C5635+C5731+C5827=0,0,AVERAGE(C5251,C5347,C5443,C5539,C5635,C5731,C5827))","v":0},0,0,0,0,0,0,0,0,0,0,0,0,0,0,0,0,0,0,0,0,0,0,0,0,0,0,0,0,0,0,0,{"$f":"IF(SUM(AI5251,AI5347,AI5443,AI5539,AI5635,AI5731,AI5827)=0,\"-\",AVERAGEIF(B5207:B5878,B6019,AI5207:AI5878))","v":"-"},{"$f":"IF(SUM(AJ5251,AJ5347,AJ5443,AJ5539,AJ5635,AJ5731,AJ5827)=0,\"-\",AVERAGEIF(B5207:B5878,B6019,AJ5207:AJ5878))","v":"-"},"-","-","7 Day Ave",1100,{"$f":"IF(AO5251+AO5347+AO5443+AO5539+AO5635+AO5731+AO5827=0,0,AVERAGE(AO5251,AO5347,AO5443,AO5539,AO5635,AO5731,AO5827))","v":0},0,0,0,0,0,0,0,0,0,0,0,0,0,0,0,0,0,0,0,0,0,0,0,0,0,0,0,0,0,0,0,{"$f":"IF(SUM(BU5251,BU5347,BU5443,BU5539,BU5635,BU5731,BU5827)=0,\"-\",AVERAGEIF(AN5207:AN5878,AN6019,BU5207:BU5878))","v":"-"},{"$f":"IF(SUM(BV5251,BV5347,BV5443,BV5539,BV5635,BV5731,BV5827)=0,\"-\",AVERAGEIF(AN5207:AN5878,AN6019,BV5207:BV5878))","v":"-"},"-","-","7 Day Ave",1100,{"$f":"IF(CA5251+CA5347+CA5443+CA5539+CA5635+CA5731+CA5827=0,0,AVERAGE(CA5251,CA5347,CA5443,CA5539,CA5635,CA5731,CA5827))","v":0},0,0,0,0,0,0,0,0,0,0,0,0,0,0,0,0,0,0,0,0,0,0,0,0,0,0,0,0,0,0,0,"-","-","-","-",0,0,0,0,0,0,0,0,0,0,0,0,0,0,0,0,0,0]
["7 Day Ave",1115,{"$f":"IF(C5252+C5348+C5444+C5540+C5636+C5732+C5828=0,0,AVERAGE(C5252,C5348,C5444,C5540,C5636,C5732,C5828))","v":0},0,0,0,0,0,0,0,0,0,0,0,0,0,0,0,0,0,0,0,0,0,0,0,0,0,0,0,0,0,0,0,{"$f":"IF(SUM(AI5252,AI5348,AI5444,AI5540,AI5636,AI5732,AI5828)=0,\"-\",AVERAGEIF(B5207:B5878,B6020,AI5207:AI5878))","v":"-"},{"$f":"IF(SUM(AJ5252,AJ5348,AJ5444,AJ5540,AJ5636,AJ5732,AJ5828)=0,\"-\",AVERAGEIF(B5207:B5878,B6020,AJ5207:AJ5878))","v":"-"},"-","-","7 Day Ave",1115,{"$f":"IF(AO5252+AO5348+AO5444+AO5540+AO5636+AO5732+AO5828=0,0,AVERAGE(AO5252,AO5348,AO5444,AO5540,AO5636,AO5732,AO5828))","v":0},0,0,0,0,0,0,0,0,0,0,0,0,0,0,0,0,0,0,0,0,0,0,0,0,0,0,0,0,0,0,0,{"$f":"IF(SUM(BU5252,BU5348,BU5444,BU5540,BU5636,BU5732,BU5828)=0,\"-\",AVERAGEIF(AN5207:AN5878,AN6020,BU5207:BU5878))","v":"-"},{"$f":"IF(SUM(BV5252,BV5348,BV5444,BV5540,BV5636,BV5732,BV5828)=0,\"-\",AVERAGEIF(AN5207:AN5878,AN6020,BV5207:BV5878))","v":"-"},"-","-","7 Day Ave",1115,{"$f":"IF(CA5252+CA5348+CA5444+CA5540+CA5636+CA5732+CA5828=0,0,AVERAGE(CA5252,CA5348,CA5444,CA5540,CA5636,CA5732,CA5828))","v":0},0,0,0,0,0,0,0,0,0,0,0,0,0,0,0,0,0,0,0,0,0,0,0,0,0,0,0,0,0,0,0,"-","-","-","-",0,0,0,0,0,0,0,0,0,0,0,0,0,0,0,0,0,0]
["7 Day Ave",1130,{"$f":"IF(C5253+C5349+C5445+C5541+C5637+C5733+C5829=0,0,AVERAGE(C5253,C5349,C5445,C5541,C5637,C5733,C5829))","v":0},0,0,0,0,0,0,0,0,0,0,0,0,0,0,0,0,0,0,0,0,0,0,0,0,0,0,0,0,0,0,0,{"$f":"IF(SUM(AI5253,AI5349,AI5445,AI5541,AI5637,AI5733,AI5829)=0,\"-\",AVERAGEIF(B5207:B5878,B6021,AI5207:AI5878))","v":"-"},{"$f":"IF(SUM(AJ5253,AJ5349,AJ5445,AJ5541,AJ5637,AJ5733,AJ5829)=0,\"-\",AVERAGEIF(B5207:B5878,B6021,AJ5207:AJ5878))","v":"-"},"-","-","7 Day Ave",1130,{"$f":"IF(AO5253+AO5349+AO5445+AO5541+AO5637+AO5733+AO5829=0,0,AVERAGE(AO5253,AO5349,AO5445,AO5541,AO5637,AO5733,AO5829))","v":0},0,0,0,0,0,0,0,0,0,0,0,0,0,0,0,0,0,0,0,0,0,0,0,0,0,0,0,0,0,0,0,{"$f":"IF(SUM(BU5253,BU5349,BU5445,BU5541,BU5637,BU5733,BU5829)=0,\"-\",AVERAGEIF(AN5207:AN5878,AN6021,BU5207:BU5878))","v":"-"},{"$f":"IF(SUM(BV5253,BV5349,BV5445,BV5541,BV5637,BV5733,BV5829)=0,\"-\",AVERAGEIF(AN5207:AN5878,AN6021,BV5207:BV5878))","v":"-"},"-","-","7 Day Ave",1130,{"$f":"IF(CA5253+CA5349+CA5445+CA5541+CA5637+CA5733+CA5829=0,0,AVERAGE(CA5253,CA5349,CA5445,CA5541,CA5637,CA5733,CA5829))","v":0},0,0,0,0,0,0,0,0,0,0,0,0,0,0,0,0,0,0,0,0,0,0,0,0,0,0,0,0,0,0,0,"-","-","-","-",0,0,0,0,0,0,0,0,0,0,0,0,0,0,0,0,0,0]
["7 Day Ave",1145,{"$f":"IF(C5254+C5350+C5446+C5542+C5638+C5734+C5830=0,0,AVERAGE(C5254,C5350,C5446,C5542,C5638,C5734,C5830))","v":0},0,0,0,0,0,0,0,0,0,0,0,0,0,0,0,0,0,0,0,0,0,0,0,0,0,0,0,0,0,0,0,{"$f":"IF(SUM(AI5254,AI5350,AI5446,AI5542,AI5638,AI5734,AI5830)=0,\"-\",AVERAGEIF(B5207:B5878,B6022,AI5207:AI5878))","v":"-"},{"$f":"IF(SUM(AJ5254,AJ5350,AJ5446,AJ5542,AJ5638,AJ5734,AJ5830)=0,\"-\",AVERAGEIF(B5207:B5878,B6022,AJ5207:AJ5878))","v":"-"},"-","-","7 Day Ave",1145,{"$f":"IF(AO5254+AO5350+AO5446+AO5542+AO5638+AO5734+AO5830=0,0,AVERAGE(AO5254,AO5350,AO5446,AO5542,AO5638,AO5734,AO5830))","v":0},0,0,0,0,0,0,0,0,0,0,0,0,0,0,0,0,0,0,0,0,0,0,0,0,0,0,0,0,0,0,0,{"$f":"IF(SUM(BU5254,BU5350,BU5446,BU5542,BU5638,BU5734,BU5830)=0,\"-\",AVERAGEIF(AN5207:AN5878,AN6022,BU5207:BU5878))","v":"-"},{"$f":"IF(SUM(BV5254,BV5350,BV5446,BV5542,BV5638,BV5734,BV5830)=0,\"-\",AVERAGEIF(AN5207:AN5878,AN6022,BV5207:BV5878))","v":"-"},"-","-","7 Day Ave",1145,{"$f":"IF(CA5254+CA5350+CA5446+CA5542+CA5638+CA5734+CA5830=0,0,AVERAGE(CA5254,CA5350,CA5446,CA5542,CA5638,CA5734,CA5830))","v":0},0,0,0,0,0,0,0,0,0,0,0,0,0,0,0,0,0,0,0,0,0,0,0,0,0,0,0,0,0,0,0,"-","-","-","-",0,0,0,0,0,0,0,0,0,0,0,0,0,0,0,0,0,0]
["7 Day Ave",1200,{"$f":"IF(C5255+C5351+C5447+C5543+C5639+C5735+C5831=0,0,AVERAGE(C5255,C5351,C5447,C5543,C5639,C5735,C5831))","v":0},0,0,0,0,0,0,0,0,0,0,0,0,0,0,0,0,0,0,0,0,0,0,0,0,0,0,0,0,0,0,0,{"$f":"IF(SUM(AI5255,AI5351,AI5447,AI5543,AI5639,AI5735,AI5831)=0,\"-\",AVERAGEIF(B5207:B5878,B6023,AI5207:AI5878))","v":"-"},{"$f":"IF(SUM(AJ5255,AJ5351,AJ5447,AJ5543,AJ5639,AJ5735,AJ5831)=0,\"-\",AVERAGEIF(B5207:B5878,B6023,AJ5207:AJ5878))","v":"-"},"-","-","7 Day Ave",1200,{"$f":"IF(AO5255+AO5351+AO5447+AO5543+AO5639+AO5735+AO5831=0,0,AVERAGE(AO5255,AO5351,AO5447,AO5543,AO5639,AO5735,AO5831))","v":0},0,0,0,0,0,0,0,0,0,0,0,0,0,0,0,0,0,0,0,0,0,0,0,0,0,0,0,0,0,0,0,{"$f":"IF(SUM(BU5255,BU5351,BU5447,BU5543,BU5639,BU5735,BU5831)=0,\"-\",AVERAGEIF(AN5207:AN5878,AN6023,BU5207:BU5878))","v":"-"},{"$f":"IF(SUM(BV5255,BV5351,BV5447,BV5543,BV5639,BV5735,BV5831)=0,\"-\",AVERAGEIF(AN5207:AN5878,AN6023,BV5207:BV5878))","v":"-"},"-","-","7 Day Ave",1200,{"$f":"IF(CA5255+CA5351+CA5447+CA5543+CA5639+CA5735+CA5831=0,0,AVERAGE(CA5255,CA5351,CA5447,CA5543,CA5639,CA5735,CA5831))","v":0},0,0,0,0,0,0,0,0,0,0,0,0,0,0,0,0,0,0,0,0,0,0,0,0,0,0,0,0,0,0,0,"-","-","-","-",0,0,0,0,0,0,0,0,0,0,0,0,0,0,0,0,0,0]
["7 Day Ave",1215,{"$f":"IF(C5256+C5352+C5448+C5544+C5640+C5736+C5832=0,0,AVERAGE(C5256,C5352,C5448,C5544,C5640,C5736,C5832))","v":0},0,0,0,0,0,0,0,0,0,0,0,0,0,0,0,0,0,0,0,0,0,0,0,0,0,0,0,0,0,0,0,{"$f":"IF(SUM(AI5256,AI5352,AI5448,AI5544,AI5640,AI5736,AI5832)=0,\"-\",AVERAGEIF(B5207:B5878,B6024,AI5207:AI5878))","v":"-"},{"$f":"IF(SUM(AJ5256,AJ5352,AJ5448,AJ5544,AJ5640,AJ5736,AJ5832)=0,\"-\",AVERAGEIF(B5207:B5878,B6024,AJ5207:AJ5878))","v":"-"},"-","-","7 Day Ave",1215,{"$f":"IF(AO5256+AO5352+AO5448+AO5544+AO5640+AO5736+AO5832=0,0,AVERAGE(AO5256,AO5352,AO5448,AO5544,AO5640,AO5736,AO5832))","v":0},0,0,0,0,0,0,0,0,0,0,0,0,0,0,0,0,0,0,0,0,0,0,0,0,0,0,0,0,0,0,0,{"$f":"IF(SUM(BU5256,BU5352,BU5448,BU5544,BU5640,BU5736,BU5832)=0,\"-\",AVERAGEIF(AN5207:AN5878,AN6024,BU5207:BU5878))","v":"-"},{"$f":"IF(SUM(BV5256,BV5352,BV5448,BV5544,BV5640,BV5736,BV5832)=0,\"-\",AVERAGEIF(AN5207:AN5878,AN6024,BV5207:BV5878))","v":"-"},"-","-","7 Day Ave",1215,{"$f":"IF(CA5256+CA5352+CA5448+CA5544+CA5640+CA5736+CA5832=0,0,AVERAGE(CA5256,CA5352,CA5448,CA5544,CA5640,CA5736,CA5832))","v":0},0,0,0,0,0,0,0,0,0,0,0,0,0,0,0,0,0,0,0,0,0,0,0,0,0,0,0,0,0,0,0,"-","-","-","-",0,0,0,0,0,0,0,0,0,0,0,0,0,0,0,0,0,0]
["7 Day Ave",1230,{"$f":"IF(C5257+C5353+C5449+C5545+C5641+C5737+C5833=0,0,AVERAGE(C5257,C5353,C5449,C5545,C5641,C5737,C5833))","v":0},0,0,0,0,0,0,0,0,0,0,0,0,0,0,0,0,0,0,0,0,0,0,0,0,0,0,0,0,0,0,0,{"$f":"IF(SUM(AI5257,AI5353,AI5449,AI5545,AI5641,AI5737,AI5833)=0,\"-\",AVERAGEIF(B5207:B5878,B6025,AI5207:AI5878))","v":"-"},{"$f":"IF(SUM(AJ5257,AJ5353,AJ5449,AJ5545,AJ5641,AJ5737,AJ5833)=0,\"-\",AVERAGEIF(B5207:B5878,B6025,AJ5207:AJ5878))","v":"-"},"-","-","7 Day Ave",1230,{"$f":"IF(AO5257+AO5353+AO5449+AO5545+AO5641+AO5737+AO5833=0,0,AVERAGE(AO5257,AO5353,AO5449,AO5545,AO5641,AO5737,AO5833))","v":0},0,0,0,0,0,0,0,0,0,0,0,0,0,0,0,0,0,0,0,0,0,0,0,0,0,0,0,0,0,0,0,{"$f":"IF(SUM(BU5257,BU5353,BU5449,BU5545,BU5641,BU5737,BU5833)=0,\"-\",AVERAGEIF(AN5207:AN5878,AN6025,BU5207:BU5878))","v":"-"},{"$f":"IF(SUM(BV5257,BV5353,BV5449,BV5545,BV5641,BV5737,BV5833)=0,\"-\",AVERAGEIF(AN5207:AN5878,AN6025,BV5207:BV5878))","v":"-"},"-","-","7 Day Ave",1230,{"$f":"IF(CA5257+CA5353+CA5449+CA5545+CA5641+CA5737+CA5833=0,0,AVERAGE(CA5257,CA5353,CA5449,CA5545,CA5641,CA5737,CA5833))","v":0},0,0,0,0,0,0,0,0,0,0,0,0,0,0,0,0,0,0,0,0,0,0,0,0,0,0,0,0,0,0,0,"-","-","-","-",0,0,0,0,0,0,0,0,0,0,0,0,0,0,0,0,0,0]
["7 Day Ave",1245,{"$f":"IF(C5258+C5354+C5450+C5546+C5642+C5738+C5834=0,0,AVERAGE(C5258,C5354,C5450,C5546,C5642,C5738,C5834))","v":0},0,0,0,0,0,0,0,0,0,0,0,0,0,0,0,0,0,0,0,0,0,0,0,0,0,0,0,0,0,0,0,{"$f":"IF(SUM(AI5258,AI5354,AI5450,AI5546,AI5642,AI5738,AI5834)=0,\"-\",AVERAGEIF(B5207:B5878,B6026,AI5207:AI5878))","v":"-"},{"$f":"IF(SUM(AJ5258,AJ5354,AJ5450,AJ5546,AJ5642,AJ5738,AJ5834)=0,\"-\",AVERAGEIF(B5207:B5878,B6026,AJ5207:AJ5878))","v":"-"},"-","-","7 Day Ave",1245,{"$f":"IF(AO5258+AO5354+AO5450+AO5546+AO5642+AO5738+AO5834=0,0,AVERAGE(AO5258,AO5354,AO5450,AO5546,AO5642,AO5738,AO5834))","v":0},0,0,0,0,0,0,0,0,0,0,0,0,0,0,0,0,0,0,0,0,0,0,0,0,0,0,0,0,0,0,0,{"$f":"IF(SUM(BU5258,BU5354,BU5450,BU5546,BU5642,BU5738,BU5834)=0,\"-\",AVERAGEIF(AN5207:AN5878,AN6026,BU5207:BU5878))","v":"-"},{"$f":"IF(SUM(BV5258,BV5354,BV5450,BV5546,BV5642,BV5738,BV5834)=0,\"-\",AVERAGEIF(AN5207:AN5878,AN6026,BV5207:BV5878))","v":"-"},"-","-","7 Day Ave",1245,{"$f":"IF(CA5258+CA5354+CA5450+CA5546+CA5642+CA5738+CA5834=0,0,AVERAGE(CA5258,CA5354,CA5450,CA5546,CA5642,CA5738,CA5834))","v":0},0,0,0,0,0,0,0,0,0,0,0,0,0,0,0,0,0,0,0,0,0,0,0,0,0,0,0,0,0,0,0,"-","-","-","-",0,0,0,0,0,0,0,0,0,0,0,0,0,0,0,0,0,0]
["7 Day Ave",1300,{"$f":"IF(C5259+C5355+C5451+C5547+C5643+C5739+C5835=0,0,AVERAGE(C5259,C5355,C5451,C5547,C5643,C5739,C5835))","v":0},0,0,0,0,0,0,0,0,0,0,0,0,0,0,0,0,0,0,0,0,0,0,0,0,0,0,0,0,0,0,0,{"$f":"IF(SUM(AI5259,AI5355,AI5451,AI5547,AI5643,AI5739,AI5835)=0,\"-\",AVERAGEIF(B5207:B5878,B6027,AI5207:AI5878))","v":"-"},{"$f":"IF(SUM(AJ5259,AJ5355,AJ5451,AJ5547,AJ5643,AJ5739,AJ5835)=0,\"-\",AVERAGEIF(B5207:B5878,B6027,AJ5207:AJ5878))","v":"-"},"-","-","7 Day Ave",1300,{"$f":"IF(AO5259+AO5355+AO5451+AO5547+AO5643+AO5739+AO5835=0,0,AVERAGE(AO5259,AO5355,AO5451,AO5547,AO5643,AO5739,AO5835))","v":0},0,0,0,0,0,0,0,0,0,0,0,0,0,0,0,0,0,0,0,0,0,0,0,0,0,0,0,0,0,0,0,{"$f":"IF(SUM(BU5259,BU5355,BU5451,BU5547,BU5643,BU5739,BU5835)=0,\"-\",AVERAGEIF(AN5207:AN5878,AN6027,BU5207:BU5878))","v":"-"},{"$f":"IF(SUM(BV5259,BV5355,BV5451,BV5547,BV5643,BV5739,BV5835)=0,\"-\",AVERAGEIF(AN5207:AN5878,AN6027,BV5207:BV5878))","v":"-"},"-","-","7 Day Ave",1300,{"$f":"IF(CA5259+CA5355+CA5451+CA5547+CA5643+CA5739+CA5835=0,0,AVERAGE(CA5259,CA5355,CA5451,CA5547,CA5643,CA5739,CA5835))","v":0},0,0,0,0,0,0,0,0,0,0,0,0,0,0,0,0,0,0,0,0,0,0,0,0,0,0,0,0,0,0,0,"-","-","-","-",0,0,0,0,0,0,0,0,0,0,0,0,0,0,0,0,0,0]
["7 Day Ave",1315,{"$f":"IF(C5260+C5356+C5452+C5548+C5644+C5740+C5836=0,0,AVERAGE(C5260,C5356,C5452,C5548,C5644,C5740,C5836))","v":0},0,0,0,0,0,0,0,0,0,0,0,0,0,0,0,0,0,0,0,0,0,0,0,0,0,0,0,0,0,0,0,{"$f":"IF(SUM(AI5260,AI5356,AI5452,AI5548,AI5644,AI5740,AI5836)=0,\"-\",AVERAGEIF(B5207:B5878,B6028,AI5207:AI5878))","v":"-"},{"$f":"IF(SUM(AJ5260,AJ5356,AJ5452,AJ5548,AJ5644,AJ5740,AJ5836)=0,\"-\",AVERAGEIF(B5207:B5878,B6028,AJ5207:AJ5878))","v":"-"},"-","-","7 Day Ave",1315,{"$f":"IF(AO5260+AO5356+AO5452+AO5548+AO5644+AO5740+AO5836=0,0,AVERAGE(AO5260,AO5356,AO5452,AO5548,AO5644,AO5740,AO5836))","v":0},0,0,0,0,0,0,0,0,0,0,0,0,0,0,0,0,0,0,0,0,0,0,0,0,0,0,0,0,0,0,0,{"$f":"IF(SUM(BU5260,BU5356,BU5452,BU5548,BU5644,BU5740,BU5836)=0,\"-\",AVERAGEIF(AN5207:AN5878,AN6028,BU5207:BU5878))","v":"-"},{"$f":"IF(SUM(BV5260,BV5356,BV5452,BV5548,BV5644,BV5740,BV5836)=0,\"-\",AVERAGEIF(AN5207:AN5878,AN6028,BV5207:BV5878))","v":"-"},"-","-","7 Day Ave",1315,{"$f":"IF(CA5260+CA5356+CA5452+CA5548+CA5644+CA5740+CA5836=0,0,AVERAGE(CA5260,CA5356,CA5452,CA5548,CA5644,CA5740,CA5836))","v":0},0,0,0,0,0,0,0,0,0,0,0,0,0,0,0,0,0,0,0,0,0,0,0,0,0,0,0,0,0,0,0,"-","-","-","-",0,0,0,0,0,0,0,0,0,0,0,0,0,0,0,0,0,0]
["7 Day Ave",1330,{"$f":"IF(C5261+C5357+C5453+C5549+C5645+C5741+C5837=0,0,AVERAGE(C5261,C5357,C5453,C5549,C5645,C5741,C5837))","v":0},0,0,0,0,0,0,0,0,0,0,0,0,0,0,0,0,0,0,0,0,0,0,0,0,0,0,0,0,0,0,0,{"$f":"IF(SUM(AI5261,AI5357,AI5453,AI5549,AI5645,AI5741,AI5837)=0,\"-\",AVERAGEIF(B5207:B5878,B6029,AI5207:AI5878))","v":"-"},{"$f":"IF(SUM(AJ5261,AJ5357,AJ5453,AJ5549,AJ5645,AJ5741,AJ5837)=0,\"-\",AVERAGEIF(B5207:B5878,B6029,AJ5207:AJ5878))","v":"-"},"-","-","7 Day Ave",1330,{"$f":"IF(AO5261+AO5357+AO5453+AO5549+AO5645+AO5741+AO5837=0,0,AVERAGE(AO5261,AO5357,AO5453,AO5549,AO5645,AO5741,AO5837))","v":0},0,0,0,0,0,0,0,0,0,0,0,0,0,0,0,0,0,0,0,0,0,0,0,0,0,0,0,0,0,0,0,{"$f":"IF(SUM(BU5261,BU5357,BU5453,BU5549,BU5645,BU5741,BU5837)=0,\"-\",AVERAGEIF(AN5207:AN5878,AN6029,BU5207:BU5878))","v":"-"},{"$f":"IF(SUM(BV5261,BV5357,BV5453,BV5549,BV5645,BV5741,BV5837)=0,\"-\",AVERAGEIF(AN5207:AN5878,AN6029,BV5207:BV5878))","v":"-"},"-","-","7 Day Ave",1330,{"$f":"IF(CA5261+CA5357+CA5453+CA5549+CA5645+CA5741+CA5837=0,0,AVERAGE(CA5261,CA5357,CA5453,CA5549,CA5645,CA5741,CA5837))","v":0},0,0,0,0,0,0,0,0,0,0,0,0,0,0,0,0,0,0,0,0,0,0,0,0,0,0,0,0,0,0,0,"-","-","-","-",0,0,0,0,0,0,0,0,0,0,0,0,0,0,0,0,0,0]
["7 Day Ave",1345,{"$f":"IF(C5262+C5358+C5454+C5550+C5646+C5742+C5838=0,0,AVERAGE(C5262,C5358,C5454,C5550,C5646,C5742,C5838))","v":0},0,0,0,0,0,0,0,0,0,0,0,0,0,0,0,0,0,0,0,0,0,0,0,0,0,0,0,0,0,0,0,{"$f":"IF(SUM(AI5262,AI5358,AI5454,AI5550,AI5646,AI5742,AI5838)=0,\"-\",AVERAGEIF(B5207:B5878,B6030,AI5207:AI5878))","v":"-"},{"$f":"IF(SUM(AJ5262,AJ5358,AJ5454,AJ5550,AJ5646,AJ5742,AJ5838)=0,\"-\",AVERAGEIF(B5207:B5878,B6030,AJ5207:AJ5878))","v":"-"},"-","-","7 Day Ave",1345,{"$f":"IF(AO5262+AO5358+AO5454+AO5550+AO5646+AO5742+AO5838=0,0,AVERAGE(AO5262,AO5358,AO5454,AO5550,AO5646,AO5742,AO5838))","v":0},0,0,0,0,0,0,0,0,0,0,0,0,0,0,0,0,0,0,0,0,0,0,0,0,0,0,0,0,0,0,0,{"$f":"IF(SUM(BU5262,BU5358,BU5454,BU5550,BU5646,BU5742,BU5838)=0,\"-\",AVERAGEIF(AN5207:AN5878,AN6030,BU5207:BU5878))","v":"-"},{"$f":"IF(SUM(BV5262,BV5358,BV5454,BV5550,BV5646,BV5742,BV5838)=0,\"-\",AVERAGEIF(AN5207:AN5878,AN6030,BV5207:BV5878))","v":"-"},"-","-","7 Day Ave",1345,{"$f":"IF(CA5262+CA5358+CA5454+CA5550+CA5646+CA5742+CA5838=0,0,AVERAGE(CA5262,CA5358,CA5454,CA5550,CA5646,CA5742,CA5838))","v":0},0,0,0,0,0,0,0,0,0,0,0,0,0,0,0,0,0,0,0,0,0,0,0,0,0,0,0,0,0,0,0,"-","-","-","-",0,0,0,0,0,0,0,0,0,0,0,0,0,0,0,0,0,0]
["7 Day Ave",1400,{"$f":"IF(C5263+C5359+C5455+C5551+C5647+C5743+C5839=0,0,AVERAGE(C5263,C5359,C5455,C5551,C5647,C5743,C5839))","v":0},0,0,0,0,0,0,0,0,0,0,0,0,0,0,0,0,0,0,0,0,0,0,0,0,0,0,0,0,0,0,0,{"$f":"IF(SUM(AI5263,AI5359,AI5455,AI5551,AI5647,AI5743,AI5839)=0,\"-\",AVERAGEIF(B5207:B5878,B6031,AI5207:AI5878))","v":"-"},{"$f":"IF(SUM(AJ5263,AJ5359,AJ5455,AJ5551,AJ5647,AJ5743,AJ5839)=0,\"-\",AVERAGEIF(B5207:B5878,B6031,AJ5207:AJ5878))","v":"-"},"-","-","7 Day Ave",1400,{"$f":"IF(AO5263+AO5359+AO5455+AO5551+AO5647+AO5743+AO5839=0,0,AVERAGE(AO5263,AO5359,AO5455,AO5551,AO5647,AO5743,AO5839))","v":0},0,0,0,0,0,0,0,0,0,0,0,0,0,0,0,0,0,0,0,0,0,0,0,0,0,0,0,0,0,0,0,{"$f":"IF(SUM(BU5263,BU5359,BU5455,BU5551,BU5647,BU5743,BU5839)=0,\"-\",AVERAGEIF(AN5207:AN5878,AN6031,BU5207:BU5878))","v":"-"},{"$f":"IF(SUM(BV5263,BV5359,BV5455,BV5551,BV5647,BV5743,BV5839)=0,\"-\",AVERAGEIF(AN5207:AN5878,AN6031,BV5207:BV5878))","v":"-"},"-","-","7 Day Ave",1400,{"$f":"IF(CA5263+CA5359+CA5455+CA5551+CA5647+CA5743+CA5839=0,0,AVERAGE(CA5263,CA5359,CA5455,CA5551,CA5647,CA5743,CA5839))","v":0},0,0,0,0,0,0,0,0,0,0,0,0,0,0,0,0,0,0,0,0,0,0,0,0,0,0,0,0,0,0,0,"-","-","-","-",0,0,0,0,0,0,0,0,0,0,0,0,0,0,0,0,0,0]
["7 Day Ave",1415,{"$f":"IF(C5264+C5360+C5456+C5552+C5648+C5744+C5840=0,0,AVERAGE(C5264,C5360,C5456,C5552,C5648,C5744,C5840))","v":0},0,0,0,0,0,0,0,0,0,0,0,0,0,0,0,0,0,0,0,0,0,0,0,0,0,0,0,0,0,0,0,{"$f":"IF(SUM(AI5264,AI5360,AI5456,AI5552,AI5648,AI5744,AI5840)=0,\"-\",AVERAGEIF(B5207:B5878,B6032,AI5207:AI5878))","v":"-"},{"$f":"IF(SUM(AJ5264,AJ5360,AJ5456,AJ5552,AJ5648,AJ5744,AJ5840)=0,\"-\",AVERAGEIF(B5207:B5878,B6032,AJ5207:AJ5878))","v":"-"},"-","-","7 Day Ave",1415,{"$f":"IF(AO5264+AO5360+AO5456+AO5552+AO5648+AO5744+AO5840=0,0,AVERAGE(AO5264,AO5360,AO5456,AO5552,AO5648,AO5744,AO5840))","v":0},0,0,0,0,0,0,0,0,0,0,0,0,0,0,0,0,0,0,0,0,0,0,0,0,0,0,0,0,0,0,0,{"$f":"IF(SUM(BU5264,BU5360,BU5456,BU5552,BU5648,BU5744,BU5840)=0,\"-\",AVERAGEIF(AN5207:AN5878,AN6032,BU5207:BU5878))","v":"-"},{"$f":"IF(SUM(BV5264,BV5360,BV5456,BV5552,BV5648,BV5744,BV5840)=0,\"-\",AVERAGEIF(AN5207:AN5878,AN6032,BV5207:BV5878))","v":"-"},"-","-","7 Day Ave",1415,{"$f":"IF(CA5264+CA5360+CA5456+CA5552+CA5648+CA5744+CA5840=0,0,AVERAGE(CA5264,CA5360,CA5456,CA5552,CA5648,CA5744,CA5840))","v":0},0,0,0,0,0,0,0,0,0,0,0,0,0,0,0,0,0,0,0,0,0,0,0,0,0,0,0,0,0,0,0,"-","-","-","-",0,0,0,0,0,0,0,0,0,0,0,0,0,0,0,0,0,0]
["7 Day Ave",1430,{"$f":"IF(C5265+C5361+C5457+C5553+C5649+C5745+C5841=0,0,AVERAGE(C5265,C5361,C5457,C5553,C5649,C5745,C5841))","v":0},0,0,0,0,0,0,0,0,0,0,0,0,0,0,0,0,0,0,0,0,0,0,0,0,0,0,0,0,0,0,0,{"$f":"IF(SUM(AI5265,AI5361,AI5457,AI5553,AI5649,AI5745,AI5841)=0,\"-\",AVERAGEIF(B5207:B5878,B6033,AI5207:AI5878))","v":"-"},{"$f":"IF(SUM(AJ5265,AJ5361,AJ5457,AJ5553,AJ5649,AJ5745,AJ5841)=0,\"-\",AVERAGEIF(B5207:B5878,B6033,AJ5207:AJ5878))","v":"-"},"-","-","7 Day Ave",1430,{"$f":"IF(AO5265+AO5361+AO5457+AO5553+AO5649+AO5745+AO5841=0,0,AVERAGE(AO5265,AO5361,AO5457,AO5553,AO5649,AO5745,AO5841))","v":0},0,0,0,0,0,0,0,0,0,0,0,0,0,0,0,0,0,0,0,0,0,0,0,0,0,0,0,0,0,0,0,{"$f":"IF(SUM(BU5265,BU5361,BU5457,BU5553,BU5649,BU5745,BU5841)=0,\"-\",AVERAGEIF(AN5207:AN5878,AN6033,BU5207:BU5878))","v":"-"},{"$f":"IF(SUM(BV5265,BV5361,BV5457,BV5553,BV5649,BV5745,BV5841)=0,\"-\",AVERAGEIF(AN5207:AN5878,AN6033,BV5207:BV5878))","v":"-"},"-","-","7 Day Ave",1430,{"$f":"IF(CA5265+CA5361+CA5457+CA5553+CA5649+CA5745+CA5841=0,0,AVERAGE(CA5265,CA5361,CA5457,CA5553,CA5649,CA5745,CA5841))","v":0},0,0,0,0,0,0,0,0,0,0,0,0,0,0,0,0,0,0,0,0,0,0,0,0,0,0,0,0,0,0,0,"-","-","-","-",0,0,0,0,0,0,0,0,0,0,0,0,0,0,0,0,0,0]
["7 Day Ave",1445,{"$f":"IF(C5266+C5362+C5458+C5554+C5650+C5746+C5842=0,0,AVERAGE(C5266,C5362,C5458,C5554,C5650,C5746,C5842))","v":0},0,0,0,0,0,0,0,0,0,0,0,0,0,0,0,0,0,0,0,0,0,0,0,0,0,0,0,0,0,0,0,{"$f":"IF(SUM(AI5266,AI5362,AI5458,AI5554,AI5650,AI5746,AI5842)=0,\"-\",AVERAGEIF(B5207:B5878,B6034,AI5207:AI5878))","v":"-"},{"$f":"IF(SUM(AJ5266,AJ5362,AJ5458,AJ5554,AJ5650,AJ5746,AJ5842)=0,\"-\",AVERAGEIF(B5207:B5878,B6034,AJ5207:AJ5878))","v":"-"},"-","-","7 Day Ave",1445,{"$f":"IF(AO5266+AO5362+AO5458+AO5554+AO5650+AO5746+AO5842=0,0,AVERAGE(AO5266,AO5362,AO5458,AO5554,AO5650,AO5746,AO5842))","v":0},0,0,0,0,0,0,0,0,0,0,0,0,0,0,0,0,0,0,0,0,0,0,0,0,0,0,0,0,0,0,0,{"$f":"IF(SUM(BU5266,BU5362,BU5458,BU5554,BU5650,BU5746,BU5842)=0,\"-\",AVERAGEIF(AN5207:AN5878,AN6034,BU5207:BU5878))","v":"-"},{"$f":"IF(SUM(BV5266,BV5362,BV5458,BV5554,BV5650,BV5746,BV5842)=0,\"-\",AVERAGEIF(AN5207:AN5878,AN6034,BV5207:BV5878))","v":"-"},"-","-","7 Day Ave",1445,{"$f":"IF(CA5266+CA5362+CA5458+CA5554+CA5650+CA5746+CA5842=0,0,AVERAGE(CA5266,CA5362,CA5458,CA5554,CA5650,CA5746,CA5842))","v":0},0,0,0,0,0,0,0,0,0,0,0,0,0,0,0,0,0,0,0,0,0,0,0,0,0,0,0,0,0,0,0,"-","-","-","-",0,0,0,0,0,0,0,0,0,0,0,0,0,0,0,0,0,0]
["7 Day Ave",1500,{"$f":"IF(C5267+C5363+C5459+C5555+C5651+C5747+C5843=0,0,AVERAGE(C5267,C5363,C5459,C5555,C5651,C5747,C5843))","v":0},0,0,0,0,0,0,0,0,0,0,0,0,0,0,0,0,0,0,0,0,0,0,0,0,0,0,0,0,0,0,0,{"$f":"IF(SUM(AI5267,AI5363,AI5459,AI5555,AI5651,AI5747,AI5843)=0,\"-\",AVERAGEIF(B5207:B5878,B6035,AI5207:AI5878))","v":"-"},{"$f":"IF(SUM(AJ5267,AJ5363,AJ5459,AJ5555,AJ5651,AJ5747,AJ5843)=0,\"-\",AVERAGEIF(B5207:B5878,B6035,AJ5207:AJ5878))","v":"-"},"-","-","7 Day Ave",1500,{"$f":"IF(AO5267+AO5363+AO5459+AO5555+AO5651+AO5747+AO5843=0,0,AVERAGE(AO5267,AO5363,AO5459,AO5555,AO5651,AO5747,AO5843))","v":0},0,0,0,0,0,0,0,0,0,0,0,0,0,0,0,0,0,0,0,0,0,0,0,0,0,0,0,0,0,0,0,{"$f":"IF(SUM(BU5267,BU5363,BU5459,BU5555,BU5651,BU5747,BU5843)=0,\"-\",AVERAGEIF(AN5207:AN5878,AN6035,BU5207:BU5878))","v":"-"},{"$f":"IF(SUM(BV5267,BV5363,BV5459,BV5555,BV5651,BV5747,BV5843)=0,\"-\",AVERAGEIF(AN5207:AN5878,AN6035,BV5207:BV5878))","v":"-"},"-","-","7 Day Ave",1500,{"$f":"IF(CA5267+CA5363+CA5459+CA5555+CA5651+CA5747+CA5843=0,0,AVERAGE(CA5267,CA5363,CA5459,CA5555,CA5651,CA5747,CA5843))","v":0},0,0,0,0,0,0,0,0,0,0,0,0,0,0,0,0,0,0,0,0,0,0,0,0,0,0,0,0,0,0,0,"-","-","-","-",0,0,0,0,0,0,0,0,0,0,0,0,0,0,0,0,0,0]
["7 Day Ave",1515,{"$f":"IF(C5268+C5364+C5460+C5556+C5652+C5748+C5844=0,0,AVERAGE(C5268,C5364,C5460,C5556,C5652,C5748,C5844))","v":0},0,0,0,0,0,0,0,0,0,0,0,0,0,0,0,0,0,0,0,0,0,0,0,0,0,0,0,0,0,0,0,{"$f":"IF(SUM(AI5268,AI5364,AI5460,AI5556,AI5652,AI5748,AI5844)=0,\"-\",AVERAGEIF(B5207:B5878,B6036,AI5207:AI5878))","v":"-"},{"$f":"IF(SUM(AJ5268,AJ5364,AJ5460,AJ5556,AJ5652,AJ5748,AJ5844)=0,\"-\",AVERAGEIF(B5207:B5878,B6036,AJ5207:AJ5878))","v":"-"},"-","-","7 Day Ave",1515,{"$f":"IF(AO5268+AO5364+AO5460+AO5556+AO5652+AO5748+AO5844=0,0,AVERAGE(AO5268,AO5364,AO5460,AO5556,AO5652,AO5748,AO5844))","v":0},0,0,0,0,0,0,0,0,0,0,0,0,0,0,0,0,0,0,0,0,0,0,0,0,0,0,0,0,0,0,0,{"$f":"IF(SUM(BU5268,BU5364,BU5460,BU5556,BU5652,BU5748,BU5844)=0,\"-\",AVERAGEIF(AN5207:AN5878,AN6036,BU5207:BU5878))","v":"-"},{"$f":"IF(SUM(BV5268,BV5364,BV5460,BV5556,BV5652,BV5748,BV5844)=0,\"-\",AVERAGEIF(AN5207:AN5878,AN6036,BV5207:BV5878))","v":"-"},"-","-","7 Day Ave",1515,{"$f":"IF(CA5268+CA5364+CA5460+CA5556+CA5652+CA5748+CA5844=0,0,AVERAGE(CA5268,CA5364,CA5460,CA5556,CA5652,CA5748,CA5844))","v":0},0,0,0,0,0,0,0,0,0,0,0,0,0,0,0,0,0,0,0,0,0,0,0,0,0,0,0,0,0,0,0,"-","-","-","-",0,0,0,0,0,0,0,0,0,0,0,0,0,0,0,0,0,0]
["7 Day Ave",1530,{"$f":"IF(C5269+C5365+C5461+C5557+C5653+C5749+C5845=0,0,AVERAGE(C5269,C5365,C5461,C5557,C5653,C5749,C5845))","v":0},0,0,0,0,0,0,0,0,0,0,0,0,0,0,0,0,0,0,0,0,0,0,0,0,0,0,0,0,0,0,0,{"$f":"IF(SUM(AI5269,AI5365,AI5461,AI5557,AI5653,AI5749,AI5845)=0,\"-\",AVERAGEIF(B5207:B5878,B6037,AI5207:AI5878))","v":"-"},{"$f":"IF(SUM(AJ5269,AJ5365,AJ5461,AJ5557,AJ5653,AJ5749,AJ5845)=0,\"-\",AVERAGEIF(B5207:B5878,B6037,AJ5207:AJ5878))","v":"-"},"-","-","7 Day Ave",1530,{"$f":"IF(AO5269+AO5365+AO5461+AO5557+AO5653+AO5749+AO5845=0,0,AVERAGE(AO5269,AO5365,AO5461,AO5557,AO5653,AO5749,AO5845))","v":0},0,0,0,0,0,0,0,0,0,0,0,0,0,0,0,0,0,0,0,0,0,0,0,0,0,0,0,0,0,0,0,{"$f":"IF(SUM(BU5269,BU5365,BU5461,BU5557,BU5653,BU5749,BU5845)=0,\"-\",AVERAGEIF(AN5207:AN5878,AN6037,BU5207:BU5878))","v":"-"},{"$f":"IF(SUM(BV5269,BV5365,BV5461,BV5557,BV5653,BV5749,BV5845)=0,\"-\",AVERAGEIF(AN5207:AN5878,AN6037,BV5207:BV5878))","v":"-"},"-","-","7 Day Ave",1530,{"$f":"IF(CA5269+CA5365+CA5461+CA5557+CA5653+CA5749+CA5845=0,0,AVERAGE(CA5269,CA5365,CA5461,CA5557,CA5653,CA5749,CA5845))","v":0},0,0,0,0,0,0,0,0,0,0,0,0,0,0,0,0,0,0,0,0,0,0,0,0,0,0,0,0,0,0,0,"-","-","-","-",0,0,0,0,0,0,0,0,0,0,0,0,0,0,0,0,0,0]
["7 Day Ave",1545,{"$f":"IF(C5270+C5366+C5462+C5558+C5654+C5750+C5846=0,0,AVERAGE(C5270,C5366,C5462,C5558,C5654,C5750,C5846))","v":0},0,0,0,0,0,0,0,0,0,0,0,0,0,0,0,0,0,0,0,0,0,0,0,0,0,0,0,0,0,0,0,{"$f":"IF(SUM(AI5270,AI5366,AI5462,AI5558,AI5654,AI5750,AI5846)=0,\"-\",AVERAGEIF(B5207:B5878,B6038,AI5207:AI5878))","v":"-"},{"$f":"IF(SUM(AJ5270,AJ5366,AJ5462,AJ5558,AJ5654,AJ5750,AJ5846)=0,\"-\",AVERAGEIF(B5207:B5878,B6038,AJ5207:AJ5878))","v":"-"},"-","-","7 Day Ave",1545,{"$f":"IF(AO5270+AO5366+AO5462+AO5558+AO5654+AO5750+AO5846=0,0,AVERAGE(AO5270,AO5366,AO5462,AO5558,AO5654,AO5750,AO5846))","v":0},0,0,0,0,0,0,0,0,0,0,0,0,0,0,0,0,0,0,0,0,0,0,0,0,0,0,0,0,0,0,0,{"$f":"IF(SUM(BU5270,BU5366,BU5462,BU5558,BU5654,BU5750,BU5846)=0,\"-\",AVERAGEIF(AN5207:AN5878,AN6038,BU5207:BU5878))","v":"-"},{"$f":"IF(SUM(BV5270,BV5366,BV5462,BV5558,BV5654,BV5750,BV5846)=0,\"-\",AVERAGEIF(AN5207:AN5878,AN6038,BV5207:BV5878))","v":"-"},"-","-","7 Day Ave",1545,{"$f":"IF(CA5270+CA5366+CA5462+CA5558+CA5654+CA5750+CA5846=0,0,AVERAGE(CA5270,CA5366,CA5462,CA5558,CA5654,CA5750,CA5846))","v":0},0,0,0,0,0,0,0,0,0,0,0,0,0,0,0,0,0,0,0,0,0,0,0,0,0,0,0,0,0,0,0,"-","-","-","-",0,0,0,0,0,0,0,0,0,0,0,0,0,0,0,0,0,0]
["7 Day Ave",1600,{"$f":"IF(C5271+C5367+C5463+C5559+C5655+C5751+C5847=0,0,AVERAGE(C5271,C5367,C5463,C5559,C5655,C5751,C5847))","v":0},0,0,0,0,0,0,0,0,0,0,0,0,0,0,0,0,0,0,0,0,0,0,0,0,0,0,0,0,0,0,0,{"$f":"IF(SUM(AI5271,AI5367,AI5463,AI5559,AI5655,AI5751,AI5847)=0,\"-\",AVERAGEIF(B5207:B5878,B6039,AI5207:AI5878))","v":"-"},{"$f":"IF(SUM(AJ5271,AJ5367,AJ5463,AJ5559,AJ5655,AJ5751,AJ5847)=0,\"-\",AVERAGEIF(B5207:B5878,B6039,AJ5207:AJ5878))","v":"-"},"-","-","7 Day Ave",1600,{"$f":"IF(AO5271+AO5367+AO5463+AO5559+AO5655+AO5751+AO5847=0,0,AVERAGE(AO5271,AO5367,AO5463,AO5559,AO5655,AO5751,AO5847))","v":0},0,0,0,0,0,0,0,0,0,0,0,0,0,0,0,0,0,0,0,0,0,0,0,0,0,0,0,0,0,0,0,{"$f":"IF(SUM(BU5271,BU5367,BU5463,BU5559,BU5655,BU5751,BU5847)=0,\"-\",AVERAGEIF(AN5207:AN5878,AN6039,BU5207:BU5878))","v":"-"},{"$f":"IF(SUM(BV5271,BV5367,BV5463,BV5559,BV5655,BV5751,BV5847)=0,\"-\",AVERAGEIF(AN5207:AN5878,AN6039,BV5207:BV5878))","v":"-"},"-","-","7 Day Ave",1600,{"$f":"IF(CA5271+CA5367+CA5463+CA5559+CA5655+CA5751+CA5847=0,0,AVERAGE(CA5271,CA5367,CA5463,CA5559,CA5655,CA5751,CA5847))","v":0},0,0,0,0,0,0,0,0,0,0,0,0,0,0,0,0,0,0,0,0,0,0,0,0,0,0,0,0,0,0,0,"-","-","-","-",0,0,0,0,0,0,0,0,0,0,0,0,0,0,0,0,0,0]
["7 Day Ave",1615,{"$f":"IF(C5272+C5368+C5464+C5560+C5656+C5752+C5848=0,0,AVERAGE(C5272,C5368,C5464,C5560,C5656,C5752,C5848))","v":0},0,0,0,0,0,0,0,0,0,0,0,0,0,0,0,0,0,0,0,0,0,0,0,0,0,0,0,0,0,0,0,{"$f":"IF(SUM(AI5272,AI5368,AI5464,AI5560,AI5656,AI5752,AI5848)=0,\"-\",AVERAGEIF(B5207:B5878,B6040,AI5207:AI5878))","v":"-"},{"$f":"IF(SUM(AJ5272,AJ5368,AJ5464,AJ5560,AJ5656,AJ5752,AJ5848)=0,\"-\",AVERAGEIF(B5207:B5878,B6040,AJ5207:AJ5878))","v":"-"},{"$f":"IF(MIN(AK5272,AK5368,AK5464,AK5560,AK5656,AK5752,AK5848)=0,\"-\",MIN(AK5272,AK5368,AK5464,AK5560,AK5656,AK5752,AK5848))","v":"-"},{"$f":"IF(MAX(AL5272,AL5368,AL5464,AL5560,AL5656,AL5752,AL5848)=0,\"-\",MAX(AL5272,AL5368,AL5464,AL5560,AL5656,AL5752,AL5848))","v":"-"},"7 Day Ave",1615,{"$f":"IF(AO5272+AO5368+AO5464+AO5560+AO5656+AO5752+AO5848=0,0,AVERAGE(AO5272,AO5368,AO5464,AO5560,AO5656,AO5752,AO5848))","v":0},0,0,0,0,0,0,0,0,0,0,0,0,0,0,0,0,0,0,0,0,0,0,0,0,0,0,0,0,0,0,0,{"$f":"IF(SUM(BU5272,BU5368,BU5464,BU5560,BU5656,BU5752,BU5848)=0,\"-\",AVERAGEIF(AN5207:AN5878,AN6040,BU5207:BU5878))","v":"-"},{"$f":"IF(SUM(BV5272,BV5368,BV5464,BV5560,BV5656,BV5752,BV5848)=0,\"-\",AVERAGEIF(AN5207:AN5878,AN6040,BV5207:BV5878))","v":"-"},{"$f":"IF(MIN(BW5272,BW5368,BW5464,BW5560,BW5656,BW5752,BW5848)=0,\"-\",MIN(BW5272,BW5368,BW5464,BW5560,BW5656,BW5752,BW5848))","v":"-"},{"$f":"IF(MAX(BX5272,BX5368,BX5464,BX5560,BX5656,BX5752,BX5848)=0,\"-\",MAX(BX5272,BX5368,BX5464,BX5560,BX5656,BX5752,BX5848))","v":"-"},"7 Day Ave",1615,{"$f":"IF(CA5272+CA5368+CA5464+CA5560+CA5656+CA5752+CA5848=0,0,AVERAGE(CA5272,CA5368,CA5464,CA5560,CA5656,CA5752,CA5848))","v":0},0,0,0,0,0,0,0,0,0,0,0,0,0,0,0,0,0,0,0,0,0,0,0,0,0,0,0,0,0,0,0,{"$f":"IF(EB6040=0,\"-\",AVERAGE(DG5272,DG5368,DG5464,DG5560,DG5656,DG5752,DG5848))","v":"-"},{"$f":"IF((BV6040=\"-\"),(IF((AJ6040=\"-\"),\"-\",AJ6040)),(IF((AJ6040=\"-\"),BV6040,AVERAGE(AJ6040,BV6040))))","v":"-"},{"$f":"IF(MIN(AK6040,BW6040)=0,\"-\",MIN(AK6040,BW6040))","v":"-"},"-",{"$f":"SUM(C6040)","v":0},{"$f":"SUM(D6040+E6040)","v":0},0,{"$f":"SUM(G6040:H6040)","v":0},{"$f":"SUM(I6040:N6040)","v":0},{"$f":"SUM(C6040:N6040)","v":0},{"$f":"SUM(AO6040)","v":0},{"$f":"SUM(AP6040+AQ6040)","v":0},{"$f":"AR6040","v":0},{"$f":"SUM(AS6040:AT6040)","v":0},{"$f":"SUM(AU6040:AZ6040)","v":0},{"$f":"SUM(AO6040:AZ6040)","v":0},0,0,0,0,0,0]
["7 Day Ave",1630,{"$f":"IF(C5273+C5369+C5465+C5561+C5657+C5753+C5849=0,0,AVERAGE(C5273,C5369,C5465,C5561,C5657,C5753,C5849))","v":0},0,0,0,0,0,0,0,0,0,0,0,0,0,0,0,0,0,0,0,0,0,0,0,0,0,0,0,0,0,0,0,{"$f":"IF(SUM(AI5273,AI5369,AI5465,AI5561,AI5657,AI5753,AI5849)=0,\"-\",AVERAGEIF(B5207:B5878,B6041,AI5207:AI5878))","v":"-"},{"$f":"IF(SUM(AJ5273,AJ5369,AJ5465,AJ5561,AJ5657,AJ5753,AJ5849)=0,\"-\",AVERAGEIF(B5207:B5878,B6041,AJ5207:AJ5878))","v":"-"},"-","-","7 Day Ave",1630,{"$f":"IF(AO5273+AO5369+AO5465+AO5561+AO5657+AO5753+AO5849=0,0,AVERAGE(AO5273,AO5369,AO5465,AO5561,AO5657,AO5753,AO5849))","v":0},0,0,0,0,0,0,0,0,0,0,0,0,0,0,0,0,0,0,0,0,0,0,0,0,0,0,0,0,0,0,0,{"$f":"IF(SUM(BU5273,BU5369,BU5465,BU5561,BU5657,BU5753,BU5849)=0,\"-\",AVERAGEIF(AN5207:AN5878,AN6041,BU5207:BU5878))","v":"-"},{"$f":"IF(SUM(BV5273,BV5369,BV5465,BV5561,BV5657,BV5753,BV5849)=0,\"-\",AVERAGEIF(AN5207:AN5878,AN6041,BV5207:BV5878))","v":"-"},"-","-","7 Day Ave",1630,{"$f":"IF(CA5273+CA5369+CA5465+CA5561+CA5657+CA5753+CA5849=0,0,AVERAGE(CA5273,CA5369,CA5465,CA5561,CA5657,CA5753,CA5849))","v":0},0,0,0,0,0,0,0,0,0,0,0,0,0,0,0,0,0,0,0,0,0,0,0,0,0,0,0,0,0,0,0,"-","-","-","-",0,0,0,0,0,0,0,0,0,0,0,0,0,0,0,0,0,0]
["7 Day Ave",1645,{"$f":"IF(C5274+C5370+C5466+C5562+C5658+C5754+C5850=0,0,AVERAGE(C5274,C5370,C5466,C5562,C5658,C5754,C5850))","v":0},0,0,0,0,0,0,0,0,0,0,0,0,0,0,0,0,0,0,0,0,0,0,0,0,0,0,0,0,0,0,0,{"$f":"IF(SUM(AI5274,AI5370,AI5466,AI5562,AI5658,AI5754,AI5850)=0,\"-\",AVERAGEIF(B5207:B5878,B6042,AI5207:AI5878))","v":"-"},{"$f":"IF(SUM(AJ5274,AJ5370,AJ5466,AJ5562,AJ5658,AJ5754,AJ5850)=0,\"-\",AVERAGEIF(B5207:B5878,B6042,AJ5207:AJ5878))","v":"-"},"-","-","7 Day Ave",1645,{"$f":"IF(AO5274+AO5370+AO5466+AO5562+AO5658+AO5754+AO5850=0,0,AVERAGE(AO5274,AO5370,AO5466,AO5562,AO5658,AO5754,AO5850))","v":0},0,0,0,0,0,0,0,0,0,0,0,0,0,0,0,0,0,0,0,0,0,0,0,0,0,0,0,0,0,0,0,{"$f":"IF(SUM(BU5274,BU5370,BU5466,BU5562,BU5658,BU5754,BU5850)=0,\"-\",AVERAGEIF(AN5207:AN5878,AN6042,BU5207:BU5878))","v":"-"},{"$f":"IF(SUM(BV5274,BV5370,BV5466,BV5562,BV5658,BV5754,BV5850)=0,\"-\",AVERAGEIF(AN5207:AN5878,AN6042,BV5207:BV5878))","v":"-"},"-","-","7 Day Ave",1645,{"$f":"IF(CA5274+CA5370+CA5466+CA5562+CA5658+CA5754+CA5850=0,0,AVERAGE(CA5274,CA5370,CA5466,CA5562,CA5658,CA5754,CA5850))","v":0},0,0,0,0,0,0,0,0,0,0,0,0,0,0,0,0,0,0,0,0,0,0,0,0,0,0,0,0,0,0,0,"-","-","-","-",0,0,0,0,0,0,0,0,0,0,0,0,0,0,0,0,0,0]
["7 Day Ave",1700,{"$f":"IF(C5275+C5371+C5467+C5563+C5659+C5755+C5851=0,0,AVERAGE(C5275,C5371,C5467,C5563,C5659,C5755,C5851))","v":0},0,0,0,0,0,0,0,0,0,0,0,0,0,0,0,0,0,0,0,0,0,0,0,0,0,0,0,0,0,0,0,{"$f":"IF(SUM(AI5275,AI5371,AI5467,AI5563,AI5659,AI5755,AI5851)=0,\"-\",AVERAGEIF(B5207:B5878,B6043,AI5207:AI5878))","v":"-"},{"$f":"IF(SUM(AJ5275,AJ5371,AJ5467,AJ5563,AJ5659,AJ5755,AJ5851)=0,\"-\",AVERAGEIF(B5207:B5878,B6043,AJ5207:AJ5878))","v":"-"},"-","-","7 Day Ave",1700,{"$f":"IF(AO5275+AO5371+AO5467+AO5563+AO5659+AO5755+AO5851=0,0,AVERAGE(AO5275,AO5371,AO5467,AO5563,AO5659,AO5755,AO5851))","v":0},0,0,0,0,0,0,0,0,0,0,0,0,0,0,0,0,0,0,0,0,0,0,0,0,0,0,0,0,0,0,0,{"$f":"IF(SUM(BU5275,BU5371,BU5467,BU5563,BU5659,BU5755,BU5851)=0,\"-\",AVERAGEIF(AN5207:AN5878,AN6043,BU5207:BU5878))","v":"-"},{"$f":"IF(SUM(BV5275,BV5371,BV5467,BV5563,BV5659,BV5755,BV5851)=0,\"-\",AVERAGEIF(AN5207:AN5878,AN6043,BV5207:BV5878))","v":"-"},"-","-","7 Day Ave",1700,{"$f":"IF(CA5275+CA5371+CA5467+CA5563+CA5659+CA5755+CA5851=0,0,AVERAGE(CA5275,CA5371,CA5467,CA5563,CA5659,CA5755,CA5851))","v":0},0,0,0,0,0,0,0,0,0,0,0,0,0,0,0,0,0,0,0,0,0,0,0,0,0,0,0,0,0,0,0,"-","-","-","-",0,0,0,0,0,0,0,0,0,0,0,0,0,0,0,0,0,0]
["7 Day Ave",1715,{"$f":"IF(C5276+C5372+C5468+C5564+C5660+C5756+C5852=0,0,AVERAGE(C5276,C5372,C5468,C5564,C5660,C5756,C5852))","v":0},0,0,0,0,0,0,0,0,0,0,0,0,0,0,0,0,0,0,0,0,0,0,0,0,0,0,0,0,0,0,0,{"$f":"IF(SUM(AI5276,AI5372,AI5468,AI5564,AI5660,AI5756,AI5852)=0,\"-\",AVERAGEIF(B5207:B5878,B6044,AI5207:AI5878))","v":"-"},{"$f":"IF(SUM(AJ5276,AJ5372,AJ5468,AJ5564,AJ5660,AJ5756,AJ5852)=0,\"-\",AVERAGEIF(B5207:B5878,B6044,AJ5207:AJ5878))","v":"-"},"-","-","7 Day Ave",1715,{"$f":"IF(AO5276+AO5372+AO5468+AO5564+AO5660+AO5756+AO5852=0,0,AVERAGE(AO5276,AO5372,AO5468,AO5564,AO5660,AO5756,AO5852))","v":0},0,0,0,0,0,0,0,0,0,0,0,0,0,0,0,0,0,0,0,0,0,0,0,0,0,0,0,0,0,0,0,{"$f":"IF(SUM(BU5276,BU5372,BU5468,BU5564,BU5660,BU5756,BU5852)=0,\"-\",AVERAGEIF(AN5207:AN5878,AN6044,BU5207:BU5878))","v":"-"},{"$f":"IF(SUM(BV5276,BV5372,BV5468,BV5564,BV5660,BV5756,BV5852)=0,\"-\",AVERAGEIF(AN5207:AN5878,AN6044,BV5207:BV5878))","v":"-"},"-","-","7 Day Ave",1715,{"$f":"IF(CA5276+CA5372+CA5468+CA5564+CA5660+CA5756+CA5852=0,0,AVERAGE(CA5276,CA5372,CA5468,CA5564,CA5660,CA5756,CA5852))","v":0},0,0,0,0,0,0,0,0,0,0,0,0,0,0,0,0,0,0,0,0,0,0,0,0,0,0,0,0,0,0,0,"-","-","-","-",0,0,0,0,0,0,0,0,0,0,0,0,0,0,0,0,0,0]
["7 Day Ave",1730,{"$f":"IF(C5277+C5373+C5469+C5565+C5661+C5757+C5853=0,0,AVERAGE(C5277,C5373,C5469,C5565,C5661,C5757,C5853))","v":0},0,0,0,0,0,0,0,0,0,0,0,0,0,0,0,0,0,0,0,0,0,0,0,0,0,0,0,0,0,0,0,{"$f":"IF(SUM(AI5277,AI5373,AI5469,AI5565,AI5661,AI5757,AI5853)=0,\"-\",AVERAGEIF(B5207:B5878,B6045,AI5207:AI5878))","v":"-"},{"$f":"IF(SUM(AJ5277,AJ5373,AJ5469,AJ5565,AJ5661,AJ5757,AJ5853)=0,\"-\",AVERAGEIF(B5207:B5878,B6045,AJ5207:AJ5878))","v":"-"},"-","-","7 Day Ave",1730,{"$f":"IF(AO5277+AO5373+AO5469+AO5565+AO5661+AO5757+AO5853=0,0,AVERAGE(AO5277,AO5373,AO5469,AO5565,AO5661,AO5757,AO5853))","v":0},0,0,0,0,0,0,0,0,0,0,0,0,0,0,0,0,0,0,0,0,0,0,0,0,0,0,0,0,0,0,0,{"$f":"IF(SUM(BU5277,BU5373,BU5469,BU5565,BU5661,BU5757,BU5853)=0,\"-\",AVERAGEIF(AN5207:AN5878,AN6045,BU5207:BU5878))","v":"-"},{"$f":"IF(SUM(BV5277,BV5373,BV5469,BV5565,BV5661,BV5757,BV5853)=0,\"-\",AVERAGEIF(AN5207:AN5878,AN6045,BV5207:BV5878))","v":"-"},"-","-","7 Day Ave",1730,{"$f":"IF(CA5277+CA5373+CA5469+CA5565+CA5661+CA5757+CA5853=0,0,AVERAGE(CA5277,CA5373,CA5469,CA5565,CA5661,CA5757,CA5853))","v":0},0,0,0,0,0,0,0,0,0,0,0,0,0,0,0,0,0,0,0,0,0,0,0,0,0,0,0,0,0,0,0,"-","-","-","-",0,0,0,0,0,0,0,0,0,0,0,0,0,0,0,0,0,0]
["7 Day Ave",1745,{"$f":"IF(C5278+C5374+C5470+C5566+C5662+C5758+C5854=0,0,AVERAGE(C5278,C5374,C5470,C5566,C5662,C5758,C5854))","v":0},0,0,0,0,0,0,0,0,0,0,0,0,0,0,0,0,0,0,0,0,0,0,0,0,0,0,0,0,0,0,0,{"$f":"IF(SUM(AI5278,AI5374,AI5470,AI5566,AI5662,AI5758,AI5854)=0,\"-\",AVERAGEIF(B5207:B5878,B6046,AI5207:AI5878))","v":"-"},{"$f":"IF(SUM(AJ5278,AJ5374,AJ5470,AJ5566,AJ5662,AJ5758,AJ5854)=0,\"-\",AVERAGEIF(B5207:B5878,B6046,AJ5207:AJ5878))","v":"-"},"-","-","7 Day Ave",1745,{"$f":"IF(AO5278+AO5374+AO5470+AO5566+AO5662+AO5758+AO5854=0,0,AVERAGE(AO5278,AO5374,AO5470,AO5566,AO5662,AO5758,AO5854))","v":0},0,0,0,0,0,0,0,0,0,0,0,0,0,0,0,0,0,0,0,0,0,0,0,0,0,0,0,0,0,0,0,{"$f":"IF(SUM(BU5278,BU5374,BU5470,BU5566,BU5662,BU5758,BU5854)=0,\"-\",AVERAGEIF(AN5207:AN5878,AN6046,BU5207:BU5878))","v":"-"},{"$f":"IF(SUM(BV5278,BV5374,BV5470,BV5566,BV5662,BV5758,BV5854)=0,\"-\",AVERAGEIF(AN5207:AN5878,AN6046,BV5207:BV5878))","v":"-"},"-","-","7 Day Ave",1745,{"$f":"IF(CA5278+CA5374+CA5470+CA5566+CA5662+CA5758+CA5854=0,0,AVERAGE(CA5278,CA5374,CA5470,CA5566,CA5662,CA5758,CA5854))","v":0},0,0,0,0,0,0,0,0,0,0,0,0,0,0,0,0,0,0,0,0,0,0,0,0,0,0,0,0,0,0,0,"-","-","-","-",0,0,0,0,0,0,0,0,0,0,0,0,0,0,0,0,0,0]
["7 Day Ave",1800,{"$f":"IF(C5279+C5375+C5471+C5567+C5663+C5759+C5855=0,0,AVERAGE(C5279,C5375,C5471,C5567,C5663,C5759,C5855))","v":0},0,0,0,0,0,0,0,0,0,0,0,0,0,0,0,0,0,0,0,0,0,0,0,0,0,0,0,0,0,0,0,{"$f":"IF(SUM(AI5279,AI5375,AI5471,AI5567,AI5663,AI5759,AI5855)=0,\"-\",AVERAGEIF(B5207:B5878,B6047,AI5207:AI5878))","v":"-"},{"$f":"IF(SUM(AJ5279,AJ5375,AJ5471,AJ5567,AJ5663,AJ5759,AJ5855)=0,\"-\",AVERAGEIF(B5207:B5878,B6047,AJ5207:AJ5878))","v":"-"},"-","-","7 Day Ave",1800,{"$f":"IF(AO5279+AO5375+AO5471+AO5567+AO5663+AO5759+AO5855=0,0,AVERAGE(AO5279,AO5375,AO5471,AO5567,AO5663,AO5759,AO5855))","v":0},0,0,0,0,0,0,0,0,0,0,0,0,0,0,0,0,0,0,0,0,0,0,0,0,0,0,0,0,0,0,0,{"$f":"IF(SUM(BU5279,BU5375,BU5471,BU5567,BU5663,BU5759,BU5855)=0,\"-\",AVERAGEIF(AN5207:AN5878,AN6047,BU5207:BU5878))","v":"-"},{"$f":"IF(SUM(BV5279,BV5375,BV5471,BV5567,BV5663,BV5759,BV5855)=0,\"-\",AVERAGEIF(AN5207:AN5878,AN6047,BV5207:BV5878))","v":"-"},"-","-","7 Day Ave",1800,{"$f":"IF(CA5279+CA5375+CA5471+CA5567+CA5663+CA5759+CA5855=0,0,AVERAGE(CA5279,CA5375,CA5471,CA5567,CA5663,CA5759,CA5855))","v":0},0,0,0,0,0,0,0,0,0,0,0,0,0,0,0,0,0,0,0,0,0,0,0,0,0,0,0,0,0,0,0,"-","-","-","-",0,0,0,0,0,0,0,0,0,0,0,0,0,0,0,0,0,0]
["7 Day Ave",1815,{"$f":"IF(C5280+C5376+C5472+C5568+C5664+C5760+C5856=0,0,AVERAGE(C5280,C5376,C5472,C5568,C5664,C5760,C5856))","v":0},0,0,0,0,0,0,0,0,0,0,0,0,0,0,0,0,0,0,0,0,0,0,0,0,0,0,0,0,0,0,0,{"$f":"IF(SUM(AI5280,AI5376,AI5472,AI5568,AI5664,AI5760,AI5856)=0,\"-\",AVERAGEIF(B5207:B5878,B6048,AI5207:AI5878))","v":"-"},{"$f":"IF(SUM(AJ5280,AJ5376,AJ5472,AJ5568,AJ5664,AJ5760,AJ5856)=0,\"-\",AVERAGEIF(B5207:B5878,B6048,AJ5207:AJ5878))","v":"-"},"-","-","7 Day Ave",1815,{"$f":"IF(AO5280+AO5376+AO5472+AO5568+AO5664+AO5760+AO5856=0,0,AVERAGE(AO5280,AO5376,AO5472,AO5568,AO5664,AO5760,AO5856))","v":0},0,0,0,0,0,0,0,0,0,0,0,0,0,0,0,0,0,0,0,0,0,0,0,0,0,0,0,0,0,0,0,{"$f":"IF(SUM(BU5280,BU5376,BU5472,BU5568,BU5664,BU5760,BU5856)=0,\"-\",AVERAGEIF(AN5207:AN5878,AN6048,BU5207:BU5878))","v":"-"},{"$f":"IF(SUM(BV5280,BV5376,BV5472,BV5568,BV5664,BV5760,BV5856)=0,\"-\",AVERAGEIF(AN5207:AN5878,AN6048,BV5207:BV5878))","v":"-"},"-","-","7 Day Ave",1815,{"$f":"IF(CA5280+CA5376+CA5472+CA5568+CA5664+CA5760+CA5856=0,0,AVERAGE(CA5280,CA5376,CA5472,CA5568,CA5664,CA5760,CA5856))","v":0},0,0,0,0,0,0,0,0,0,0,0,0,0,0,0,0,0,0,0,0,0,0,0,0,0,0,0,0,0,0,0,"-","-","-","-",0,0,0,0,0,0,0,0,0,0,0,0,0,0,0,0,0,0]
["7 Day Ave",1830,{"$f":"IF(C5281+C5377+C5473+C5569+C5665+C5761+C5857=0,0,AVERAGE(C5281,C5377,C5473,C5569,C5665,C5761,C5857))","v":0},0,0,0,0,0,0,0,0,0,0,0,0,0,0,0,0,0,0,0,0,0,0,0,0,0,0,0,0,0,0,0,{"$f":"IF(SUM(AI5281,AI5377,AI5473,AI5569,AI5665,AI5761,AI5857)=0,\"-\",AVERAGEIF(B5207:B5878,B6049,AI5207:AI5878))","v":"-"},{"$f":"IF(SUM(AJ5281,AJ5377,AJ5473,AJ5569,AJ5665,AJ5761,AJ5857)=0,\"-\",AVERAGEIF(B5207:B5878,B6049,AJ5207:AJ5878))","v":"-"},"-","-","7 Day Ave",1830,{"$f":"IF(AO5281+AO5377+AO5473+AO5569+AO5665+AO5761+AO5857=0,0,AVERAGE(AO5281,AO5377,AO5473,AO5569,AO5665,AO5761,AO5857))","v":0},0,0,0,0,0,0,0,0,0,0,0,0,0,0,0,0,0,0,0,0,0,0,0,0,0,0,0,0,0,0,0,{"$f":"IF(SUM(BU5281,BU5377,BU5473,BU5569,BU5665,BU5761,BU5857)=0,\"-\",AVERAGEIF(AN5207:AN5878,AN6049,BU5207:BU5878))","v":"-"},{"$f":"IF(SUM(BV5281,BV5377,BV5473,BV5569,BV5665,BV5761,BV5857)=0,\"-\",AVERAGEIF(AN5207:AN5878,AN6049,BV5207:BV5878))","v":"-"},"-","-","7 Day Ave",1830,{"$f":"IF(CA5281+CA5377+CA5473+CA5569+CA5665+CA5761+CA5857=0,0,AVERAGE(CA5281,CA5377,CA5473,CA5569,CA5665,CA5761,CA5857))","v":0},0,0,0,0,0,0,0,0,0,0,0,0,0,0,0,0,0,0,0,0,0,0,0,0,0,0,0,0,0,0,0,"-","-","-","-",0,0,0,0,0,0,0,0,0,0,0,0,0,0,0,{"$f":"SUM(DN6049+DT6049)","v":0},{"$f":"SUM(DO6049+DU6049)","v":0},{"$f":"SUM(DP6049+DV6049)","v":0}]
["7 Day Ave",1845,{"$f":"IF(C5282+C5378+C5474+C5570+C5666+C5762+C5858=0,0,AVERAGE(C5282,C5378,C5474,C5570,C5666,C5762,C5858))","v":0},0,0,0,0,0,0,0,0,0,0,0,0,0,0,0,0,0,0,0,0,0,0,0,0,0,0,0,0,0,0,0,{"$f":"IF(SUM(AI5282,AI5378,AI5474,AI5570,AI5666,AI5762,AI5858)=0,\"-\",AVERAGEIF(B5207:B5878,B6050,AI5207:AI5878))","v":"-"},{"$f":"IF(SUM(AJ5282,AJ5378,AJ5474,AJ5570,AJ5666,AJ5762,AJ5858)=0,\"-\",AVERAGEIF(B5207:B5878,B6050,AJ5207:AJ5878))","v":"-"},"-","-","7 Day Ave",1845,{"$f":"IF(AO5282+AO5378+AO5474+AO5570+AO5666+AO5762+AO5858=0,0,AVERAGE(AO5282,AO5378,AO5474,AO5570,AO5666,AO5762,AO5858))","v":0},0,0,0,0,0,0,0,0,0,0,0,0,0,0,0,0,0,0,0,0,0,0,0,0,0,0,0,0,0,0,0,{"$f":"IF(SUM(BU5282,BU5378,BU5474,BU5570,BU5666,BU5762,BU5858)=0,\"-\",AVERAGEIF(AN5207:AN5878,AN6050,BU5207:BU5878))","v":"-"},{"$f":"IF(SUM(BV5282,BV5378,BV5474,BV5570,BV5666,BV5762,BV5858)=0,\"-\",AVERAGEIF(AN5207:AN5878,AN6050,BV5207:BV5878))","v":"-"},"-","-","7 Day Ave",1845,{"$f":"IF(CA5282+CA5378+CA5474+CA5570+CA5666+CA5762+CA5858=0,0,AVERAGE(CA5282,CA5378,CA5474,CA5570,CA5666,CA5762,CA5858))","v":0},0,0,0,0,0,0,0,0,0,0,0,0,0,0,0,0,0,0,0,0,0,0,0,0,0,0,0,0,0,0,0,"-","-","-","-",0,0,0,{"$f":"SUM(G6050:H6050)","v":0},0,0,0,0,0,0,0,0,{"$f":"SUM(DK6050+DQ6050)","v":0},{"$f":"SUM(DL6050+DR6050)","v":0},{"$f":"SUM(DM6050+DS6050)","v":0},0,0,0]
["7 Day Ave",1900,{"$f":"IF(C5283+C5379+C5475+C5571+C5667+C5763+C5859=0,0,AVERAGE(C5283,C5379,C5475,C5571,C5667,C5763,C5859))","v":0},0,0,0,0,0,0,0,0,0,0,0,0,0,0,0,0,0,0,0,0,0,0,0,0,0,0,0,0,0,0,0,{"$f":"IF(SUM(AI5283,AI5379,AI5475,AI5571,AI5667,AI5763,AI5859)=0,\"-\",AVERAGEIF(B5207:B5878,B6051,AI5207:AI5878))","v":"-"},{"$f":"IF(SUM(AJ5283,AJ5379,AJ5475,AJ5571,AJ5667,AJ5763,AJ5859)=0,\"-\",AVERAGEIF(B5207:B5878,B6051,AJ5207:AJ5878))","v":"-"},"-","-","7 Day Ave",1900,{"$f":"IF(AO5283+AO5379+AO5475+AO5571+AO5667+AO5763+AO5859=0,0,AVERAGE(AO5283,AO5379,AO5475,AO5571,AO5667,AO5763,AO5859))","v":0},0,0,0,0,0,0,0,0,0,0,0,0,0,0,0,0,0,0,0,0,0,0,0,0,0,0,0,0,0,0,0,{"$f":"IF(SUM(BU5283,BU5379,BU5475,BU5571,BU5667,BU5763,BU5859)=0,\"-\",AVERAGEIF(AN5207:AN5878,AN6051,BU5207:BU5878))","v":"-"},{"$f":"IF(SUM(BV5283,BV5379,BV5475,BV5571,BV5667,BV5763,BV5859)=0,\"-\",AVERAGEIF(AN5207:AN5878,AN6051,BV5207:BV5878))","v":"-"},"-","-","7 Day Ave",1900,{"$f":"IF(CA5283+CA5379+CA5475+CA5571+CA5667+CA5763+CA5859=0,0,AVERAGE(CA5283,CA5379,CA5475,CA5571,CA5667,CA5763,CA5859))","v":0},0,0,0,0,0,0,0,0,0,0,0,0,0,0,0,0,0,0,0,0,0,0,0,0,0,0,0,0,0,0,0,"-","-","-","-",0,0,0,{"$f":"SUM(G6051:H6051)","v":0},0,0,0,0,0,0,0,0,0,0,0,0,0,0]
["7 Day Ave",1915,{"$f":"IF(C5284+C5380+C5476+C5572+C5668+C5764+C5860=0,0,AVERAGE(C5284,C5380,C5476,C5572,C5668,C5764,C5860))","v":0},0,0,0,0,0,0,0,0,0,0,0,0,0,0,0,0,0,0,0,0,0,0,0,0,0,0,0,0,0,0,0,{"$f":"IF(SUM(AI5284,AI5380,AI5476,AI5572,AI5668,AI5764,AI5860)=0,\"-\",AVERAGEIF(B5207:B5878,B6052,AI5207:AI5878))","v":"-"},{"$f":"IF(SUM(AJ5284,AJ5380,AJ5476,AJ5572,AJ5668,AJ5764,AJ5860)=0,\"-\",AVERAGEIF(B5207:B5878,B6052,AJ5207:AJ5878))","v":"-"},"-","-","7 Day Ave",1915,{"$f":"IF(AO5284+AO5380+AO5476+AO5572+AO5668+AO5764+AO5860=0,0,AVERAGE(AO5284,AO5380,AO5476,AO5572,AO5668,AO5764,AO5860))","v":0},0,0,0,0,0,0,0,0,0,0,0,0,0,0,0,0,0,0,0,0,0,0,0,0,0,0,0,0,0,0,0,{"$f":"IF(SUM(BU5284,BU5380,BU5476,BU5572,BU5668,BU5764,BU5860)=0,\"-\",AVERAGEIF(AN5207:AN5878,AN6052,BU5207:BU5878))","v":"-"},{"$f":"IF(SUM(BV5284,BV5380,BV5476,BV5572,BV5668,BV5764,BV5860)=0,\"-\",AVERAGEIF(AN5207:AN5878,AN6052,BV5207:BV5878))","v":"-"},"-","-","7 Day Ave",1915,{"$f":"IF(CA5284+CA5380+CA5476+CA5572+CA5668+CA5764+CA5860=0,0,AVERAGE(CA5284,CA5380,CA5476,CA5572,CA5668,CA5764,CA5860))","v":0},0,0,0,0,0,0,0,0,0,0,0,0,0,0,0,0,0,0,0,0,0,0,0,0,0,0,0,0,0,0,0,"-","-","-","-",0,0,0,0,0,0,0,0,0,0,0,0,0,0,0,0,0,0]
["7 Day Ave",1930,{"$f":"IF(C5285+C5381+C5477+C5573+C5669+C5765+C5861=0,0,AVERAGE(C5285,C5381,C5477,C5573,C5669,C5765,C5861))","v":0},0,0,0,0,0,0,0,0,0,0,0,0,0,0,0,0,0,0,0,0,0,0,0,0,0,0,0,0,0,0,0,{"$f":"IF(SUM(AI5285,AI5381,AI5477,AI5573,AI5669,AI5765,AI5861)=0,\"-\",AVERAGEIF(B5207:B5878,B6053,AI5207:AI5878))","v":"-"},{"$f":"IF(SUM(AJ5285,AJ5381,AJ5477,AJ5573,AJ5669,AJ5765,AJ5861)=0,\"-\",AVERAGEIF(B5207:B5878,B6053,AJ5207:AJ5878))","v":"-"},"-","-","7 Day Ave",1930,{"$f":"IF(AO5285+AO5381+AO5477+AO5573+AO5669+AO5765+AO5861=0,0,AVERAGE(AO5285,AO5381,AO5477,AO5573,AO5669,AO5765,AO5861))","v":0},0,0,0,0,0,0,0,0,0,0,0,0,0,0,0,0,0,0,0,0,0,0,0,0,0,0,0,0,0,0,0,{"$f":"IF(SUM(BU5285,BU5381,BU5477,BU5573,BU5669,BU5765,BU5861)=0,\"-\",AVERAGEIF(AN5207:AN5878,AN6053,BU5207:BU5878))","v":"-"},{"$f":"IF(SUM(BV5285,BV5381,BV5477,BV5573,BV5669,BV5765,BV5861)=0,\"-\",AVERAGEIF(AN5207:AN5878,AN6053,BV5207:BV5878))","v":"-"},"-","-","7 Day Ave",1930,{"$f":"IF(CA5285+CA5381+CA5477+CA5573+CA5669+CA5765+CA5861=0,0,AVERAGE(CA5285,CA5381,CA5477,CA5573,CA5669,CA5765,CA5861))","v":0},0,0,0,0,0,0,0,0,0,0,0,0,0,0,0,0,0,0,0,0,0,0,0,0,0,0,0,0,0,0,0,"-","-","-","-",0,0,0,0,0,0,0,0,0,0,0,0,0,0,0,0,0,0]
["7 Day Ave",1945,{"$f":"IF(C5286+C5382+C5478+C5574+C5670+C5766+C5862=0,0,AVERAGE(C5286,C5382,C5478,C5574,C5670,C5766,C5862))","v":0},0,0,0,0,0,0,0,0,0,0,0,0,0,0,0,0,0,0,0,0,0,0,0,0,0,0,0,0,0,0,0,{"$f":"IF(SUM(AI5286,AI5382,AI5478,AI5574,AI5670,AI5766,AI5862)=0,\"-\",AVERAGEIF(B5207:B5878,B6054,AI5207:AI5878))","v":"-"},{"$f":"IF(SUM(AJ5286,AJ5382,AJ5478,AJ5574,AJ5670,AJ5766,AJ5862)=0,\"-\",AVERAGEIF(B5207:B5878,B6054,AJ5207:AJ5878))","v":"-"},"-","-","7 Day Ave",1945,{"$f":"IF(AO5286+AO5382+AO5478+AO5574+AO5670+AO5766+AO5862=0,0,AVERAGE(AO5286,AO5382,AO5478,AO5574,AO5670,AO5766,AO5862))","v":0},0,0,0,0,0,0,0,0,0,0,0,0,0,0,0,0,0,0,0,0,0,0,0,0,0,0,0,0,0,0,0,{"$f":"IF(SUM(BU5286,BU5382,BU5478,BU5574,BU5670,BU5766,BU5862)=0,\"-\",AVERAGEIF(AN5207:AN5878,AN6054,BU5207:BU5878))","v":"-"},{"$f":"IF(SUM(BV5286,BV5382,BV5478,BV5574,BV5670,BV5766,BV5862)=0,\"-\",AVERAGEIF(AN5207:AN5878,AN6054,BV5207:BV5878))","v":"-"},"-","-","7 Day Ave",1945,{"$f":"IF(CA5286+CA5382+CA5478+CA5574+CA5670+CA5766+CA5862=0,0,AVERAGE(CA5286,CA5382,CA5478,CA5574,CA5670,CA5766,CA5862))","v":0},0,0,0,0,0,0,0,0,0,0,0,0,0,0,0,0,0,0,0,0,0,0,0,0,0,0,0,0,0,0,0,"-","-","-","-",0,0,0,0,0,0,0,0,0,0,0,0,0,0,0,0,0,0]
["7 Day Ave",2000,{"$f":"IF(C5287+C5383+C5479+C5575+C5671+C5767+C5863=0,0,AVERAGE(C5287,C5383,C5479,C5575,C5671,C5767,C5863))","v":0},0,0,0,0,0,0,0,0,0,0,0,0,0,0,0,0,0,0,0,0,0,0,0,0,0,0,0,0,0,0,0,{"$f":"IF(SUM(AI5287,AI5383,AI5479,AI5575,AI5671,AI5767,AI5863)=0,\"-\",AVERAGEIF(B5207:B5878,B6055,AI5207:AI5878))","v":"-"},{"$f":"IF(SUM(AJ5287,AJ5383,AJ5479,AJ5575,AJ5671,AJ5767,AJ5863)=0,\"-\",AVERAGEIF(B5207:B5878,B6055,AJ5207:AJ5878))","v":"-"},"-","-","7 Day Ave",2000,{"$f":"IF(AO5287+AO5383+AO5479+AO5575+AO5671+AO5767+AO5863=0,0,AVERAGE(AO5287,AO5383,AO5479,AO5575,AO5671,AO5767,AO5863))","v":0},0,0,0,0,0,0,0,0,0,0,0,0,0,0,0,0,0,0,0,0,0,0,0,0,0,0,0,0,0,0,0,{"$f":"IF(SUM(BU5287,BU5383,BU5479,BU5575,BU5671,BU5767,BU5863)=0,\"-\",AVERAGEIF(AN5207:AN5878,AN6055,BU5207:BU5878))","v":"-"},{"$f":"IF(SUM(BV5287,BV5383,BV5479,BV5575,BV5671,BV5767,BV5863)=0,\"-\",AVERAGEIF(AN5207:AN5878,AN6055,BV5207:BV5878))","v":"-"},"-","-","7 Day Ave",2000,{"$f":"IF(CA5287+CA5383+CA5479+CA5575+CA5671+CA5767+CA5863=0,0,AVERAGE(CA5287,CA5383,CA5479,CA5575,CA5671,CA5767,CA5863))","v":0},0,0,0,0,0,0,0,0,0,0,0,0,0,0,0,0,0,0,0,0,0,0,0,0,0,0,0,0,0,0,0,"-","-","-","-",0,0,0,0,0,0,0,0,0,0,0,0,0,0,0,0,0,0]
["7 Day Ave",2015,{"$f":"IF(C5288+C5384+C5480+C5576+C5672+C5768+C5864=0,0,AVERAGE(C5288,C5384,C5480,C5576,C5672,C5768,C5864))","v":0},0,0,0,0,0,0,0,0,0,0,0,0,0,0,0,0,0,0,0,0,0,0,0,0,0,0,0,0,0,0,0,{"$f":"IF(SUM(AI5288,AI5384,AI5480,AI5576,AI5672,AI5768,AI5864)=0,\"-\",AVERAGEIF(B5207:B5878,B6056,AI5207:AI5878))","v":"-"},{"$f":"IF(SUM(AJ5288,AJ5384,AJ5480,AJ5576,AJ5672,AJ5768,AJ5864)=0,\"-\",AVERAGEIF(B5207:B5878,B6056,AJ5207:AJ5878))","v":"-"},"-","-","7 Day Ave",2015,{"$f":"IF(AO5288+AO5384+AO5480+AO5576+AO5672+AO5768+AO5864=0,0,AVERAGE(AO5288,AO5384,AO5480,AO5576,AO5672,AO5768,AO5864))","v":0},0,0,0,0,0,0,0,0,0,0,0,0,0,0,0,0,0,0,0,0,0,0,0,0,0,0,0,0,0,0,0,{"$f":"IF(SUM(BU5288,BU5384,BU5480,BU5576,BU5672,BU5768,BU5864)=0,\"-\",AVERAGEIF(AN5207:AN5878,AN6056,BU5207:BU5878))","v":"-"},{"$f":"IF(SUM(BV5288,BV5384,BV5480,BV5576,BV5672,BV5768,BV5864)=0,\"-\",AVERAGEIF(AN5207:AN5878,AN6056,BV5207:BV5878))","v":"-"},"-","-","7 Day Ave",2015,{"$f":"IF(CA5288+CA5384+CA5480+CA5576+CA5672+CA5768+CA5864=0,0,AVERAGE(CA5288,CA5384,CA5480,CA5576,CA5672,CA5768,CA5864))","v":0},0,0,0,0,0,0,0,0,0,0,0,0,0,0,0,0,0,0,0,0,0,0,0,0,0,0,0,0,0,0,0,"-","-","-","-",0,0,0,0,0,0,0,0,0,0,0,0,0,0,0,0,0,0]
["7 Day Ave",2030,{"$f":"IF(C5289+C5385+C5481+C5577+C5673+C5769+C5865=0,0,AVERAGE(C5289,C5385,C5481,C5577,C5673,C5769,C5865))","v":0},0,0,0,0,0,0,0,0,0,0,0,0,0,0,0,0,0,0,0,0,0,0,0,0,0,0,0,0,0,0,0,{"$f":"IF(SUM(AI5289,AI5385,AI5481,AI5577,AI5673,AI5769,AI5865)=0,\"-\",AVERAGEIF(B5207:B5878,B6057,AI5207:AI5878))","v":"-"},{"$f":"IF(SUM(AJ5289,AJ5385,AJ5481,AJ5577,AJ5673,AJ5769,AJ5865)=0,\"-\",AVERAGEIF(B5207:B5878,B6057,AJ5207:AJ5878))","v":"-"},"-","-","7 Day Ave",2030,{"$f":"IF(AO5289+AO5385+AO5481+AO5577+AO5673+AO5769+AO5865=0,0,AVERAGE(AO5289,AO5385,AO5481,AO5577,AO5673,AO5769,AO5865))","v":0},0,0,0,0,0,0,0,0,0,0,0,0,0,0,0,0,0,0,0,0,0,0,0,0,0,0,0,0,0,0,0,{"$f":"IF(SUM(BU5289,BU5385,BU5481,BU5577,BU5673,BU5769,BU5865)=0,\"-\",AVERAGEIF(AN5207:AN5878,AN6057,BU5207:BU5878))","v":"-"},{"$f":"IF(SUM(BV5289,BV5385,BV5481,BV5577,BV5673,BV5769,BV5865)=0,\"-\",AVERAGEIF(AN5207:AN5878,AN6057,BV5207:BV5878))","v":"-"},"-","-","7 Day Ave",2030,{"$f":"IF(CA5289+CA5385+CA5481+CA5577+CA5673+CA5769+CA5865=0,0,AVERAGE(CA5289,CA5385,CA5481,CA5577,CA5673,CA5769,CA5865))","v":0},0,0,0,0,0,0,0,0,0,0,0,0,0,0,0,0,0,0,0,0,0,0,0,0,0,0,0,0,0,0,0,"-","-","-","-",0,0,0,0,0,0,0,0,0,0,0,0,0,0,0,0,0,0]
["7 Day Ave",2045,{"$f":"IF(C5290+C5386+C5482+C5578+C5674+C5770+C5866=0,0,AVERAGE(C5290,C5386,C5482,C5578,C5674,C5770,C5866))","v":0},0,0,0,0,0,0,0,0,0,0,0,0,0,0,0,0,0,0,0,0,0,0,0,0,0,0,0,0,0,0,0,{"$f":"IF(SUM(AI5290,AI5386,AI5482,AI5578,AI5674,AI5770,AI5866)=0,\"-\",AVERAGEIF(B5207:B5878,B6058,AI5207:AI5878))","v":"-"},{"$f":"IF(SUM(AJ5290,AJ5386,AJ5482,AJ5578,AJ5674,AJ5770,AJ5866)=0,\"-\",AVERAGEIF(B5207:B5878,B6058,AJ5207:AJ5878))","v":"-"},"-","-","7 Day Ave",2045,{"$f":"IF(AO5290+AO5386+AO5482+AO5578+AO5674+AO5770+AO5866=0,0,AVERAGE(AO5290,AO5386,AO5482,AO5578,AO5674,AO5770,AO5866))","v":0},0,0,0,0,0,0,0,0,0,0,0,0,0,0,0,0,0,0,0,0,0,0,0,0,0,0,0,0,0,0,0,{"$f":"IF(SUM(BU5290,BU5386,BU5482,BU5578,BU5674,BU5770,BU5866)=0,\"-\",AVERAGEIF(AN5207:AN5878,AN6058,BU5207:BU5878))","v":"-"},{"$f":"IF(SUM(BV5290,BV5386,BV5482,BV5578,BV5674,BV5770,BV5866)=0,\"-\",AVERAGEIF(AN5207:AN5878,AN6058,BV5207:BV5878))","v":"-"},"-","-","7 Day Ave",2045,{"$f":"IF(CA5290+CA5386+CA5482+CA5578+CA5674+CA5770+CA5866=0,0,AVERAGE(CA5290,CA5386,CA5482,CA5578,CA5674,CA5770,CA5866))","v":0},0,0,0,0,0,0,0,0,0,0,0,0,0,0,0,0,0,0,0,0,0,0,0,0,0,0,0,0,0,0,0,"-","-","-","-",0,0,0,0,0,0,0,0,0,0,0,0,0,0,0,0,0,0]
["7 Day Ave",2100,{"$f":"IF(C5291+C5387+C5483+C5579+C5675+C5771+C5867=0,0,AVERAGE(C5291,C5387,C5483,C5579,C5675,C5771,C5867))","v":0},0,0,0,0,0,0,0,0,0,0,0,0,0,0,0,0,0,0,0,0,0,0,0,0,0,0,0,0,0,0,0,{"$f":"IF(SUM(AI5291,AI5387,AI5483,AI5579,AI5675,AI5771,AI5867)=0,\"-\",AVERAGEIF(B5207:B5878,B6059,AI5207:AI5878))","v":"-"},{"$f":"IF(SUM(AJ5291,AJ5387,AJ5483,AJ5579,AJ5675,AJ5771,AJ5867)=0,\"-\",AVERAGEIF(B5207:B5878,B6059,AJ5207:AJ5878))","v":"-"},"-","-","7 Day Ave",2100,{"$f":"IF(AO5291+AO5387+AO5483+AO5579+AO5675+AO5771+AO5867=0,0,AVERAGE(AO5291,AO5387,AO5483,AO5579,AO5675,AO5771,AO5867))","v":0},0,0,0,0,0,0,0,0,0,0,0,0,0,0,0,0,0,0,0,0,0,0,0,0,0,0,0,0,0,0,0,{"$f":"IF(SUM(BU5291,BU5387,BU5483,BU5579,BU5675,BU5771,BU5867)=0,\"-\",AVERAGEIF(AN5207:AN5878,AN6059,BU5207:BU5878))","v":"-"},{"$f":"IF(SUM(BV5291,BV5387,BV5483,BV5579,BV5675,BV5771,BV5867)=0,\"-\",AVERAGEIF(AN5207:AN5878,AN6059,BV5207:BV5878))","v":"-"},"-","-","7 Day Ave",2100,{"$f":"IF(CA5291+CA5387+CA5483+CA5579+CA5675+CA5771+CA5867=0,0,AVERAGE(CA5291,CA5387,CA5483,CA5579,CA5675,CA5771,CA5867))","v":0},0,0,0,0,0,0,0,0,0,0,0,0,0,0,0,0,0,0,0,0,0,0,0,0,0,0,0,0,0,0,0,"-","-","-","-",0,0,0,0,0,0,0,0,0,0,0,0,0,0,0,0,0,0]
["7 Day Ave",2115,{"$f":"IF(C5292+C5388+C5484+C5580+C5676+C5772+C5868=0,0,AVERAGE(C5292,C5388,C5484,C5580,C5676,C5772,C5868))","v":0},0,0,0,0,0,0,0,0,0,0,0,0,0,0,0,0,0,0,0,0,0,0,0,0,0,0,0,0,0,0,0,{"$f":"IF(SUM(AI5292,AI5388,AI5484,AI5580,AI5676,AI5772,AI5868)=0,\"-\",AVERAGEIF(B5207:B5878,B6060,AI5207:AI5878))","v":"-"},{"$f":"IF(SUM(AJ5292,AJ5388,AJ5484,AJ5580,AJ5676,AJ5772,AJ5868)=0,\"-\",AVERAGEIF(B5207:B5878,B6060,AJ5207:AJ5878))","v":"-"},"-","-","7 Day Ave",2115,{"$f":"IF(AO5292+AO5388+AO5484+AO5580+AO5676+AO5772+AO5868=0,0,AVERAGE(AO5292,AO5388,AO5484,AO5580,AO5676,AO5772,AO5868))","v":0},0,0,0,0,0,0,0,0,0,0,0,0,0,0,0,0,0,0,0,0,0,0,0,0,0,0,0,0,0,0,0,{"$f":"IF(SUM(BU5292,BU5388,BU5484,BU5580,BU5676,BU5772,BU5868)=0,\"-\",AVERAGEIF(AN5207:AN5878,AN6060,BU5207:BU5878))","v":"-"},{"$f":"IF(SUM(BV5292,BV5388,BV5484,BV5580,BV5676,BV5772,BV5868)=0,\"-\",AVERAGEIF(AN5207:AN5878,AN6060,BV5207:BV5878))","v":"-"},"-","-","7 Day Ave",2115,{"$f":"IF(CA5292+CA5388+CA5484+CA5580+CA5676+CA5772+CA5868=0,0,AVERAGE(CA5292,CA5388,CA5484,CA5580,CA5676,CA5772,CA5868))","v":0},0,0,0,0,0,0,0,0,0,0,0,0,0,0,0,0,0,0,0,0,0,0,0,0,0,0,0,0,0,0,0,"-","-","-","-",0,0,0,0,0,0,0,0,0,0,0,0,0,0,0,0,0,0]
["7 Day Ave",2130,{"$f":"IF(C5293+C5389+C5485+C5581+C5677+C5773+C5869=0,0,AVERAGE(C5293,C5389,C5485,C5581,C5677,C5773,C5869))","v":0},0,0,0,0,0,0,0,0,0,0,0,0,0,0,0,0,0,0,0,0,0,0,0,0,0,0,0,0,0,0,0,{"$f":"IF(SUM(AI5293,AI5389,AI5485,AI5581,AI5677,AI5773,AI5869)=0,\"-\",AVERAGEIF(B5207:B5878,B6061,AI5207:AI5878))","v":"-"},{"$f":"IF(SUM(AJ5293,AJ5389,AJ5485,AJ5581,AJ5677,AJ5773,AJ5869)=0,\"-\",AVERAGEIF(B5207:B5878,B6061,AJ5207:AJ5878))","v":"-"},"-","-","7 Day Ave",2130,{"$f":"IF(AO5293+AO5389+AO5485+AO5581+AO5677+AO5773+AO5869=0,0,AVERAGE(AO5293,AO5389,AO5485,AO5581,AO5677,AO5773,AO5869))","v":0},0,0,0,0,0,0,0,0,0,0,0,0,0,0,0,0,0,0,0,0,0,0,0,0,0,0,0,0,0,0,0,{"$f":"IF(SUM(BU5293,BU5389,BU5485,BU5581,BU5677,BU5773,BU5869)=0,\"-\",AVERAGEIF(AN5207:AN5878,AN6061,BU5207:BU5878))","v":"-"},{"$f":"IF(SUM(BV5293,BV5389,BV5485,BV5581,BV5677,BV5773,BV5869)=0,\"-\",AVERAGEIF(AN5207:AN5878,AN6061,BV5207:BV5878))","v":"-"},"-","-","7 Day Ave",2130,{"$f":"IF(CA5293+CA5389+CA5485+CA5581+CA5677+CA5773+CA5869=0,0,AVERAGE(CA5293,CA5389,CA5485,CA5581,CA5677,CA5773,CA5869))","v":0},0,0,0,0,0,0,0,0,0,0,0,0,0,0,0,0,0,0,0,0,0,0,0,0,0,0,0,0,0,0,0,"-","-","-","-",0,0,0,0,0,0,0,0,0,0,0,0,0,0,0,0,0,0]
["7 Day Ave",2145,{"$f":"IF(C5294+C5390+C5486+C5582+C5678+C5774+C5870=0,0,AVERAGE(C5294,C5390,C5486,C5582,C5678,C5774,C5870))","v":0},0,0,0,0,0,0,0,0,0,0,0,0,0,0,0,0,0,0,0,0,0,0,0,0,0,0,0,0,0,0,0,{"$f":"IF(SUM(AI5294,AI5390,AI5486,AI5582,AI5678,AI5774,AI5870)=0,\"-\",AVERAGEIF(B5207:B5878,B6062,AI5207:AI5878))","v":"-"},{"$f":"IF(SUM(AJ5294,AJ5390,AJ5486,AJ5582,AJ5678,AJ5774,AJ5870)=0,\"-\",AVERAGEIF(B5207:B5878,B6062,AJ5207:AJ5878))","v":"-"},"-","-","7 Day Ave",2145,{"$f":"IF(AO5294+AO5390+AO5486+AO5582+AO5678+AO5774+AO5870=0,0,AVERAGE(AO5294,AO5390,AO5486,AO5582,AO5678,AO5774,AO5870))","v":0},0,0,0,0,0,0,0,0,0,0,0,0,0,0,0,0,0,0,0,0,0,0,0,0,0,0,0,0,0,0,0,{"$f":"IF(SUM(BU5294,BU5390,BU5486,BU5582,BU5678,BU5774,BU5870)=0,\"-\",AVERAGEIF(AN5207:AN5878,AN6062,BU5207:BU5878))","v":"-"},{"$f":"IF(SUM(BV5294,BV5390,BV5486,BV5582,BV5678,BV5774,BV5870)=0,\"-\",AVERAGEIF(AN5207:AN5878,AN6062,BV5207:BV5878))","v":"-"},"-","-","7 Day Ave",2145,{"$f":"IF(CA5294+CA5390+CA5486+CA5582+CA5678+CA5774+CA5870=0,0,AVERAGE(CA5294,CA5390,CA5486,CA5582,CA5678,CA5774,CA5870))","v":0},0,0,0,0,0,0,0,0,0,0,0,0,0,0,0,0,0,0,0,0,0,0,0,0,0,0,0,0,0,0,0,"-","-","-","-",0,0,0,0,0,0,0,0,0,0,0,0,0,0,0,0,0,0]
["7 Day Ave",2200,{"$f":"IF(C5295+C5391+C5487+C5583+C5679+C5775+C5871=0,0,AVERAGE(C5295,C5391,C5487,C5583,C5679,C5775,C5871))","v":0},0,0,0,0,0,0,0,0,0,0,0,0,0,0,0,0,0,0,0,0,0,0,0,0,0,0,0,0,0,0,0,{"$f":"IF(SUM(AI5295,AI5391,AI5487,AI5583,AI5679,AI5775,AI5871)=0,\"-\",AVERAGEIF(B5207:B5878,B6063,AI5207:AI5878))","v":"-"},{"$f":"IF(SUM(AJ5295,AJ5391,AJ5487,AJ5583,AJ5679,AJ5775,AJ5871)=0,\"-\",AVERAGEIF(B5207:B5878,B6063,AJ5207:AJ5878))","v":"-"},"-","-","7 Day Ave",2200,{"$f":"IF(AO5295+AO5391+AO5487+AO5583+AO5679+AO5775+AO5871=0,0,AVERAGE(AO5295,AO5391,AO5487,AO5583,AO5679,AO5775,AO5871))","v":0},0,0,0,0,0,0,0,0,0,0,0,0,0,0,0,0,0,0,0,0,0,0,0,0,0,0,0,0,0,0,0,{"$f":"IF(SUM(BU5295,BU5391,BU5487,BU5583,BU5679,BU5775,BU5871)=0,\"-\",AVERAGEIF(AN5207:AN5878,AN6063,BU5207:BU5878))","v":"-"},{"$f":"IF(SUM(BV5295,BV5391,BV5487,BV5583,BV5679,BV5775,BV5871)=0,\"-\",AVERAGEIF(AN5207:AN5878,AN6063,BV5207:BV5878))","v":"-"},"-","-","7 Day Ave",2200,{"$f":"IF(CA5295+CA5391+CA5487+CA5583+CA5679+CA5775+CA5871=0,0,AVERAGE(CA5295,CA5391,CA5487,CA5583,CA5679,CA5775,CA5871))","v":0},0,0,0,0,0,0,0,0,0,0,0,0,0,0,0,0,0,0,0,0,0,0,0,0,0,0,0,0,0,0,0,"-","-","-","-",0,0,0,0,0,0,0,0,0,0,0,0,0,0,0,0,0,0]
["7 Day Ave",2215,{"$f":"IF(C5296+C5392+C5488+C5584+C5680+C5776+C5872=0,0,AVERAGE(C5296,C5392,C5488,C5584,C5680,C5776,C5872))","v":0},0,0,0,0,0,0,0,0,0,0,0,0,0,0,0,0,0,0,0,0,0,0,0,0,0,0,0,0,0,0,0,{"$f":"IF(SUM(AI5296,AI5392,AI5488,AI5584,AI5680,AI5776,AI5872)=0,\"-\",AVERAGEIF(B5207:B5878,B6064,AI5207:AI5878))","v":"-"},{"$f":"IF(SUM(AJ5296,AJ5392,AJ5488,AJ5584,AJ5680,AJ5776,AJ5872)=0,\"-\",AVERAGEIF(B5207:B5878,B6064,AJ5207:AJ5878))","v":"-"},"-","-","7 Day Ave",2215,{"$f":"IF(AO5296+AO5392+AO5488+AO5584+AO5680+AO5776+AO5872=0,0,AVERAGE(AO5296,AO5392,AO5488,AO5584,AO5680,AO5776,AO5872))","v":0},0,0,0,0,0,0,0,0,0,0,0,0,0,0,0,0,0,0,0,0,0,0,0,0,0,0,0,0,0,0,0,{"$f":"IF(SUM(BU5296,BU5392,BU5488,BU5584,BU5680,BU5776,BU5872)=0,\"-\",AVERAGEIF(AN5207:AN5878,AN6064,BU5207:BU5878))","v":"-"},{"$f":"IF(SUM(BV5296,BV5392,BV5488,BV5584,BV5680,BV5776,BV5872)=0,\"-\",AVERAGEIF(AN5207:AN5878,AN6064,BV5207:BV5878))","v":"-"},"-","-","7 Day Ave",2215,{"$f":"IF(CA5296+CA5392+CA5488+CA5584+CA5680+CA5776+CA5872=0,0,AVERAGE(CA5296,CA5392,CA5488,CA5584,CA5680,CA5776,CA5872))","v":0},0,0,0,0,0,0,0,0,0,0,0,0,0,0,0,0,0,0,0,0,0,0,0,0,0,0,0,0,0,0,0,"-","-","-","-",0,0,0,0,0,0,0,0,0,0,0,0,0,0,0,0,0,0]
["7 Day Ave",2230,{"$f":"IF(C5297+C5393+C5489+C5585+C5681+C5777+C5873=0,0,AVERAGE(C5297,C5393,C5489,C5585,C5681,C5777,C5873))","v":0},0,0,0,0,0,0,0,0,0,0,0,0,0,0,0,0,0,0,0,0,0,0,0,0,0,0,0,0,0,0,0,{"$f":"IF(SUM(AI5297,AI5393,AI5489,AI5585,AI5681,AI5777,AI5873)=0,\"-\",AVERAGEIF(B5207:B5878,B6065,AI5207:AI5878))","v":"-"},{"$f":"IF(SUM(AJ5297,AJ5393,AJ5489,AJ5585,AJ5681,AJ5777,AJ5873)=0,\"-\",AVERAGEIF(B5207:B5878,B6065,AJ5207:AJ5878))","v":"-"},"-","-","7 Day Ave",2230,{"$f":"IF(AO5297+AO5393+AO5489+AO5585+AO5681+AO5777+AO5873=0,0,AVERAGE(AO5297,AO5393,AO5489,AO5585,AO5681,AO5777,AO5873))","v":0},0,0,0,0,0,0,0,0,0,0,0,0,0,0,0,0,0,0,0,0,0,0,0,0,0,0,0,0,0,0,0,{"$f":"IF(SUM(BU5297,BU5393,BU5489,BU5585,BU5681,BU5777,BU5873)=0,\"-\",AVERAGEIF(AN5207:AN5878,AN6065,BU5207:BU5878))","v":"-"},{"$f":"IF(SUM(BV5297,BV5393,BV5489,BV5585,BV5681,BV5777,BV5873)=0,\"-\",AVERAGEIF(AN5207:AN5878,AN6065,BV5207:BV5878))","v":"-"},"-","-","7 Day Ave",2230,{"$f":"IF(CA5297+CA5393+CA5489+CA5585+CA5681+CA5777+CA5873=0,0,AVERAGE(CA5297,CA5393,CA5489,CA5585,CA5681,CA5777,CA5873))","v":0},0,0,0,0,0,0,0,0,0,0,0,0,0,0,0,0,0,0,0,0,0,0,0,0,0,0,0,0,0,0,0,"-","-","-","-",0,0,0,0,0,0,0,0,0,0,0,0,0,0,0,0,0,0]
["7 Day Ave",2245,{"$f":"IF(C5298+C5394+C5490+C5586+C5682+C5778+C5874=0,0,AVERAGE(C5298,C5394,C5490,C5586,C5682,C5778,C5874))","v":0},0,0,0,0,0,0,0,0,0,0,0,0,0,0,0,0,0,0,0,0,0,0,0,0,0,0,0,0,0,0,0,{"$f":"IF(SUM(AI5298,AI5394,AI5490,AI5586,AI5682,AI5778,AI5874)=0,\"-\",AVERAGEIF(B5207:B5878,B6066,AI5207:AI5878))","v":"-"},{"$f":"IF(SUM(AJ5298,AJ5394,AJ5490,AJ5586,AJ5682,AJ5778,AJ5874)=0,\"-\",AVERAGEIF(B5207:B5878,B6066,AJ5207:AJ5878))","v":"-"},"-","-","7 Day Ave",2245,{"$f":"IF(AO5298+AO5394+AO5490+AO5586+AO5682+AO5778+AO5874=0,0,AVERAGE(AO5298,AO5394,AO5490,AO5586,AO5682,AO5778,AO5874))","v":0},0,0,0,0,0,0,0,0,0,0,0,0,0,0,0,0,0,0,0,0,0,0,0,0,0,0,0,0,0,0,0,{"$f":"IF(SUM(BU5298,BU5394,BU5490,BU5586,BU5682,BU5778,BU5874)=0,\"-\",AVERAGEIF(AN5207:AN5878,AN6066,BU5207:BU5878))","v":"-"},{"$f":"IF(SUM(BV5298,BV5394,BV5490,BV5586,BV5682,BV5778,BV5874)=0,\"-\",AVERAGEIF(AN5207:AN5878,AN6066,BV5207:BV5878))","v":"-"},"-","-","7 Day Ave",2245,{"$f":"IF(CA5298+CA5394+CA5490+CA5586+CA5682+CA5778+CA5874=0,0,AVERAGE(CA5298,CA5394,CA5490,CA5586,CA5682,CA5778,CA5874))","v":0},0,0,0,0,0,0,0,0,0,0,0,0,0,0,0,0,0,0,0,0,0,0,0,0,0,0,0,0,0,0,0,"-","-","-","-",0,0,0,0,0,0,0,0,0,0,0,0,0,0,0,0,0,0]
["7 Day Ave",2300,{"$f":"IF(C5299+C5395+C5491+C5587+C5683+C5779+C5875=0,0,AVERAGE(C5299,C5395,C5491,C5587,C5683,C5779,C5875))","v":0},0,0,0,0,0,0,0,0,0,0,0,0,0,0,0,0,0,0,0,0,0,0,0,0,0,0,0,0,0,0,0,{"$f":"IF(SUM(AI5299,AI5395,AI5491,AI5587,AI5683,AI5779,AI5875)=0,\"-\",AVERAGEIF(B5207:B5878,B6067,AI5207:AI5878))","v":"-"},{"$f":"IF(SUM(AJ5299,AJ5395,AJ5491,AJ5587,AJ5683,AJ5779,AJ5875)=0,\"-\",AVERAGEIF(B5207:B5878,B6067,AJ5207:AJ5878))","v":"-"},"-","-","7 Day Ave",2300,{"$f":"IF(AO5299+AO5395+AO5491+AO5587+AO5683+AO5779+AO5875=0,0,AVERAGE(AO5299,AO5395,AO5491,AO5587,AO5683,AO5779,AO5875))","v":0},0,0,0,0,0,0,0,0,0,0,0,0,0,0,0,0,0,0,0,0,0,0,0,0,0,0,0,0,0,0,0,{"$f":"IF(SUM(BU5299,BU5395,BU5491,BU5587,BU5683,BU5779,BU5875)=0,\"-\",AVERAGEIF(AN5207:AN5878,AN6067,BU5207:BU5878))","v":"-"},{"$f":"IF(SUM(BV5299,BV5395,BV5491,BV5587,BV5683,BV5779,BV5875)=0,\"-\",AVERAGEIF(AN5207:AN5878,AN6067,BV5207:BV5878))","v":"-"},"-","-","7 Day Ave",2300,{"$f":"IF(CA5299+CA5395+CA5491+CA5587+CA5683+CA5779+CA5875=0,0,AVERAGE(CA5299,CA5395,CA5491,CA5587,CA5683,CA5779,CA5875))","v":0},0,0,0,0,0,0,0,0,0,0,0,0,0,0,0,0,0,0,0,0,0,0,0,0,0,0,0,0,0,0,0,"-","-","-","-",0,0,0,0,0,0,0,0,0,0,0,0,0,0,0,0,0,0]
["7 Day Ave",2315,{"$f":"IF(C5300+C5396+C5492+C5588+C5684+C5780+C5876=0,0,AVERAGE(C5300,C5396,C5492,C5588,C5684,C5780,C5876))","v":0},0,0,0,0,0,0,0,0,0,0,0,0,0,0,0,0,0,0,0,0,0,0,0,0,0,0,0,0,0,0,0,{"$f":"IF(SUM(AI5300,AI5396,AI5492,AI5588,AI5684,AI5780,AI5876)=0,\"-\",AVERAGEIF(B5207:B5878,B6068,AI5207:AI5878))","v":"-"},{"$f":"IF(SUM(AJ5300,AJ5396,AJ5492,AJ5588,AJ5684,AJ5780,AJ5876)=0,\"-\",AVERAGEIF(B5207:B5878,B6068,AJ5207:AJ5878))","v":"-"},"-","-","7 Day Ave",2315,{"$f":"IF(AO5300+AO5396+AO5492+AO5588+AO5684+AO5780+AO5876=0,0,AVERAGE(AO5300,AO5396,AO5492,AO5588,AO5684,AO5780,AO5876))","v":0},0,0,0,0,0,0,0,0,0,0,0,0,0,0,0,0,0,0,0,0,0,0,0,0,0,0,0,0,0,0,0,{"$f":"IF(SUM(BU5300,BU5396,BU5492,BU5588,BU5684,BU5780,BU5876)=0,\"-\",AVERAGEIF(AN5207:AN5878,AN6068,BU5207:BU5878))","v":"-"},{"$f":"IF(SUM(BV5300,BV5396,BV5492,BV5588,BV5684,BV5780,BV5876)=0,\"-\",AVERAGEIF(AN5207:AN5878,AN6068,BV5207:BV5878))","v":"-"},"-","-","7 Day Ave",2315,{"$f":"IF(CA5300+CA5396+CA5492+CA5588+CA5684+CA5780+CA5876=0,0,AVERAGE(CA5300,CA5396,CA5492,CA5588,CA5684,CA5780,CA5876))","v":0},0,0,0,0,0,0,0,0,0,0,0,0,0,0,0,0,0,0,0,0,0,0,0,0,0,0,0,0,0,0,0,"-","-","-","-",0,0,0,0,0,0,0,0,0,0,0,0,0,0,0,0,0,0]
["7 Day Ave",2330,{"$f":"IF(C5301+C5397+C5493+C5589+C5685+C5781+C5877=0,0,AVERAGE(C5301,C5397,C5493,C5589,C5685,C5781,C5877))","v":0},0,0,0,0,0,0,0,0,0,0,0,0,0,0,0,0,0,0,0,0,0,0,0,0,0,0,0,0,0,0,0,{"$f":"IF(SUM(AI5301,AI5397,AI5493,AI5589,AI5685,AI5781,AI5877)=0,\"-\",AVERAGEIF(B5207:B5878,B6069,AI5207:AI5878))","v":"-"},{"$f":"IF(SUM(AJ5301,AJ5397,AJ5493,AJ5589,AJ5685,AJ5781,AJ5877)=0,\"-\",AVERAGEIF(B5207:B5878,B6069,AJ5207:AJ5878))","v":"-"},"-","-","7 Day Ave",2330,{"$f":"IF(AO5301+AO5397+AO5493+AO5589+AO5685+AO5781+AO5877=0,0,AVERAGE(AO5301,AO5397,AO5493,AO5589,AO5685,AO5781,AO5877))","v":0},0,0,0,0,0,0,0,0,0,0,0,0,0,0,0,0,0,0,0,0,0,0,0,0,0,0,0,0,0,0,0,{"$f":"IF(SUM(BU5301,BU5397,BU5493,BU5589,BU5685,BU5781,BU5877)=0,\"-\",AVERAGEIF(AN5207:AN5878,AN6069,BU5207:BU5878))","v":"-"},{"$f":"IF(SUM(BV5301,BV5397,BV5493,BV5589,BV5685,BV5781,BV5877)=0,\"-\",AVERAGEIF(AN5207:AN5878,AN6069,BV5207:BV5878))","v":"-"},"-","-","7 Day Ave",2330,{"$f":"IF(CA5301+CA5397+CA5493+CA5589+CA5685+CA5781+CA5877=0,0,AVERAGE(CA5301,CA5397,CA5493,CA5589,CA5685,CA5781,CA5877))","v":0},0,0,0,0,0,0,0,0,0,0,0,0,0,0,0,0,0,0,0,0,0,0,0,0,0,0,0,0,0,0,0,"-","-","-","-",0,0,0,0,0,0,0,0,0,0,0,0,0,0,0,0,0,0]
["7 Day Ave",2345,{"$f":"IF(C5302+C5398+C5494+C5590+C5686+C5782+C5878=0,0,AVERAGE(C5302,C5398,C5494,C5590,C5686,C5782,C5878))","v":0},0,0,0,0,0,0,0,0,0,0,0,0,0,0,0,0,0,0,0,0,0,0,0,0,0,0,0,0,0,0,0,{"$f":"IF(SUM(AI5302,AI5398,AI5494,AI5590,AI5686,AI5782,AI5878)=0,\"-\",AVERAGEIF(B5207:B5878,B6070,AI5207:AI5878))","v":"-"},{"$f":"IF(SUM(AJ5302,AJ5398,AJ5494,AJ5590,AJ5686,AJ5782,AJ5878)=0,\"-\",AVERAGEIF(B5207:B5878,B6070,AJ5207:AJ5878))","v":"-"},"-","-","7 Day Ave",2345,{"$f":"IF(AO5302+AO5398+AO5494+AO5590+AO5686+AO5782+AO5878=0,0,AVERAGE(AO5302,AO5398,AO5494,AO5590,AO5686,AO5782,AO5878))","v":0},0,0,0,0,0,0,0,0,0,0,0,0,0,0,0,0,0,0,0,0,0,0,0,0,0,0,0,0,0,0,0,{"$f":"IF(SUM(BU5302,BU5398,BU5494,BU5590,BU5686,BU5782,BU5878)=0,\"-\",AVERAGEIF(AN5207:AN5878,AN6070,BU5207:BU5878))","v":"-"},{"$f":"IF(SUM(BV5302,BV5398,BV5494,BV5590,BV5686,BV5782,BV5878)=0,\"-\",AVERAGEIF(AN5207:AN5878,AN6070,BV5207:BV5878))","v":"-"},"-","-","7 Day Ave",2345,{"$f":"IF(CA5302+CA5398+CA5494+CA5590+CA5686+CA5782+CA5878=0,0,AVERAGE(CA5302,CA5398,CA5494,CA5590,CA5686,CA5782,CA5878))","v":0},0,0,0,0,0,0,0,0,0,0,0,0,0,0,0,0,0,0,0,0,0,0,0,0,0,0,0,0,0,0,0,"-","-","-","-",0,0,0,0,0,0,0,0,0,0,0,0,0,0,0,0,0,0]

{"sheet":"PictureList","index":2,"n_rows":21,"n_cols":2,"rows_kept":21,"cut":false,"hidden":true,"merged":[]}
["\"Select Site…\"","Site Picture"]
[{"$f":"Offsets!N5","v":"1. B4265 - 51.39833, -3.41253"},"Picture 1"]
[{"$f":"Offsets!N6","v":"2. Gileston Road - 51.40016, -3.41362"},"Picture 2"]
[{"$f":"Offsets!N7","v":"3. St Athan Road - 51.41599, -3.42599"},"Picture 3"]
[{"$f":"Offsets!N8","v":"4. B4265 - 51.41063, -3.46588"},"Picture 4"]
[{"$f":"Offsets!N9","v":"5. Eglwys-Brewis Road - 51.40966, -3.45586"},"Picture 5"]
[{"$f":"Offsets!N10","v":0},"Picture 6"]
[{"$f":"Offsets!N11","v":0},"Picture 7"]
[{"$f":"Offsets!N12","v":0},"Picture 8"]
[{"$f":"Offsets!N13","v":0},"Picture 9"]
[{"$f":"Offsets!N14","v":0},"Picture 10"]
[{"$f":"Offsets!N15","v":0},"Picture 11"]
[{"$f":"Offsets!N16","v":0},"Picture 12"]
[{"$f":"Offsets!N17","v":0},"Picture 13"]
[{"$f":"Offsets!N18","v":0},"Picture 14"]
[{"$f":"Offsets!N19","v":0},"Picture 15"]
[{"$f":"Offsets!N20","v":0},"Picture 16"]
[{"$f":"Offsets!N21","v":0},"Picture 17"]
[{"$f":"Offsets!N22","v":0},"Picture 18"]
[{"$f":"Offsets!N23","v":0},"Picture 19"]
[{"$f":"Offsets!N24","v":0},"Picture 20"]

{"sheet":"Menu","index":3,"n_rows":18,"n_cols":9,"rows_kept":18,"cut":false,"hidden":false,"merged":[[9,1,9,10],[18,1,22,6]]}
[null,null,null,null,null,null,"Job Number",{"$f":"Offsets!I1","v":"3185-WAL"}]
[null,null,null,null,null,null,"Client:",{"$f":"Offsets!L1","v":"WYG"}]
[null,null,null,null,null,null,"Project:",{"$f":"Offsets!G1","v":"St Athan"}]
[null,null,null,null,null,null,"Location:",{"$f":"Offsets!H3","v":"51.39833, -3.41253"}]
[null,null,null,null,null,null,"Site No.",{"$f":"Offsets!I3","v":1}]
[null,null,null,null,null,null,"Road",{"$f":"Offsets!G3","v":"B4265"}]
[null,null,null,null,null,null,"Start Date:",{"$f":"Offsets!L3","v":"2016-06-07"}]
[null,null,null,null,null,null,"Directions",{"$f":"Offsets!J3","v":"Eastbound"},{"$f":"Offsets!K3","v":"Westbound"}]
[]
[null,{"$f":"Offsets!G1","v":"St Athan"}]
[]
[null,"Site:"]
[]
[]
[]
[]
[]
[null,"Incidents / Observations"]

{"sheet":"Volume Summary","index":4,"n_rows":119,"n_cols":11,"rows_kept":119,"cut":false,"hidden":false,"merged":[[12,2,12,8],[6,8,6,9],[9,3,10,7],[0,8,0,9],[1,8,1,10],[2,8,2,10],[3,8,3,10],[5,8,5,12],[7,8,7,9],[7,10,7,11]]}
[null,null,null,null,null,null,"Job Number",null,{"$f":"Offsets!I1","v":"3185-WAL"}]
[null,null,null,null,null,null,"Client",null,{"$f":"Offsets!L1","v":"WYG"}]
[null,null,null,null,null,null,"Project",null,{"$f":"Offsets!G1","v":"St Athan"}]
[null,null,null,null,null,null,"Location",null,{"$f":"Offsets!H3","v":"51.39833, -3.41253"}]
[null,null,null,null,null,null,"Site No.",null,{"$f":"Offsets!I3","v":1}]
[null,null,null,null,null,null,"Road",null,{"$f":"Offsets!G3","v":"B4265"}]
[null,null,null,null,null,null,"Start Date",null,{"$f":"Offsets!L3","v":"2016-06-07"}]
[null,null,null,null,null,null,"Direction",null,{"$f":"Offsets!A2","v":"Combined"}]
[]
[null,null,null,"    Volume Summary",null,null,null,null,"Average Weekday",null,{"$f":"+J114","v":11962.799999999997}]
[null,null,null,null,null,null,null,null,"7 Day Average",null,{"$f":"+K114","v":11040.857142857139}]
[]
[null,null,"Day of Week",null,null,null,null,null,null," "]
[null,null,"Mon","Tue","Wed","Thu","Fri","Sat","Sun","Ave","7 Day"]
[null,"Time",{"$f":"+Offsets!P3","v":"2016-07-13"},{"$f":"+Offsets!Q3","v":"2016-06-07"},{"$f":"+Offsets!R3","v":"2016-06-08"},{"$f":"+Offsets!S3","v":"2016-06-09"},{"$f":"+Offsets!T3","v":"2016-06-10"},{"$f":"+Offsets!U3","v":"2016-06-11"},{"$f":"+Offsets!V3","v":"2016-06-12"},"W'day","Ave"]
[null,"AM Peak",{"$f":"MAX(C18:C65)","v":271},{"$f":"MAX(D18:D65)","v":279},283,299,252,198,174]
[null,"PM Peak",{"$f":"MAX(C66:C113)","v":268},{"$f":"MAX(D66:D113)","v":283},283,255,288,230,214]
[null,"00:00:00",{"$f":"OFFSET(Data!EC5,Offsets!$A$11,Offsets!$A$10)","v":16},{"$f":"OFFSET(Data!ED5,Offsets!$A$11,Offsets!$A$10)","v":14},{"$f":"OFFSET(Data!EE5,Offsets!$A$11,Offsets!$A$10)","v":14},{"$f":"OFFSET(Data!EF5,Offsets!$A$11,Offsets!$A$10)","v":17},{"$f":"OFFSET(Data!EG5,Offsets!$A$11,Offsets!$A$10)","v":23},{"$f":"OFFSET(Data!EH5,Offsets!$A$11,Offsets!$A$10)","v":26},{"$f":"OFFSET(Data!EI5,Offsets!$A$11,Offsets!$A$10)","v":38},{"$f":"OFFSET(Data!EX5,Offsets!$A$11,Offsets!$A$10)","v":16.8},{"$f":"OFFSET(Data!EY5,Offsets!$A$11,Offsets!$A$10)","v":21.142857142857142}]
[null,"00:15:00",{"$f":"OFFSET(Data!EC6,Offsets!$A$11,Offsets!$A$10)","v":10},{"$f":"OFFSET(Data!ED6,Offsets!$A$11,Offsets!$A$10)","v":13},{"$f":"OFFSET(Data!EE6,Offsets!$A$11,Offsets!$A$10)","v":10},{"$f":"OFFSET(Data!EF6,Offsets!$A$11,Offsets!$A$10)","v":13},{"$f":"OFFSET(Data!EG6,Offsets!$A$11,Offsets!$A$10)","v":22},{"$f":"OFFSET(Data!EH6,Offsets!$A$11,Offsets!$A$10)","v":21},{"$f":"OFFSET(Data!EI6,Offsets!$A$11,Offsets!$A$10)","v":40},{"$f":"OFFSET(Data!EX6,Offsets!$A$11,Offsets!$A$10)","v":13.6},{"$f":"OFFSET(Data!EY6,Offsets!$A$11,Offsets!$A$10)","v":18.428571428571427}]
[null,"00:30:00",{"$f":"OFFSET(Data!EC7,Offsets!$A$11,Offsets!$A$10)","v":20},{"$f":"OFFSET(Data!ED7,Offsets!$A$11,Offsets!$A$10)","v":8},{"$f":"OFFSET(Data!EE7,Offsets!$A$11,Offsets!$A$10)","v":10},{"$f":"OFFSET(Data!EF7,Offsets!$A$11,Offsets!$A$10)","v":11},{"$f":"OFFSET(Data!EG7,Offsets!$A$11,Offsets!$A$10)","v":12},{"$f":"OFFSET(Data!EH7,Offsets!$A$11,Offsets!$A$10)","v":19},{"$f":"OFFSET(Data!EI7,Offsets!$A$11,Offsets!$A$10)","v":43},{"$f":"OFFSET(Data!EX7,Offsets!$A$11,Offsets!$A$10)","v":12.2},{"$f":"OFFSET(Data!EY7,Offsets!$A$11,Offsets!$A$10)","v":17.571428571428573}]
[null,"00:45:00",{"$f":"OFFSET(Data!EC8,Offsets!$A$11,Offsets!$A$10)","v":16},{"$f":"OFFSET(Data!ED8,Offsets!$A$11,Offsets!$A$10)","v":5},{"$f":"OFFSET(Data!EE8,Offsets!$A$11,Offsets!$A$10)","v":8},{"$f":"OFFSET(Data!EF8,Offsets!$A$11,Offsets!$A$10)","v":7},{"$f":"OFFSET(Data!EG8,Offsets!$A$11,Offsets!$A$10)","v":8},{"$f":"OFFSET(Data!EH8,Offsets!$A$11,Offsets!$A$10)","v":26},{"$f":"OFFSET(Data!EI8,Offsets!$A$11,Offsets!$A$10)","v":37},{"$f":"OFFSET(Data!EX8,Offsets!$A$11,Offsets!$A$10)","v":8.8000000000000007},{"$f":"OFFSET(Data!EY8,Offsets!$A$11,Offsets!$A$10)","v":15.285714285714286}]
[null,"01:00:00",{"$f":"OFFSET(Data!EC9,Offsets!$A$11,Offsets!$A$10)","v":11},{"$f":"OFFSET(Data!ED9,Offsets!$A$11,Offsets!$A$10)","v":12},{"$f":"OFFSET(Data!EE9,Offsets!$A$11,Offsets!$A$10)","v":3},{"$f":"OFFSET(Data!EF9,Offsets!$A$11,Offsets!$A$10)","v":14},{"$f":"OFFSET(Data!EG9,Offsets!$A$11,Offsets!$A$10)","v":6},{"$f":"OFFSET(Data!EH9,Offsets!$A$11,Offsets!$A$10)","v":24},{"$f":"OFFSET(Data!EI9,Offsets!$A$11,Offsets!$A$10)","v":33},{"$f":"OFFSET(Data!EX9,Offsets!$A$11,Offsets!$A$10)","v":9.1999999999999993},{"$f":"OFFSET(Data!EY9,Offsets!$A$11,Offsets!$A$10)","v":14.714285714285714}]
[null,"01:15:00",{"$f":"OFFSET(Data!EC10,Offsets!$A$11,Offsets!$A$10)","v":11},{"$f":"OFFSET(Data!ED10,Offsets!$A$11,Offsets!$A$10)","v":5},{"$f":"OFFSET(Data!EE10,Offsets!$A$11,Offsets!$A$10)","v":5},{"$f":"OFFSET(Data!EF10,Offsets!$A$11,Offsets!$A$10)","v":9},{"$f":"OFFSET(Data!EG10,Offsets!$A$11,Offsets!$A$10)","v":8},{"$f":"OFFSET(Data!EH10,Offsets!$A$11,Offsets!$A$10)","v":14},{"$f":"OFFSET(Data!EI10,Offsets!$A$11,Offsets!$A$10)","v":27},{"$f":"OFFSET(Data!EX10,Offsets!$A$11,Offsets!$A$10)","v":7.6},{"$f":"OFFSET(Data!EY10,Offsets!$A$11,Offsets!$A$10)","v":11.285714285714286}]
[null,"01:30:00",{"$f":"OFFSET(Data!EC11,Offsets!$A$11,Offsets!$A$10)","v":6},{"$f":"OFFSET(Data!ED11,Offsets!$A$11,Offsets!$A$10)","v":4},{"$f":"OFFSET(Data!EE11,Offsets!$A$11,Offsets!$A$10)","v":3},{"$f":"OFFSET(Data!EF11,Offsets!$A$11,Offsets!$A$10)","v":8},{"$f":"OFFSET(Data!EG11,Offsets!$A$11,Offsets!$A$10)","v":3},{"$f":"OFFSET(Data!EH11,Offsets!$A$11,Offsets!$A$10)","v":7},{"$f":"OFFSET(Data!EI11,Offsets!$A$11,Offsets!$A$10)","v":14},{"$f":"OFFSET(Data!EX11,Offsets!$A$11,Offsets!$A$10)","v":4.8},{"$f":"OFFSET(Data!EY11,Offsets!$A$11,Offsets!$A$10)","v":6.4285714285714288}]
[null,"01:45:00",{"$f":"OFFSET(Data!EC12,Offsets!$A$11,Offsets!$A$10)","v":8},{"$f":"OFFSET(Data!ED12,Offsets!$A$11,Offsets!$A$10)","v":11},{"$f":"OFFSET(Data!EE12,Offsets!$A$11,Offsets!$A$10)","v":4},{"$f":"OFFSET(Data!EF12,Offsets!$A$11,Offsets!$A$10)","v":10},{"$f":"OFFSET(Data!EG12,Offsets!$A$11,Offsets!$A$10)","v":8},{"$f":"OFFSET(Data!EH12,Offsets!$A$11,Offsets!$A$10)","v":15},{"$f":"OFFSET(Data!EI12,Offsets!$A$11,Offsets!$A$10)","v":8},{"$f":"OFFSET(Data!EX12,Offsets!$A$11,Offsets!$A$10)","v":8.1999999999999993},{"$f":"OFFSET(Data!EY12,Offsets!$A$11,Offsets!$A$10)","v":9.1428571428571423}]
[null,"02:00:00",{"$f":"OFFSET(Data!EC13,Offsets!$A$11,Offsets!$A$10)","v":6},{"$f":"OFFSET(Data!ED13,Offsets!$A$11,Offsets!$A$10)","v":13},{"$f":"OFFSET(Data!EE13,Offsets!$A$11,Offsets!$A$10)","v":2},{"$f":"OFFSET(Data!EF13,Offsets!$A$11,Offsets!$A$10)","v":6},{"$f":"OFFSET(Data!EG13,Offsets!$A$11,Offsets!$A$10)","v":11},{"$f":"OFFSET(Data!EH13,Offsets!$A$11,Offsets!$A$10)","v":16},{"$f":"OFFSET(Data!EI13,Offsets!$A$11,Offsets!$A$10)","v":8},{"$f":"OFFSET(Data!EX13,Offsets!$A$11,Offsets!$A$10)","v":7.6},{"$f":"OFFSET(Data!EY13,Offsets!$A$11,Offsets!$A$10)","v":8.8571428571428577}]
[null,"02:15:00",{"$f":"OFFSET(Data!EC14,Offsets!$A$11,Offsets!$A$10)","v":8},{"$f":"OFFSET(Data!ED14,Offsets!$A$11,Offsets!$A$10)","v":7},{"$f":"OFFSET(Data!EE14,Offsets!$A$11,Offsets!$A$10)","v":11},{"$f":"OFFSET(Data!EF14,Offsets!$A$11,Offsets!$A$10)","v":9},{"$f":"OFFSET(Data!EG14,Offsets!$A$11,Offsets!$A$10)","v":6},{"$f":"OFFSET(Data!EH14,Offsets!$A$11,Offsets!$A$10)","v":11},{"$f":"OFFSET(Data!EI14,Offsets!$A$11,Offsets!$A$10)","v":13},{"$f":"OFFSET(Data!EX14,Offsets!$A$11,Offsets!$A$10)","v":8.1999999999999993},{"$f":"OFFSET(Data!EY14,Offsets!$A$11,Offsets!$A$10)","v":9.2857142857142865}]
[null,"02:30:00",{"$f":"OFFSET(Data!EC15,Offsets!$A$11,Offsets!$A$10)","v":12},{"$f":"OFFSET(Data!ED15,Offsets!$A$11,Offsets!$A$10)","v":12},{"$f":"OFFSET(Data!EE15,Offsets!$A$11,Offsets!$A$10)","v":5},{"$f":"OFFSET(Data!EF15,Offsets!$A$11,Offsets!$A$10)","v":10},{"$f":"OFFSET(Data!EG15,Offsets!$A$11,Offsets!$A$10)","v":7},{"$f":"OFFSET(Data!EH15,Offsets!$A$11,Offsets!$A$10)","v":16},{"$f":"OFFSET(Data!EI15,Offsets!$A$11,Offsets!$A$10)","v":14},{"$f":"OFFSET(Data!EX15,Offsets!$A$11,Offsets!$A$10)","v":9.1999999999999993},{"$f":"OFFSET(Data!EY15,Offsets!$A$11,Offsets!$A$10)","v":10.857142857142858}]
[null,"02:45:00",{"$f":"OFFSET(Data!EC16,Offsets!$A$11,Offsets!$A$10)","v":8},{"$f":"OFFSET(Data!ED16,Offsets!$A$11,Offsets!$A$10)","v":4},{"$f":"OFFSET(Data!EE16,Offsets!$A$11,Offsets!$A$10)","v":4},{"$f":"OFFSET(Data!EF16,Offsets!$A$11,Offsets!$A$10)","v":5},{"$f":"OFFSET(Data!EG16,Offsets!$A$11,Offsets!$A$10)","v":9},{"$f":"OFFSET(Data!EH16,Offsets!$A$11,Offsets!$A$10)","v":6},{"$f":"OFFSET(Data!EI16,Offsets!$A$11,Offsets!$A$10)","v":3},{"$f":"OFFSET(Data!EX16,Offsets!$A$11,Offsets!$A$10)","v":6},{"$f":"OFFSET(Data!EY16,Offsets!$A$11,Offsets!$A$10)","v":5.5714285714285712}]
[null,"03:00:00",{"$f":"OFFSET(Data!EC17,Offsets!$A$11,Offsets!$A$10)","v":15},{"$f":"OFFSET(Data!ED17,Offsets!$A$11,Offsets!$A$10)","v":6},{"$f":"OFFSET(Data!EE17,Offsets!$A$11,Offsets!$A$10)","v":8},{"$f":"OFFSET(Data!EF17,Offsets!$A$11,Offsets!$A$10)","v":9},{"$f":"OFFSET(Data!EG17,Offsets!$A$11,Offsets!$A$10)","v":5},{"$f":"OFFSET(Data!EH17,Offsets!$A$11,Offsets!$A$10)","v":10},{"$f":"OFFSET(Data!EI17,Offsets!$A$11,Offsets!$A$10)","v":3},{"$f":"OFFSET(Data!EX17,Offsets!$A$11,Offsets!$A$10)","v":8.6},{"$f":"OFFSET(Data!EY17,Offsets!$A$11,Offsets!$A$10)","v":8}]
[null,"03:15:00",{"$f":"OFFSET(Data!EC18,Offsets!$A$11,Offsets!$A$10)","v":18},{"$f":"OFFSET(Data!ED18,Offsets!$A$11,Offsets!$A$10)","v":13},{"$f":"OFFSET(Data!EE18,Offsets!$A$11,Offsets!$A$10)","v":3},{"$f":"OFFSET(Data!EF18,Offsets!$A$11,Offsets!$A$10)","v":15},{"$f":"OFFSET(Data!EG18,Offsets!$A$11,Offsets!$A$10)","v":10},{"$f":"OFFSET(Data!EH18,Offsets!$A$11,Offsets!$A$10)","v":17},{"$f":"OFFSET(Data!EI18,Offsets!$A$11,Offsets!$A$10)","v":10},{"$f":"OFFSET(Data!EX18,Offsets!$A$11,Offsets!$A$10)","v":11.8},{"$f":"OFFSET(Data!EY18,Offsets!$A$11,Offsets!$A$10)","v":12.285714285714286}]
[null,"03:30:00",{"$f":"OFFSET(Data!EC19,Offsets!$A$11,Offsets!$A$10)","v":8},{"$f":"OFFSET(Data!ED19,Offsets!$A$11,Offsets!$A$10)","v":15},{"$f":"OFFSET(Data!EE19,Offsets!$A$11,Offsets!$A$10)","v":7},{"$f":"OFFSET(Data!EF19,Offsets!$A$11,Offsets!$A$10)","v":11},{"$f":"OFFSET(Data!EG19,Offsets!$A$11,Offsets!$A$10)","v":4},{"$f":"OFFSET(Data!EH19,Offsets!$A$11,Offsets!$A$10)","v":15},{"$f":"OFFSET(Data!EI19,Offsets!$A$11,Offsets!$A$10)","v":15},{"$f":"OFFSET(Data!EX19,Offsets!$A$11,Offsets!$A$10)","v":9},{"$f":"OFFSET(Data!EY19,Offsets!$A$11,Offsets!$A$10)","v":10.714285714285714}]
[null,"03:45:00",{"$f":"OFFSET(Data!EC20,Offsets!$A$11,Offsets!$A$10)","v":13},{"$f":"OFFSET(Data!ED20,Offsets!$A$11,Offsets!$A$10)","v":24},{"$f":"OFFSET(Data!EE20,Offsets!$A$11,Offsets!$A$10)","v":6},{"$f":"OFFSET(Data!EF20,Offsets!$A$11,Offsets!$A$10)","v":10},{"$f":"OFFSET(Data!EG20,Offsets!$A$11,Offsets!$A$10)","v":10},{"$f":"OFFSET(Data!EH20,Offsets!$A$11,Offsets!$A$10)","v":11},{"$f":"OFFSET(Data!EI20,Offsets!$A$11,Offsets!$A$10)","v":12},{"$f":"OFFSET(Data!EX20,Offsets!$A$11,Offsets!$A$10)","v":12.6},{"$f":"OFFSET(Data!EY20,Offsets!$A$11,Offsets!$A$10)","v":12.285714285714286}]
[null,"04:00:00",{"$f":"OFFSET(Data!EC21,Offsets!$A$11,Offsets!$A$10)","v":8},{"$f":"OFFSET(Data!ED21,Offsets!$A$11,Offsets!$A$10)","v":15},{"$f":"OFFSET(Data!EE21,Offsets!$A$11,Offsets!$A$10)","v":4},{"$f":"OFFSET(Data!EF21,Offsets!$A$11,Offsets!$A$10)","v":12},{"$f":"OFFSET(Data!EG21,Offsets!$A$11,Offsets!$A$10)","v":7},{"$f":"OFFSET(Data!EH21,Offsets!$A$11,Offsets!$A$10)","v":12},{"$f":"OFFSET(Data!EI21,Offsets!$A$11,Offsets!$A$10)","v":11},{"$f":"OFFSET(Data!EX21,Offsets!$A$11,Offsets!$A$10)","v":9.1999999999999993},{"$f":"OFFSET(Data!EY21,Offsets!$A$11,Offsets!$A$10)","v":9.8571428571428577}]
[null,"04:15:00",{"$f":"OFFSET(Data!EC22,Offsets!$A$11,Offsets!$A$10)","v":15},{"$f":"OFFSET(Data!ED22,Offsets!$A$11,Offsets!$A$10)","v":10},{"$f":"OFFSET(Data!EE22,Offsets!$A$11,Offsets!$A$10)","v":9},{"$f":"OFFSET(Data!EF22,Offsets!$A$11,Offsets!$A$10)","v":13},{"$f":"OFFSET(Data!EG22,Offsets!$A$11,Offsets!$A$10)","v":5},{"$f":"OFFSET(Data!EH22,Offsets!$A$11,Offsets!$A$10)","v":10},{"$f":"OFFSET(Data!EI22,Offsets!$A$11,Offsets!$A$10)","v":13},{"$f":"OFFSET(Data!EX22,Offsets!$A$11,Offsets!$A$10)","v":10.4},{"$f":"OFFSET(Data!EY22,Offsets!$A$11,Offsets!$A$10)","v":10.714285714285714}]
[null,"04:30:00",{"$f":"OFFSET(Data!EC23,Offsets!$A$11,Offsets!$A$10)","v":25},{"$f":"OFFSET(Data!ED23,Offsets!$A$11,Offsets!$A$10)","v":14},{"$f":"OFFSET(Data!EE23,Offsets!$A$11,Offsets!$A$10)","v":17},{"$f":"OFFSET(Data!EF23,Offsets!$A$11,Offsets!$A$10)","v":12},{"$f":"OFFSET(Data!EG23,Offsets!$A$11,Offsets!$A$10)","v":13},{"$f":"OFFSET(Data!EH23,Offsets!$A$11,Offsets!$A$10)","v":14},{"$f":"OFFSET(Data!EI23,Offsets!$A$11,Offsets!$A$10)","v":5},{"$f":"OFFSET(Data!EX23,Offsets!$A$11,Offsets!$A$10)","v":16.2},{"$f":"OFFSET(Data!EY23,Offsets!$A$11,Offsets!$A$10)","v":14.285714285714286}]
[null,"04:45:00",{"$f":"OFFSET(Data!EC24,Offsets!$A$11,Offsets!$A$10)","v":24},{"$f":"OFFSET(Data!ED24,Offsets!$A$11,Offsets!$A$10)","v":24},{"$f":"OFFSET(Data!EE24,Offsets!$A$11,Offsets!$A$10)","v":13},{"$f":"OFFSET(Data!EF24,Offsets!$A$11,Offsets!$A$10)","v":13},{"$f":"OFFSET(Data!EG24,Offsets!$A$11,Offsets!$A$10)","v":19},{"$f":"OFFSET(Data!EH24,Offsets!$A$11,Offsets!$A$10)","v":15},{"$f":"OFFSET(Data!EI24,Offsets!$A$11,Offsets!$A$10)","v":7},{"$f":"OFFSET(Data!EX24,Offsets!$A$11,Offsets!$A$10)","v":18.600000000000001},{"$f":"OFFSET(Data!EY24,Offsets!$A$11,Offsets!$A$10)","v":16.428571428571427}]
[null,"05:00:00",{"$f":"OFFSET(Data!EC25,Offsets!$A$11,Offsets!$A$10)","v":28},{"$f":"OFFSET(Data!ED25,Offsets!$A$11,Offsets!$A$10)","v":16},{"$f":"OFFSET(Data!EE25,Offsets!$A$11,Offsets!$A$10)","v":24},{"$f":"OFFSET(Data!EF25,Offsets!$A$11,Offsets!$A$10)","v":17},{"$f":"OFFSET(Data!EG25,Offsets!$A$11,Offsets!$A$10)","v":27},{"$f":"OFFSET(Data!EH25,Offsets!$A$11,Offsets!$A$10)","v":29},{"$f":"OFFSET(Data!EI25,Offsets!$A$11,Offsets!$A$10)","v":18},{"$f":"OFFSET(Data!EX25,Offsets!$A$11,Offsets!$A$10)","v":22.4},{"$f":"OFFSET(Data!EY25,Offsets!$A$11,Offsets!$A$10)","v":22.714285714285715}]
[null,"05:15:00",{"$f":"OFFSET(Data!EC26,Offsets!$A$11,Offsets!$A$10)","v":37},{"$f":"OFFSET(Data!ED26,Offsets!$A$11,Offsets!$A$10)","v":29},{"$f":"OFFSET(Data!EE26,Offsets!$A$11,Offsets!$A$10)","v":38},{"$f":"OFFSET(Data!EF26,Offsets!$A$11,Offsets!$A$10)","v":32},{"$f":"OFFSET(Data!EG26,Offsets!$A$11,Offsets!$A$10)","v":32},{"$f":"OFFSET(Data!EH26,Offsets!$A$11,Offsets!$A$10)","v":24},{"$f":"OFFSET(Data!EI26,Offsets!$A$11,Offsets!$A$10)","v":26},{"$f":"OFFSET(Data!EX26,Offsets!$A$11,Offsets!$A$10)","v":33.6},{"$f":"OFFSET(Data!EY26,Offsets!$A$11,Offsets!$A$10)","v":31.142857142857142}]
[null,"05:30:00",{"$f":"OFFSET(Data!EC27,Offsets!$A$11,Offsets!$A$10)","v":46},{"$f":"OFFSET(Data!ED27,Offsets!$A$11,Offsets!$A$10)","v":43},{"$f":"OFFSET(Data!EE27,Offsets!$A$11,Offsets!$A$10)","v":36},{"$f":"OFFSET(Data!EF27,Offsets!$A$11,Offsets!$A$10)","v":39},{"$f":"OFFSET(Data!EG27,Offsets!$A$11,Offsets!$A$10)","v":46},{"$f":"OFFSET(Data!EH27,Offsets!$A$11,Offsets!$A$10)","v":46},{"$f":"OFFSET(Data!EI27,Offsets!$A$11,Offsets!$A$10)","v":35},{"$f":"OFFSET(Data!EX27,Offsets!$A$11,Offsets!$A$10)","v":42},{"$f":"OFFSET(Data!EY27,Offsets!$A$11,Offsets!$A$10)","v":41.571428571428569}]
[null,"05:45:00",{"$f":"OFFSET(Data!EC28,Offsets!$A$11,Offsets!$A$10)","v":51},{"$f":"OFFSET(Data!ED28,Offsets!$A$11,Offsets!$A$10)","v":70},{"$f":"OFFSET(Data!EE28,Offsets!$A$11,Offsets!$A$10)","v":71},{"$f":"OFFSET(Data!EF28,Offsets!$A$11,Offsets!$A$10)","v":78},{"$f":"OFFSET(Data!EG28,Offsets!$A$11,Offsets!$A$10)","v":61},{"$f":"OFFSET(Data!EH28,Offsets!$A$11,Offsets!$A$10)","v":52},{"$f":"OFFSET(Data!EI28,Offsets!$A$11,Offsets!$A$10)","v":46},{"$f":"OFFSET(Data!EX28,Offsets!$A$11,Offsets!$A$10)","v":66.2},{"$f":"OFFSET(Data!EY28,Offsets!$A$11,Offsets!$A$10)","v":61.285714285714285}]
[null,"06:00:00",{"$f":"OFFSET(Data!EC29,Offsets!$A$11,Offsets!$A$10)","v":77},{"$f":"OFFSET(Data!ED29,Offsets!$A$11,Offsets!$A$10)","v":102},{"$f":"OFFSET(Data!EE29,Offsets!$A$11,Offsets!$A$10)","v":86},{"$f":"OFFSET(Data!EF29,Offsets!$A$11,Offsets!$A$10)","v":95},{"$f":"OFFSET(Data!EG29,Offsets!$A$11,Offsets!$A$10)","v":95},{"$f":"OFFSET(Data!EH29,Offsets!$A$11,Offsets!$A$10)","v":47},{"$f":"OFFSET(Data!EI29,Offsets!$A$11,Offsets!$A$10)","v":50},{"$f":"OFFSET(Data!EX29,Offsets!$A$11,Offsets!$A$10)","v":91},{"$f":"OFFSET(Data!EY29,Offsets!$A$11,Offsets!$A$10)","v":78.857142857142861}]
[null,"06:15:00",{"$f":"OFFSET(Data!EC30,Offsets!$A$11,Offsets!$A$10)","v":82},{"$f":"OFFSET(Data!ED30,Offsets!$A$11,Offsets!$A$10)","v":69},{"$f":"OFFSET(Data!EE30,Offsets!$A$11,Offsets!$A$10)","v":77},{"$f":"OFFSET(Data!EF30,Offsets!$A$11,Offsets!$A$10)","v":73},{"$f":"OFFSET(Data!EG30,Offsets!$A$11,Offsets!$A$10)","v":81},{"$f":"OFFSET(Data!EH30,Offsets!$A$11,Offsets!$A$10)","v":46},{"$f":"OFFSET(Data!EI30,Offsets!$A$11,Offsets!$A$10)","v":25},{"$f":"OFFSET(Data!EX30,Offsets!$A$11,Offsets!$A$10)","v":76.400000000000006},{"$f":"OFFSET(Data!EY30,Offsets!$A$11,Offsets!$A$10)","v":64.714285714285708}]
[null,"06:30:00",{"$f":"OFFSET(Data!EC31,Offsets!$A$11,Offsets!$A$10)","v":108},{"$f":"OFFSET(Data!ED31,Offsets!$A$11,Offsets!$A$10)","v":124},{"$f":"OFFSET(Data!EE31,Offsets!$A$11,Offsets!$A$10)","v":97},{"$f":"OFFSET(Data!EF31,Offsets!$A$11,Offsets!$A$10)","v":100},{"$f":"OFFSET(Data!EG31,Offsets!$A$11,Offsets!$A$10)","v":93},{"$f":"OFFSET(Data!EH31,Offsets!$A$11,Offsets!$A$10)","v":59},{"$f":"OFFSET(Data!EI31,Offsets!$A$11,Offsets!$A$10)","v":39},{"$f":"OFFSET(Data!EX31,Offsets!$A$11,Offsets!$A$10)","v":104.4},{"$f":"OFFSET(Data!EY31,Offsets!$A$11,Offsets!$A$10)","v":88.571428571428569}]
[null,"06:45:00",{"$f":"OFFSET(Data!EC32,Offsets!$A$11,Offsets!$A$10)","v":101},{"$f":"OFFSET(Data!ED32,Offsets!$A$11,Offsets!$A$10)","v":88},{"$f":"OFFSET(Data!EE32,Offsets!$A$11,Offsets!$A$10)","v":111},{"$f":"OFFSET(Data!EF32,Offsets!$A$11,Offsets!$A$10)","v":126},{"$f":"OFFSET(Data!EG32,Offsets!$A$11,Offsets!$A$10)","v":113},{"$f":"OFFSET(Data!EH32,Offsets!$A$11,Offsets!$A$10)","v":45},{"$f":"OFFSET(Data!EI32,Offsets!$A$11,Offsets!$A$10)","v":42},{"$f":"OFFSET(Data!EX32,Offsets!$A$11,Offsets!$A$10)","v":107.8},{"$f":"OFFSET(Data!EY32,Offsets!$A$11,Offsets!$A$10)","v":89.428571428571431}]
[null,"07:00:00",{"$f":"OFFSET(Data!EC33,Offsets!$A$11,Offsets!$A$10)","v":141},{"$f":"OFFSET(Data!ED33,Offsets!$A$11,Offsets!$A$10)","v":164},{"$f":"OFFSET(Data!EE33,Offsets!$A$11,Offsets!$A$10)","v":136},{"$f":"OFFSET(Data!EF33,Offsets!$A$11,Offsets!$A$10)","v":153},{"$f":"OFFSET(Data!EG33,Offsets!$A$11,Offsets!$A$10)","v":131},{"$f":"OFFSET(Data!EH33,Offsets!$A$11,Offsets!$A$10)","v":55},{"$f":"OFFSET(Data!EI33,Offsets!$A$11,Offsets!$A$10)","v":26},{"$f":"OFFSET(Data!EX33,Offsets!$A$11,Offsets!$A$10)","v":145},{"$f":"OFFSET(Data!EY33,Offsets!$A$11,Offsets!$A$10)","v":115.14285714285714}]
[null,"07:15:00",{"$f":"OFFSET(Data!EC34,Offsets!$A$11,Offsets!$A$10)","v":161},{"$f":"OFFSET(Data!ED34,Offsets!$A$11,Offsets!$A$10)","v":184},{"$f":"OFFSET(Data!EE34,Offsets!$A$11,Offsets!$A$10)","v":188},{"$f":"OFFSET(Data!EF34,Offsets!$A$11,Offsets!$A$10)","v":176},{"$f":"OFFSET(Data!EG34,Offsets!$A$11,Offsets!$A$10)","v":171},{"$f":"OFFSET(Data!EH34,Offsets!$A$11,Offsets!$A$10)","v":51},{"$f":"OFFSET(Data!EI34,Offsets!$A$11,Offsets!$A$10)","v":29},{"$f":"OFFSET(Data!EX34,Offsets!$A$11,Offsets!$A$10)","v":176},{"$f":"OFFSET(Data!EY34,Offsets!$A$11,Offsets!$A$10)","v":137.14285714285714}]
[null,"07:30:00",{"$f":"OFFSET(Data!EC35,Offsets!$A$11,Offsets!$A$10)","v":235},{"$f":"OFFSET(Data!ED35,Offsets!$A$11,Offsets!$A$10)","v":242},{"$f":"OFFSET(Data!EE35,Offsets!$A$11,Offsets!$A$10)","v":266},{"$f":"OFFSET(Data!EF35,Offsets!$A$11,Offsets!$A$10)","v":223},{"$f":"OFFSET(Data!EG35,Offsets!$A$11,Offsets!$A$10)","v":241},{"$f":"OFFSET(Data!EH35,Offsets!$A$11,Offsets!$A$10)","v":57},{"$f":"OFFSET(Data!EI35,Offsets!$A$11,Offsets!$A$10)","v":39},{"$f":"OFFSET(Data!EX35,Offsets!$A$11,Offsets!$A$10)","v":241.4},{"$f":"OFFSET(Data!EY35,Offsets!$A$11,Offsets!$A$10)","v":186.14285714285714}]
[null,"07:45:00",{"$f":"OFFSET(Data!EC36,Offsets!$A$11,Offsets!$A$10)","v":258},{"$f":"OFFSET(Data!ED36,Offsets!$A$11,Offsets!$A$10)","v":267},{"$f":"OFFSET(Data!EE36,Offsets!$A$11,Offsets!$A$10)","v":283},{"$f":"OFFSET(Data!EF36,Offsets!$A$11,Offsets!$A$10)","v":252},{"$f":"OFFSET(Data!EG36,Offsets!$A$11,Offsets!$A$10)","v":242},{"$f":"OFFSET(Data!EH36,Offsets!$A$11,Offsets!$A$10)","v":52},{"$f":"OFFSET(Data!EI36,Offsets!$A$11,Offsets!$A$10)","v":46},{"$f":"OFFSET(Data!EX36,Offsets!$A$11,Offsets!$A$10)","v":260.39999999999998},{"$f":"OFFSET(Data!EY36,Offsets!$A$11,Offsets!$A$10)","v":200}]
[null,"08:00:00",{"$f":"OFFSET(Data!EC37,Offsets!$A$11,Offsets!$A$10)","v":271},{"$f":"OFFSET(Data!ED37,Offsets!$A$11,Offsets!$A$10)","v":279},{"$f":"OFFSET(Data!EE37,Offsets!$A$11,Offsets!$A$10)","v":265},{"$f":"OFFSET(Data!EF37,Offsets!$A$11,Offsets!$A$10)","v":268},{"$f":"OFFSET(Data!EG37,Offsets!$A$11,Offsets!$A$10)","v":252},{"$f":"OFFSET(Data!EH37,Offsets!$A$11,Offsets!$A$10)","v":0},{"$f":"OFFSET(Data!EI37,Offsets!$A$11,Offsets!$A$10)","v":50},{"$f":"OFFSET(Data!EX37,Offsets!$A$11,Offsets!$A$10)","v":267},{"$f":"OFFSET(Data!EY37,Offsets!$A$11,Offsets!$A$10)","v":197.85714285714286}]
[null,"08:15:00",{"$f":"OFFSET(Data!EC38,Offsets!$A$11,Offsets!$A$10)","v":260},{"$f":"OFFSET(Data!ED38,Offsets!$A$11,Offsets!$A$10)","v":277},{"$f":"OFFSET(Data!EE38,Offsets!$A$11,Offsets!$A$10)","v":249},{"$f":"OFFSET(Data!EF38,Offsets!$A$11,Offsets!$A$10)","v":299},{"$f":"OFFSET(Data!EG38,Offsets!$A$11,Offsets!$A$10)","v":252},{"$f":"OFFSET(Data!EH38,Offsets!$A$11,Offsets!$A$10)","v":0},{"$f":"OFFSET(Data!EI38,Offsets!$A$11,Offsets!$A$10)","v":64},{"$f":"OFFSET(Data!EX38,Offsets!$A$11,Offsets!$A$10)","v":267.39999999999998},{"$f":"OFFSET(Data!EY38,Offsets!$A$11,Offsets!$A$10)","v":200.14285714285714}]
[null,"08:30:00",{"$f":"OFFSET(Data!EC39,Offsets!$A$11,Offsets!$A$10)","v":227},{"$f":"OFFSET(Data!ED39,Offsets!$A$11,Offsets!$A$10)","v":257},{"$f":"OFFSET(Data!EE39,Offsets!$A$11,Offsets!$A$10)","v":215},{"$f":"OFFSET(Data!EF39,Offsets!$A$11,Offsets!$A$10)","v":219},{"$f":"OFFSET(Data!EG39,Offsets!$A$11,Offsets!$A$10)","v":220},{"$f":"OFFSET(Data!EH39,Offsets!$A$11,Offsets!$A$10)","v":0},{"$f":"OFFSET(Data!EI39,Offsets!$A$11,Offsets!$A$10)","v":64},{"$f":"OFFSET(Data!EX39,Offsets!$A$11,Offsets!$A$10)","v":227.6},{"$f":"OFFSET(Data!EY39,Offsets!$A$11,Offsets!$A$10)","v":171.71428571428572}]
[null,"08:45:00",{"$f":"OFFSET(Data!EC40,Offsets!$A$11,Offsets!$A$10)","v":185},{"$f":"OFFSET(Data!ED40,Offsets!$A$11,Offsets!$A$10)","v":205},{"$f":"OFFSET(Data!EE40,Offsets!$A$11,Offsets!$A$10)","v":190},{"$f":"OFFSET(Data!EF40,Offsets!$A$11,Offsets!$A$10)","v":195},{"$f":"OFFSET(Data!EG40,Offsets!$A$11,Offsets!$A$10)","v":189},{"$f":"OFFSET(Data!EH40,Offsets!$A$11,Offsets!$A$10)","v":96},{"$f":"OFFSET(Data!EI40,Offsets!$A$11,Offsets!$A$10)","v":63},{"$f":"OFFSET(Data!EX40,Offsets!$A$11,Offsets!$A$10)","v":192.8},{"$f":"OFFSET(Data!EY40,Offsets!$A$11,Offsets!$A$10)","v":160.42857142857142}]
[null,"09:00:00",{"$f":"OFFSET(Data!EC41,Offsets!$A$11,Offsets!$A$10)","v":175},{"$f":"OFFSET(Data!ED41,Offsets!$A$11,Offsets!$A$10)","v":205},{"$f":"OFFSET(Data!EE41,Offsets!$A$11,Offsets!$A$10)","v":203},{"$f":"OFFSET(Data!EF41,Offsets!$A$11,Offsets!$A$10)","v":178},{"$f":"OFFSET(Data!EG41,Offsets!$A$11,Offsets!$A$10)","v":210},{"$f":"OFFSET(Data!EH41,Offsets!$A$11,Offsets!$A$10)","v":106},{"$f":"OFFSET(Data!EI41,Offsets!$A$11,Offsets!$A$10)","v":62},{"$f":"OFFSET(Data!EX41,Offsets!$A$11,Offsets!$A$10)","v":194.2},{"$f":"OFFSET(Data!EY41,Offsets!$A$11,Offsets!$A$10)","v":162.71428571428572}]
[null,"09:15:00",{"$f":"OFFSET(Data!EC42,Offsets!$A$11,Offsets!$A$10)","v":180},{"$f":"OFFSET(Data!ED42,Offsets!$A$11,Offsets!$A$10)","v":167},{"$f":"OFFSET(Data!EE42,Offsets!$A$11,Offsets!$A$10)","v":183},{"$f":"OFFSET(Data!EF42,Offsets!$A$11,Offsets!$A$10)","v":186},{"$f":"OFFSET(Data!EG42,Offsets!$A$11,Offsets!$A$10)","v":181},{"$f":"OFFSET(Data!EH42,Offsets!$A$11,Offsets!$A$10)","v":95},{"$f":"OFFSET(Data!EI42,Offsets!$A$11,Offsets!$A$10)","v":75},{"$f":"OFFSET(Data!EX42,Offsets!$A$11,Offsets!$A$10)","v":179.4},{"$f":"OFFSET(Data!EY42,Offsets!$A$11,Offsets!$A$10)","v":152.42857142857142}]
[null,"09:30:00",{"$f":"OFFSET(Data!EC43,Offsets!$A$11,Offsets!$A$10)","v":171},{"$f":"OFFSET(Data!ED43,Offsets!$A$11,Offsets!$A$10)","v":178},{"$f":"OFFSET(Data!EE43,Offsets!$A$11,Offsets!$A$10)","v":169},{"$f":"OFFSET(Data!EF43,Offsets!$A$11,Offsets!$A$10)","v":174},{"$f":"OFFSET(Data!EG43,Offsets!$A$11,Offsets!$A$10)","v":167},{"$f":"OFFSET(Data!EH43,Offsets!$A$11,Offsets!$A$10)","v":143},{"$f":"OFFSET(Data!EI43,Offsets!$A$11,Offsets!$A$10)","v":103},{"$f":"OFFSET(Data!EX43,Offsets!$A$11,Offsets!$A$10)","v":171.8},{"$f":"OFFSET(Data!EY43,Offsets!$A$11,Offsets!$A$10)","v":157.85714285714286}]
[null,"09:45:00",{"$f":"OFFSET(Data!EC44,Offsets!$A$11,Offsets!$A$10)","v":172},{"$f":"OFFSET(Data!ED44,Offsets!$A$11,Offsets!$A$10)","v":162},{"$f":"OFFSET(Data!EE44,Offsets!$A$11,Offsets!$A$10)","v":159},{"$f":"OFFSET(Data!EF44,Offsets!$A$11,Offsets!$A$10)","v":167},{"$f":"OFFSET(Data!EG44,Offsets!$A$11,Offsets!$A$10)","v":177},{"$f":"OFFSET(Data!EH44,Offsets!$A$11,Offsets!$A$10)","v":132},{"$f":"OFFSET(Data!EI44,Offsets!$A$11,Offsets!$A$10)","v":111},{"$f":"OFFSET(Data!EX44,Offsets!$A$11,Offsets!$A$10)","v":167.4},{"$f":"OFFSET(Data!EY44,Offsets!$A$11,Offsets!$A$10)","v":154.28571428571428}]
[null,"10:00:00",{"$f":"OFFSET(Data!EC45,Offsets!$A$11,Offsets!$A$10)","v":125},{"$f":"OFFSET(Data!ED45,Offsets!$A$11,Offsets!$A$10)","v":157},{"$f":"OFFSET(Data!EE45,Offsets!$A$11,Offsets!$A$10)","v":161},{"$f":"OFFSET(Data!EF45,Offsets!$A$11,Offsets!$A$10)","v":131},{"$f":"OFFSET(Data!EG45,Offsets!$A$11,Offsets!$A$10)","v":171},{"$f":"OFFSET(Data!EH45,Offsets!$A$11,Offsets!$A$10)","v":126},{"$f":"OFFSET(Data!EI45,Offsets!$A$11,Offsets!$A$10)","v":123},{"$f":"OFFSET(Data!EX45,Offsets!$A$11,Offsets!$A$10)","v":149},{"$f":"OFFSET(Data!EY45,Offsets!$A$11,Offsets!$A$10)","v":142}]
[null,"10:15:00",{"$f":"OFFSET(Data!EC46,Offsets!$A$11,Offsets!$A$10)","v":155},{"$f":"OFFSET(Data!ED46,Offsets!$A$11,Offsets!$A$10)","v":167},{"$f":"OFFSET(Data!EE46,Offsets!$A$11,Offsets!$A$10)","v":164},{"$f":"OFFSET(Data!EF46,Offsets!$A$11,Offsets!$A$10)","v":141},{"$f":"OFFSET(Data!EG46,Offsets!$A$11,Offsets!$A$10)","v":177},{"$f":"OFFSET(Data!EH46,Offsets!$A$11,Offsets!$A$10)","v":134},{"$f":"OFFSET(Data!EI46,Offsets!$A$11,Offsets!$A$10)","v":131},{"$f":"OFFSET(Data!EX46,Offsets!$A$11,Offsets!$A$10)","v":160.80000000000001},{"$f":"OFFSET(Data!EY46,Offsets!$A$11,Offsets!$A$10)","v":152.71428571428572}]
[null,"10:30:00",{"$f":"OFFSET(Data!EC47,Offsets!$A$11,Offsets!$A$10)","v":158},{"$f":"OFFSET(Data!ED47,Offsets!$A$11,Offsets!$A$10)","v":183},{"$f":"OFFSET(Data!EE47,Offsets!$A$11,Offsets!$A$10)","v":162},{"$f":"OFFSET(Data!EF47,Offsets!$A$11,Offsets!$A$10)","v":197},{"$f":"OFFSET(Data!EG47,Offsets!$A$11,Offsets!$A$10)","v":190},{"$f":"OFFSET(Data!EH47,Offsets!$A$11,Offsets!$A$10)","v":163},{"$f":"OFFSET(Data!EI47,Offsets!$A$11,Offsets!$A$10)","v":145},{"$f":"OFFSET(Data!EX47,Offsets!$A$11,Offsets!$A$10)","v":178},{"$f":"OFFSET(Data!EY47,Offsets!$A$11,Offsets!$A$10)","v":171.14285714285714}]
[null,"10:45:00",{"$f":"OFFSET(Data!EC48,Offsets!$A$11,Offsets!$A$10)","v":177},{"$f":"OFFSET(Data!ED48,Offsets!$A$11,Offsets!$A$10)","v":187},{"$f":"OFFSET(Data!EE48,Offsets!$A$11,Offsets!$A$10)","v":171},{"$f":"OFFSET(Data!EF48,Offsets!$A$11,Offsets!$A$10)","v":187},{"$f":"OFFSET(Data!EG48,Offsets!$A$11,Offsets!$A$10)","v":154},{"$f":"OFFSET(Data!EH48,Offsets!$A$11,Offsets!$A$10)","v":182},{"$f":"OFFSET(Data!EI48,Offsets!$A$11,Offsets!$A$10)","v":150},{"$f":"OFFSET(Data!EX48,Offsets!$A$11,Offsets!$A$10)","v":175.2},{"$f":"OFFSET(Data!EY48,Offsets!$A$11,Offsets!$A$10)","v":172.57142857142858}]
[null,"11:00:00",{"$f":"OFFSET(Data!EC49,Offsets!$A$11,Offsets!$A$10)","v":188},{"$f":"OFFSET(Data!ED49,Offsets!$A$11,Offsets!$A$10)","v":153},{"$f":"OFFSET(Data!EE49,Offsets!$A$11,Offsets!$A$10)","v":144},{"$f":"OFFSET(Data!EF49,Offsets!$A$11,Offsets!$A$10)","v":160},{"$f":"OFFSET(Data!EG49,Offsets!$A$11,Offsets!$A$10)","v":166},{"$f":"OFFSET(Data!EH49,Offsets!$A$11,Offsets!$A$10)","v":162},{"$f":"OFFSET(Data!EI49,Offsets!$A$11,Offsets!$A$10)","v":150},{"$f":"OFFSET(Data!EX49,Offsets!$A$11,Offsets!$A$10)","v":162.19999999999999},{"$f":"OFFSET(Data!EY49,Offsets!$A$11,Offsets!$A$10)","v":160.42857142857142}]
[null,"11:15:00",{"$f":"OFFSET(Data!EC50,Offsets!$A$11,Offsets!$A$10)","v":138},{"$f":"OFFSET(Data!ED50,Offsets!$A$11,Offsets!$A$10)","v":156},{"$f":"OFFSET(Data!EE50,Offsets!$A$11,Offsets!$A$10)","v":167},{"$f":"OFFSET(Data!EF50,Offsets!$A$11,Offsets!$A$10)","v":166},{"$f":"OFFSET(Data!EG50,Offsets!$A$11,Offsets!$A$10)","v":196},{"$f":"OFFSET(Data!EH50,Offsets!$A$11,Offsets!$A$10)","v":190},{"$f":"OFFSET(Data!EI50,Offsets!$A$11,Offsets!$A$10)","v":173},{"$f":"OFFSET(Data!EX50,Offsets!$A$11,Offsets!$A$10)","v":164.6},{"$f":"OFFSET(Data!EY50,Offsets!$A$11,Offsets!$A$10)","v":169.42857142857142}]
[null,"11:30:00",{"$f":"OFFSET(Data!EC51,Offsets!$A$11,Offsets!$A$10)","v":168},{"$f":"OFFSET(Data!ED51,Offsets!$A$11,Offsets!$A$10)","v":200},{"$f":"OFFSET(Data!EE51,Offsets!$A$11,Offsets!$A$10)","v":183},{"$f":"OFFSET(Data!EF51,Offsets!$A$11,Offsets!$A$10)","v":162},{"$f":"OFFSET(Data!EG51,Offsets!$A$11,Offsets!$A$10)","v":171},{"$f":"OFFSET(Data!EH51,Offsets!$A$11,Offsets!$A$10)","v":198},{"$f":"OFFSET(Data!EI51,Offsets!$A$11,Offsets!$A$10)","v":147},{"$f":"OFFSET(Data!EX51,Offsets!$A$11,Offsets!$A$10)","v":176.8},{"$f":"OFFSET(Data!EY51,Offsets!$A$11,Offsets!$A$10)","v":175.57142857142858}]
[null,"11:45:00",{"$f":"OFFSET(Data!EC52,Offsets!$A$11,Offsets!$A$10)","v":161},{"$f":"OFFSET(Data!ED52,Offsets!$A$11,Offsets!$A$10)","v":182},{"$f":"OFFSET(Data!EE52,Offsets!$A$11,Offsets!$A$10)","v":172},{"$f":"OFFSET(Data!EF52,Offsets!$A$11,Offsets!$A$10)","v":202},{"$f":"OFFSET(Data!EG52,Offsets!$A$11,Offsets!$A$10)","v":185},{"$f":"OFFSET(Data!EH52,Offsets!$A$11,Offsets!$A$10)","v":183},{"$f":"OFFSET(Data!EI52,Offsets!$A$11,Offsets!$A$10)","v":174},{"$f":"OFFSET(Data!EX52,Offsets!$A$11,Offsets!$A$10)","v":180.4},{"$f":"OFFSET(Data!EY52,Offsets!$A$11,Offsets!$A$10)","v":179.85714285714286}]
[null,"12:00:00",{"$f":"OFFSET(Data!EC53,Offsets!$A$11,Offsets!$A$10)","v":150},{"$f":"OFFSET(Data!ED53,Offsets!$A$11,Offsets!$A$10)","v":190},{"$f":"OFFSET(Data!EE53,Offsets!$A$11,Offsets!$A$10)","v":175},{"$f":"OFFSET(Data!EF53,Offsets!$A$11,Offsets!$A$10)","v":169},{"$f":"OFFSET(Data!EG53,Offsets!$A$11,Offsets!$A$10)","v":192},{"$f":"OFFSET(Data!EH53,Offsets!$A$11,Offsets!$A$10)","v":177},{"$f":"OFFSET(Data!EI53,Offsets!$A$11,Offsets!$A$10)","v":168},{"$f":"OFFSET(Data!EX53,Offsets!$A$11,Offsets!$A$10)","v":175.2},{"$f":"OFFSET(Data!EY53,Offsets!$A$11,Offsets!$A$10)","v":174.42857142857142}]
[null,"12:15:00",{"$f":"OFFSET(Data!EC54,Offsets!$A$11,Offsets!$A$10)","v":147},{"$f":"OFFSET(Data!ED54,Offsets!$A$11,Offsets!$A$10)","v":201},{"$f":"OFFSET(Data!EE54,Offsets!$A$11,Offsets!$A$10)","v":200},{"$f":"OFFSET(Data!EF54,Offsets!$A$11,Offsets!$A$10)","v":167},{"$f":"OFFSET(Data!EG54,Offsets!$A$11,Offsets!$A$10)","v":204},{"$f":"OFFSET(Data!EH54,Offsets!$A$11,Offsets!$A$10)","v":200},{"$f":"OFFSET(Data!EI54,Offsets!$A$11,Offsets!$A$10)","v":214},{"$f":"OFFSET(Data!EX54,Offsets!$A$11,Offsets!$A$10)","v":183.8},{"$f":"OFFSET(Data!EY54,Offsets!$A$11,Offsets!$A$10)","v":190.42857142857142}]
[null,"12:30:00",{"$f":"OFFSET(Data!EC55,Offsets!$A$11,Offsets!$A$10)","v":168},{"$f":"OFFSET(Data!ED55,Offsets!$A$11,Offsets!$A$10)","v":182},{"$f":"OFFSET(Data!EE55,Offsets!$A$11,Offsets!$A$10)","v":198},{"$f":"OFFSET(Data!EF55,Offsets!$A$11,Offsets!$A$10)","v":201},{"$f":"OFFSET(Data!EG55,Offsets!$A$11,Offsets!$A$10)","v":203},{"$f":"OFFSET(Data!EH55,Offsets!$A$11,Offsets!$A$10)","v":230},{"$f":"OFFSET(Data!EI55,Offsets!$A$11,Offsets!$A$10)","v":190},{"$f":"OFFSET(Data!EX55,Offsets!$A$11,Offsets!$A$10)","v":190.4},{"$f":"OFFSET(Data!EY55,Offsets!$A$11,Offsets!$A$10)","v":196}]
[null,"12:45:00",{"$f":"OFFSET(Data!EC56,Offsets!$A$11,Offsets!$A$10)","v":180},{"$f":"OFFSET(Data!ED56,Offsets!$A$11,Offsets!$A$10)","v":186},{"$f":"OFFSET(Data!EE56,Offsets!$A$11,Offsets!$A$10)","v":183},{"$f":"OFFSET(Data!EF56,Offsets!$A$11,Offsets!$A$10)","v":190},{"$f":"OFFSET(Data!EG56,Offsets!$A$11,Offsets!$A$10)","v":170},{"$f":"OFFSET(Data!EH56,Offsets!$A$11,Offsets!$A$10)","v":178},{"$f":"OFFSET(Data!EI56,Offsets!$A$11,Offsets!$A$10)","v":164},{"$f":"OFFSET(Data!EX56,Offsets!$A$11,Offsets!$A$10)","v":181.8},{"$f":"OFFSET(Data!EY56,Offsets!$A$11,Offsets!$A$10)","v":178.71428571428572}]
[null,"13:00:00",{"$f":"OFFSET(Data!EC57,Offsets!$A$11,Offsets!$A$10)","v":177},{"$f":"OFFSET(Data!ED57,Offsets!$A$11,Offsets!$A$10)","v":184},{"$f":"OFFSET(Data!EE57,Offsets!$A$11,Offsets!$A$10)","v":169},{"$f":"OFFSET(Data!EF57,Offsets!$A$11,Offsets!$A$10)","v":170},{"$f":"OFFSET(Data!EG57,Offsets!$A$11,Offsets!$A$10)","v":223},{"$f":"OFFSET(Data!EH57,Offsets!$A$11,Offsets!$A$10)","v":182},{"$f":"OFFSET(Data!EI57,Offsets!$A$11,Offsets!$A$10)","v":192},{"$f":"OFFSET(Data!EX57,Offsets!$A$11,Offsets!$A$10)","v":184.6},{"$f":"OFFSET(Data!EY57,Offsets!$A$11,Offsets!$A$10)","v":185.28571428571428}]
[null,"13:15:00",{"$f":"OFFSET(Data!EC58,Offsets!$A$11,Offsets!$A$10)","v":168},{"$f":"OFFSET(Data!ED58,Offsets!$A$11,Offsets!$A$10)","v":176},{"$f":"OFFSET(Data!EE58,Offsets!$A$11,Offsets!$A$10)","v":191},{"$f":"OFFSET(Data!EF58,Offsets!$A$11,Offsets!$A$10)","v":191},{"$f":"OFFSET(Data!EG58,Offsets!$A$11,Offsets!$A$10)","v":183},{"$f":"OFFSET(Data!EH58,Offsets!$A$11,Offsets!$A$10)","v":196},{"$f":"OFFSET(Data!EI58,Offsets!$A$11,Offsets!$A$10)","v":174},{"$f":"OFFSET(Data!EX58,Offsets!$A$11,Offsets!$A$10)","v":181.8},{"$f":"OFFSET(Data!EY58,Offsets!$A$11,Offsets!$A$10)","v":182.71428571428572}]
[null,"13:30:00",{"$f":"OFFSET(Data!EC59,Offsets!$A$11,Offsets!$A$10)","v":150},{"$f":"OFFSET(Data!ED59,Offsets!$A$11,Offsets!$A$10)","v":173},{"$f":"OFFSET(Data!EE59,Offsets!$A$11,Offsets!$A$10)","v":182},{"$f":"OFFSET(Data!EF59,Offsets!$A$11,Offsets!$A$10)","v":174},{"$f":"OFFSET(Data!EG59,Offsets!$A$11,Offsets!$A$10)","v":227},{"$f":"OFFSET(Data!EH59,Offsets!$A$11,Offsets!$A$10)","v":201},{"$f":"OFFSET(Data!EI59,Offsets!$A$11,Offsets!$A$10)","v":187},{"$f":"OFFSET(Data!EX59,Offsets!$A$11,Offsets!$A$10)","v":181.2},{"$f":"OFFSET(Data!EY59,Offsets!$A$11,Offsets!$A$10)","v":184.85714285714286}]
[null,"13:45:00",{"$f":"OFFSET(Data!EC60,Offsets!$A$11,Offsets!$A$10)","v":141},{"$f":"OFFSET(Data!ED60,Offsets!$A$11,Offsets!$A$10)","v":167},{"$f":"OFFSET(Data!EE60,Offsets!$A$11,Offsets!$A$10)","v":184},{"$f":"OFFSET(Data!EF60,Offsets!$A$11,Offsets!$A$10)","v":202},{"$f":"OFFSET(Data!EG60,Offsets!$A$11,Offsets!$A$10)","v":196},{"$f":"OFFSET(Data!EH60,Offsets!$A$11,Offsets!$A$10)","v":191},{"$f":"OFFSET(Data!EI60,Offsets!$A$11,Offsets!$A$10)","v":171},{"$f":"OFFSET(Data!EX60,Offsets!$A$11,Offsets!$A$10)","v":178},{"$f":"OFFSET(Data!EY60,Offsets!$A$11,Offsets!$A$10)","v":178.85714285714286}]
[null,"14:00:00",{"$f":"OFFSET(Data!EC61,Offsets!$A$11,Offsets!$A$10)","v":177},{"$f":"OFFSET(Data!ED61,Offsets!$A$11,Offsets!$A$10)","v":187},{"$f":"OFFSET(Data!EE61,Offsets!$A$11,Offsets!$A$10)","v":191},{"$f":"OFFSET(Data!EF61,Offsets!$A$11,Offsets!$A$10)","v":162},{"$f":"OFFSET(Data!EG61,Offsets!$A$11,Offsets!$A$10)","v":201},{"$f":"OFFSET(Data!EH61,Offsets!$A$11,Offsets!$A$10)","v":193},{"$f":"OFFSET(Data!EI61,Offsets!$A$11,Offsets!$A$10)","v":184},{"$f":"OFFSET(Data!EX61,Offsets!$A$11,Offsets!$A$10)","v":183.6},{"$f":"OFFSET(Data!EY61,Offsets!$A$11,Offsets!$A$10)","v":185}]
[null,"14:15:00",{"$f":"OFFSET(Data!EC62,Offsets!$A$11,Offsets!$A$10)","v":174},{"$f":"OFFSET(Data!ED62,Offsets!$A$11,Offsets!$A$10)","v":171},{"$f":"OFFSET(Data!EE62,Offsets!$A$11,Offsets!$A$10)","v":193},{"$f":"OFFSET(Data!EF62,Offsets!$A$11,Offsets!$A$10)","v":185},{"$f":"OFFSET(Data!EG62,Offsets!$A$11,Offsets!$A$10)","v":205},{"$f":"OFFSET(Data!EH62,Offsets!$A$11,Offsets!$A$10)","v":184},{"$f":"OFFSET(Data!EI62,Offsets!$A$11,Offsets!$A$10)","v":198},{"$f":"OFFSET(Data!EX62,Offsets!$A$11,Offsets!$A$10)","v":185.6},{"$f":"OFFSET(Data!EY62,Offsets!$A$11,Offsets!$A$10)","v":187.14285714285714}]
[null,"14:30:00",{"$f":"OFFSET(Data!EC63,Offsets!$A$11,Offsets!$A$10)","v":183},{"$f":"OFFSET(Data!ED63,Offsets!$A$11,Offsets!$A$10)","v":195},{"$f":"OFFSET(Data!EE63,Offsets!$A$11,Offsets!$A$10)","v":208},{"$f":"OFFSET(Data!EF63,Offsets!$A$11,Offsets!$A$10)","v":239},{"$f":"OFFSET(Data!EG63,Offsets!$A$11,Offsets!$A$10)","v":191},{"$f":"OFFSET(Data!EH63,Offsets!$A$11,Offsets!$A$10)","v":191},{"$f":"OFFSET(Data!EI63,Offsets!$A$11,Offsets!$A$10)","v":163},{"$f":"OFFSET(Data!EX63,Offsets!$A$11,Offsets!$A$10)","v":203.2},{"$f":"OFFSET(Data!EY63,Offsets!$A$11,Offsets!$A$10)","v":195.71428571428572}]
[null,"14:45:00",{"$f":"OFFSET(Data!EC64,Offsets!$A$11,Offsets!$A$10)","v":187},{"$f":"OFFSET(Data!ED64,Offsets!$A$11,Offsets!$A$10)","v":182},{"$f":"OFFSET(Data!EE64,Offsets!$A$11,Offsets!$A$10)","v":192},{"$f":"OFFSET(Data!EF64,Offsets!$A$11,Offsets!$A$10)","v":207},{"$f":"OFFSET(Data!EG64,Offsets!$A$11,Offsets!$A$10)","v":249},{"$f":"OFFSET(Data!EH64,Offsets!$A$11,Offsets!$A$10)","v":180},{"$f":"OFFSET(Data!EI64,Offsets!$A$11,Offsets!$A$10)","v":167},{"$f":"OFFSET(Data!EX64,Offsets!$A$11,Offsets!$A$10)","v":203.4},{"$f":"OFFSET(Data!EY64,Offsets!$A$11,Offsets!$A$10)","v":194.85714285714286}]
[null,"15:00:00",{"$f":"OFFSET(Data!EC65,Offsets!$A$11,Offsets!$A$10)","v":210},{"$f":"OFFSET(Data!ED65,Offsets!$A$11,Offsets!$A$10)","v":192},{"$f":"OFFSET(Data!EE65,Offsets!$A$11,Offsets!$A$10)","v":233},{"$f":"OFFSET(Data!EF65,Offsets!$A$11,Offsets!$A$10)","v":196},{"$f":"OFFSET(Data!EG65,Offsets!$A$11,Offsets!$A$10)","v":239},{"$f":"OFFSET(Data!EH65,Offsets!$A$11,Offsets!$A$10)","v":154},{"$f":"OFFSET(Data!EI65,Offsets!$A$11,Offsets!$A$10)","v":165},{"$f":"OFFSET(Data!EX65,Offsets!$A$11,Offsets!$A$10)","v":214},{"$f":"OFFSET(Data!EY65,Offsets!$A$11,Offsets!$A$10)","v":198.42857142857142}]
[null,"15:15:00",{"$f":"OFFSET(Data!EC66,Offsets!$A$11,Offsets!$A$10)","v":191},{"$f":"OFFSET(Data!ED66,Offsets!$A$11,Offsets!$A$10)","v":200},{"$f":"OFFSET(Data!EE66,Offsets!$A$11,Offsets!$A$10)","v":236},{"$f":"OFFSET(Data!EF66,Offsets!$A$11,Offsets!$A$10)","v":255},{"$f":"OFFSET(Data!EG66,Offsets!$A$11,Offsets!$A$10)","v":255},{"$f":"OFFSET(Data!EH66,Offsets!$A$11,Offsets!$A$10)","v":175},{"$f":"OFFSET(Data!EI66,Offsets!$A$11,Offsets!$A$10)","v":189},{"$f":"OFFSET(Data!EX66,Offsets!$A$11,Offsets!$A$10)","v":227.4},{"$f":"OFFSET(Data!EY66,Offsets!$A$11,Offsets!$A$10)","v":214.42857142857142}]
[null,"15:30:00",{"$f":"OFFSET(Data!EC67,Offsets!$A$11,Offsets!$A$10)","v":215},{"$f":"OFFSET(Data!ED67,Offsets!$A$11,Offsets!$A$10)","v":255},{"$f":"OFFSET(Data!EE67,Offsets!$A$11,Offsets!$A$10)","v":250},{"$f":"OFFSET(Data!EF67,Offsets!$A$11,Offsets!$A$10)","v":212},{"$f":"OFFSET(Data!EG67,Offsets!$A$11,Offsets!$A$10)","v":288},{"$f":"OFFSET(Data!EH67,Offsets!$A$11,Offsets!$A$10)","v":151},{"$f":"OFFSET(Data!EI67,Offsets!$A$11,Offsets!$A$10)","v":176},{"$f":"OFFSET(Data!EX67,Offsets!$A$11,Offsets!$A$10)","v":244},{"$f":"OFFSET(Data!EY67,Offsets!$A$11,Offsets!$A$10)","v":221}]
[null,"15:45:00",{"$f":"OFFSET(Data!EC68,Offsets!$A$11,Offsets!$A$10)","v":268},{"$f":"OFFSET(Data!ED68,Offsets!$A$11,Offsets!$A$10)","v":252},{"$f":"OFFSET(Data!EE68,Offsets!$A$11,Offsets!$A$10)","v":230},{"$f":"OFFSET(Data!EF68,Offsets!$A$11,Offsets!$A$10)","v":239},{"$f":"OFFSET(Data!EG68,Offsets!$A$11,Offsets!$A$10)","v":247},{"$f":"OFFSET(Data!EH68,Offsets!$A$11,Offsets!$A$10)","v":169},{"$f":"OFFSET(Data!EI68,Offsets!$A$11,Offsets!$A$10)","v":181},{"$f":"OFFSET(Data!EX68,Offsets!$A$11,Offsets!$A$10)","v":247.2},{"$f":"OFFSET(Data!EY68,Offsets!$A$11,Offsets!$A$10)","v":226.57142857142858}]
[null,"16:00:00",{"$f":"OFFSET(Data!EC69,Offsets!$A$11,Offsets!$A$10)","v":234},{"$f":"OFFSET(Data!ED69,Offsets!$A$11,Offsets!$A$10)","v":278},{"$f":"OFFSET(Data!EE69,Offsets!$A$11,Offsets!$A$10)","v":283},{"$f":"OFFSET(Data!EF69,Offsets!$A$11,Offsets!$A$10)","v":252},{"$f":"OFFSET(Data!EG69,Offsets!$A$11,Offsets!$A$10)","v":255},{"$f":"OFFSET(Data!EH69,Offsets!$A$11,Offsets!$A$10)","v":169},{"$f":"OFFSET(Data!EI69,Offsets!$A$11,Offsets!$A$10)","v":180},{"$f":"OFFSET(Data!EX69,Offsets!$A$11,Offsets!$A$10)","v":260.39999999999998},{"$f":"OFFSET(Data!EY69,Offsets!$A$11,Offsets!$A$10)","v":235.85714285714286}]
[null,"16:15:00",{"$f":"OFFSET(Data!EC70,Offsets!$A$11,Offsets!$A$10)","v":237},{"$f":"OFFSET(Data!ED70,Offsets!$A$11,Offsets!$A$10)","v":247},{"$f":"OFFSET(Data!EE70,Offsets!$A$11,Offsets!$A$10)","v":276},{"$f":"OFFSET(Data!EF70,Offsets!$A$11,Offsets!$A$10)","v":237},{"$f":"OFFSET(Data!EG70,Offsets!$A$11,Offsets!$A$10)","v":229},{"$f":"OFFSET(Data!EH70,Offsets!$A$11,Offsets!$A$10)","v":176},{"$f":"OFFSET(Data!EI70,Offsets!$A$11,Offsets!$A$10)","v":174},{"$f":"OFFSET(Data!EX70,Offsets!$A$11,Offsets!$A$10)","v":245.2},{"$f":"OFFSET(Data!EY70,Offsets!$A$11,Offsets!$A$10)","v":225.14285714285714}]
[null,"16:30:00",{"$f":"OFFSET(Data!EC71,Offsets!$A$11,Offsets!$A$10)","v":236},{"$f":"OFFSET(Data!ED71,Offsets!$A$11,Offsets!$A$10)","v":283},{"$f":"OFFSET(Data!EE71,Offsets!$A$11,Offsets!$A$10)","v":247},{"$f":"OFFSET(Data!EF71,Offsets!$A$11,Offsets!$A$10)","v":240},{"$f":"OFFSET(Data!EG71,Offsets!$A$11,Offsets!$A$10)","v":223},{"$f":"OFFSET(Data!EH71,Offsets!$A$11,Offsets!$A$10)","v":150},{"$f":"OFFSET(Data!EI71,Offsets!$A$11,Offsets!$A$10)","v":193},{"$f":"OFFSET(Data!EX71,Offsets!$A$11,Offsets!$A$10)","v":245.8},{"$f":"OFFSET(Data!EY71,Offsets!$A$11,Offsets!$A$10)","v":224.57142857142858}]
[null,"16:45:00",{"$f":"OFFSET(Data!EC72,Offsets!$A$11,Offsets!$A$10)","v":240},{"$f":"OFFSET(Data!ED72,Offsets!$A$11,Offsets!$A$10)","v":233},{"$f":"OFFSET(Data!EE72,Offsets!$A$11,Offsets!$A$10)","v":228},{"$f":"OFFSET(Data!EF72,Offsets!$A$11,Offsets!$A$10)","v":240},{"$f":"OFFSET(Data!EG72,Offsets!$A$11,Offsets!$A$10)","v":245},{"$f":"OFFSET(Data!EH72,Offsets!$A$11,Offsets!$A$10)","v":151},{"$f":"OFFSET(Data!EI72,Offsets!$A$11,Offsets!$A$10)","v":170},{"$f":"OFFSET(Data!EX72,Offsets!$A$11,Offsets!$A$10)","v":237.2},{"$f":"OFFSET(Data!EY72,Offsets!$A$11,Offsets!$A$10)","v":215.28571428571428}]
[null,"17:00:00",{"$f":"OFFSET(Data!EC73,Offsets!$A$11,Offsets!$A$10)","v":236},{"$f":"OFFSET(Data!ED73,Offsets!$A$11,Offsets!$A$10)","v":264},{"$f":"OFFSET(Data!EE73,Offsets!$A$11,Offsets!$A$10)","v":257},{"$f":"OFFSET(Data!EF73,Offsets!$A$11,Offsets!$A$10)","v":249},{"$f":"OFFSET(Data!EG73,Offsets!$A$11,Offsets!$A$10)","v":268},{"$f":"OFFSET(Data!EH73,Offsets!$A$11,Offsets!$A$10)","v":165},{"$f":"OFFSET(Data!EI73,Offsets!$A$11,Offsets!$A$10)","v":204},{"$f":"OFFSET(Data!EX73,Offsets!$A$11,Offsets!$A$10)","v":254.8},{"$f":"OFFSET(Data!EY73,Offsets!$A$11,Offsets!$A$10)","v":234.71428571428572}]
[null,"17:15:00",{"$f":"OFFSET(Data!EC74,Offsets!$A$11,Offsets!$A$10)","v":230},{"$f":"OFFSET(Data!ED74,Offsets!$A$11,Offsets!$A$10)","v":252},{"$f":"OFFSET(Data!EE74,Offsets!$A$11,Offsets!$A$10)","v":261},{"$f":"OFFSET(Data!EF74,Offsets!$A$11,Offsets!$A$10)","v":241},{"$f":"OFFSET(Data!EG74,Offsets!$A$11,Offsets!$A$10)","v":230},{"$f":"OFFSET(Data!EH74,Offsets!$A$11,Offsets!$A$10)","v":173},{"$f":"OFFSET(Data!EI74,Offsets!$A$11,Offsets!$A$10)","v":174},{"$f":"OFFSET(Data!EX74,Offsets!$A$11,Offsets!$A$10)","v":242.8},{"$f":"OFFSET(Data!EY74,Offsets!$A$11,Offsets!$A$10)","v":223}]
[null,"17:30:00",{"$f":"OFFSET(Data!EC75,Offsets!$A$11,Offsets!$A$10)","v":224},{"$f":"OFFSET(Data!ED75,Offsets!$A$11,Offsets!$A$10)","v":254},{"$f":"OFFSET(Data!EE75,Offsets!$A$11,Offsets!$A$10)","v":241},{"$f":"OFFSET(Data!EF75,Offsets!$A$11,Offsets!$A$10)","v":245},{"$f":"OFFSET(Data!EG75,Offsets!$A$11,Offsets!$A$10)","v":235},{"$f":"OFFSET(Data!EH75,Offsets!$A$11,Offsets!$A$10)","v":158},{"$f":"OFFSET(Data!EI75,Offsets!$A$11,Offsets!$A$10)","v":178},{"$f":"OFFSET(Data!EX75,Offsets!$A$11,Offsets!$A$10)","v":239.8},{"$f":"OFFSET(Data!EY75,Offsets!$A$11,Offsets!$A$10)","v":219.28571428571428}]
[null,"17:45:00",{"$f":"OFFSET(Data!EC76,Offsets!$A$11,Offsets!$A$10)","v":189},{"$f":"OFFSET(Data!ED76,Offsets!$A$11,Offsets!$A$10)","v":233},{"$f":"OFFSET(Data!EE76,Offsets!$A$11,Offsets!$A$10)","v":216},{"$f":"OFFSET(Data!EF76,Offsets!$A$11,Offsets!$A$10)","v":245},{"$f":"OFFSET(Data!EG76,Offsets!$A$11,Offsets!$A$10)","v":201},{"$f":"OFFSET(Data!EH76,Offsets!$A$11,Offsets!$A$10)","v":140},{"$f":"OFFSET(Data!EI76,Offsets!$A$11,Offsets!$A$10)","v":135},{"$f":"OFFSET(Data!EX76,Offsets!$A$11,Offsets!$A$10)","v":216.8},{"$f":"OFFSET(Data!EY76,Offsets!$A$11,Offsets!$A$10)","v":194.14285714285714}]
[null,"18:00:00",{"$f":"OFFSET(Data!EC77,Offsets!$A$11,Offsets!$A$10)","v":181},{"$f":"OFFSET(Data!ED77,Offsets!$A$11,Offsets!$A$10)","v":225},{"$f":"OFFSET(Data!EE77,Offsets!$A$11,Offsets!$A$10)","v":213},{"$f":"OFFSET(Data!EF77,Offsets!$A$11,Offsets!$A$10)","v":241},{"$f":"OFFSET(Data!EG77,Offsets!$A$11,Offsets!$A$10)","v":197},{"$f":"OFFSET(Data!EH77,Offsets!$A$11,Offsets!$A$10)","v":143},{"$f":"OFFSET(Data!EI77,Offsets!$A$11,Offsets!$A$10)","v":172},{"$f":"OFFSET(Data!EX77,Offsets!$A$11,Offsets!$A$10)","v":211.4},{"$f":"OFFSET(Data!EY77,Offsets!$A$11,Offsets!$A$10)","v":196}]
[null,"18:15:00",{"$f":"OFFSET(Data!EC78,Offsets!$A$11,Offsets!$A$10)","v":183},{"$f":"OFFSET(Data!ED78,Offsets!$A$11,Offsets!$A$10)","v":183},{"$f":"OFFSET(Data!EE78,Offsets!$A$11,Offsets!$A$10)","v":195},{"$f":"OFFSET(Data!EF78,Offsets!$A$11,Offsets!$A$10)","v":168},{"$f":"OFFSET(Data!EG78,Offsets!$A$11,Offsets!$A$10)","v":178},{"$f":"OFFSET(Data!EH78,Offsets!$A$11,Offsets!$A$10)","v":117},{"$f":"OFFSET(Data!EI78,Offsets!$A$11,Offsets!$A$10)","v":125},{"$f":"OFFSET(Data!EX78,Offsets!$A$11,Offsets!$A$10)","v":181.4},{"$f":"OFFSET(Data!EY78,Offsets!$A$11,Offsets!$A$10)","v":164.14285714285714}]
[null,"18:30:00",{"$f":"OFFSET(Data!EC79,Offsets!$A$11,Offsets!$A$10)","v":177},{"$f":"OFFSET(Data!ED79,Offsets!$A$11,Offsets!$A$10)","v":194},{"$f":"OFFSET(Data!EE79,Offsets!$A$11,Offsets!$A$10)","v":182},{"$f":"OFFSET(Data!EF79,Offsets!$A$11,Offsets!$A$10)","v":215},{"$f":"OFFSET(Data!EG79,Offsets!$A$11,Offsets!$A$10)","v":219},{"$f":"OFFSET(Data!EH79,Offsets!$A$11,Offsets!$A$10)","v":156},{"$f":"OFFSET(Data!EI79,Offsets!$A$11,Offsets!$A$10)","v":170},{"$f":"OFFSET(Data!EX79,Offsets!$A$11,Offsets!$A$10)","v":197.4},{"$f":"OFFSET(Data!EY79,Offsets!$A$11,Offsets!$A$10)","v":187.57142857142858}]
[null,"18:45:00",{"$f":"OFFSET(Data!EC80,Offsets!$A$11,Offsets!$A$10)","v":158},{"$f":"OFFSET(Data!ED80,Offsets!$A$11,Offsets!$A$10)","v":201},{"$f":"OFFSET(Data!EE80,Offsets!$A$11,Offsets!$A$10)","v":180},{"$f":"OFFSET(Data!EF80,Offsets!$A$11,Offsets!$A$10)","v":162},{"$f":"OFFSET(Data!EG80,Offsets!$A$11,Offsets!$A$10)","v":165},{"$f":"OFFSET(Data!EH80,Offsets!$A$11,Offsets!$A$10)","v":106},{"$f":"OFFSET(Data!EI80,Offsets!$A$11,Offsets!$A$10)","v":170},{"$f":"OFFSET(Data!EX80,Offsets!$A$11,Offsets!$A$10)","v":173.2},{"$f":"OFFSET(Data!EY80,Offsets!$A$11,Offsets!$A$10)","v":163.14285714285714}]
[null,"19:00:00",{"$f":"OFFSET(Data!EC81,Offsets!$A$11,Offsets!$A$10)","v":150},{"$f":"OFFSET(Data!ED81,Offsets!$A$11,Offsets!$A$10)","v":161},{"$f":"OFFSET(Data!EE81,Offsets!$A$11,Offsets!$A$10)","v":157},{"$f":"OFFSET(Data!EF81,Offsets!$A$11,Offsets!$A$10)","v":171},{"$f":"OFFSET(Data!EG81,Offsets!$A$11,Offsets!$A$10)","v":136},{"$f":"OFFSET(Data!EH81,Offsets!$A$11,Offsets!$A$10)","v":129},{"$f":"OFFSET(Data!EI81,Offsets!$A$11,Offsets!$A$10)","v":120},{"$f":"OFFSET(Data!EX81,Offsets!$A$11,Offsets!$A$10)","v":155},{"$f":"OFFSET(Data!EY81,Offsets!$A$11,Offsets!$A$10)","v":146.28571428571428}]
[null,"19:15:00",{"$f":"OFFSET(Data!EC82,Offsets!$A$11,Offsets!$A$10)","v":115},{"$f":"OFFSET(Data!ED82,Offsets!$A$11,Offsets!$A$10)","v":134},{"$f":"OFFSET(Data!EE82,Offsets!$A$11,Offsets!$A$10)","v":153},{"$f":"OFFSET(Data!EF82,Offsets!$A$11,Offsets!$A$10)","v":133},{"$f":"OFFSET(Data!EG82,Offsets!$A$11,Offsets!$A$10)","v":123},{"$f":"OFFSET(Data!EH82,Offsets!$A$11,Offsets!$A$10)","v":101},{"$f":"OFFSET(Data!EI82,Offsets!$A$11,Offsets!$A$10)","v":102},{"$f":"OFFSET(Data!EX82,Offsets!$A$11,Offsets!$A$10)","v":131.6},{"$f":"OFFSET(Data!EY82,Offsets!$A$11,Offsets!$A$10)","v":123}]
[null,"19:30:00",{"$f":"OFFSET(Data!EC83,Offsets!$A$11,Offsets!$A$10)","v":115},{"$f":"OFFSET(Data!ED83,Offsets!$A$11,Offsets!$A$10)","v":109},{"$f":"OFFSET(Data!EE83,Offsets!$A$11,Offsets!$A$10)","v":124},{"$f":"OFFSET(Data!EF83,Offsets!$A$11,Offsets!$A$10)","v":131},{"$f":"OFFSET(Data!EG83,Offsets!$A$11,Offsets!$A$10)","v":122},{"$f":"OFFSET(Data!EH83,Offsets!$A$11,Offsets!$A$10)","v":107},{"$f":"OFFSET(Data!EI83,Offsets!$A$11,Offsets!$A$10)","v":93},{"$f":"OFFSET(Data!EX83,Offsets!$A$11,Offsets!$A$10)","v":120.2},{"$f":"OFFSET(Data!EY83,Offsets!$A$11,Offsets!$A$10)","v":114.42857142857143}]
[null,"19:45:00",{"$f":"OFFSET(Data!EC84,Offsets!$A$11,Offsets!$A$10)","v":93},{"$f":"OFFSET(Data!ED84,Offsets!$A$11,Offsets!$A$10)","v":125},{"$f":"OFFSET(Data!EE84,Offsets!$A$11,Offsets!$A$10)","v":106},{"$f":"OFFSET(Data!EF84,Offsets!$A$11,Offsets!$A$10)","v":121},{"$f":"OFFSET(Data!EG84,Offsets!$A$11,Offsets!$A$10)","v":95},{"$f":"OFFSET(Data!EH84,Offsets!$A$11,Offsets!$A$10)","v":96},{"$f":"OFFSET(Data!EI84,Offsets!$A$11,Offsets!$A$10)","v":87},{"$f":"OFFSET(Data!EX84,Offsets!$A$11,Offsets!$A$10)","v":108},{"$f":"OFFSET(Data!EY84,Offsets!$A$11,Offsets!$A$10)","v":103.28571428571429}]
[null,"20:00:00",{"$f":"OFFSET(Data!EC85,Offsets!$A$11,Offsets!$A$10)","v":81},{"$f":"OFFSET(Data!ED85,Offsets!$A$11,Offsets!$A$10)","v":122},{"$f":"OFFSET(Data!EE85,Offsets!$A$11,Offsets!$A$10)","v":102},{"$f":"OFFSET(Data!EF85,Offsets!$A$11,Offsets!$A$10)","v":102},{"$f":"OFFSET(Data!EG85,Offsets!$A$11,Offsets!$A$10)","v":102},{"$f":"OFFSET(Data!EH85,Offsets!$A$11,Offsets!$A$10)","v":85},{"$f":"OFFSET(Data!EI85,Offsets!$A$11,Offsets!$A$10)","v":79},{"$f":"OFFSET(Data!EX85,Offsets!$A$11,Offsets!$A$10)","v":101.8},{"$f":"OFFSET(Data!EY85,Offsets!$A$11,Offsets!$A$10)","v":96.142857142857139}]
[null,"20:15:00",{"$f":"OFFSET(Data!EC86,Offsets!$A$11,Offsets!$A$10)","v":91},{"$f":"OFFSET(Data!ED86,Offsets!$A$11,Offsets!$A$10)","v":111},{"$f":"OFFSET(Data!EE86,Offsets!$A$11,Offsets!$A$10)","v":109},{"$f":"OFFSET(Data!EF86,Offsets!$A$11,Offsets!$A$10)","v":111},{"$f":"OFFSET(Data!EG86,Offsets!$A$11,Offsets!$A$10)","v":92},{"$f":"OFFSET(Data!EH86,Offsets!$A$11,Offsets!$A$10)","v":70},{"$f":"OFFSET(Data!EI86,Offsets!$A$11,Offsets!$A$10)","v":77},{"$f":"OFFSET(Data!EX86,Offsets!$A$11,Offsets!$A$10)","v":102.8},{"$f":"OFFSET(Data!EY86,Offsets!$A$11,Offsets!$A$10)","v":94.428571428571431}]
[null,"20:30:00",{"$f":"OFFSET(Data!EC87,Offsets!$A$11,Offsets!$A$10)","v":67},{"$f":"OFFSET(Data!ED87,Offsets!$A$11,Offsets!$A$10)","v":106},{"$f":"OFFSET(Data!EE87,Offsets!$A$11,Offsets!$A$10)","v":110},{"$f":"OFFSET(Data!EF87,Offsets!$A$11,Offsets!$A$10)","v":83},{"$f":"OFFSET(Data!EG87,Offsets!$A$11,Offsets!$A$10)","v":70},{"$f":"OFFSET(Data!EH87,Offsets!$A$11,Offsets!$A$10)","v":50},{"$f":"OFFSET(Data!EI87,Offsets!$A$11,Offsets!$A$10)","v":66},{"$f":"OFFSET(Data!EX87,Offsets!$A$11,Offsets!$A$10)","v":87.2},{"$f":"OFFSET(Data!EY87,Offsets!$A$11,Offsets!$A$10)","v":78.857142857142861}]
[null,"20:45:00",{"$f":"OFFSET(Data!EC88,Offsets!$A$11,Offsets!$A$10)","v":86},{"$f":"OFFSET(Data!ED88,Offsets!$A$11,Offsets!$A$10)","v":100},{"$f":"OFFSET(Data!EE88,Offsets!$A$11,Offsets!$A$10)","v":87},{"$f":"OFFSET(Data!EF88,Offsets!$A$11,Offsets!$A$10)","v":86},{"$f":"OFFSET(Data!EG88,Offsets!$A$11,Offsets!$A$10)","v":85},{"$f":"OFFSET(Data!EH88,Offsets!$A$11,Offsets!$A$10)","v":68},{"$f":"OFFSET(Data!EI88,Offsets!$A$11,Offsets!$A$10)","v":51},{"$f":"OFFSET(Data!EX88,Offsets!$A$11,Offsets!$A$10)","v":88.8},{"$f":"OFFSET(Data!EY88,Offsets!$A$11,Offsets!$A$10)","v":80.428571428571431}]
[null,"21:00:00",{"$f":"OFFSET(Data!EC89,Offsets!$A$11,Offsets!$A$10)","v":76},{"$f":"OFFSET(Data!ED89,Offsets!$A$11,Offsets!$A$10)","v":79},{"$f":"OFFSET(Data!EE89,Offsets!$A$11,Offsets!$A$10)","v":78},{"$f":"OFFSET(Data!EF89,Offsets!$A$11,Offsets!$A$10)","v":77},{"$f":"OFFSET(Data!EG89,Offsets!$A$11,Offsets!$A$10)","v":72},{"$f":"OFFSET(Data!EH89,Offsets!$A$11,Offsets!$A$10)","v":40},{"$f":"OFFSET(Data!EI89,Offsets!$A$11,Offsets!$A$10)","v":58},{"$f":"OFFSET(Data!EX89,Offsets!$A$11,Offsets!$A$10)","v":76.400000000000006},{"$f":"OFFSET(Data!EY89,Offsets!$A$11,Offsets!$A$10)","v":68.571428571428569}]
[null,"21:15:00",{"$f":"OFFSET(Data!EC90,Offsets!$A$11,Offsets!$A$10)","v":53},{"$f":"OFFSET(Data!ED90,Offsets!$A$11,Offsets!$A$10)","v":83},{"$f":"OFFSET(Data!EE90,Offsets!$A$11,Offsets!$A$10)","v":82},{"$f":"OFFSET(Data!EF90,Offsets!$A$11,Offsets!$A$10)","v":74},{"$f":"OFFSET(Data!EG90,Offsets!$A$11,Offsets!$A$10)","v":70},{"$f":"OFFSET(Data!EH90,Offsets!$A$11,Offsets!$A$10)","v":55},{"$f":"OFFSET(Data!EI90,Offsets!$A$11,Offsets!$A$10)","v":53},{"$f":"OFFSET(Data!EX90,Offsets!$A$11,Offsets!$A$10)","v":72.400000000000006},{"$f":"OFFSET(Data!EY90,Offsets!$A$11,Offsets!$A$10)","v":67.142857142857139}]
[null,"21:30:00",{"$f":"OFFSET(Data!EC91,Offsets!$A$11,Offsets!$A$10)","v":61},{"$f":"OFFSET(Data!ED91,Offsets!$A$11,Offsets!$A$10)","v":84},{"$f":"OFFSET(Data!EE91,Offsets!$A$11,Offsets!$A$10)","v":93},{"$f":"OFFSET(Data!EF91,Offsets!$A$11,Offsets!$A$10)","v":75},{"$f":"OFFSET(Data!EG91,Offsets!$A$11,Offsets!$A$10)","v":67},{"$f":"OFFSET(Data!EH91,Offsets!$A$11,Offsets!$A$10)","v":41},{"$f":"OFFSET(Data!EI91,Offsets!$A$11,Offsets!$A$10)","v":56},{"$f":"OFFSET(Data!EX91,Offsets!$A$11,Offsets!$A$10)","v":76},{"$f":"OFFSET(Data!EY91,Offsets!$A$11,Offsets!$A$10)","v":68.142857142857139}]
[null,"21:45:00",{"$f":"OFFSET(Data!EC92,Offsets!$A$11,Offsets!$A$10)","v":62},{"$f":"OFFSET(Data!ED92,Offsets!$A$11,Offsets!$A$10)","v":72},{"$f":"OFFSET(Data!EE92,Offsets!$A$11,Offsets!$A$10)","v":79},{"$f":"OFFSET(Data!EF92,Offsets!$A$11,Offsets!$A$10)","v":72},{"$f":"OFFSET(Data!EG92,Offsets!$A$11,Offsets!$A$10)","v":71},{"$f":"OFFSET(Data!EH92,Offsets!$A$11,Offsets!$A$10)","v":52},{"$f":"OFFSET(Data!EI92,Offsets!$A$11,Offsets!$A$10)","v":60},{"$f":"OFFSET(Data!EX92,Offsets!$A$11,Offsets!$A$10)","v":71.2},{"$f":"OFFSET(Data!EY92,Offsets!$A$11,Offsets!$A$10)","v":66.857142857142861}]
[null,"22:00:00",{"$f":"OFFSET(Data!EC93,Offsets!$A$11,Offsets!$A$10)","v":41},{"$f":"OFFSET(Data!ED93,Offsets!$A$11,Offsets!$A$10)","v":44},{"$f":"OFFSET(Data!EE93,Offsets!$A$11,Offsets!$A$10)","v":67},{"$f":"OFFSET(Data!EF93,Offsets!$A$11,Offsets!$A$10)","v":65},{"$f":"OFFSET(Data!EG93,Offsets!$A$11,Offsets!$A$10)","v":79},{"$f":"OFFSET(Data!EH93,Offsets!$A$11,Offsets!$A$10)","v":61},{"$f":"OFFSET(Data!EI93,Offsets!$A$11,Offsets!$A$10)","v":47},{"$f":"OFFSET(Data!EX93,Offsets!$A$11,Offsets!$A$10)","v":59.2},{"$f":"OFFSET(Data!EY93,Offsets!$A$11,Offsets!$A$10)","v":57.714285714285715}]
[null,"22:15:00",{"$f":"OFFSET(Data!EC94,Offsets!$A$11,Offsets!$A$10)","v":34},{"$f":"OFFSET(Data!ED94,Offsets!$A$11,Offsets!$A$10)","v":68},{"$f":"OFFSET(Data!EE94,Offsets!$A$11,Offsets!$A$10)","v":45},{"$f":"OFFSET(Data!EF94,Offsets!$A$11,Offsets!$A$10)","v":52},{"$f":"OFFSET(Data!EG94,Offsets!$A$11,Offsets!$A$10)","v":60},{"$f":"OFFSET(Data!EH94,Offsets!$A$11,Offsets!$A$10)","v":65},{"$f":"OFFSET(Data!EI94,Offsets!$A$11,Offsets!$A$10)","v":55},{"$f":"OFFSET(Data!EX94,Offsets!$A$11,Offsets!$A$10)","v":51.8},{"$f":"OFFSET(Data!EY94,Offsets!$A$11,Offsets!$A$10)","v":54.142857142857146}]
[null,"22:30:00",{"$f":"OFFSET(Data!EC95,Offsets!$A$11,Offsets!$A$10)","v":35},{"$f":"OFFSET(Data!ED95,Offsets!$A$11,Offsets!$A$10)","v":54},{"$f":"OFFSET(Data!EE95,Offsets!$A$11,Offsets!$A$10)","v":39},{"$f":"OFFSET(Data!EF95,Offsets!$A$11,Offsets!$A$10)","v":50},{"$f":"OFFSET(Data!EG95,Offsets!$A$11,Offsets!$A$10)","v":49},{"$f":"OFFSET(Data!EH95,Offsets!$A$11,Offsets!$A$10)","v":57},{"$f":"OFFSET(Data!EI95,Offsets!$A$11,Offsets!$A$10)","v":40},{"$f":"OFFSET(Data!EX95,Offsets!$A$11,Offsets!$A$10)","v":45.4},{"$f":"OFFSET(Data!EY95,Offsets!$A$11,Offsets!$A$10)","v":46.285714285714285}]
[null,"22:45:00",{"$f":"OFFSET(Data!EC96,Offsets!$A$11,Offsets!$A$10)","v":30},{"$f":"OFFSET(Data!ED96,Offsets!$A$11,Offsets!$A$10)","v":47},{"$f":"OFFSET(Data!EE96,Offsets!$A$11,Offsets!$A$10)","v":37},{"$f":"OFFSET(Data!EF96,Offsets!$A$11,Offsets!$A$10)","v":38},{"$f":"OFFSET(Data!EG96,Offsets!$A$11,Offsets!$A$10)","v":63},{"$f":"OFFSET(Data!EH96,Offsets!$A$11,Offsets!$A$10)","v":37},{"$f":"OFFSET(Data!EI96,Offsets!$A$11,Offsets!$A$10)","v":38},{"$f":"OFFSET(Data!EX96,Offsets!$A$11,Offsets!$A$10)","v":43},{"$f":"OFFSET(Data!EY96,Offsets!$A$11,Offsets!$A$10)","v":41.428571428571431}]
[null,"23:00:00",{"$f":"OFFSET(Data!EC97,Offsets!$A$11,Offsets!$A$10)","v":20},{"$f":"OFFSET(Data!ED97,Offsets!$A$11,Offsets!$A$10)","v":40},{"$f":"OFFSET(Data!EE97,Offsets!$A$11,Offsets!$A$10)","v":19},{"$f":"OFFSET(Data!EF97,Offsets!$A$11,Offsets!$A$10)","v":32},{"$f":"OFFSET(Data!EG97,Offsets!$A$11,Offsets!$A$10)","v":45},{"$f":"OFFSET(Data!EH97,Offsets!$A$11,Offsets!$A$10)","v":37},{"$f":"OFFSET(Data!EI97,Offsets!$A$11,Offsets!$A$10)","v":23},{"$f":"OFFSET(Data!EX97,Offsets!$A$11,Offsets!$A$10)","v":31.2},{"$f":"OFFSET(Data!EY97,Offsets!$A$11,Offsets!$A$10)","v":30.857142857142858}]
[null,"23:15:00",{"$f":"OFFSET(Data!EC98,Offsets!$A$11,Offsets!$A$10)","v":22},{"$f":"OFFSET(Data!ED98,Offsets!$A$11,Offsets!$A$10)","v":28},{"$f":"OFFSET(Data!EE98,Offsets!$A$11,Offsets!$A$10)","v":20},{"$f":"OFFSET(Data!EF98,Offsets!$A$11,Offsets!$A$10)","v":48},{"$f":"OFFSET(Data!EG98,Offsets!$A$11,Offsets!$A$10)","v":35},{"$f":"OFFSET(Data!EH98,Offsets!$A$11,Offsets!$A$10)","v":41},{"$f":"OFFSET(Data!EI98,Offsets!$A$11,Offsets!$A$10)","v":32},{"$f":"OFFSET(Data!EX98,Offsets!$A$11,Offsets!$A$10)","v":30.6},{"$f":"OFFSET(Data!EY98,Offsets!$A$11,Offsets!$A$10)","v":32.285714285714285}]
[null,"23:30:00",{"$f":"OFFSET(Data!EC99,Offsets!$A$11,Offsets!$A$10)","v":12},{"$f":"OFFSET(Data!ED99,Offsets!$A$11,Offsets!$A$10)","v":20},{"$f":"OFFSET(Data!EE99,Offsets!$A$11,Offsets!$A$10)","v":23},{"$f":"OFFSET(Data!EF99,Offsets!$A$11,Offsets!$A$10)","v":33},{"$f":"OFFSET(Data!EG99,Offsets!$A$11,Offsets!$A$10)","v":37},{"$f":"OFFSET(Data!EH99,Offsets!$A$11,Offsets!$A$10)","v":50},{"$f":"OFFSET(Data!EI99,Offsets!$A$11,Offsets!$A$10)","v":19},{"$f":"OFFSET(Data!EX99,Offsets!$A$11,Offsets!$A$10)","v":25},{"$f":"OFFSET(Data!EY99,Offsets!$A$11,Offsets!$A$10)","v":27.714285714285715}]
[null,"23:45:00",{"$f":"OFFSET(Data!EC100,Offsets!$A$11,Offsets!$A$10)","v":21},{"$f":"OFFSET(Data!ED100,Offsets!$A$11,Offsets!$A$10)","v":20},{"$f":"OFFSET(Data!EE100,Offsets!$A$11,Offsets!$A$10)","v":20},{"$f":"OFFSET(Data!EF100,Offsets!$A$11,Offsets!$A$10)","v":27},{"$f":"OFFSET(Data!EG100,Offsets!$A$11,Offsets!$A$10)","v":32},{"$f":"OFFSET(Data!EH100,Offsets!$A$11,Offsets!$A$10)","v":41},{"$f":"OFFSET(Data!EI100,Offsets!$A$11,Offsets!$A$10)","v":11},{"$f":"OFFSET(Data!EX100,Offsets!$A$11,Offsets!$A$10)","v":24},{"$f":"OFFSET(Data!EY100,Offsets!$A$11,Offsets!$A$10)","v":24.571428571428573}]
[null,"Total",{"$f":"SUM(C18:C113)","v":11170},{"$f":"SUM(D18:D113)","v":12289},12060,12085,12210,8817,8655,11962.799999999997,11040.857142857139]
[]
[null,"07:00-19:00",{"$f":"SUM(C46:C93)","v":9117},{"$f":"SUM(D46:D93)","v":9912},9824,9730,9961,6881,6853,9708.7999999999956,8896.8571428571431]
[null,"06:00-22:00",{"$f":"SUM(C42:C105)","v":10535},{"$f":"SUM(D42:D105)","v":11581},11475,11360,11448,7972,7911,11279.799999999996,10325.999999999996]
[null,"06:00-24:00",{"$f":"SUM(C42:C113)","v":10750},{"$f":"SUM(D42:D113)","v":11902},11745,11705,11848,8361,8176,11589.999999999996,10640.999999999996]
[null,"00:00-24:00",{"$f":"SUM(C18:C113)","v":11170},{"$f":"SUM(D18:D113)","v":12289},12060,12085,12210,8817,8655,11962.799999999997,11040.857142857139]

{"sheet":"Vol Sum 30 Min","index":5,"n_rows":71,"n_cols":11,"rows_kept":71,"cut":false,"hidden":false,"merged":[[6,8,6,9],[9,3,10,7],[12,2,12,8],[0,8,0,9],[1,8,1,10],[2,8,2,10],[3,8,3,10],[5,8,5,12],[7,8,7,9],[7,10,7,11]]}
[null,null,null,null,null,null,"Job Number",null,{"$f":"Offsets!I1","v":"3185-WAL"}]
[null,null,null,null,null,null,"Client",null,{"$f":"Offsets!L1","v":"WYG"}]
[null,null,null,null,null,null,"Project",null,{"$f":"Offsets!G1","v":"St Athan"}]
[null,null,null,null,null,null,"Location",null,{"$f":"Offsets!H3","v":"51.39833, -3.41253"}]
[null,null,null,null,null,null,"Site No.",null,{"$f":"Offsets!I3","v":1}]
[null,null,null,null,null,null,"Road",null,{"$f":"Offsets!G3","v":"B4265"}]
[null,null,null,null,null,null,"Start Date",null,{"$f":"Offsets!L3","v":"2016-06-07"}]
[null,null,null,null,null,null,"Direction",null,{"$f":"+Offsets!A2","v":"Combined"}]
[]
[null,null,null,"    Volume Summary",null,null,null,null,"Average Weekday",null,{"$f":"+J66","v":11962.8}]
[null,null,null,null,null,null,null,null,"7 Day Average",null,{"$f":"+K66","v":11040.857142857143}]
[]
[null,null,"Day of Week",null,null,null,null,null,null," "]
[null,null,"Mon","Tue","Wed","Thu","Fri","Sat","Sun","Ave","7 Day"]
[null,"Time",{"$f":"+Offsets!P3","v":"2016-07-13"},{"$f":"+Offsets!Q3","v":"2016-06-07"},{"$f":"+Offsets!R3","v":"2016-06-08"},{"$f":"+Offsets!S3","v":"2016-06-09"},{"$f":"+Offsets!T3","v":"2016-06-10"},{"$f":"+Offsets!U3","v":"2016-06-11"},{"$f":"+Offsets!V3","v":"2016-06-12"},"W'day","Ave"]
[null,"AM Peak",{"$f":"MAX(C18:C41)","v":531},{"$f":"MAX(D18:D41)","v":556},549,567,504,381,323]
[null,"PM Peak",{"$f":"MAX(C42:C65)","v":483},{"$f":"MAX(D42:D65)","v":525},559,490,535,408,382]
[null,"00:00:00",{"$f":"SUM('Volume Summary'!C18:C19)","v":26},{"$f":"SUM('Volume Summary'!D18:D19)","v":27},{"$f":"SUM('Volume Summary'!E18:E19)","v":24},{"$f":"SUM('Volume Summary'!F18:F19)","v":30},{"$f":"SUM('Volume Summary'!G18:G19)","v":45},{"$f":"SUM('Volume Summary'!H18:H19)","v":47},{"$f":"SUM('Volume Summary'!I18:I19)","v":78},{"$f":"OFFSET(Data!EX104,Offsets!$A$11,Offsets!$A$10)","v":30.4},{"$f":"OFFSET(Data!EY104,Offsets!$A$11,Offsets!$A$10)","v":39.571428571428569}]
[null,"00:30:00",{"$f":"SUM('Volume Summary'!C20:C21)","v":36},{"$f":"SUM('Volume Summary'!D20:D21)","v":13},{"$f":"SUM('Volume Summary'!E20:E21)","v":18},{"$f":"SUM('Volume Summary'!F20:F21)","v":18},{"$f":"SUM('Volume Summary'!G20:G21)","v":20},{"$f":"SUM('Volume Summary'!H20:H21)","v":45},{"$f":"SUM('Volume Summary'!I20:I21)","v":80},{"$f":"OFFSET(Data!EX106,Offsets!$A$11,Offsets!$A$10)","v":21},{"$f":"OFFSET(Data!EY106,Offsets!$A$11,Offsets!$A$10)","v":32.857142857142854}]
[null,"01:00:00",{"$f":"SUM('Volume Summary'!C22:C23)","v":22},{"$f":"SUM('Volume Summary'!D22:D23)","v":17},{"$f":"SUM('Volume Summary'!E22:E23)","v":8},{"$f":"SUM('Volume Summary'!F22:F23)","v":23},{"$f":"SUM('Volume Summary'!G22:G23)","v":14},{"$f":"SUM('Volume Summary'!H22:H23)","v":38},{"$f":"SUM('Volume Summary'!I22:I23)","v":60},{"$f":"OFFSET(Data!EX108,Offsets!$A$11,Offsets!$A$10)","v":16.8},{"$f":"OFFSET(Data!EY108,Offsets!$A$11,Offsets!$A$10)","v":26}]
[null,"01:30:00",{"$f":"SUM('Volume Summary'!C24:C25)","v":14},{"$f":"SUM('Volume Summary'!D24:D25)","v":15},{"$f":"SUM('Volume Summary'!E24:E25)","v":7},{"$f":"SUM('Volume Summary'!F24:F25)","v":18},{"$f":"SUM('Volume Summary'!G24:G25)","v":11},{"$f":"SUM('Volume Summary'!H24:H25)","v":22},{"$f":"SUM('Volume Summary'!I24:I25)","v":22},{"$f":"OFFSET(Data!EX110,Offsets!$A$11,Offsets!$A$10)","v":13},{"$f":"OFFSET(Data!EY110,Offsets!$A$11,Offsets!$A$10)","v":15.571428571428571}]
[null,"02:00:00",{"$f":"SUM('Volume Summary'!C26:C27)","v":14},{"$f":"SUM('Volume Summary'!D26:D27)","v":20},{"$f":"SUM('Volume Summary'!E26:E27)","v":13},{"$f":"SUM('Volume Summary'!F26:F27)","v":15},{"$f":"SUM('Volume Summary'!G26:G27)","v":17},{"$f":"SUM('Volume Summary'!H26:H27)","v":27},{"$f":"SUM('Volume Summary'!I26:I27)","v":21},{"$f":"OFFSET(Data!EX112,Offsets!$A$11,Offsets!$A$10)","v":15.8},{"$f":"OFFSET(Data!EY112,Offsets!$A$11,Offsets!$A$10)","v":18.142857142857142}]
[null,"02:30:00",{"$f":"SUM('Volume Summary'!C28:C29)","v":20},{"$f":"SUM('Volume Summary'!D28:D29)","v":16},{"$f":"SUM('Volume Summary'!E28:E29)","v":9},{"$f":"SUM('Volume Summary'!F28:F29)","v":15},{"$f":"SUM('Volume Summary'!G28:G29)","v":16},{"$f":"SUM('Volume Summary'!H28:H29)","v":22},{"$f":"SUM('Volume Summary'!I28:I29)","v":17},{"$f":"OFFSET(Data!EX114,Offsets!$A$11,Offsets!$A$10)","v":15.2},{"$f":"OFFSET(Data!EY114,Offsets!$A$11,Offsets!$A$10)","v":16.428571428571427}]
[null,"03:00:00",{"$f":"SUM('Volume Summary'!C30:C31)","v":33},{"$f":"SUM('Volume Summary'!D30:D31)","v":19},{"$f":"SUM('Volume Summary'!E30:E31)","v":11},{"$f":"SUM('Volume Summary'!F30:F31)","v":24},{"$f":"SUM('Volume Summary'!G30:G31)","v":15},{"$f":"SUM('Volume Summary'!H30:H31)","v":27},{"$f":"SUM('Volume Summary'!I30:I31)","v":13},{"$f":"OFFSET(Data!EX116,Offsets!$A$11,Offsets!$A$10)","v":20.399999999999999},{"$f":"OFFSET(Data!EY116,Offsets!$A$11,Offsets!$A$10)","v":20.285714285714285}]
[null,"03:30:00",{"$f":"SUM('Volume Summary'!C32:C33)","v":21},{"$f":"SUM('Volume Summary'!D32:D33)","v":39},{"$f":"SUM('Volume Summary'!E32:E33)","v":13},{"$f":"SUM('Volume Summary'!F32:F33)","v":21},{"$f":"SUM('Volume Summary'!G32:G33)","v":14},{"$f":"SUM('Volume Summary'!H32:H33)","v":26},{"$f":"SUM('Volume Summary'!I32:I33)","v":27},{"$f":"OFFSET(Data!EX118,Offsets!$A$11,Offsets!$A$10)","v":21.6},{"$f":"OFFSET(Data!EY118,Offsets!$A$11,Offsets!$A$10)","v":23}]
[null,"04:00:00",{"$f":"SUM('Volume Summary'!C34:C35)","v":23},{"$f":"SUM('Volume Summary'!D34:D35)","v":25},{"$f":"SUM('Volume Summary'!E34:E35)","v":13},{"$f":"SUM('Volume Summary'!F34:F35)","v":25},{"$f":"SUM('Volume Summary'!G34:G35)","v":12},{"$f":"SUM('Volume Summary'!H34:H35)","v":22},{"$f":"SUM('Volume Summary'!I34:I35)","v":24},{"$f":"OFFSET(Data!EX120,Offsets!$A$11,Offsets!$A$10)","v":19.600000000000001},{"$f":"OFFSET(Data!EY120,Offsets!$A$11,Offsets!$A$10)","v":20.571428571428573}]
[null,"04:30:00",{"$f":"SUM('Volume Summary'!C36:C37)","v":49},{"$f":"SUM('Volume Summary'!D36:D37)","v":38},{"$f":"SUM('Volume Summary'!E36:E37)","v":30},{"$f":"SUM('Volume Summary'!F36:F37)","v":25},{"$f":"SUM('Volume Summary'!G36:G37)","v":32},{"$f":"SUM('Volume Summary'!H36:H37)","v":29},{"$f":"SUM('Volume Summary'!I36:I37)","v":12},{"$f":"OFFSET(Data!EX122,Offsets!$A$11,Offsets!$A$10)","v":34.799999999999997},{"$f":"OFFSET(Data!EY122,Offsets!$A$11,Offsets!$A$10)","v":30.714285714285715}]
[null,"05:00:00",{"$f":"SUM('Volume Summary'!C38:C39)","v":65},{"$f":"SUM('Volume Summary'!D38:D39)","v":45},{"$f":"SUM('Volume Summary'!E38:E39)","v":62},{"$f":"SUM('Volume Summary'!F38:F39)","v":49},{"$f":"SUM('Volume Summary'!G38:G39)","v":59},{"$f":"SUM('Volume Summary'!H38:H39)","v":53},{"$f":"SUM('Volume Summary'!I38:I39)","v":44},{"$f":"OFFSET(Data!EX124,Offsets!$A$11,Offsets!$A$10)","v":56},{"$f":"OFFSET(Data!EY124,Offsets!$A$11,Offsets!$A$10)","v":53.857142857142854}]
[null,"05:30:00",{"$f":"SUM('Volume Summary'!C40:C41)","v":97},{"$f":"SUM('Volume Summary'!D40:D41)","v":113},{"$f":"SUM('Volume Summary'!E40:E41)","v":107},{"$f":"SUM('Volume Summary'!F40:F41)","v":117},{"$f":"SUM('Volume Summary'!G40:G41)","v":107},{"$f":"SUM('Volume Summary'!H40:H41)","v":98},{"$f":"SUM('Volume Summary'!I40:I41)","v":81},{"$f":"OFFSET(Data!EX126,Offsets!$A$11,Offsets!$A$10)","v":108.2},{"$f":"OFFSET(Data!EY126,Offsets!$A$11,Offsets!$A$10)","v":102.85714285714286}]
[null,"06:00:00",{"$f":"SUM('Volume Summary'!C42:C43)","v":159},{"$f":"SUM('Volume Summary'!D42:D43)","v":171},{"$f":"SUM('Volume Summary'!E42:E43)","v":163},{"$f":"SUM('Volume Summary'!F42:F43)","v":168},{"$f":"SUM('Volume Summary'!G42:G43)","v":176},{"$f":"SUM('Volume Summary'!H42:H43)","v":93},{"$f":"SUM('Volume Summary'!I42:I43)","v":75},{"$f":"OFFSET(Data!EX128,Offsets!$A$11,Offsets!$A$10)","v":167.4},{"$f":"OFFSET(Data!EY128,Offsets!$A$11,Offsets!$A$10)","v":143.57142857142858}]
[null,"06:30:00",{"$f":"SUM('Volume Summary'!C44:C45)","v":209},{"$f":"SUM('Volume Summary'!D44:D45)","v":212},{"$f":"SUM('Volume Summary'!E44:E45)","v":208},{"$f":"SUM('Volume Summary'!F44:F45)","v":226},{"$f":"SUM('Volume Summary'!G44:G45)","v":206},{"$f":"SUM('Volume Summary'!H44:H45)","v":104},{"$f":"SUM('Volume Summary'!I44:I45)","v":81},{"$f":"OFFSET(Data!EX130,Offsets!$A$11,Offsets!$A$10)","v":212.2},{"$f":"OFFSET(Data!EY130,Offsets!$A$11,Offsets!$A$10)","v":178}]
[null,"07:00:00",{"$f":"SUM('Volume Summary'!C46:C47)","v":302},{"$f":"SUM('Volume Summary'!D46:D47)","v":348},{"$f":"SUM('Volume Summary'!E46:E47)","v":324},{"$f":"SUM('Volume Summary'!F46:F47)","v":329},{"$f":"SUM('Volume Summary'!G46:G47)","v":302},{"$f":"SUM('Volume Summary'!H46:H47)","v":106},{"$f":"SUM('Volume Summary'!I46:I47)","v":55},{"$f":"OFFSET(Data!EX132,Offsets!$A$11,Offsets!$A$10)","v":321},{"$f":"OFFSET(Data!EY132,Offsets!$A$11,Offsets!$A$10)","v":252.28571428571428}]
[null,"07:30:00",{"$f":"SUM('Volume Summary'!C48:C49)","v":493},{"$f":"SUM('Volume Summary'!D48:D49)","v":509},{"$f":"SUM('Volume Summary'!E48:E49)","v":549},{"$f":"SUM('Volume Summary'!F48:F49)","v":475},{"$f":"SUM('Volume Summary'!G48:G49)","v":483},{"$f":"SUM('Volume Summary'!H48:H49)","v":109},{"$f":"SUM('Volume Summary'!I48:I49)","v":85},{"$f":"OFFSET(Data!EX134,Offsets!$A$11,Offsets!$A$10)","v":501.8},{"$f":"OFFSET(Data!EY134,Offsets!$A$11,Offsets!$A$10)","v":386.14285714285717}]
[null,"08:00:00",{"$f":"SUM('Volume Summary'!C50:C51)","v":531},{"$f":"SUM('Volume Summary'!D50:D51)","v":556},{"$f":"SUM('Volume Summary'!E50:E51)","v":514},{"$f":"SUM('Volume Summary'!F50:F51)","v":567},{"$f":"SUM('Volume Summary'!G50:G51)","v":504},{"$f":"SUM('Volume Summary'!H50:H51)","v":0},{"$f":"SUM('Volume Summary'!I50:I51)","v":114},{"$f":"OFFSET(Data!EX136,Offsets!$A$11,Offsets!$A$10)","v":534.4},{"$f":"OFFSET(Data!EY136,Offsets!$A$11,Offsets!$A$10)","v":398}]
[null,"08:30:00",{"$f":"SUM('Volume Summary'!C52:C53)","v":412},{"$f":"SUM('Volume Summary'!D52:D53)","v":462},{"$f":"SUM('Volume Summary'!E52:E53)","v":405},{"$f":"SUM('Volume Summary'!F52:F53)","v":414},{"$f":"SUM('Volume Summary'!G52:G53)","v":409},{"$f":"SUM('Volume Summary'!H52:H53)","v":96},{"$f":"SUM('Volume Summary'!I52:I53)","v":127},{"$f":"OFFSET(Data!EX138,Offsets!$A$11,Offsets!$A$10)","v":420.4},{"$f":"OFFSET(Data!EY138,Offsets!$A$11,Offsets!$A$10)","v":332.14285714285717}]
[null,"09:00:00",{"$f":"SUM('Volume Summary'!C54:C55)","v":355},{"$f":"SUM('Volume Summary'!D54:D55)","v":372},{"$f":"SUM('Volume Summary'!E54:E55)","v":386},{"$f":"SUM('Volume Summary'!F54:F55)","v":364},{"$f":"SUM('Volume Summary'!G54:G55)","v":391},{"$f":"SUM('Volume Summary'!H54:H55)","v":201},{"$f":"SUM('Volume Summary'!I54:I55)","v":137},{"$f":"OFFSET(Data!EX140,Offsets!$A$11,Offsets!$A$10)","v":373.6},{"$f":"OFFSET(Data!EY140,Offsets!$A$11,Offsets!$A$10)","v":315.14285714285717}]
[null,"09:30:00",{"$f":"SUM('Volume Summary'!C56:C57)","v":343},{"$f":"SUM('Volume Summary'!D56:D57)","v":340},{"$f":"SUM('Volume Summary'!E56:E57)","v":328},{"$f":"SUM('Volume Summary'!F56:F57)","v":341},{"$f":"SUM('Volume Summary'!G56:G57)","v":344},{"$f":"SUM('Volume Summary'!H56:H57)","v":275},{"$f":"SUM('Volume Summary'!I56:I57)","v":214},{"$f":"OFFSET(Data!EX142,Offsets!$A$11,Offsets!$A$10)","v":339.2},{"$f":"OFFSET(Data!EY142,Offsets!$A$11,Offsets!$A$10)","v":312.14285714285717}]
[null,"10:00:00",{"$f":"SUM('Volume Summary'!C58:C59)","v":280},{"$f":"SUM('Volume Summary'!D58:D59)","v":324},{"$f":"SUM('Volume Summary'!E58:E59)","v":325},{"$f":"SUM('Volume Summary'!F58:F59)","v":272},{"$f":"SUM('Volume Summary'!G58:G59)","v":348},{"$f":"SUM('Volume Summary'!H58:H59)","v":260},{"$f":"SUM('Volume Summary'!I58:I59)","v":254},{"$f":"OFFSET(Data!EX144,Offsets!$A$11,Offsets!$A$10)","v":309.8},{"$f":"OFFSET(Data!EY144,Offsets!$A$11,Offsets!$A$10)","v":294.71428571428572}]
[null,"10:30:00",{"$f":"SUM('Volume Summary'!C60:C61)","v":335},{"$f":"SUM('Volume Summary'!D60:D61)","v":370},{"$f":"SUM('Volume Summary'!E60:E61)","v":333},{"$f":"SUM('Volume Summary'!F60:F61)","v":384},{"$f":"SUM('Volume Summary'!G60:G61)","v":344},{"$f":"SUM('Volume Summary'!H60:H61)","v":345},{"$f":"SUM('Volume Summary'!I60:I61)","v":295},{"$f":"OFFSET(Data!EX146,Offsets!$A$11,Offsets!$A$10)","v":353.2},{"$f":"OFFSET(Data!EY146,Offsets!$A$11,Offsets!$A$10)","v":343.71428571428572}]
[null,"11:00:00",{"$f":"SUM('Volume Summary'!C62:C63)","v":326},{"$f":"SUM('Volume Summary'!D62:D63)","v":309},{"$f":"SUM('Volume Summary'!E62:E63)","v":311},{"$f":"SUM('Volume Summary'!F62:F63)","v":326},{"$f":"SUM('Volume Summary'!G62:G63)","v":362},{"$f":"SUM('Volume Summary'!H62:H63)","v":352},{"$f":"SUM('Volume Summary'!I62:I63)","v":323},{"$f":"OFFSET(Data!EX148,Offsets!$A$11,Offsets!$A$10)","v":326.8},{"$f":"OFFSET(Data!EY148,Offsets!$A$11,Offsets!$A$10)","v":329.85714285714283}]
[null,"11:30:00",{"$f":"SUM('Volume Summary'!C64:C65)","v":329},{"$f":"SUM('Volume Summary'!D64:D65)","v":382},{"$f":"SUM('Volume Summary'!E64:E65)","v":355},{"$f":"SUM('Volume Summary'!F64:F65)","v":364},{"$f":"SUM('Volume Summary'!G64:G65)","v":356},{"$f":"SUM('Volume Summary'!H64:H65)","v":381},{"$f":"SUM('Volume Summary'!I64:I65)","v":321},{"$f":"OFFSET(Data!EX150,Offsets!$A$11,Offsets!$A$10)","v":357.2},{"$f":"OFFSET(Data!EY150,Offsets!$A$11,Offsets!$A$10)","v":355.42857142857144}]
[null,"12:00:00",{"$f":"SUM('Volume Summary'!C66:C67)","v":297},{"$f":"SUM('Volume Summary'!D66:D67)","v":391},{"$f":"SUM('Volume Summary'!E66:E67)","v":375},{"$f":"SUM('Volume Summary'!F66:F67)","v":336},{"$f":"SUM('Volume Summary'!G66:G67)","v":396},{"$f":"SUM('Volume Summary'!H66:H67)","v":377},{"$f":"SUM('Volume Summary'!I66:I67)","v":382},{"$f":"OFFSET(Data!EX152,Offsets!$A$11,Offsets!$A$10)","v":359},{"$f":"OFFSET(Data!EY152,Offsets!$A$11,Offsets!$A$10)","v":364.85714285714283}]
[null,"12:30:00",{"$f":"SUM('Volume Summary'!C68:C69)","v":348},{"$f":"SUM('Volume Summary'!D68:D69)","v":368},{"$f":"SUM('Volume Summary'!E68:E69)","v":381},{"$f":"SUM('Volume Summary'!F68:F69)","v":391},{"$f":"SUM('Volume Summary'!G68:G69)","v":373},{"$f":"SUM('Volume Summary'!H68:H69)","v":408},{"$f":"SUM('Volume Summary'!I68:I69)","v":354},{"$f":"OFFSET(Data!EX154,Offsets!$A$11,Offsets!$A$10)","v":372.2},{"$f":"OFFSET(Data!EY154,Offsets!$A$11,Offsets!$A$10)","v":374.71428571428572}]
[null,"13:00:00",{"$f":"SUM('Volume Summary'!C70:C71)","v":345},{"$f":"SUM('Volume Summary'!D70:D71)","v":360},{"$f":"SUM('Volume Summary'!E70:E71)","v":360},{"$f":"SUM('Volume Summary'!F70:F71)","v":361},{"$f":"SUM('Volume Summary'!G70:G71)","v":406},{"$f":"SUM('Volume Summary'!H70:H71)","v":378},{"$f":"SUM('Volume Summary'!I70:I71)","v":366},{"$f":"OFFSET(Data!EX156,Offsets!$A$11,Offsets!$A$10)","v":366.4},{"$f":"OFFSET(Data!EY156,Offsets!$A$11,Offsets!$A$10)","v":368}]
[null,"13:30:00",{"$f":"SUM('Volume Summary'!C72:C73)","v":291},{"$f":"SUM('Volume Summary'!D72:D73)","v":340},{"$f":"SUM('Volume Summary'!E72:E73)","v":366},{"$f":"SUM('Volume Summary'!F72:F73)","v":376},{"$f":"SUM('Volume Summary'!G72:G73)","v":423},{"$f":"SUM('Volume Summary'!H72:H73)","v":392},{"$f":"SUM('Volume Summary'!I72:I73)","v":358},{"$f":"OFFSET(Data!EX158,Offsets!$A$11,Offsets!$A$10)","v":359.2},{"$f":"OFFSET(Data!EY158,Offsets!$A$11,Offsets!$A$10)","v":363.71428571428572}]
[null,"14:00:00",{"$f":"SUM('Volume Summary'!C74:C75)","v":351},{"$f":"SUM('Volume Summary'!D74:D75)","v":358},{"$f":"SUM('Volume Summary'!E74:E75)","v":384},{"$f":"SUM('Volume Summary'!F74:F75)","v":347},{"$f":"SUM('Volume Summary'!G74:G75)","v":406},{"$f":"SUM('Volume Summary'!H74:H75)","v":377},{"$f":"SUM('Volume Summary'!I74:I75)","v":382},{"$f":"OFFSET(Data!EX160,Offsets!$A$11,Offsets!$A$10)","v":369.2},{"$f":"OFFSET(Data!EY160,Offsets!$A$11,Offsets!$A$10)","v":372.14285714285717}]
[null,"14:30:00",{"$f":"SUM('Volume Summary'!C76:C77)","v":370},{"$f":"SUM('Volume Summary'!D76:D77)","v":377},{"$f":"SUM('Volume Summary'!E76:E77)","v":400},{"$f":"SUM('Volume Summary'!F76:F77)","v":446},{"$f":"SUM('Volume Summary'!G76:G77)","v":440},{"$f":"SUM('Volume Summary'!H76:H77)","v":371},{"$f":"SUM('Volume Summary'!I76:I77)","v":330},{"$f":"OFFSET(Data!EX162,Offsets!$A$11,Offsets!$A$10)","v":406.6},{"$f":"OFFSET(Data!EY162,Offsets!$A$11,Offsets!$A$10)","v":390.57142857142856}]
[null,"15:00:00",{"$f":"SUM('Volume Summary'!C78:C79)","v":401},{"$f":"SUM('Volume Summary'!D78:D79)","v":392},{"$f":"SUM('Volume Summary'!E78:E79)","v":469},{"$f":"SUM('Volume Summary'!F78:F79)","v":451},{"$f":"SUM('Volume Summary'!G78:G79)","v":494},{"$f":"SUM('Volume Summary'!H78:H79)","v":329},{"$f":"SUM('Volume Summary'!I78:I79)","v":354},{"$f":"OFFSET(Data!EX164,Offsets!$A$11,Offsets!$A$10)","v":441.4},{"$f":"OFFSET(Data!EY164,Offsets!$A$11,Offsets!$A$10)","v":412.85714285714283}]
[null,"15:30:00",{"$f":"SUM('Volume Summary'!C80:C81)","v":483},{"$f":"SUM('Volume Summary'!D80:D81)","v":507},{"$f":"SUM('Volume Summary'!E80:E81)","v":480},{"$f":"SUM('Volume Summary'!F80:F81)","v":451},{"$f":"SUM('Volume Summary'!G80:G81)","v":535},{"$f":"SUM('Volume Summary'!H80:H81)","v":320},{"$f":"SUM('Volume Summary'!I80:I81)","v":357},{"$f":"OFFSET(Data!EX166,Offsets!$A$11,Offsets!$A$10)","v":491.2},{"$f":"OFFSET(Data!EY166,Offsets!$A$11,Offsets!$A$10)","v":447.57142857142856}]
[null,"16:00:00",{"$f":"SUM('Volume Summary'!C82:C83)","v":471},{"$f":"SUM('Volume Summary'!D82:D83)","v":525},{"$f":"SUM('Volume Summary'!E82:E83)","v":559},{"$f":"SUM('Volume Summary'!F82:F83)","v":489},{"$f":"SUM('Volume Summary'!G82:G83)","v":484},{"$f":"SUM('Volume Summary'!H82:H83)","v":345},{"$f":"SUM('Volume Summary'!I82:I83)","v":354},{"$f":"OFFSET(Data!EX168,Offsets!$A$11,Offsets!$A$10)","v":505.6},{"$f":"OFFSET(Data!EY168,Offsets!$A$11,Offsets!$A$10)","v":461}]
[null,"16:30:00",{"$f":"SUM('Volume Summary'!C84:C85)","v":476},{"$f":"SUM('Volume Summary'!D84:D85)","v":516},{"$f":"SUM('Volume Summary'!E84:E85)","v":475},{"$f":"SUM('Volume Summary'!F84:F85)","v":480},{"$f":"SUM('Volume Summary'!G84:G85)","v":468},{"$f":"SUM('Volume Summary'!H84:H85)","v":301},{"$f":"SUM('Volume Summary'!I84:I85)","v":363},{"$f":"OFFSET(Data!EX170,Offsets!$A$11,Offsets!$A$10)","v":483},{"$f":"OFFSET(Data!EY170,Offsets!$A$11,Offsets!$A$10)","v":439.85714285714283}]
[null,"17:00:00",{"$f":"SUM('Volume Summary'!C86:C87)","v":466},{"$f":"SUM('Volume Summary'!D86:D87)","v":516},{"$f":"SUM('Volume Summary'!E86:E87)","v":518},{"$f":"SUM('Volume Summary'!F86:F87)","v":490},{"$f":"SUM('Volume Summary'!G86:G87)","v":498},{"$f":"SUM('Volume Summary'!H86:H87)","v":338},{"$f":"SUM('Volume Summary'!I86:I87)","v":378},{"$f":"OFFSET(Data!EX172,Offsets!$A$11,Offsets!$A$10)","v":497.6},{"$f":"OFFSET(Data!EY172,Offsets!$A$11,Offsets!$A$10)","v":457.71428571428572}]
[null,"17:30:00",{"$f":"SUM('Volume Summary'!C88:C89)","v":413},{"$f":"SUM('Volume Summary'!D88:D89)","v":487},{"$f":"SUM('Volume Summary'!E88:E89)","v":457},{"$f":"SUM('Volume Summary'!F88:F89)","v":490},{"$f":"SUM('Volume Summary'!G88:G89)","v":436},{"$f":"SUM('Volume Summary'!H88:H89)","v":298},{"$f":"SUM('Volume Summary'!I88:I89)","v":313},{"$f":"OFFSET(Data!EX174,Offsets!$A$11,Offsets!$A$10)","v":456.6},{"$f":"OFFSET(Data!EY174,Offsets!$A$11,Offsets!$A$10)","v":413.42857142857144}]
[null,"18:00:00",{"$f":"SUM('Volume Summary'!C90:C91)","v":364},{"$f":"SUM('Volume Summary'!D90:D91)","v":408},{"$f":"SUM('Volume Summary'!E90:E91)","v":408},{"$f":"SUM('Volume Summary'!F90:F91)","v":409},{"$f":"SUM('Volume Summary'!G90:G91)","v":375},{"$f":"SUM('Volume Summary'!H90:H91)","v":260},{"$f":"SUM('Volume Summary'!I90:I91)","v":297},{"$f":"OFFSET(Data!EX176,Offsets!$A$11,Offsets!$A$10)","v":392.8},{"$f":"OFFSET(Data!EY176,Offsets!$A$11,Offsets!$A$10)","v":360.14285714285717}]
[null,"18:30:00",{"$f":"SUM('Volume Summary'!C92:C93)","v":335},{"$f":"SUM('Volume Summary'!D92:D93)","v":395},{"$f":"SUM('Volume Summary'!E92:E93)","v":362},{"$f":"SUM('Volume Summary'!F92:F93)","v":377},{"$f":"SUM('Volume Summary'!G92:G93)","v":384},{"$f":"SUM('Volume Summary'!H92:H93)","v":262},{"$f":"SUM('Volume Summary'!I92:I93)","v":340},{"$f":"OFFSET(Data!EX178,Offsets!$A$11,Offsets!$A$10)","v":370.6},{"$f":"OFFSET(Data!EY178,Offsets!$A$11,Offsets!$A$10)","v":350.71428571428572}]
[null,"19:00:00",{"$f":"SUM('Volume Summary'!C94:C95)","v":265},{"$f":"SUM('Volume Summary'!D94:D95)","v":295},{"$f":"SUM('Volume Summary'!E94:E95)","v":310},{"$f":"SUM('Volume Summary'!F94:F95)","v":304},{"$f":"SUM('Volume Summary'!G94:G95)","v":259},{"$f":"SUM('Volume Summary'!H94:H95)","v":230},{"$f":"SUM('Volume Summary'!I94:I95)","v":222},{"$f":"OFFSET(Data!EX180,Offsets!$A$11,Offsets!$A$10)","v":286.60000000000002},{"$f":"OFFSET(Data!EY180,Offsets!$A$11,Offsets!$A$10)","v":269.28571428571428}]
[null,"19:30:00",{"$f":"SUM('Volume Summary'!C96:C97)","v":208},{"$f":"SUM('Volume Summary'!D96:D97)","v":234},{"$f":"SUM('Volume Summary'!E96:E97)","v":230},{"$f":"SUM('Volume Summary'!F96:F97)","v":252},{"$f":"SUM('Volume Summary'!G96:G97)","v":217},{"$f":"SUM('Volume Summary'!H96:H97)","v":203},{"$f":"SUM('Volume Summary'!I96:I97)","v":180},{"$f":"OFFSET(Data!EX182,Offsets!$A$11,Offsets!$A$10)","v":228.2},{"$f":"OFFSET(Data!EY182,Offsets!$A$11,Offsets!$A$10)","v":217.71428571428572}]
[null,"20:00:00",{"$f":"SUM('Volume Summary'!C98:C99)","v":172},{"$f":"SUM('Volume Summary'!D98:D99)","v":233},{"$f":"SUM('Volume Summary'!E98:E99)","v":211},{"$f":"SUM('Volume Summary'!F98:F99)","v":213},{"$f":"SUM('Volume Summary'!G98:G99)","v":194},{"$f":"SUM('Volume Summary'!H98:H99)","v":155},{"$f":"SUM('Volume Summary'!I98:I99)","v":156},{"$f":"OFFSET(Data!EX184,Offsets!$A$11,Offsets!$A$10)","v":204.6},{"$f":"OFFSET(Data!EY184,Offsets!$A$11,Offsets!$A$10)","v":190.57142857142858}]
[null,"20:30:00",{"$f":"SUM('Volume Summary'!C100:C101)","v":153},{"$f":"SUM('Volume Summary'!D100:D101)","v":206},{"$f":"SUM('Volume Summary'!E100:E101)","v":197},{"$f":"SUM('Volume Summary'!F100:F101)","v":169},{"$f":"SUM('Volume Summary'!G100:G101)","v":155},{"$f":"SUM('Volume Summary'!H100:H101)","v":118},{"$f":"SUM('Volume Summary'!I100:I101)","v":117},{"$f":"OFFSET(Data!EX186,Offsets!$A$11,Offsets!$A$10)","v":176},{"$f":"OFFSET(Data!EY186,Offsets!$A$11,Offsets!$A$10)","v":159.28571428571428}]
[null,"21:00:00",{"$f":"SUM('Volume Summary'!C102:C103)","v":129},{"$f":"SUM('Volume Summary'!D102:D103)","v":162},{"$f":"SUM('Volume Summary'!E102:E103)","v":160},{"$f":"SUM('Volume Summary'!F102:F103)","v":151},{"$f":"SUM('Volume Summary'!G102:G103)","v":142},{"$f":"SUM('Volume Summary'!H102:H103)","v":95},{"$f":"SUM('Volume Summary'!I102:I103)","v":111},{"$f":"OFFSET(Data!EX188,Offsets!$A$11,Offsets!$A$10)","v":148.80000000000001},{"$f":"OFFSET(Data!EY188,Offsets!$A$11,Offsets!$A$10)","v":135.71428571428572}]
[null,"21:30:00",{"$f":"SUM('Volume Summary'!C104:C105)","v":123},{"$f":"SUM('Volume Summary'!D104:D105)","v":156},{"$f":"SUM('Volume Summary'!E104:E105)","v":172},{"$f":"SUM('Volume Summary'!F104:F105)","v":147},{"$f":"SUM('Volume Summary'!G104:G105)","v":138},{"$f":"SUM('Volume Summary'!H104:H105)","v":93},{"$f":"SUM('Volume Summary'!I104:I105)","v":116},{"$f":"OFFSET(Data!EX190,Offsets!$A$11,Offsets!$A$10)","v":147.19999999999999},{"$f":"OFFSET(Data!EY190,Offsets!$A$11,Offsets!$A$10)","v":135}]
[null,"22:00:00",{"$f":"SUM('Volume Summary'!C106:C107)","v":75},{"$f":"SUM('Volume Summary'!D106:D107)","v":112},{"$f":"SUM('Volume Summary'!E106:E107)","v":112},{"$f":"SUM('Volume Summary'!F106:F107)","v":117},{"$f":"SUM('Volume Summary'!G106:G107)","v":139},{"$f":"SUM('Volume Summary'!H106:H107)","v":126},{"$f":"SUM('Volume Summary'!I106:I107)","v":102},{"$f":"OFFSET(Data!EX192,Offsets!$A$11,Offsets!$A$10)","v":111},{"$f":"OFFSET(Data!EY192,Offsets!$A$11,Offsets!$A$10)","v":111.85714285714286}]
[null,"22:30:00",{"$f":"SUM('Volume Summary'!C108:C109)","v":65},{"$f":"SUM('Volume Summary'!D108:D109)","v":101},{"$f":"SUM('Volume Summary'!E108:E109)","v":76},{"$f":"SUM('Volume Summary'!F108:F109)","v":88},{"$f":"SUM('Volume Summary'!G108:G109)","v":112},{"$f":"SUM('Volume Summary'!H108:H109)","v":94},{"$f":"SUM('Volume Summary'!I108:I109)","v":78},{"$f":"OFFSET(Data!EX194,Offsets!$A$11,Offsets!$A$10)","v":88.4},{"$f":"OFFSET(Data!EY194,Offsets!$A$11,Offsets!$A$10)","v":87.714285714285708}]
[null,"23:00:00",{"$f":"SUM('Volume Summary'!C110:C111)","v":42},{"$f":"SUM('Volume Summary'!D110:D111)","v":68},{"$f":"SUM('Volume Summary'!E110:E111)","v":39},{"$f":"SUM('Volume Summary'!F110:F111)","v":80},{"$f":"SUM('Volume Summary'!G110:G111)","v":80},{"$f":"SUM('Volume Summary'!H110:H111)","v":78},{"$f":"SUM('Volume Summary'!I110:I111)","v":55},{"$f":"OFFSET(Data!EX196,Offsets!$A$11,Offsets!$A$10)","v":61.8},{"$f":"OFFSET(Data!EY196,Offsets!$A$11,Offsets!$A$10)","v":63.142857142857146}]
[null,"23:30:00",{"$f":"SUM('Volume Summary'!C112:C113)","v":33},{"$f":"SUM('Volume Summary'!D112:D113)","v":40},{"$f":"SUM('Volume Summary'!E112:E113)","v":43},{"$f":"SUM('Volume Summary'!F112:F113)","v":60},{"$f":"SUM('Volume Summary'!G112:G113)","v":69},{"$f":"SUM('Volume Summary'!H112:H113)","v":91},{"$f":"SUM('Volume Summary'!I112:I113)","v":30},{"$f":"OFFSET(Data!EX198,Offsets!$A$11,Offsets!$A$10)","v":49},{"$f":"OFFSET(Data!EY198,Offsets!$A$11,Offsets!$A$10)","v":52.285714285714285}]
[null,"Total",{"$f":"SUM(C18:C65)","v":11170},12289,12060,12085,12210,8817,8655,{"$f":"SUM(J18:J65)","v":11962.8},{"$f":"SUM(K18:K65)","v":11040.857142857143}]
[]
[null,"07:00-19:00",{"$f":"SUM(C32:C55)","v":9117},{"$f":"SUM(D32:D55)","v":9912},9824,9730,9961,6881,6853,{"$f":"SUM(J32:J55)","v":9708.7999999999993},8896.8571428571431]
[null,"06:00-22:00",{"$f":"SUM(C30:C61)","v":10535},{"$f":"SUM(D30:D61)","v":11581},11475,11360,11448,7972,7911,11279.800000000001,10326]
[null,"06:00-24:00",{"$f":"SUM(C30:C65)","v":10750},{"$f":"SUM(D30:D65)","v":11902},11745,11705,11848,8361,8176,11590,10641]
[null,"00:00-24:00",{"$f":"SUM(C18:C65)","v":11170},{"$f":"SUM(D18:D65)","v":12289},12060,12085,12210,8817,8655,11962.8,11040.857142857143]

{"sheet":"Vol Sum 60 Min","index":6,"n_rows":47,"n_cols":11,"rows_kept":47,"cut":false,"hidden":false,"merged":[[6,8,6,9],[9,3,10,7],[12,2,12,8],[0,8,0,9],[1,8,1,10],[2,8,2,10],[3,8,3,10],[5,8,5,12],[7,8,7,9],[7,10,7,11]]}
[null,null,null,null,null,null,"Job Number",null,{"$f":"Offsets!I1","v":"3185-WAL"}]
[null,null,null,null,null,null,"Client",null,{"$f":"Offsets!L1","v":"WYG"}]
[null,null,null,null,null,null,"Project",null,{"$f":"Offsets!G1","v":"St Athan"}]
[null,null,null,null,null,null,"Location",null,{"$f":"Offsets!H3","v":"51.39833, -3.41253"}]
[null,null,null,null,null,null,"Site No.",null,{"$f":"Offsets!I3","v":1}]
[null,null,null,null,null,null,"Road",null,{"$f":"Offsets!G3","v":"B4265"}]
[null,null,null,null,null,null,"Start Date",null,{"$f":"Offsets!L3","v":"2016-06-07"}]
[null,null,null,null,null,null,"Direction",null,{"$f":"+Offsets!A2","v":"Combined"}]
[]
[null,null,null,"    Volume Summary",null,null,null,null,"Average Weekday",null,{"$f":"+J42","v":11962.8}]
[null,null,null,null,null,null,null,null,"7 Day Average",null,{"$f":"+K42","v":11040.857142857143}]
[]
[null,null,"Day of Week",null,null,null,null,null,null," "]
[null,null,"Mon","Tue","Wed","Thu","Fri","Sat","Sun","Ave","7 Day"]
[null,"Time",{"$f":"+Offsets!P3","v":"2016-07-13"},{"$f":"+Offsets!Q3","v":"2016-06-07"},{"$f":"+Offsets!R3","v":"2016-06-08"},{"$f":"+Offsets!S3","v":"2016-06-09"},{"$f":"+Offsets!T3","v":"2016-06-10"},{"$f":"+Offsets!U3","v":"2016-06-11"},{"$f":"+Offsets!V3","v":"2016-06-12"},"W'day","Ave"]
[null,"AM Peak",{"$f":"MAX(C18:C29)","v":943},{"$f":"MAX(D18:D29)","v":1018},919,981,913,733,644]
[null,"PM Peak",{"$f":"MAX(C30:C41)","v":947},{"$f":"MAX(D30:D41)","v":1041},1034,980,1029,785,736]
[null,"00:00:00",{"$f":"SUM('Volume Summary'!C18:C21)","v":62},{"$f":"SUM('Volume Summary'!D18:D21)","v":40},{"$f":"SUM('Volume Summary'!E18:E21)","v":42},{"$f":"SUM('Volume Summary'!F18:F21)","v":48},{"$f":"SUM('Volume Summary'!G18:G21)","v":65},{"$f":"SUM('Volume Summary'!H18:H21)","v":92},{"$f":"SUM('Volume Summary'!I18:I21)","v":158},{"$f":"OFFSET(Data!EX203,Offsets!$A$11,Offsets!$A$10)","v":51.4},{"$f":"OFFSET(Data!EY203,Offsets!$A$11,Offsets!$A$10)","v":72.428571428571431}]
[null,"01:00:00",{"$f":"SUM('Volume Summary'!C22:C25)","v":36},{"$f":"SUM('Volume Summary'!D22:D25)","v":32},{"$f":"SUM('Volume Summary'!E22:E25)","v":15},{"$f":"SUM('Volume Summary'!F22:F25)","v":41},{"$f":"SUM('Volume Summary'!G22:G25)","v":25},{"$f":"SUM('Volume Summary'!H22:H25)","v":60},{"$f":"SUM('Volume Summary'!I22:I25)","v":82},{"$f":"OFFSET(Data!EX207,Offsets!$A$11,Offsets!$A$10)","v":29.8},{"$f":"OFFSET(Data!EY207,Offsets!$A$11,Offsets!$A$10)","v":41.571428571428569}]
[null,"02:00:00",{"$f":"SUM('Volume Summary'!C26:C29)","v":34},{"$f":"SUM('Volume Summary'!D26:D29)","v":36},{"$f":"SUM('Volume Summary'!E26:E29)","v":22},{"$f":"SUM('Volume Summary'!F26:F29)","v":30},{"$f":"SUM('Volume Summary'!G26:G29)","v":33},{"$f":"SUM('Volume Summary'!H26:H29)","v":49},{"$f":"SUM('Volume Summary'!I26:I29)","v":38},{"$f":"OFFSET(Data!EX211,Offsets!$A$11,Offsets!$A$10)","v":31},{"$f":"OFFSET(Data!EY211,Offsets!$A$11,Offsets!$A$10)","v":34.571428571428569}]
[null,"03:00:00",{"$f":"SUM('Volume Summary'!C30:C33)","v":54},{"$f":"SUM('Volume Summary'!D30:D33)","v":58},{"$f":"SUM('Volume Summary'!E30:E33)","v":24},{"$f":"SUM('Volume Summary'!F30:F33)","v":45},{"$f":"SUM('Volume Summary'!G30:G33)","v":29},{"$f":"SUM('Volume Summary'!H30:H33)","v":53},{"$f":"SUM('Volume Summary'!I30:I33)","v":40},{"$f":"OFFSET(Data!EX215,Offsets!$A$11,Offsets!$A$10)","v":42},{"$f":"OFFSET(Data!EY215,Offsets!$A$11,Offsets!$A$10)","v":43.285714285714285}]
[null,"04:00:00",{"$f":"SUM('Volume Summary'!C34:C37)","v":72},{"$f":"SUM('Volume Summary'!D34:D37)","v":63},{"$f":"SUM('Volume Summary'!E34:E37)","v":43},{"$f":"SUM('Volume Summary'!F34:F37)","v":50},{"$f":"SUM('Volume Summary'!G34:G37)","v":44},{"$f":"SUM('Volume Summary'!H34:H37)","v":51},{"$f":"SUM('Volume Summary'!I34:I37)","v":36},{"$f":"OFFSET(Data!EX219,Offsets!$A$11,Offsets!$A$10)","v":54.4},{"$f":"OFFSET(Data!EY219,Offsets!$A$11,Offsets!$A$10)","v":51.285714285714285}]
[null,"05:00:00",{"$f":"SUM('Volume Summary'!C38:C41)","v":162},{"$f":"SUM('Volume Summary'!D38:D41)","v":158},{"$f":"SUM('Volume Summary'!E38:E41)","v":169},{"$f":"SUM('Volume Summary'!F38:F41)","v":166},{"$f":"SUM('Volume Summary'!G38:G41)","v":166},{"$f":"SUM('Volume Summary'!H38:H41)","v":151},{"$f":"SUM('Volume Summary'!I38:I41)","v":125},{"$f":"OFFSET(Data!EX223,Offsets!$A$11,Offsets!$A$10)","v":164.2},{"$f":"OFFSET(Data!EY223,Offsets!$A$11,Offsets!$A$10)","v":156.71428571428572}]
[null,"06:00:00",{"$f":"SUM('Volume Summary'!C42:C45)","v":368},{"$f":"SUM('Volume Summary'!D42:D45)","v":383},{"$f":"SUM('Volume Summary'!E42:E45)","v":371},{"$f":"SUM('Volume Summary'!F42:F45)","v":394},{"$f":"SUM('Volume Summary'!G42:G45)","v":382},{"$f":"SUM('Volume Summary'!H42:H45)","v":197},{"$f":"SUM('Volume Summary'!I42:I45)","v":156},{"$f":"OFFSET(Data!EX227,Offsets!$A$11,Offsets!$A$10)","v":379.6},{"$f":"OFFSET(Data!EY227,Offsets!$A$11,Offsets!$A$10)","v":321.57142857142856}]
[null,"07:00:00",{"$f":"SUM('Volume Summary'!C46:C49)","v":795},{"$f":"SUM('Volume Summary'!D46:D49)","v":857},{"$f":"SUM('Volume Summary'!E46:E49)","v":873},{"$f":"SUM('Volume Summary'!F46:F49)","v":804},{"$f":"SUM('Volume Summary'!G46:G49)","v":785},{"$f":"SUM('Volume Summary'!H46:H49)","v":215},{"$f":"SUM('Volume Summary'!I46:I49)","v":140},{"$f":"OFFSET(Data!EX231,Offsets!$A$11,Offsets!$A$10)","v":822.8},{"$f":"OFFSET(Data!EY231,Offsets!$A$11,Offsets!$A$10)","v":638.42857142857144}]
[null,"08:00:00",{"$f":"SUM('Volume Summary'!C50:C53)","v":943},{"$f":"SUM('Volume Summary'!D50:D53)","v":1018},{"$f":"SUM('Volume Summary'!E50:E53)","v":919},{"$f":"SUM('Volume Summary'!F50:F53)","v":981},{"$f":"SUM('Volume Summary'!G50:G53)","v":913},{"$f":"SUM('Volume Summary'!H50:H53)","v":96},{"$f":"SUM('Volume Summary'!I50:I53)","v":241},{"$f":"OFFSET(Data!EX235,Offsets!$A$11,Offsets!$A$10)","v":954.8},{"$f":"OFFSET(Data!EY235,Offsets!$A$11,Offsets!$A$10)","v":730.14285714285711}]
[null,"09:00:00",{"$f":"SUM('Volume Summary'!C54:C57)","v":698},{"$f":"SUM('Volume Summary'!D54:D57)","v":712},{"$f":"SUM('Volume Summary'!E54:E57)","v":714},{"$f":"SUM('Volume Summary'!F54:F57)","v":705},{"$f":"SUM('Volume Summary'!G54:G57)","v":735},{"$f":"SUM('Volume Summary'!H54:H57)","v":476},{"$f":"SUM('Volume Summary'!I54:I57)","v":351},{"$f":"OFFSET(Data!EX239,Offsets!$A$11,Offsets!$A$10)","v":712.8},{"$f":"OFFSET(Data!EY239,Offsets!$A$11,Offsets!$A$10)","v":627.28571428571433}]
[null,"10:00:00",{"$f":"SUM('Volume Summary'!C58:C61)","v":615},{"$f":"SUM('Volume Summary'!D58:D61)","v":694},{"$f":"SUM('Volume Summary'!E58:E61)","v":658},{"$f":"SUM('Volume Summary'!F58:F61)","v":656},{"$f":"SUM('Volume Summary'!G58:G61)","v":692},{"$f":"SUM('Volume Summary'!H58:H61)","v":605},{"$f":"SUM('Volume Summary'!I58:I61)","v":549},{"$f":"OFFSET(Data!EX243,Offsets!$A$11,Offsets!$A$10)","v":663},{"$f":"OFFSET(Data!EY243,Offsets!$A$11,Offsets!$A$10)","v":638.42857142857144}]
[null,"11:00:00",{"$f":"SUM('Volume Summary'!C62:C65)","v":655},{"$f":"SUM('Volume Summary'!D62:D65)","v":691},{"$f":"SUM('Volume Summary'!E62:E65)","v":666},{"$f":"SUM('Volume Summary'!F62:F65)","v":690},{"$f":"SUM('Volume Summary'!G62:G65)","v":718},{"$f":"SUM('Volume Summary'!H62:H65)","v":733},{"$f":"SUM('Volume Summary'!I62:I65)","v":644},{"$f":"OFFSET(Data!EX247,Offsets!$A$11,Offsets!$A$10)","v":684},{"$f":"OFFSET(Data!EY247,Offsets!$A$11,Offsets!$A$10)","v":685.28571428571433}]
[null,"12:00:00",{"$f":"SUM('Volume Summary'!C66:C69)","v":645},{"$f":"SUM('Volume Summary'!D66:D69)","v":759},{"$f":"SUM('Volume Summary'!E66:E69)","v":756},{"$f":"SUM('Volume Summary'!F66:F69)","v":727},{"$f":"SUM('Volume Summary'!G66:G69)","v":769},{"$f":"SUM('Volume Summary'!H66:H69)","v":785},{"$f":"SUM('Volume Summary'!I66:I69)","v":736},{"$f":"OFFSET(Data!EX251,Offsets!$A$11,Offsets!$A$10)","v":731.2},{"$f":"OFFSET(Data!EY251,Offsets!$A$11,Offsets!$A$10)","v":739.57142857142856}]
[null,"13:00:00",{"$f":"SUM('Volume Summary'!C70:C73)","v":636},{"$f":"SUM('Volume Summary'!D70:D73)","v":700},{"$f":"SUM('Volume Summary'!E70:E73)","v":726},{"$f":"SUM('Volume Summary'!F70:F73)","v":737},{"$f":"SUM('Volume Summary'!G70:G73)","v":829},{"$f":"SUM('Volume Summary'!H70:H73)","v":770},{"$f":"SUM('Volume Summary'!I70:I73)","v":724},{"$f":"OFFSET(Data!EX255,Offsets!$A$11,Offsets!$A$10)","v":725.6},{"$f":"OFFSET(Data!EY255,Offsets!$A$11,Offsets!$A$10)","v":731.71428571428567}]
[null,"14:00:00",{"$f":"SUM('Volume Summary'!C74:C77)","v":721},{"$f":"SUM('Volume Summary'!D74:D77)","v":735},{"$f":"SUM('Volume Summary'!E74:E77)","v":784},{"$f":"SUM('Volume Summary'!F74:F77)","v":793},{"$f":"SUM('Volume Summary'!G74:G77)","v":846},{"$f":"SUM('Volume Summary'!H74:H77)","v":748},{"$f":"SUM('Volume Summary'!I74:I77)","v":712},{"$f":"OFFSET(Data!EX259,Offsets!$A$11,Offsets!$A$10)","v":775.8},{"$f":"OFFSET(Data!EY259,Offsets!$A$11,Offsets!$A$10)","v":762.71428571428567}]
[null,"15:00:00",{"$f":"SUM('Volume Summary'!C78:C81)","v":884},{"$f":"SUM('Volume Summary'!D78:D81)","v":899},{"$f":"SUM('Volume Summary'!E78:E81)","v":949},{"$f":"SUM('Volume Summary'!F78:F81)","v":902},{"$f":"SUM('Volume Summary'!G78:G81)","v":1029},{"$f":"SUM('Volume Summary'!H78:H81)","v":649},{"$f":"SUM('Volume Summary'!I78:I81)","v":711},{"$f":"OFFSET(Data!EX263,Offsets!$A$11,Offsets!$A$10)","v":932.6},{"$f":"OFFSET(Data!EY263,Offsets!$A$11,Offsets!$A$10)","v":860.42857142857144}]
[null,"16:00:00",{"$f":"SUM('Volume Summary'!C82:C85)","v":947},{"$f":"SUM('Volume Summary'!D82:D85)","v":1041},{"$f":"SUM('Volume Summary'!E82:E85)","v":1034},{"$f":"SUM('Volume Summary'!F82:F85)","v":969},{"$f":"SUM('Volume Summary'!G82:G85)","v":952},{"$f":"SUM('Volume Summary'!H82:H85)","v":646},{"$f":"SUM('Volume Summary'!I82:I85)","v":717},{"$f":"OFFSET(Data!EX267,Offsets!$A$11,Offsets!$A$10)","v":988.6},{"$f":"OFFSET(Data!EY267,Offsets!$A$11,Offsets!$A$10)","v":900.85714285714289}]
[null,"17:00:00",{"$f":"SUM('Volume Summary'!C86:C89)","v":879},{"$f":"SUM('Volume Summary'!D86:D89)","v":1003},{"$f":"SUM('Volume Summary'!E86:E89)","v":975},{"$f":"SUM('Volume Summary'!F86:F89)","v":980},{"$f":"SUM('Volume Summary'!G86:G89)","v":934},{"$f":"SUM('Volume Summary'!H86:H89)","v":636},{"$f":"SUM('Volume Summary'!I86:I89)","v":691},{"$f":"OFFSET(Data!EX271,Offsets!$A$11,Offsets!$A$10)","v":954.2},{"$f":"OFFSET(Data!EY271,Offsets!$A$11,Offsets!$A$10)","v":871.14285714285711}]
[null,"18:00:00",{"$f":"SUM('Volume Summary'!C90:C93)","v":699},{"$f":"SUM('Volume Summary'!D90:D93)","v":803},{"$f":"SUM('Volume Summary'!E90:E93)","v":770},{"$f":"SUM('Volume Summary'!F90:F93)","v":786},{"$f":"SUM('Volume Summary'!G90:G93)","v":759},{"$f":"SUM('Volume Summary'!H90:H93)","v":522},{"$f":"SUM('Volume Summary'!I90:I93)","v":637},{"$f":"OFFSET(Data!EX275,Offsets!$A$11,Offsets!$A$10)","v":763.4},{"$f":"OFFSET(Data!EY275,Offsets!$A$11,Offsets!$A$10)","v":710.85714285714289}]
[null,"19:00:00",{"$f":"SUM('Volume Summary'!C94:C97)","v":473},{"$f":"SUM('Volume Summary'!D94:D97)","v":529},{"$f":"SUM('Volume Summary'!E94:E97)","v":540},{"$f":"SUM('Volume Summary'!F94:F97)","v":556},{"$f":"SUM('Volume Summary'!G94:G97)","v":476},{"$f":"SUM('Volume Summary'!H94:H97)","v":433},{"$f":"SUM('Volume Summary'!I94:I97)","v":402},{"$f":"OFFSET(Data!EX279,Offsets!$A$11,Offsets!$A$10)","v":514.79999999999995},{"$f":"OFFSET(Data!EY279,Offsets!$A$11,Offsets!$A$10)","v":487}]
[null,"20:00:00",{"$f":"SUM('Volume Summary'!C98:C101)","v":325},{"$f":"SUM('Volume Summary'!D98:D101)","v":439},{"$f":"SUM('Volume Summary'!E98:E101)","v":408},{"$f":"SUM('Volume Summary'!F98:F101)","v":382},{"$f":"SUM('Volume Summary'!G98:G101)","v":349},{"$f":"SUM('Volume Summary'!H98:H101)","v":273},{"$f":"SUM('Volume Summary'!I98:I101)","v":273},{"$f":"OFFSET(Data!EX283,Offsets!$A$11,Offsets!$A$10)","v":380.6},{"$f":"OFFSET(Data!EY283,Offsets!$A$11,Offsets!$A$10)","v":349.85714285714283}]
[null,"21:00:00",{"$f":"SUM('Volume Summary'!C102:C105)","v":252},{"$f":"SUM('Volume Summary'!D102:D105)","v":318},{"$f":"SUM('Volume Summary'!E102:E105)","v":332},{"$f":"SUM('Volume Summary'!F102:F105)","v":298},{"$f":"SUM('Volume Summary'!G102:G105)","v":280},{"$f":"SUM('Volume Summary'!H102:H105)","v":188},{"$f":"SUM('Volume Summary'!I102:I105)","v":227},{"$f":"OFFSET(Data!EX287,Offsets!$A$11,Offsets!$A$10)","v":296},{"$f":"OFFSET(Data!EY287,Offsets!$A$11,Offsets!$A$10)","v":270.71428571428572}]
[null,"22:00:00",{"$f":"SUM('Volume Summary'!C106:C109)","v":140},{"$f":"SUM('Volume Summary'!D106:D109)","v":213},{"$f":"SUM('Volume Summary'!E106:E109)","v":188},{"$f":"SUM('Volume Summary'!F106:F109)","v":205},{"$f":"SUM('Volume Summary'!G106:G109)","v":251},{"$f":"SUM('Volume Summary'!H106:H109)","v":220},{"$f":"SUM('Volume Summary'!I106:I109)","v":180},{"$f":"OFFSET(Data!EX291,Offsets!$A$11,Offsets!$A$10)","v":199.4},{"$f":"OFFSET(Data!EY291,Offsets!$A$11,Offsets!$A$10)","v":199.57142857142858}]
[null,"23:00:00",{"$f":"SUM('Volume Summary'!C110:C113)","v":75},{"$f":"SUM('Volume Summary'!D110:D113)","v":108},{"$f":"SUM('Volume Summary'!E110:E113)","v":82},{"$f":"SUM('Volume Summary'!F110:F113)","v":140},{"$f":"SUM('Volume Summary'!G110:G113)","v":149},{"$f":"SUM('Volume Summary'!H110:H113)","v":169},{"$f":"SUM('Volume Summary'!I110:I113)","v":85},{"$f":"OFFSET(Data!EX295,Offsets!$A$11,Offsets!$A$10)","v":110.8},{"$f":"OFFSET(Data!EY295,Offsets!$A$11,Offsets!$A$10)","v":115.42857142857143}]
[null,"Total",{"$f":"SUM(C18:C41)","v":11170},12289,12060,12085,12210,8817,8655,11962.8,11040.857142857143]
[]
[null,"07:00-19:00",{"$f":"SUM(C25:C36)","v":9117},{"$f":"SUM(D25:D36)","v":9912},9824,9730,9961,6881,6853,9708.8000000000011,8896.8571428571413]
[null,"06:00-22:00",{"$f":"SUM(C24:C39)","v":10535},{"$f":"SUM(D24:D39)","v":11581},11475,11360,11448,7972,7911,11279.800000000001,10326.000000000002]
[null,"06:00-24:00",{"$f":"SUM(C24:C41)","v":10750},{"$f":"SUM(D24:D41)","v":11902},11745,11705,11848,8361,8176,11590,10641.000000000002]
[null,"00:00-24:00",{"$f":"SUM(C18:C41)","v":11170},{"$f":"SUM(D18:D41)","v":12289},12060,12085,12210,8817,8655,11962.8,11040.857142857143]

{"sheet":"Class Summary","index":7,"n_rows":115,"n_cols":22,"rows_kept":115,"cut":false,"hidden":false,"merged":[[16,2,17,2],[9,5,10,14],[16,11,17,11],[16,12,17,12],[15,16,15,21],[16,13,17,13],[16,10,17,10],[13,20,13,21],[16,14,17,14],[16,19,17,19],[15,2,15,7],[15,9,15,14],[16,3,17,3],[16,4,17,4],[16,5,17,5],[16,17,17,17],[16,6,17,6],[16,7,17,7],[1,16,1,21],[6,16,6,21],[16,18,17,18],[16,20,17,20],[16,21,17,21],[16,9,17,9],[16,16,17,16],[12,20,12,21],[11,20,11,21],[10,20,10,21],[9,20,9,21],[0,16,0,21],[2,16,2,21],[3,16,3,21],[4,16,4,21],[5,16,5,21]]}
[null,null,null,null,null,null,null,null,null,null,null,null,"Job Number",null,null,null,{"$f":"Offsets!I1","v":"3185-WAL"}]
[null,null,null,null,null,null,null,null,null,null,null,null,"Client:",null,null,null,{"$f":"Offsets!L1","v":"WYG"}]
[null,null,null,null,null,null,null,null,null,null,null,null,"Project:",null,null,null,{"$f":"Offsets!G1","v":"St Athan"}]
[null,null,null,null,null,null,null,null,null,null,null,null,"Location:",null,null,null,{"$f":"Offsets!H3","v":"51.39833, -3.41253"}]
[null,null,null,null,null,null,null,null,null,null,null,null,"Site No.",null,null,null,{"$f":"Offsets!I3","v":1}]
[null,null,null,null,null,null,null,null,null,null,null,null,"Road",null,null,null,{"$f":"Offsets!G3","v":"B4265"}]
[null,null,null,null,null,null,null,null,null,null,null,null,"Start Date",null,null,null,{"$f":"Offsets!L3","v":"2016-06-07"}]
[null,null,null,null,null,null,null,null,null,null,null,null,"Direction",null,null,null,{"$f":"Offsets!J3","v":"Eastbound"},null,{"$f":"Offsets!K3","v":"Westbound"}]
[]
[null,null,null,null,null,"Vehicle Class Summary",null,null,null,null,null,null,null,null,null,null,"M'Cycle & P'Cycle",null,null,null,{"$f":"SUM(Q115/$V$115)","v":1.8826178091763065E-2}]
[null,null,null,null,null,null,null,null,null,null,null,null,null,null,null,null,"Cars",null,null,null,{"$f":"SUM(R115/$V$115)","v":0.89321481251455659}]
[null,null,null,null,null,null,null,null,null,null,null,null,null,null,null,null,"LGV",null,null,null,{"$f":"SUM(S115/$V$115)","v":6.7606034728152631E-2}]
[null,null,null,null,null,null,null,null,null,null,null,null,null,null,null,null,"OGV1 & PSV",null,null,null,{"$f":"SUM(T115/$V$115)","v":7.8668840410941205E-3}]
[null,null,null,null,null,null,null,null,null,null,null,null,null,null,null,null,"OGV2",null,null,null,{"$f":"SUM(U115/$V$115)","v":1.248609062443392E-2}]
[]
[null,null,{"$f":"Offsets!J3","v":"Eastbound"},null,null,null,null,null,null,{"$f":"+Offsets!K3","v":"Westbound"},null,null,null,null,null,null,"Combined"]
[null,null,"M'Cycle & P'Cycle","Cars","LGV/PSV 2Axle","OGV1/PSV 3Axle","OGV2","Total",null,"M'Cycle & P'Cycle","Cars","LGV/PSV 2Axle","OGV1/PSV 3Axle","OGV2","Total",null,"M'Cycle & P'Cycle","Cars","LGV/PSV 2Axle","OGV1/PSV 3Axle","OGV2","Total"]
[]
[null,"00:00:00",{"$f":"OFFSET(Data!DK5,Offsets!$A$28,0)","v":0.14285714285714285},{"$f":"OFFSET(Data!DL5,Offsets!$A$28,0)","v":6},{"$f":"OFFSET(Data!DM5,Offsets!$A$28,0)","v":0.5714285714285714},{"$f":"OFFSET(Data!DN5,Offsets!$A$28,0)","v":0},{"$f":"OFFSET(Data!DO5,Offsets!$A$28,0)","v":0},{"$f":"OFFSET(Data!DP5,Offsets!$A$28,0)","v":6.7142857142857144},null,{"$f":"OFFSET(Data!DQ5,Offsets!$A$28,0)","v":0.2857142857142857},{"$f":"OFFSET(Data!DR5,Offsets!$A$28,0)","v":13.857142857142858},{"$f":"OFFSET(Data!DS5,Offsets!$A$28,0)","v":0.2857142857142857},{"$f":"OFFSET(Data!DT5,Offsets!$A$28,0)","v":0},{"$f":"OFFSET(Data!DU5,Offsets!$A$28,0)","v":0},{"$f":"OFFSET(Data!DV5,Offsets!$A$28,0)","v":14.428571428571431},null,{"$f":"OFFSET(Data!DW5,Offsets!$A$28,0)","v":0.42857142857142855},{"$f":"OFFSET(Data!DX5,Offsets!$A$28,0)","v":19.857142857142858},{"$f":"OFFSET(Data!DY5,Offsets!$A$28,0)","v":0.8571428571428571},{"$f":"OFFSET(Data!DZ5,Offsets!$A$28,0)","v":0},{"$f":"OFFSET(Data!EA5,Offsets!$A$28,0)","v":0},{"$f":"OFFSET(Data!EB5,Offsets!$A$28,0)","v":21.142857142857146}]
[null,"00:15:00",{"$f":"OFFSET(Data!DK6,Offsets!$A$28,0)","v":0},{"$f":"OFFSET(Data!DL6,Offsets!$A$28,0)","v":4},{"$f":"OFFSET(Data!DM6,Offsets!$A$28,0)","v":0.2857142857142857},{"$f":"OFFSET(Data!DN6,Offsets!$A$28,0)","v":0},{"$f":"OFFSET(Data!DO6,Offsets!$A$28,0)","v":0},{"$f":"OFFSET(Data!DP6,Offsets!$A$28,0)","v":4.2857142857142856},null,{"$f":"OFFSET(Data!DQ6,Offsets!$A$28,0)","v":0},{"$f":"OFFSET(Data!DR6,Offsets!$A$28,0)","v":12},{"$f":"OFFSET(Data!DS6,Offsets!$A$28,0)","v":2.1428571428571428},{"$f":"OFFSET(Data!DT6,Offsets!$A$28,0)","v":0},{"$f":"OFFSET(Data!DU6,Offsets!$A$28,0)","v":0},{"$f":"OFFSET(Data!DV6,Offsets!$A$28,0)","v":14.142857142857142},null,{"$f":"OFFSET(Data!DW6,Offsets!$A$28,0)","v":0},{"$f":"OFFSET(Data!DX6,Offsets!$A$28,0)","v":16},{"$f":"OFFSET(Data!DY6,Offsets!$A$28,0)","v":2.4285714285714284},{"$f":"OFFSET(Data!DZ6,Offsets!$A$28,0)","v":0},{"$f":"OFFSET(Data!EA6,Offsets!$A$28,0)","v":0},{"$f":"OFFSET(Data!EB6,Offsets!$A$28,0)","v":18.428571428571427}]
[null,"00:30:00",{"$f":"OFFSET(Data!DK7,Offsets!$A$28,0)","v":0},{"$f":"OFFSET(Data!DL7,Offsets!$A$28,0)","v":6.2857142857142856},{"$f":"OFFSET(Data!DM7,Offsets!$A$28,0)","v":0.8571428571428571},{"$f":"OFFSET(Data!DN7,Offsets!$A$28,0)","v":0.14285714285714285},{"$f":"OFFSET(Data!DO7,Offsets!$A$28,0)","v":0},{"$f":"OFFSET(Data!DP7,Offsets!$A$28,0)","v":7.2857142857142856},null,{"$f":"OFFSET(Data!DQ7,Offsets!$A$28,0)","v":0.42857142857142855},{"$f":"OFFSET(Data!DR7,Offsets!$A$28,0)","v":9.1428571428571423},{"$f":"OFFSET(Data!DS7,Offsets!$A$28,0)","v":0.7142857142857143},{"$f":"OFFSET(Data!DT7,Offsets!$A$28,0)","v":0},{"$f":"OFFSET(Data!DU7,Offsets!$A$28,0)","v":0},{"$f":"OFFSET(Data!DV7,Offsets!$A$28,0)","v":10.285714285714285},null,{"$f":"OFFSET(Data!DW7,Offsets!$A$28,0)","v":0.42857142857142855},{"$f":"OFFSET(Data!DX7,Offsets!$A$28,0)","v":15.428571428571427},{"$f":"OFFSET(Data!DY7,Offsets!$A$28,0)","v":1.5714285714285714},{"$f":"OFFSET(Data!DZ7,Offsets!$A$28,0)","v":0.14285714285714285},{"$f":"OFFSET(Data!EA7,Offsets!$A$28,0)","v":0},{"$f":"OFFSET(Data!EB7,Offsets!$A$28,0)","v":17.571428571428569}]
[null,"00:45:00",{"$f":"OFFSET(Data!DK8,Offsets!$A$28,0)","v":0},{"$f":"OFFSET(Data!DL8,Offsets!$A$28,0)","v":4.2857142857142865},{"$f":"OFFSET(Data!DM8,Offsets!$A$28,0)","v":0.8571428571428571},{"$f":"OFFSET(Data!DN8,Offsets!$A$28,0)","v":0},{"$f":"OFFSET(Data!DO8,Offsets!$A$28,0)","v":0},{"$f":"OFFSET(Data!DP8,Offsets!$A$28,0)","v":5.1428571428571432},null,{"$f":"OFFSET(Data!DQ8,Offsets!$A$28,0)","v":0.14285714285714285},{"$f":"OFFSET(Data!DR8,Offsets!$A$28,0)","v":9.7142857142857135},{"$f":"OFFSET(Data!DS8,Offsets!$A$28,0)","v":0.2857142857142857},{"$f":"OFFSET(Data!DT8,Offsets!$A$28,0)","v":0},{"$f":"OFFSET(Data!DU8,Offsets!$A$28,0)","v":0},{"$f":"OFFSET(Data!DV8,Offsets!$A$28,0)","v":10.142857142857142},null,{"$f":"OFFSET(Data!DW8,Offsets!$A$28,0)","v":0.14285714285714285},{"$f":"OFFSET(Data!DX8,Offsets!$A$28,0)","v":14},{"$f":"OFFSET(Data!DY8,Offsets!$A$28,0)","v":1.1428571428571428},{"$f":"OFFSET(Data!DZ8,Offsets!$A$28,0)","v":0},{"$f":"OFFSET(Data!EA8,Offsets!$A$28,0)","v":0},{"$f":"OFFSET(Data!EB8,Offsets!$A$28,0)","v":15.285714285714285}]
[null,"01:00:00",{"$f":"OFFSET(Data!DK9,Offsets!$A$28,0)","v":0},{"$f":"OFFSET(Data!DL9,Offsets!$A$28,0)","v":4.4285714285714288},{"$f":"OFFSET(Data!DM9,Offsets!$A$28,0)","v":0},{"$f":"OFFSET(Data!DN9,Offsets!$A$28,0)","v":0},{"$f":"OFFSET(Data!DO9,Offsets!$A$28,0)","v":0.14285714285714285},{"$f":"OFFSET(Data!DP9,Offsets!$A$28,0)","v":4.5714285714285721},null,{"$f":"OFFSET(Data!DQ9,Offsets!$A$28,0)","v":0},{"$f":"OFFSET(Data!DR9,Offsets!$A$28,0)","v":9.5714285714285712},{"$f":"OFFSET(Data!DS9,Offsets!$A$28,0)","v":0.5714285714285714},{"$f":"OFFSET(Data!DT9,Offsets!$A$28,0)","v":0},{"$f":"OFFSET(Data!DU9,Offsets!$A$28,0)","v":0},{"$f":"OFFSET(Data!DV9,Offsets!$A$28,0)","v":10.142857142857142},null,{"$f":"OFFSET(Data!DW9,Offsets!$A$28,0)","v":0},{"$f":"OFFSET(Data!DX9,Offsets!$A$28,0)","v":14},{"$f":"OFFSET(Data!DY9,Offsets!$A$28,0)","v":0.5714285714285714},{"$f":"OFFSET(Data!DZ9,Offsets!$A$28,0)","v":0},{"$f":"OFFSET(Data!EA9,Offsets!$A$28,0)","v":0.14285714285714285},{"$f":"OFFSET(Data!EB9,Offsets!$A$28,0)","v":14.714285714285715}]
[null,"01:15:00",{"$f":"OFFSET(Data!DK10,Offsets!$A$28,0)","v":0},{"$f":"OFFSET(Data!DL10,Offsets!$A$28,0)","v":4.4285714285714288},{"$f":"OFFSET(Data!DM10,Offsets!$A$28,0)","v":0.2857142857142857},{"$f":"OFFSET(Data!DN10,Offsets!$A$28,0)","v":0.2857142857142857},{"$f":"OFFSET(Data!DO10,Offsets!$A$28,0)","v":0},{"$f":"OFFSET(Data!DP10,Offsets!$A$28,0)","v":5.0000000000000009},null,{"$f":"OFFSET(Data!DQ10,Offsets!$A$28,0)","v":0.14285714285714285},{"$f":"OFFSET(Data!DR10,Offsets!$A$28,0)","v":5.8571428571428568},{"$f":"OFFSET(Data!DS10,Offsets!$A$28,0)","v":0.2857142857142857},{"$f":"OFFSET(Data!DT10,Offsets!$A$28,0)","v":0},{"$f":"OFFSET(Data!DU10,Offsets!$A$28,0)","v":0},{"$f":"OFFSET(Data!DV10,Offsets!$A$28,0)","v":6.2857142857142856},null,{"$f":"OFFSET(Data!DW10,Offsets!$A$28,0)","v":0.14285714285714285},{"$f":"OFFSET(Data!DX10,Offsets!$A$28,0)","v":10.285714285714285},{"$f":"OFFSET(Data!DY10,Offsets!$A$28,0)","v":0.5714285714285714},{"$f":"OFFSET(Data!DZ10,Offsets!$A$28,0)","v":0.2857142857142857},{"$f":"OFFSET(Data!EA10,Offsets!$A$28,0)","v":0},{"$f":"OFFSET(Data!EB10,Offsets!$A$28,0)","v":11.285714285714286}]
[null,"01:30:00",{"$f":"OFFSET(Data!DK11,Offsets!$A$28,0)","v":0},{"$f":"OFFSET(Data!DL11,Offsets!$A$28,0)","v":2},{"$f":"OFFSET(Data!DM11,Offsets!$A$28,0)","v":0.8571428571428571},{"$f":"OFFSET(Data!DN11,Offsets!$A$28,0)","v":0},{"$f":"OFFSET(Data!DO11,Offsets!$A$28,0)","v":0},{"$f":"OFFSET(Data!DP11,Offsets!$A$28,0)","v":2.8571428571428572},null,{"$f":"OFFSET(Data!DQ11,Offsets!$A$28,0)","v":0},{"$f":"OFFSET(Data!DR11,Offsets!$A$28,0)","v":3.2857142857142856},{"$f":"OFFSET(Data!DS11,Offsets!$A$28,0)","v":0.2857142857142857},{"$f":"OFFSET(Data!DT11,Offsets!$A$28,0)","v":0},{"$f":"OFFSET(Data!DU11,Offsets!$A$28,0)","v":0},{"$f":"OFFSET(Data!DV11,Offsets!$A$28,0)","v":3.5714285714285712},null,{"$f":"OFFSET(Data!DW11,Offsets!$A$28,0)","v":0},{"$f":"OFFSET(Data!DX11,Offsets!$A$28,0)","v":5.2857142857142856},{"$f":"OFFSET(Data!DY11,Offsets!$A$28,0)","v":1.1428571428571428},{"$f":"OFFSET(Data!DZ11,Offsets!$A$28,0)","v":0},{"$f":"OFFSET(Data!EA11,Offsets!$A$28,0)","v":0},{"$f":"OFFSET(Data!EB11,Offsets!$A$28,0)","v":6.4285714285714288}]
[null,"01:45:00",{"$f":"OFFSET(Data!DK12,Offsets!$A$28,0)","v":0},{"$f":"OFFSET(Data!DL12,Offsets!$A$28,0)","v":3},{"$f":"OFFSET(Data!DM12,Offsets!$A$28,0)","v":0.14285714285714285},{"$f":"OFFSET(Data!DN12,Offsets!$A$28,0)","v":0},{"$f":"OFFSET(Data!DO12,Offsets!$A$28,0)","v":0},{"$f":"OFFSET(Data!DP12,Offsets!$A$28,0)","v":3.1428571428571428},null,{"$f":"OFFSET(Data!DQ12,Offsets!$A$28,0)","v":0},{"$f":"OFFSET(Data!DR12,Offsets!$A$28,0)","v":5.4285714285714288},{"$f":"OFFSET(Data!DS12,Offsets!$A$28,0)","v":0.5714285714285714},{"$f":"OFFSET(Data!DT12,Offsets!$A$28,0)","v":0},{"$f":"OFFSET(Data!DU12,Offsets!$A$28,0)","v":0},{"$f":"OFFSET(Data!DV12,Offsets!$A$28,0)","v":6},null,{"$f":"OFFSET(Data!DW12,Offsets!$A$28,0)","v":0},{"$f":"OFFSET(Data!DX12,Offsets!$A$28,0)","v":8.4285714285714288},{"$f":"OFFSET(Data!DY12,Offsets!$A$28,0)","v":0.71428571428571419},{"$f":"OFFSET(Data!DZ12,Offsets!$A$28,0)","v":0},{"$f":"OFFSET(Data!EA12,Offsets!$A$28,0)","v":0},{"$f":"OFFSET(Data!EB12,Offsets!$A$28,0)","v":9.1428571428571423}]
[null,"02:00:00",{"$f":"OFFSET(Data!DK13,Offsets!$A$28,0)","v":0.2857142857142857},{"$f":"OFFSET(Data!DL13,Offsets!$A$28,0)","v":3.8571428571428572},{"$f":"OFFSET(Data!DM13,Offsets!$A$28,0)","v":0},{"$f":"OFFSET(Data!DN13,Offsets!$A$28,0)","v":0},{"$f":"OFFSET(Data!DO13,Offsets!$A$28,0)","v":0},{"$f":"OFFSET(Data!DP13,Offsets!$A$28,0)","v":4.1428571428571432},null,{"$f":"OFFSET(Data!DQ13,Offsets!$A$28,0)","v":0},{"$f":"OFFSET(Data!DR13,Offsets!$A$28,0)","v":4.7142857142857144},{"$f":"OFFSET(Data!DS13,Offsets!$A$28,0)","v":0},{"$f":"OFFSET(Data!DT13,Offsets!$A$28,0)","v":0},{"$f":"OFFSET(Data!DU13,Offsets!$A$28,0)","v":0},{"$f":"OFFSET(Data!DV13,Offsets!$A$28,0)","v":4.7142857142857144},null,{"$f":"OFFSET(Data!DW13,Offsets!$A$28,0)","v":0.2857142857142857},{"$f":"OFFSET(Data!DX13,Offsets!$A$28,0)","v":8.5714285714285712},{"$f":"OFFSET(Data!DY13,Offsets!$A$28,0)","v":0},{"$f":"OFFSET(Data!DZ13,Offsets!$A$28,0)","v":0},{"$f":"OFFSET(Data!EA13,Offsets!$A$28,0)","v":0},{"$f":"OFFSET(Data!EB13,Offsets!$A$28,0)","v":8.8571428571428577}]
[null,"02:15:00",{"$f":"OFFSET(Data!DK14,Offsets!$A$28,0)","v":0},{"$f":"OFFSET(Data!DL14,Offsets!$A$28,0)","v":5.1428571428571432},{"$f":"OFFSET(Data!DM14,Offsets!$A$28,0)","v":0.2857142857142857},{"$f":"OFFSET(Data!DN14,Offsets!$A$28,0)","v":0},{"$f":"OFFSET(Data!DO14,Offsets!$A$28,0)","v":0},{"$f":"OFFSET(Data!DP14,Offsets!$A$28,0)","v":5.4285714285714288},null,{"$f":"OFFSET(Data!DQ14,Offsets!$A$28,0)","v":0},{"$f":"OFFSET(Data!DR14,Offsets!$A$28,0)","v":3.5714285714285716},{"$f":"OFFSET(Data!DS14,Offsets!$A$28,0)","v":0.14285714285714285},{"$f":"OFFSET(Data!DT14,Offsets!$A$28,0)","v":0},{"$f":"OFFSET(Data!DU14,Offsets!$A$28,0)","v":0.14285714285714285},{"$f":"OFFSET(Data!DV14,Offsets!$A$28,0)","v":3.8571428571428572},null,{"$f":"OFFSET(Data!DW14,Offsets!$A$28,0)","v":0},{"$f":"OFFSET(Data!DX14,Offsets!$A$28,0)","v":8.7142857142857153},{"$f":"OFFSET(Data!DY14,Offsets!$A$28,0)","v":0.42857142857142855},{"$f":"OFFSET(Data!DZ14,Offsets!$A$28,0)","v":0},{"$f":"OFFSET(Data!EA14,Offsets!$A$28,0)","v":0.14285714285714285},{"$f":"OFFSET(Data!EB14,Offsets!$A$28,0)","v":9.2857142857142865}]
[null,"02:30:00",{"$f":"OFFSET(Data!DK15,Offsets!$A$28,0)","v":0},{"$f":"OFFSET(Data!DL15,Offsets!$A$28,0)","v":7.2857142857142856},{"$f":"OFFSET(Data!DM15,Offsets!$A$28,0)","v":0.2857142857142857},{"$f":"OFFSET(Data!DN15,Offsets!$A$28,0)","v":0},{"$f":"OFFSET(Data!DO15,Offsets!$A$28,0)","v":0},{"$f":"OFFSET(Data!DP15,Offsets!$A$28,0)","v":7.5714285714285712},null,{"$f":"OFFSET(Data!DQ15,Offsets!$A$28,0)","v":0},{"$f":"OFFSET(Data!DR15,Offsets!$A$28,0)","v":3},{"$f":"OFFSET(Data!DS15,Offsets!$A$28,0)","v":0.14285714285714285},{"$f":"OFFSET(Data!DT15,Offsets!$A$28,0)","v":0},{"$f":"OFFSET(Data!DU15,Offsets!$A$28,0)","v":0.14285714285714285},{"$f":"OFFSET(Data!DV15,Offsets!$A$28,0)","v":3.2857142857142856},null,{"$f":"OFFSET(Data!DW15,Offsets!$A$28,0)","v":0},{"$f":"OFFSET(Data!DX15,Offsets!$A$28,0)","v":10.285714285714285},{"$f":"OFFSET(Data!DY15,Offsets!$A$28,0)","v":0.42857142857142855},{"$f":"OFFSET(Data!DZ15,Offsets!$A$28,0)","v":0},{"$f":"OFFSET(Data!EA15,Offsets!$A$28,0)","v":0.14285714285714285},{"$f":"OFFSET(Data!EB15,Offsets!$A$28,0)","v":10.857142857142858}]
[null,"02:45:00",{"$f":"OFFSET(Data!DK16,Offsets!$A$28,0)","v":0},{"$f":"OFFSET(Data!DL16,Offsets!$A$28,0)","v":2.8571428571428572},{"$f":"OFFSET(Data!DM16,Offsets!$A$28,0)","v":0.14285714285714285},{"$f":"OFFSET(Data!DN16,Offsets!$A$28,0)","v":0},{"$f":"OFFSET(Data!DO16,Offsets!$A$28,0)","v":0.14285714285714285},{"$f":"OFFSET(Data!DP16,Offsets!$A$28,0)","v":3.1428571428571428},null,{"$f":"OFFSET(Data!DQ16,Offsets!$A$28,0)","v":0.14285714285714285},{"$f":"OFFSET(Data!DR16,Offsets!$A$28,0)","v":2},{"$f":"OFFSET(Data!DS16,Offsets!$A$28,0)","v":0.14285714285714285},{"$f":"OFFSET(Data!DT16,Offsets!$A$28,0)","v":0},{"$f":"OFFSET(Data!DU16,Offsets!$A$28,0)","v":0.14285714285714285},{"$f":"OFFSET(Data!DV16,Offsets!$A$28,0)","v":2.4285714285714284},null,{"$f":"OFFSET(Data!DW16,Offsets!$A$28,0)","v":0.14285714285714285},{"$f":"OFFSET(Data!DX16,Offsets!$A$28,0)","v":4.8571428571428577},{"$f":"OFFSET(Data!DY16,Offsets!$A$28,0)","v":0.2857142857142857},{"$f":"OFFSET(Data!DZ16,Offsets!$A$28,0)","v":0},{"$f":"OFFSET(Data!EA16,Offsets!$A$28,0)","v":0.2857142857142857},{"$f":"OFFSET(Data!EB16,Offsets!$A$28,0)","v":5.5714285714285712}]
[null,"03:00:00",{"$f":"OFFSET(Data!DK17,Offsets!$A$28,0)","v":0},{"$f":"OFFSET(Data!DL17,Offsets!$A$28,0)","v":3.7142857142857144},{"$f":"OFFSET(Data!DM17,Offsets!$A$28,0)","v":0.42857142857142855},{"$f":"OFFSET(Data!DN17,Offsets!$A$28,0)","v":0},{"$f":"OFFSET(Data!DO17,Offsets!$A$28,0)","v":0},{"$f":"OFFSET(Data!DP17,Offsets!$A$28,0)","v":4.1428571428571432},null,{"$f":"OFFSET(Data!DQ17,Offsets!$A$28,0)","v":0},{"$f":"OFFSET(Data!DR17,Offsets!$A$28,0)","v":3.4285714285714284},{"$f":"OFFSET(Data!DS17,Offsets!$A$28,0)","v":0.14285714285714285},{"$f":"OFFSET(Data!DT17,Offsets!$A$28,0)","v":0},{"$f":"OFFSET(Data!DU17,Offsets!$A$28,0)","v":0.2857142857142857},{"$f":"OFFSET(Data!DV17,Offsets!$A$28,0)","v":3.8571428571428568},null,{"$f":"OFFSET(Data!DW17,Offsets!$A$28,0)","v":0},{"$f":"OFFSET(Data!DX17,Offsets!$A$28,0)","v":7.1428571428571423},{"$f":"OFFSET(Data!DY17,Offsets!$A$28,0)","v":0.5714285714285714},{"$f":"OFFSET(Data!DZ17,Offsets!$A$28,0)","v":0},{"$f":"OFFSET(Data!EA17,Offsets!$A$28,0)","v":0.2857142857142857},{"$f":"OFFSET(Data!EB17,Offsets!$A$28,0)","v":8}]
[null,"03:15:00",{"$f":"OFFSET(Data!DK18,Offsets!$A$28,0)","v":0},{"$f":"OFFSET(Data!DL18,Offsets!$A$28,0)","v":6.1428571428571432},{"$f":"OFFSET(Data!DM18,Offsets!$A$28,0)","v":0.42857142857142855},{"$f":"OFFSET(Data!DN18,Offsets!$A$28,0)","v":0.14285714285714285},{"$f":"OFFSET(Data!DO18,Offsets!$A$28,0)","v":0},{"$f":"OFFSET(Data!DP18,Offsets!$A$28,0)","v":6.7142857142857153},null,{"$f":"OFFSET(Data!DQ18,Offsets!$A$28,0)","v":0},{"$f":"OFFSET(Data!DR18,Offsets!$A$28,0)","v":5.4285714285714288},{"$f":"OFFSET(Data!DS18,Offsets!$A$28,0)","v":0.14285714285714285},{"$f":"OFFSET(Data!DT18,Offsets!$A$28,0)","v":0},{"$f":"OFFSET(Data!DU18,Offsets!$A$28,0)","v":0},{"$f":"OFFSET(Data!DV18,Offsets!$A$28,0)","v":5.5714285714285721},null,{"$f":"OFFSET(Data!DW18,Offsets!$A$28,0)","v":0},{"$f":"OFFSET(Data!DX18,Offsets!$A$28,0)","v":11.571428571428573},{"$f":"OFFSET(Data!DY18,Offsets!$A$28,0)","v":0.5714285714285714},{"$f":"OFFSET(Data!DZ18,Offsets!$A$28,0)","v":0.14285714285714285},{"$f":"OFFSET(Data!EA18,Offsets!$A$28,0)","v":0},{"$f":"OFFSET(Data!EB18,Offsets!$A$28,0)","v":12.285714285714288}]
[null,"03:30:00",{"$f":"OFFSET(Data!DK19,Offsets!$A$28,0)","v":0},{"$f":"OFFSET(Data!DL19,Offsets!$A$28,0)","v":5.8571428571428568},{"$f":"OFFSET(Data!DM19,Offsets!$A$28,0)","v":0.7142857142857143},{"$f":"OFFSET(Data!DN19,Offsets!$A$28,0)","v":0},{"$f":"OFFSET(Data!DO19,Offsets!$A$28,0)","v":0},{"$f":"OFFSET(Data!DP19,Offsets!$A$28,0)","v":6.5714285714285712},null,{"$f":"OFFSET(Data!DQ19,Offsets!$A$28,0)","v":0},{"$f":"OFFSET(Data!DR19,Offsets!$A$28,0)","v":3.4285714285714284},{"$f":"OFFSET(Data!DS19,Offsets!$A$28,0)","v":0.5714285714285714},{"$f":"OFFSET(Data!DT19,Offsets!$A$28,0)","v":0.14285714285714285},{"$f":"OFFSET(Data!DU19,Offsets!$A$28,0)","v":0},{"$f":"OFFSET(Data!DV19,Offsets!$A$28,0)","v":4.1428571428571432},null,{"$f":"OFFSET(Data!DW19,Offsets!$A$28,0)","v":0},{"$f":"OFFSET(Data!DX19,Offsets!$A$28,0)","v":9.2857142857142847},{"$f":"OFFSET(Data!DY19,Offsets!$A$28,0)","v":1.2857142857142856},{"$f":"OFFSET(Data!DZ19,Offsets!$A$28,0)","v":0.14285714285714285},{"$f":"OFFSET(Data!EA19,Offsets!$A$28,0)","v":0},{"$f":"OFFSET(Data!EB19,Offsets!$A$28,0)","v":10.714285714285715}]
[null,"03:45:00",{"$f":"OFFSET(Data!DK20,Offsets!$A$28,0)","v":0.14285714285714285},{"$f":"OFFSET(Data!DL20,Offsets!$A$28,0)","v":5.5714285714285712},{"$f":"OFFSET(Data!DM20,Offsets!$A$28,0)","v":0.5714285714285714},{"$f":"OFFSET(Data!DN20,Offsets!$A$28,0)","v":0.14285714285714285},{"$f":"OFFSET(Data!DO20,Offsets!$A$28,0)","v":0},{"$f":"OFFSET(Data!DP20,Offsets!$A$28,0)","v":6.4285714285714288},null,{"$f":"OFFSET(Data!DQ20,Offsets!$A$28,0)","v":0},{"$f":"OFFSET(Data!DR20,Offsets!$A$28,0)","v":4.7142857142857144},{"$f":"OFFSET(Data!DS20,Offsets!$A$28,0)","v":1},{"$f":"OFFSET(Data!DT20,Offsets!$A$28,0)","v":0.14285714285714285},{"$f":"OFFSET(Data!DU20,Offsets!$A$28,0)","v":0},{"$f":"OFFSET(Data!DV20,Offsets!$A$28,0)","v":5.8571428571428577},null,{"$f":"OFFSET(Data!DW20,Offsets!$A$28,0)","v":0.14285714285714285},{"$f":"OFFSET(Data!DX20,Offsets!$A$28,0)","v":10.285714285714285},{"$f":"OFFSET(Data!DY20,Offsets!$A$28,0)","v":1.5714285714285714},{"$f":"OFFSET(Data!DZ20,Offsets!$A$28,0)","v":0.2857142857142857},{"$f":"OFFSET(Data!EA20,Offsets!$A$28,0)","v":0},{"$f":"OFFSET(Data!EB20,Offsets!$A$28,0)","v":12.285714285714286}]
[null,"04:00:00",{"$f":"OFFSET(Data!DK21,Offsets!$A$28,0)","v":0},{"$f":"OFFSET(Data!DL21,Offsets!$A$28,0)","v":5.7142857142857144},{"$f":"OFFSET(Data!DM21,Offsets!$A$28,0)","v":0.14285714285714285},{"$f":"OFFSET(Data!DN21,Offsets!$A$28,0)","v":0},{"$f":"OFFSET(Data!DO21,Offsets!$A$28,0)","v":0},{"$f":"OFFSET(Data!DP21,Offsets!$A$28,0)","v":5.8571428571428577},null,{"$f":"OFFSET(Data!DQ21,Offsets!$A$28,0)","v":0},{"$f":"OFFSET(Data!DR21,Offsets!$A$28,0)","v":3.2857142857142856},{"$f":"OFFSET(Data!DS21,Offsets!$A$28,0)","v":0.5714285714285714},{"$f":"OFFSET(Data!DT21,Offsets!$A$28,0)","v":0},{"$f":"OFFSET(Data!DU21,Offsets!$A$28,0)","v":0.14285714285714285},{"$f":"OFFSET(Data!DV21,Offsets!$A$28,0)","v":3.9999999999999996},null,{"$f":"OFFSET(Data!DW21,Offsets!$A$28,0)","v":0},{"$f":"OFFSET(Data!DX21,Offsets!$A$28,0)","v":9},{"$f":"OFFSET(Data!DY21,Offsets!$A$28,0)","v":0.71428571428571419},{"$f":"OFFSET(Data!DZ21,Offsets!$A$28,0)","v":0},{"$f":"OFFSET(Data!EA21,Offsets!$A$28,0)","v":0.14285714285714285},{"$f":"OFFSET(Data!EB21,Offsets!$A$28,0)","v":9.8571428571428577}]
[null,"04:15:00",{"$f":"OFFSET(Data!DK22,Offsets!$A$28,0)","v":0.14285714285714285},{"$f":"OFFSET(Data!DL22,Offsets!$A$28,0)","v":7.1428571428571432},{"$f":"OFFSET(Data!DM22,Offsets!$A$28,0)","v":0.2857142857142857},{"$f":"OFFSET(Data!DN22,Offsets!$A$28,0)","v":0},{"$f":"OFFSET(Data!DO22,Offsets!$A$28,0)","v":0},{"$f":"OFFSET(Data!DP22,Offsets!$A$28,0)","v":7.5714285714285721},null,{"$f":"OFFSET(Data!DQ22,Offsets!$A$28,0)","v":0.14285714285714285},{"$f":"OFFSET(Data!DR22,Offsets!$A$28,0)","v":2.7142857142857144},{"$f":"OFFSET(Data!DS22,Offsets!$A$28,0)","v":0.2857142857142857},{"$f":"OFFSET(Data!DT22,Offsets!$A$28,0)","v":0},{"$f":"OFFSET(Data!DU22,Offsets!$A$28,0)","v":0},{"$f":"OFFSET(Data!DV22,Offsets!$A$28,0)","v":3.1428571428571428},null,{"$f":"OFFSET(Data!DW22,Offsets!$A$28,0)","v":0.2857142857142857},{"$f":"OFFSET(Data!DX22,Offsets!$A$28,0)","v":9.8571428571428577},{"$f":"OFFSET(Data!DY22,Offsets!$A$28,0)","v":0.5714285714285714},{"$f":"OFFSET(Data!DZ22,Offsets!$A$28,0)","v":0},{"$f":"OFFSET(Data!EA22,Offsets!$A$28,0)","v":0},{"$f":"OFFSET(Data!EB22,Offsets!$A$28,0)","v":10.714285714285715}]
[null,"04:30:00",{"$f":"OFFSET(Data!DK23,Offsets!$A$28,0)","v":0.14285714285714285},{"$f":"OFFSET(Data!DL23,Offsets!$A$28,0)","v":9.1428571428571423},{"$f":"OFFSET(Data!DM23,Offsets!$A$28,0)","v":0.8571428571428571},{"$f":"OFFSET(Data!DN23,Offsets!$A$28,0)","v":0.14285714285714285},{"$f":"OFFSET(Data!DO23,Offsets!$A$28,0)","v":0.2857142857142857},{"$f":"OFFSET(Data!DP23,Offsets!$A$28,0)","v":10.571428571428571},null,{"$f":"OFFSET(Data!DQ23,Offsets!$A$28,0)","v":0},{"$f":"OFFSET(Data!DR23,Offsets!$A$28,0)","v":3.2857142857142856},{"$f":"OFFSET(Data!DS23,Offsets!$A$28,0)","v":0.42857142857142855},{"$f":"OFFSET(Data!DT23,Offsets!$A$28,0)","v":0},{"$f":"OFFSET(Data!DU23,Offsets!$A$28,0)","v":0},{"$f":"OFFSET(Data!DV23,Offsets!$A$28,0)","v":3.714285714285714},null,{"$f":"OFFSET(Data!DW23,Offsets!$A$28,0)","v":0.14285714285714285},{"$f":"OFFSET(Data!DX23,Offsets!$A$28,0)","v":12.428571428571427},{"$f":"OFFSET(Data!DY23,Offsets!$A$28,0)","v":1.2857142857142856},{"$f":"OFFSET(Data!DZ23,Offsets!$A$28,0)","v":0.14285714285714285},{"$f":"OFFSET(Data!EA23,Offsets!$A$28,0)","v":0.2857142857142857},{"$f":"OFFSET(Data!EB23,Offsets!$A$28,0)","v":14.285714285714285}]
[null,"04:45:00",{"$f":"OFFSET(Data!DK24,Offsets!$A$28,0)","v":0.14285714285714285},{"$f":"OFFSET(Data!DL24,Offsets!$A$28,0)","v":10.142857142857142},{"$f":"OFFSET(Data!DM24,Offsets!$A$28,0)","v":0.7142857142857143},{"$f":"OFFSET(Data!DN24,Offsets!$A$28,0)","v":0},{"$f":"OFFSET(Data!DO24,Offsets!$A$28,0)","v":0},{"$f":"OFFSET(Data!DP24,Offsets!$A$28,0)","v":10.999999999999998},null,{"$f":"OFFSET(Data!DQ24,Offsets!$A$28,0)","v":0},{"$f":"OFFSET(Data!DR24,Offsets!$A$28,0)","v":4.8571428571428568},{"$f":"OFFSET(Data!DS24,Offsets!$A$28,0)","v":0.5714285714285714},{"$f":"OFFSET(Data!DT24,Offsets!$A$28,0)","v":0},{"$f":"OFFSET(Data!DU24,Offsets!$A$28,0)","v":0},{"$f":"OFFSET(Data!DV24,Offsets!$A$28,0)","v":5.4285714285714279},null,{"$f":"OFFSET(Data!DW24,Offsets!$A$28,0)","v":0.14285714285714285},{"$f":"OFFSET(Data!DX24,Offsets!$A$28,0)","v":15},{"$f":"OFFSET(Data!DY24,Offsets!$A$28,0)","v":1.2857142857142856},{"$f":"OFFSET(Data!DZ24,Offsets!$A$28,0)","v":0},{"$f":"OFFSET(Data!EA24,Offsets!$A$28,0)","v":0},{"$f":"OFFSET(Data!EB24,Offsets!$A$28,0)","v":16.428571428571427}]
[null,"05:00:00",{"$f":"OFFSET(Data!DK25,Offsets!$A$28,0)","v":0.5714285714285714},{"$f":"OFFSET(Data!DL25,Offsets!$A$28,0)","v":11.571428571428571},{"$f":"OFFSET(Data!DM25,Offsets!$A$28,0)","v":2.1428571428571428},{"$f":"OFFSET(Data!DN25,Offsets!$A$28,0)","v":0},{"$f":"OFFSET(Data!DO25,Offsets!$A$28,0)","v":0},{"$f":"OFFSET(Data!DP25,Offsets!$A$28,0)","v":14.285714285714285},null,{"$f":"OFFSET(Data!DQ25,Offsets!$A$28,0)","v":0.14285714285714285},{"$f":"OFFSET(Data!DR25,Offsets!$A$28,0)","v":7.4285714285714288},{"$f":"OFFSET(Data!DS25,Offsets!$A$28,0)","v":0.8571428571428571},{"$f":"OFFSET(Data!DT25,Offsets!$A$28,0)","v":0},{"$f":"OFFSET(Data!DU25,Offsets!$A$28,0)","v":0},{"$f":"OFFSET(Data!DV25,Offsets!$A$28,0)","v":8.4285714285714288},null,{"$f":"OFFSET(Data!DW25,Offsets!$A$28,0)","v":0.71428571428571419},{"$f":"OFFSET(Data!DX25,Offsets!$A$28,0)","v":19},{"$f":"OFFSET(Data!DY25,Offsets!$A$28,0)","v":3},{"$f":"OFFSET(Data!DZ25,Offsets!$A$28,0)","v":0},{"$f":"OFFSET(Data!EA25,Offsets!$A$28,0)","v":0},{"$f":"OFFSET(Data!EB25,Offsets!$A$28,0)","v":22.714285714285715}]
[null,"05:15:00",{"$f":"OFFSET(Data!DK26,Offsets!$A$28,0)","v":1},{"$f":"OFFSET(Data!DL26,Offsets!$A$28,0)","v":18.142857142857142},{"$f":"OFFSET(Data!DM26,Offsets!$A$28,0)","v":2},{"$f":"OFFSET(Data!DN26,Offsets!$A$28,0)","v":0.5714285714285714},{"$f":"OFFSET(Data!DO26,Offsets!$A$28,0)","v":0},{"$f":"OFFSET(Data!DP26,Offsets!$A$28,0)","v":21.714285714285712},null,{"$f":"OFFSET(Data!DQ26,Offsets!$A$28,0)","v":0.2857142857142857},{"$f":"OFFSET(Data!DR26,Offsets!$A$28,0)","v":7.7142857142857144},{"$f":"OFFSET(Data!DS26,Offsets!$A$28,0)","v":1},{"$f":"OFFSET(Data!DT26,Offsets!$A$28,0)","v":0},{"$f":"OFFSET(Data!DU26,Offsets!$A$28,0)","v":0.42857142857142855},{"$f":"OFFSET(Data!DV26,Offsets!$A$28,0)","v":9.4285714285714288},null,{"$f":"OFFSET(Data!DW26,Offsets!$A$28,0)","v":1.2857142857142856},{"$f":"OFFSET(Data!DX26,Offsets!$A$28,0)","v":25.857142857142858},{"$f":"OFFSET(Data!DY26,Offsets!$A$28,0)","v":3},{"$f":"OFFSET(Data!DZ26,Offsets!$A$28,0)","v":0.5714285714285714},{"$f":"OFFSET(Data!EA26,Offsets!$A$28,0)","v":0.42857142857142855},{"$f":"OFFSET(Data!EB26,Offsets!$A$28,0)","v":31.142857142857139}]
[null,"05:30:00",{"$f":"OFFSET(Data!DK27,Offsets!$A$28,0)","v":1.1428571428571428},{"$f":"OFFSET(Data!DL27,Offsets!$A$28,0)","v":26.428571428571427},{"$f":"OFFSET(Data!DM27,Offsets!$A$28,0)","v":2.4285714285714284},{"$f":"OFFSET(Data!DN27,Offsets!$A$28,0)","v":0.14285714285714285},{"$f":"OFFSET(Data!DO27,Offsets!$A$28,0)","v":0.2857142857142857},{"$f":"OFFSET(Data!DP27,Offsets!$A$28,0)","v":30.428571428571423},null,{"$f":"OFFSET(Data!DQ27,Offsets!$A$28,0)","v":0.42857142857142855},{"$f":"OFFSET(Data!DR27,Offsets!$A$28,0)","v":9.2857142857142865},{"$f":"OFFSET(Data!DS27,Offsets!$A$28,0)","v":1.1428571428571428},{"$f":"OFFSET(Data!DT27,Offsets!$A$28,0)","v":0},{"$f":"OFFSET(Data!DU27,Offsets!$A$28,0)","v":0.2857142857142857},{"$f":"OFFSET(Data!DV27,Offsets!$A$28,0)","v":11.142857142857144},null,{"$f":"OFFSET(Data!DW27,Offsets!$A$28,0)","v":1.5714285714285714},{"$f":"OFFSET(Data!DX27,Offsets!$A$28,0)","v":35.714285714285715},{"$f":"OFFSET(Data!DY27,Offsets!$A$28,0)","v":3.5714285714285712},{"$f":"OFFSET(Data!DZ27,Offsets!$A$28,0)","v":0.14285714285714285},{"$f":"OFFSET(Data!EA27,Offsets!$A$28,0)","v":0.5714285714285714},{"$f":"OFFSET(Data!EB27,Offsets!$A$28,0)","v":41.571428571428569}]
[null,"05:45:00",{"$f":"OFFSET(Data!DK28,Offsets!$A$28,0)","v":1.1428571428571428},{"$f":"OFFSET(Data!DL28,Offsets!$A$28,0)","v":42.142857142857139},{"$f":"OFFSET(Data!DM28,Offsets!$A$28,0)","v":2.4285714285714284},{"$f":"OFFSET(Data!DN28,Offsets!$A$28,0)","v":0.42857142857142855},{"$f":"OFFSET(Data!DO28,Offsets!$A$28,0)","v":0.14285714285714285},{"$f":"OFFSET(Data!DP28,Offsets!$A$28,0)","v":46.285714285714292},null,{"$f":"OFFSET(Data!DQ28,Offsets!$A$28,0)","v":0.14285714285714285},{"$f":"OFFSET(Data!DR28,Offsets!$A$28,0)","v":12},{"$f":"OFFSET(Data!DS28,Offsets!$A$28,0)","v":0.5714285714285714},{"$f":"OFFSET(Data!DT28,Offsets!$A$28,0)","v":0.14285714285714285},{"$f":"OFFSET(Data!DU28,Offsets!$A$28,0)","v":2.1428571428571428},{"$f":"OFFSET(Data!DV28,Offsets!$A$28,0)","v":14.999999999999998},null,{"$f":"OFFSET(Data!DW28,Offsets!$A$28,0)","v":1.2857142857142856},{"$f":"OFFSET(Data!DX28,Offsets!$A$28,0)","v":54.142857142857139},{"$f":"OFFSET(Data!DY28,Offsets!$A$28,0)","v":3},{"$f":"OFFSET(Data!DZ28,Offsets!$A$28,0)","v":0.5714285714285714},{"$f":"OFFSET(Data!EA28,Offsets!$A$28,0)","v":2.2857142857142856},{"$f":"OFFSET(Data!EB28,Offsets!$A$28,0)","v":61.285714285714292}]
[null,"06:00:00",{"$f":"OFFSET(Data!DK29,Offsets!$A$28,0)","v":1.2857142857142858},{"$f":"OFFSET(Data!DL29,Offsets!$A$28,0)","v":52.571428571428569},{"$f":"OFFSET(Data!DM29,Offsets!$A$28,0)","v":1.7142857142857142},{"$f":"OFFSET(Data!DN29,Offsets!$A$28,0)","v":0.5714285714285714},{"$f":"OFFSET(Data!DO29,Offsets!$A$28,0)","v":2},{"$f":"OFFSET(Data!DP29,Offsets!$A$28,0)","v":58.142857142857139},null,{"$f":"OFFSET(Data!DQ29,Offsets!$A$28,0)","v":0.8571428571428571},{"$f":"OFFSET(Data!DR29,Offsets!$A$28,0)","v":13.428571428571429},{"$f":"OFFSET(Data!DS29,Offsets!$A$28,0)","v":2.8571428571428572},{"$f":"OFFSET(Data!DT29,Offsets!$A$28,0)","v":0.14285714285714285},{"$f":"OFFSET(Data!DU29,Offsets!$A$28,0)","v":3.4285714285714288},{"$f":"OFFSET(Data!DV29,Offsets!$A$28,0)","v":20.714285714285715},null,{"$f":"OFFSET(Data!DW29,Offsets!$A$28,0)","v":2.1428571428571428},{"$f":"OFFSET(Data!DX29,Offsets!$A$28,0)","v":66},{"$f":"OFFSET(Data!DY29,Offsets!$A$28,0)","v":4.5714285714285712},{"$f":"OFFSET(Data!DZ29,Offsets!$A$28,0)","v":0.71428571428571419},{"$f":"OFFSET(Data!EA29,Offsets!$A$28,0)","v":5.4285714285714288},{"$f":"OFFSET(Data!EB29,Offsets!$A$28,0)","v":78.857142857142861}]
[null,"06:15:00",{"$f":"OFFSET(Data!DK30,Offsets!$A$28,0)","v":1.8571428571428572},{"$f":"OFFSET(Data!DL30,Offsets!$A$28,0)","v":39.142857142857146},{"$f":"OFFSET(Data!DM30,Offsets!$A$28,0)","v":2.1428571428571428},{"$f":"OFFSET(Data!DN30,Offsets!$A$28,0)","v":0.14285714285714285},{"$f":"OFFSET(Data!DO30,Offsets!$A$28,0)","v":0.42857142857142855},{"$f":"OFFSET(Data!DP30,Offsets!$A$28,0)","v":43.714285714285722},null,{"$f":"OFFSET(Data!DQ30,Offsets!$A$28,0)","v":0.2857142857142857},{"$f":"OFFSET(Data!DR30,Offsets!$A$28,0)","v":16},{"$f":"OFFSET(Data!DS30,Offsets!$A$28,0)","v":3.2857142857142856},{"$f":"OFFSET(Data!DT30,Offsets!$A$28,0)","v":0.7142857142857143},{"$f":"OFFSET(Data!DU30,Offsets!$A$28,0)","v":0.71428571428571419},{"$f":"OFFSET(Data!DV30,Offsets!$A$28,0)","v":20.999999999999996},null,{"$f":"OFFSET(Data!DW30,Offsets!$A$28,0)","v":2.1428571428571428},{"$f":"OFFSET(Data!DX30,Offsets!$A$28,0)","v":55.142857142857146},{"$f":"OFFSET(Data!DY30,Offsets!$A$28,0)","v":5.4285714285714288},{"$f":"OFFSET(Data!DZ30,Offsets!$A$28,0)","v":0.85714285714285721},{"$f":"OFFSET(Data!EA30,Offsets!$A$28,0)","v":1.1428571428571428},{"$f":"OFFSET(Data!EB30,Offsets!$A$28,0)","v":64.714285714285722}]
[null,"06:30:00",{"$f":"OFFSET(Data!DK31,Offsets!$A$28,0)","v":1.1428571428571428},{"$f":"OFFSET(Data!DL31,Offsets!$A$28,0)","v":46.857142857142861},{"$f":"OFFSET(Data!DM31,Offsets!$A$28,0)","v":3.2857142857142856},{"$f":"OFFSET(Data!DN31,Offsets!$A$28,0)","v":0.5714285714285714},{"$f":"OFFSET(Data!DO31,Offsets!$A$28,0)","v":0.5714285714285714},{"$f":"OFFSET(Data!DP31,Offsets!$A$28,0)","v":52.428571428571445},null,{"$f":"OFFSET(Data!DQ31,Offsets!$A$28,0)","v":1.2857142857142858},{"$f":"OFFSET(Data!DR31,Offsets!$A$28,0)","v":32},{"$f":"OFFSET(Data!DS31,Offsets!$A$28,0)","v":2.2857142857142856},{"$f":"OFFSET(Data!DT31,Offsets!$A$28,0)","v":0.14285714285714285},{"$f":"OFFSET(Data!DU31,Offsets!$A$28,0)","v":0.42857142857142855},{"$f":"OFFSET(Data!DV31,Offsets!$A$28,0)","v":36.142857142857146},null,{"$f":"OFFSET(Data!DW31,Offsets!$A$28,0)","v":2.4285714285714288},{"$f":"OFFSET(Data!DX31,Offsets!$A$28,0)","v":78.857142857142861},{"$f":"OFFSET(Data!DY31,Offsets!$A$28,0)","v":5.5714285714285712},{"$f":"OFFSET(Data!DZ31,Offsets!$A$28,0)","v":0.71428571428571419},{"$f":"OFFSET(Data!EA31,Offsets!$A$28,0)","v":1},{"$f":"OFFSET(Data!EB31,Offsets!$A$28,0)","v":88.571428571428584}]
[null,"06:45:00",{"$f":"OFFSET(Data!DK32,Offsets!$A$28,0)","v":0.42857142857142855},{"$f":"OFFSET(Data!DL32,Offsets!$A$28,0)","v":47.571428571428569},{"$f":"OFFSET(Data!DM32,Offsets!$A$28,0)","v":4.1428571428571432},{"$f":"OFFSET(Data!DN32,Offsets!$A$28,0)","v":0.42857142857142855},{"$f":"OFFSET(Data!DO32,Offsets!$A$28,0)","v":0.2857142857142857},{"$f":"OFFSET(Data!DP32,Offsets!$A$28,0)","v":52.857142857142868},null,{"$f":"OFFSET(Data!DQ32,Offsets!$A$28,0)","v":2},{"$f":"OFFSET(Data!DR32,Offsets!$A$28,0)","v":30.714285714285715},{"$f":"OFFSET(Data!DS32,Offsets!$A$28,0)","v":3.2857142857142856},{"$f":"OFFSET(Data!DT32,Offsets!$A$28,0)","v":0.14285714285714285},{"$f":"OFFSET(Data!DU32,Offsets!$A$28,0)","v":0.42857142857142855},{"$f":"OFFSET(Data!DV32,Offsets!$A$28,0)","v":36.571428571428577},null,{"$f":"OFFSET(Data!DW32,Offsets!$A$28,0)","v":2.4285714285714284},{"$f":"OFFSET(Data!DX32,Offsets!$A$28,0)","v":78.285714285714278},{"$f":"OFFSET(Data!DY32,Offsets!$A$28,0)","v":7.4285714285714288},{"$f":"OFFSET(Data!DZ32,Offsets!$A$28,0)","v":0.5714285714285714},{"$f":"OFFSET(Data!EA32,Offsets!$A$28,0)","v":0.71428571428571419},{"$f":"OFFSET(Data!EB32,Offsets!$A$28,0)","v":89.428571428571445}]
[null,"07:00:00",{"$f":"OFFSET(Data!DK33,Offsets!$A$28,0)","v":1.1428571428571428},{"$f":"OFFSET(Data!DL33,Offsets!$A$28,0)","v":60.571428571428577},{"$f":"OFFSET(Data!DM33,Offsets!$A$28,0)","v":3.5714285714285716},{"$f":"OFFSET(Data!DN33,Offsets!$A$28,0)","v":0.42857142857142855},{"$f":"OFFSET(Data!DO33,Offsets!$A$28,0)","v":0.42857142857142855},{"$f":"OFFSET(Data!DP33,Offsets!$A$28,0)","v":66.142857142857153},null,{"$f":"OFFSET(Data!DQ33,Offsets!$A$28,0)","v":1.8571428571428572},{"$f":"OFFSET(Data!DR33,Offsets!$A$28,0)","v":39.285714285714285},{"$f":"OFFSET(Data!DS33,Offsets!$A$28,0)","v":7.1428571428571432},{"$f":"OFFSET(Data!DT33,Offsets!$A$28,0)","v":0.5714285714285714},{"$f":"OFFSET(Data!DU33,Offsets!$A$28,0)","v":0.14285714285714285},{"$f":"OFFSET(Data!DV33,Offsets!$A$28,0)","v":49.000000000000007},null,{"$f":"OFFSET(Data!DW33,Offsets!$A$28,0)","v":3},{"$f":"OFFSET(Data!DX33,Offsets!$A$28,0)","v":99.857142857142861},{"$f":"OFFSET(Data!DY33,Offsets!$A$28,0)","v":10.714285714285715},{"$f":"OFFSET(Data!DZ33,Offsets!$A$28,0)","v":1},{"$f":"OFFSET(Data!EA33,Offsets!$A$28,0)","v":0.5714285714285714},{"$f":"OFFSET(Data!EB33,Offsets!$A$28,0)","v":115.14285714285717}]
[null,"07:15:00",{"$f":"OFFSET(Data!DK34,Offsets!$A$28,0)","v":2},{"$f":"OFFSET(Data!DL34,Offsets!$A$28,0)","v":67.714285714285708},{"$f":"OFFSET(Data!DM34,Offsets!$A$28,0)","v":4.5714285714285712},{"$f":"OFFSET(Data!DN34,Offsets!$A$28,0)","v":1.2857142857142856},{"$f":"OFFSET(Data!DO34,Offsets!$A$28,0)","v":0.14285714285714285},{"$f":"OFFSET(Data!DP34,Offsets!$A$28,0)","v":75.714285714285708},null,{"$f":"OFFSET(Data!DQ34,Offsets!$A$28,0)","v":0.7142857142857143},{"$f":"OFFSET(Data!DR34,Offsets!$A$28,0)","v":52.714285714285715},{"$f":"OFFSET(Data!DS34,Offsets!$A$28,0)","v":6.8571428571428568},{"$f":"OFFSET(Data!DT34,Offsets!$A$28,0)","v":1.1428571428571428},{"$f":"OFFSET(Data!DU34,Offsets!$A$28,0)","v":0},{"$f":"OFFSET(Data!DV34,Offsets!$A$28,0)","v":61.428571428571431},null,{"$f":"OFFSET(Data!DW34,Offsets!$A$28,0)","v":2.7142857142857144},{"$f":"OFFSET(Data!DX34,Offsets!$A$28,0)","v":120.42857142857142},{"$f":"OFFSET(Data!DY34,Offsets!$A$28,0)","v":11.428571428571427},{"$f":"OFFSET(Data!DZ34,Offsets!$A$28,0)","v":2.4285714285714284},{"$f":"OFFSET(Data!EA34,Offsets!$A$28,0)","v":0.14285714285714285},{"$f":"OFFSET(Data!EB34,Offsets!$A$28,0)","v":137.14285714285714}]
[null,"07:30:00",{"$f":"OFFSET(Data!DK35,Offsets!$A$28,0)","v":1},{"$f":"OFFSET(Data!DL35,Offsets!$A$28,0)","v":100.14285714285714},{"$f":"OFFSET(Data!DM35,Offsets!$A$28,0)","v":5.5714285714285712},{"$f":"OFFSET(Data!DN35,Offsets!$A$28,0)","v":0.71428571428571419},{"$f":"OFFSET(Data!DO35,Offsets!$A$28,0)","v":1.5714285714285714},{"$f":"OFFSET(Data!DP35,Offsets!$A$28,0)","v":109},null,{"$f":"OFFSET(Data!DQ35,Offsets!$A$28,0)","v":0.5714285714285714},{"$f":"OFFSET(Data!DR35,Offsets!$A$28,0)","v":67.142857142857153},{"$f":"OFFSET(Data!DS35,Offsets!$A$28,0)","v":8},{"$f":"OFFSET(Data!DT35,Offsets!$A$28,0)","v":0.42857142857142855},{"$f":"OFFSET(Data!DU35,Offsets!$A$28,0)","v":1},{"$f":"OFFSET(Data!DV35,Offsets!$A$28,0)","v":77.142857142857153},null,{"$f":"OFFSET(Data!DW35,Offsets!$A$28,0)","v":1.5714285714285714},{"$f":"OFFSET(Data!DX35,Offsets!$A$28,0)","v":167.28571428571428},{"$f":"OFFSET(Data!DY35,Offsets!$A$28,0)","v":13.571428571428571},{"$f":"OFFSET(Data!DZ35,Offsets!$A$28,0)","v":1.1428571428571428},{"$f":"OFFSET(Data!EA35,Offsets!$A$28,0)","v":2.5714285714285712},{"$f":"OFFSET(Data!EB35,Offsets!$A$28,0)","v":186.14285714285717}]
[null,"07:45:00",{"$f":"OFFSET(Data!DK36,Offsets!$A$28,0)","v":1.4285714285714286},{"$f":"OFFSET(Data!DL36,Offsets!$A$28,0)","v":88.714285714285722},{"$f":"OFFSET(Data!DM36,Offsets!$A$28,0)","v":6.5714285714285712},{"$f":"OFFSET(Data!DN36,Offsets!$A$28,0)","v":1.5714285714285714},{"$f":"OFFSET(Data!DO36,Offsets!$A$28,0)","v":2.2857142857142856},{"$f":"OFFSET(Data!DP36,Offsets!$A$28,0)","v":100.57142857142857},null,{"$f":"OFFSET(Data!DQ36,Offsets!$A$28,0)","v":1},{"$f":"OFFSET(Data!DR36,Offsets!$A$28,0)","v":84.714285714285722},{"$f":"OFFSET(Data!DS36,Offsets!$A$28,0)","v":11.285714285714286},{"$f":"OFFSET(Data!DT36,Offsets!$A$28,0)","v":0.71428571428571419},{"$f":"OFFSET(Data!DU36,Offsets!$A$28,0)","v":1.714285714285714},{"$f":"OFFSET(Data!DV36,Offsets!$A$28,0)","v":99.428571428571445},null,{"$f":"OFFSET(Data!DW36,Offsets!$A$28,0)","v":2.4285714285714288},{"$f":"OFFSET(Data!DX36,Offsets!$A$28,0)","v":173.42857142857144},{"$f":"OFFSET(Data!DY36,Offsets!$A$28,0)","v":17.857142857142858},{"$f":"OFFSET(Data!DZ36,Offsets!$A$28,0)","v":2.2857142857142856},{"$f":"OFFSET(Data!EA36,Offsets!$A$28,0)","v":3.9999999999999996},{"$f":"OFFSET(Data!EB36,Offsets!$A$28,0)","v":200}]
[null,"08:00:00",{"$f":"OFFSET(Data!DK37,Offsets!$A$28,0)","v":0.7142857142857143},{"$f":"OFFSET(Data!DL37,Offsets!$A$28,0)","v":96.285714285714292},{"$f":"OFFSET(Data!DM37,Offsets!$A$28,0)","v":7.8571428571428568},{"$f":"OFFSET(Data!DN37,Offsets!$A$28,0)","v":1.8571428571428572},{"$f":"OFFSET(Data!DO37,Offsets!$A$28,0)","v":2.1428571428571428},{"$f":"OFFSET(Data!DP37,Offsets!$A$28,0)","v":108.85714285714285},null,{"$f":"OFFSET(Data!DQ37,Offsets!$A$28,0)","v":0.42857142857142855},{"$f":"OFFSET(Data!DR37,Offsets!$A$28,0)","v":77.857142857142861},{"$f":"OFFSET(Data!DS37,Offsets!$A$28,0)","v":6.5714285714285712},{"$f":"OFFSET(Data!DT37,Offsets!$A$28,0)","v":1.4285714285714284},{"$f":"OFFSET(Data!DU37,Offsets!$A$28,0)","v":2.7142857142857144},{"$f":"OFFSET(Data!DV37,Offsets!$A$28,0)","v":89},null,{"$f":"OFFSET(Data!DW37,Offsets!$A$28,0)","v":1.1428571428571428},{"$f":"OFFSET(Data!DX37,Offsets!$A$28,0)","v":174.14285714285717},{"$f":"OFFSET(Data!DY37,Offsets!$A$28,0)","v":14.428571428571427},{"$f":"OFFSET(Data!DZ37,Offsets!$A$28,0)","v":3.2857142857142856},{"$f":"OFFSET(Data!EA37,Offsets!$A$28,0)","v":4.8571428571428577},{"$f":"OFFSET(Data!EB37,Offsets!$A$28,0)","v":197.85714285714283}]
[null,"08:15:00",{"$f":"OFFSET(Data!DK38,Offsets!$A$28,0)","v":1.7142857142857142},{"$f":"OFFSET(Data!DL38,Offsets!$A$28,0)","v":102.85714285714286},{"$f":"OFFSET(Data!DM38,Offsets!$A$28,0)","v":6.8571428571428568},{"$f":"OFFSET(Data!DN38,Offsets!$A$28,0)","v":2},{"$f":"OFFSET(Data!DO38,Offsets!$A$28,0)","v":1.7142857142857142},{"$f":"OFFSET(Data!DP38,Offsets!$A$28,0)","v":115.14285714285714},null,{"$f":"OFFSET(Data!DQ38,Offsets!$A$28,0)","v":0.8571428571428571},{"$f":"OFFSET(Data!DR38,Offsets!$A$28,0)","v":72.142857142857139},{"$f":"OFFSET(Data!DS38,Offsets!$A$28,0)","v":8.4285714285714288},{"$f":"OFFSET(Data!DT38,Offsets!$A$28,0)","v":1.8571428571428572},{"$f":"OFFSET(Data!DU38,Offsets!$A$28,0)","v":1.7142857142857142},{"$f":"OFFSET(Data!DV38,Offsets!$A$28,0)","v":85},null,{"$f":"OFFSET(Data!DW38,Offsets!$A$28,0)","v":2.5714285714285712},{"$f":"OFFSET(Data!DX38,Offsets!$A$28,0)","v":175},{"$f":"OFFSET(Data!DY38,Offsets!$A$28,0)","v":15.285714285714285},{"$f":"OFFSET(Data!DZ38,Offsets!$A$28,0)","v":3.8571428571428572},{"$f":"OFFSET(Data!EA38,Offsets!$A$28,0)","v":3.4285714285714284},{"$f":"OFFSET(Data!EB38,Offsets!$A$28,0)","v":200.14285714285714}]
[null,"08:30:00",{"$f":"OFFSET(Data!DK39,Offsets!$A$28,0)","v":1.1428571428571428},{"$f":"OFFSET(Data!DL39,Offsets!$A$28,0)","v":82.571428571428569},{"$f":"OFFSET(Data!DM39,Offsets!$A$28,0)","v":5.8571428571428568},{"$f":"OFFSET(Data!DN39,Offsets!$A$28,0)","v":1.857142857142857},{"$f":"OFFSET(Data!DO39,Offsets!$A$28,0)","v":1},{"$f":"OFFSET(Data!DP39,Offsets!$A$28,0)","v":92.428571428571416},null,{"$f":"OFFSET(Data!DQ39,Offsets!$A$28,0)","v":0.5714285714285714},{"$f":"OFFSET(Data!DR39,Offsets!$A$28,0)","v":67.428571428571431},{"$f":"OFFSET(Data!DS39,Offsets!$A$28,0)","v":8.4285714285714288},{"$f":"OFFSET(Data!DT39,Offsets!$A$28,0)","v":1.1428571428571428},{"$f":"OFFSET(Data!DU39,Offsets!$A$28,0)","v":1.7142857142857142},{"$f":"OFFSET(Data!DV39,Offsets!$A$28,0)","v":79.285714285714278},null,{"$f":"OFFSET(Data!DW39,Offsets!$A$28,0)","v":1.7142857142857142},{"$f":"OFFSET(Data!DX39,Offsets!$A$28,0)","v":150},{"$f":"OFFSET(Data!DY39,Offsets!$A$28,0)","v":14.285714285714285},{"$f":"OFFSET(Data!DZ39,Offsets!$A$28,0)","v":3},{"$f":"OFFSET(Data!EA39,Offsets!$A$28,0)","v":2.7142857142857144},{"$f":"OFFSET(Data!EB39,Offsets!$A$28,0)","v":171.71428571428569}]
[null,"08:45:00",{"$f":"OFFSET(Data!DK40,Offsets!$A$28,0)","v":2},{"$f":"OFFSET(Data!DL40,Offsets!$A$28,0)","v":77.142857142857139},{"$f":"OFFSET(Data!DM40,Offsets!$A$28,0)","v":5.8571428571428568},{"$f":"OFFSET(Data!DN40,Offsets!$A$28,0)","v":1},{"$f":"OFFSET(Data!DO40,Offsets!$A$28,0)","v":1},{"$f":"OFFSET(Data!DP40,Offsets!$A$28,0)","v":87.000000000000014},null,{"$f":"OFFSET(Data!DQ40,Offsets!$A$28,0)","v":0.5714285714285714},{"$f":"OFFSET(Data!DR40,Offsets!$A$28,0)","v":64.285714285714278},{"$f":"OFFSET(Data!DS40,Offsets!$A$28,0)","v":5.5714285714285712},{"$f":"OFFSET(Data!DT40,Offsets!$A$28,0)","v":1},{"$f":"OFFSET(Data!DU40,Offsets!$A$28,0)","v":1.9999999999999998},{"$f":"OFFSET(Data!DV40,Offsets!$A$28,0)","v":73.428571428571416},null,{"$f":"OFFSET(Data!DW40,Offsets!$A$28,0)","v":2.5714285714285712},{"$f":"OFFSET(Data!DX40,Offsets!$A$28,0)","v":141.42857142857142},{"$f":"OFFSET(Data!DY40,Offsets!$A$28,0)","v":11.428571428571427},{"$f":"OFFSET(Data!DZ40,Offsets!$A$28,0)","v":2},{"$f":"OFFSET(Data!EA40,Offsets!$A$28,0)","v":3},{"$f":"OFFSET(Data!EB40,Offsets!$A$28,0)","v":160.42857142857144}]
[null,"09:00:00",{"$f":"OFFSET(Data!DK41,Offsets!$A$28,0)","v":0.5714285714285714},{"$f":"OFFSET(Data!DL41,Offsets!$A$28,0)","v":82.428571428571431},{"$f":"OFFSET(Data!DM41,Offsets!$A$28,0)","v":6.1428571428571432},{"$f":"OFFSET(Data!DN41,Offsets!$A$28,0)","v":0.5714285714285714},{"$f":"OFFSET(Data!DO41,Offsets!$A$28,0)","v":0.71428571428571419},{"$f":"OFFSET(Data!DP41,Offsets!$A$28,0)","v":90.428571428571431},null,{"$f":"OFFSET(Data!DQ41,Offsets!$A$28,0)","v":0.8571428571428571},{"$f":"OFFSET(Data!DR41,Offsets!$A$28,0)","v":60.142857142857146},{"$f":"OFFSET(Data!DS41,Offsets!$A$28,0)","v":8.8571428571428577},{"$f":"OFFSET(Data!DT41,Offsets!$A$28,0)","v":1.4285714285714286},{"$f":"OFFSET(Data!DU41,Offsets!$A$28,0)","v":0.99999999999999978},{"$f":"OFFSET(Data!DV41,Offsets!$A$28,0)","v":72.285714285714292},null,{"$f":"OFFSET(Data!DW41,Offsets!$A$28,0)","v":1.4285714285714284},{"$f":"OFFSET(Data!DX41,Offsets!$A$28,0)","v":142.57142857142858},{"$f":"OFFSET(Data!DY41,Offsets!$A$28,0)","v":15},{"$f":"OFFSET(Data!DZ41,Offsets!$A$28,0)","v":2},{"$f":"OFFSET(Data!EA41,Offsets!$A$28,0)","v":1.714285714285714},{"$f":"OFFSET(Data!EB41,Offsets!$A$28,0)","v":162.71428571428572}]
[null,"09:15:00",{"$f":"OFFSET(Data!DK42,Offsets!$A$28,0)","v":0.7142857142857143},{"$f":"OFFSET(Data!DL42,Offsets!$A$28,0)","v":72.428571428571416},{"$f":"OFFSET(Data!DM42,Offsets!$A$28,0)","v":6},{"$f":"OFFSET(Data!DN42,Offsets!$A$28,0)","v":1.2857142857142856},{"$f":"OFFSET(Data!DO42,Offsets!$A$28,0)","v":1.4285714285714284},{"$f":"OFFSET(Data!DP42,Offsets!$A$28,0)","v":81.857142857142833},null,{"$f":"OFFSET(Data!DQ42,Offsets!$A$28,0)","v":0.5714285714285714},{"$f":"OFFSET(Data!DR42,Offsets!$A$28,0)","v":59.714285714285715},{"$f":"OFFSET(Data!DS42,Offsets!$A$28,0)","v":8.4285714285714288},{"$f":"OFFSET(Data!DT42,Offsets!$A$28,0)","v":0.8571428571428571},{"$f":"OFFSET(Data!DU42,Offsets!$A$28,0)","v":1},{"$f":"OFFSET(Data!DV42,Offsets!$A$28,0)","v":70.571428571428555},null,{"$f":"OFFSET(Data!DW42,Offsets!$A$28,0)","v":1.2857142857142856},{"$f":"OFFSET(Data!DX42,Offsets!$A$28,0)","v":132.14285714285714},{"$f":"OFFSET(Data!DY42,Offsets!$A$28,0)","v":14.428571428571429},{"$f":"OFFSET(Data!DZ42,Offsets!$A$28,0)","v":2.1428571428571428},{"$f":"OFFSET(Data!EA42,Offsets!$A$28,0)","v":2.4285714285714284},{"$f":"OFFSET(Data!EB42,Offsets!$A$28,0)","v":152.42857142857139}]
[null,"09:30:00",{"$f":"OFFSET(Data!DK43,Offsets!$A$28,0)","v":1},{"$f":"OFFSET(Data!DL43,Offsets!$A$28,0)","v":70.428571428571431},{"$f":"OFFSET(Data!DM43,Offsets!$A$28,0)","v":7.8571428571428568},{"$f":"OFFSET(Data!DN43,Offsets!$A$28,0)","v":1.8571428571428572},{"$f":"OFFSET(Data!DO43,Offsets!$A$28,0)","v":3.8571428571428568},{"$f":"OFFSET(Data!DP43,Offsets!$A$28,0)","v":85.000000000000014},null,{"$f":"OFFSET(Data!DQ43,Offsets!$A$28,0)","v":1.7142857142857142},{"$f":"OFFSET(Data!DR43,Offsets!$A$28,0)","v":61.142857142857146},{"$f":"OFFSET(Data!DS43,Offsets!$A$28,0)","v":7.4285714285714288},{"$f":"OFFSET(Data!DT43,Offsets!$A$28,0)","v":1},{"$f":"OFFSET(Data!DU43,Offsets!$A$28,0)","v":1.5714285714285714},{"$f":"OFFSET(Data!DV43,Offsets!$A$28,0)","v":72.857142857142861},null,{"$f":"OFFSET(Data!DW43,Offsets!$A$28,0)","v":2.7142857142857144},{"$f":"OFFSET(Data!DX43,Offsets!$A$28,0)","v":131.57142857142858},{"$f":"OFFSET(Data!DY43,Offsets!$A$28,0)","v":15.285714285714285},{"$f":"OFFSET(Data!DZ43,Offsets!$A$28,0)","v":2.8571428571428572},{"$f":"OFFSET(Data!EA43,Offsets!$A$28,0)","v":5.4285714285714279},{"$f":"OFFSET(Data!EB43,Offsets!$A$28,0)","v":157.85714285714289}]
[null,"09:45:00",{"$f":"OFFSET(Data!DK44,Offsets!$A$28,0)","v":0.8571428571428571},{"$f":"OFFSET(Data!DL44,Offsets!$A$28,0)","v":68.857142857142847},{"$f":"OFFSET(Data!DM44,Offsets!$A$28,0)","v":7.5714285714285712},{"$f":"OFFSET(Data!DN44,Offsets!$A$28,0)","v":0.8571428571428571},{"$f":"OFFSET(Data!DO44,Offsets!$A$28,0)","v":2.714285714285714},{"$f":"OFFSET(Data!DP44,Offsets!$A$28,0)","v":80.857142857142847},null,{"$f":"OFFSET(Data!DQ44,Offsets!$A$28,0)","v":2},{"$f":"OFFSET(Data!DR44,Offsets!$A$28,0)","v":59.428571428571431},{"$f":"OFFSET(Data!DS44,Offsets!$A$28,0)","v":8.7142857142857135},{"$f":"OFFSET(Data!DT44,Offsets!$A$28,0)","v":0.8571428571428571},{"$f":"OFFSET(Data!DU44,Offsets!$A$28,0)","v":2.4285714285714284},{"$f":"OFFSET(Data!DV44,Offsets!$A$28,0)","v":73.428571428571431},null,{"$f":"OFFSET(Data!DW44,Offsets!$A$28,0)","v":2.8571428571428572},{"$f":"OFFSET(Data!DX44,Offsets!$A$28,0)","v":128.28571428571428},{"$f":"OFFSET(Data!DY44,Offsets!$A$28,0)","v":16.285714285714285},{"$f":"OFFSET(Data!DZ44,Offsets!$A$28,0)","v":1.7142857142857142},{"$f":"OFFSET(Data!EA44,Offsets!$A$28,0)","v":5.1428571428571423},{"$f":"OFFSET(Data!EB44,Offsets!$A$28,0)","v":154.28571428571428}]
[null,"10:00:00",{"$f":"OFFSET(Data!DK45,Offsets!$A$28,0)","v":1.1428571428571428},{"$f":"OFFSET(Data!DL45,Offsets!$A$28,0)","v":66},{"$f":"OFFSET(Data!DM45,Offsets!$A$28,0)","v":6.7142857142857144},{"$f":"OFFSET(Data!DN45,Offsets!$A$28,0)","v":1.1428571428571428},{"$f":"OFFSET(Data!DO45,Offsets!$A$28,0)","v":1.5714285714285712},{"$f":"OFFSET(Data!DP45,Offsets!$A$28,0)","v":76.571428571428569},null,{"$f":"OFFSET(Data!DQ45,Offsets!$A$28,0)","v":0.5714285714285714},{"$f":"OFFSET(Data!DR45,Offsets!$A$28,0)","v":53},{"$f":"OFFSET(Data!DS45,Offsets!$A$28,0)","v":7.7142857142857144},{"$f":"OFFSET(Data!DT45,Offsets!$A$28,0)","v":1.7142857142857144},{"$f":"OFFSET(Data!DU45,Offsets!$A$28,0)","v":2.4285714285714284},{"$f":"OFFSET(Data!DV45,Offsets!$A$28,0)","v":65.428571428571431},null,{"$f":"OFFSET(Data!DW45,Offsets!$A$28,0)","v":1.7142857142857142},{"$f":"OFFSET(Data!DX45,Offsets!$A$28,0)","v":119},{"$f":"OFFSET(Data!DY45,Offsets!$A$28,0)","v":14.428571428571429},{"$f":"OFFSET(Data!DZ45,Offsets!$A$28,0)","v":2.8571428571428572},{"$f":"OFFSET(Data!EA45,Offsets!$A$28,0)","v":3.9999999999999996},{"$f":"OFFSET(Data!EB45,Offsets!$A$28,0)","v":142}]
[null,"10:15:00",{"$f":"OFFSET(Data!DK46,Offsets!$A$28,0)","v":1.1428571428571428},{"$f":"OFFSET(Data!DL46,Offsets!$A$28,0)","v":76.285714285714292},{"$f":"OFFSET(Data!DM46,Offsets!$A$28,0)","v":6.1428571428571432},{"$f":"OFFSET(Data!DN46,Offsets!$A$28,0)","v":1.4285714285714286},{"$f":"OFFSET(Data!DO46,Offsets!$A$28,0)","v":1.1428571428571428},{"$f":"OFFSET(Data!DP46,Offsets!$A$28,0)","v":86.142857142857125},null,{"$f":"OFFSET(Data!DQ46,Offsets!$A$28,0)","v":2.4285714285714284},{"$f":"OFFSET(Data!DR46,Offsets!$A$28,0)","v":55.285714285714285},{"$f":"OFFSET(Data!DS46,Offsets!$A$28,0)","v":6.2857142857142856},{"$f":"OFFSET(Data!DT46,Offsets!$A$28,0)","v":0.71428571428571419},{"$f":"OFFSET(Data!DU46,Offsets!$A$28,0)","v":1.8571428571428572},{"$f":"OFFSET(Data!DV46,Offsets!$A$28,0)","v":66.571428571428569},null,{"$f":"OFFSET(Data!DW46,Offsets!$A$28,0)","v":3.5714285714285712},{"$f":"OFFSET(Data!DX46,Offsets!$A$28,0)","v":131.57142857142858},{"$f":"OFFSET(Data!DY46,Offsets!$A$28,0)","v":12.428571428571429},{"$f":"OFFSET(Data!DZ46,Offsets!$A$28,0)","v":2.1428571428571428},{"$f":"OFFSET(Data!EA46,Offsets!$A$28,0)","v":3},{"$f":"OFFSET(Data!EB46,Offsets!$A$28,0)","v":152.71428571428569}]
[null,"10:30:00",{"$f":"OFFSET(Data!DK47,Offsets!$A$28,0)","v":1.4285714285714286},{"$f":"OFFSET(Data!DL47,Offsets!$A$28,0)","v":78.571428571428569},{"$f":"OFFSET(Data!DM47,Offsets!$A$28,0)","v":8.2857142857142865},{"$f":"OFFSET(Data!DN47,Offsets!$A$28,0)","v":1},{"$f":"OFFSET(Data!DO47,Offsets!$A$28,0)","v":1.5714285714285714},{"$f":"OFFSET(Data!DP47,Offsets!$A$28,0)","v":90.857142857142861},null,{"$f":"OFFSET(Data!DQ47,Offsets!$A$28,0)","v":2.1428571428571428},{"$f":"OFFSET(Data!DR47,Offsets!$A$28,0)","v":66.142857142857139},{"$f":"OFFSET(Data!DS47,Offsets!$A$28,0)","v":9.8571428571428577},{"$f":"OFFSET(Data!DT47,Offsets!$A$28,0)","v":1.2857142857142856},{"$f":"OFFSET(Data!DU47,Offsets!$A$28,0)","v":0.8571428571428571},{"$f":"OFFSET(Data!DV47,Offsets!$A$28,0)","v":80.285714285714278},null,{"$f":"OFFSET(Data!DW47,Offsets!$A$28,0)","v":3.5714285714285712},{"$f":"OFFSET(Data!DX47,Offsets!$A$28,0)","v":144.71428571428572},{"$f":"OFFSET(Data!DY47,Offsets!$A$28,0)","v":18.142857142857146},{"$f":"OFFSET(Data!DZ47,Offsets!$A$28,0)","v":2.2857142857142856},{"$f":"OFFSET(Data!EA47,Offsets!$A$28,0)","v":2.4285714285714284},{"$f":"OFFSET(Data!EB47,Offsets!$A$28,0)","v":171.14285714285714}]
[null,"10:45:00",{"$f":"OFFSET(Data!DK48,Offsets!$A$28,0)","v":1.4285714285714286},{"$f":"OFFSET(Data!DL48,Offsets!$A$28,0)","v":83.142857142857139},{"$f":"OFFSET(Data!DM48,Offsets!$A$28,0)","v":9.2857142857142865},{"$f":"OFFSET(Data!DN48,Offsets!$A$28,0)","v":1},{"$f":"OFFSET(Data!DO48,Offsets!$A$28,0)","v":1.5714285714285712},{"$f":"OFFSET(Data!DP48,Offsets!$A$28,0)","v":96.428571428571445},null,{"$f":"OFFSET(Data!DQ48,Offsets!$A$28,0)","v":1.4285714285714286},{"$f":"OFFSET(Data!DR48,Offsets!$A$28,0)","v":66.571428571428569},{"$f":"OFFSET(Data!DS48,Offsets!$A$28,0)","v":6.2857142857142856},{"$f":"OFFSET(Data!DT48,Offsets!$A$28,0)","v":1},{"$f":"OFFSET(Data!DU48,Offsets!$A$28,0)","v":0.85714285714285721},{"$f":"OFFSET(Data!DV48,Offsets!$A$28,0)","v":76.142857142857139},null,{"$f":"OFFSET(Data!DW48,Offsets!$A$28,0)","v":2.8571428571428572},{"$f":"OFFSET(Data!DX48,Offsets!$A$28,0)","v":149.71428571428572},{"$f":"OFFSET(Data!DY48,Offsets!$A$28,0)","v":15.571428571428573},{"$f":"OFFSET(Data!DZ48,Offsets!$A$28,0)","v":2},{"$f":"OFFSET(Data!EA48,Offsets!$A$28,0)","v":2.4285714285714284},{"$f":"OFFSET(Data!EB48,Offsets!$A$28,0)","v":172.57142857142858}]
[null,"11:00:00",{"$f":"OFFSET(Data!DK49,Offsets!$A$28,0)","v":1},{"$f":"OFFSET(Data!DL49,Offsets!$A$28,0)","v":74.571428571428569},{"$f":"OFFSET(Data!DM49,Offsets!$A$28,0)","v":8.7142857142857135},{"$f":"OFFSET(Data!DN49,Offsets!$A$28,0)","v":1.4285714285714284},{"$f":"OFFSET(Data!DO49,Offsets!$A$28,0)","v":1},{"$f":"OFFSET(Data!DP49,Offsets!$A$28,0)","v":86.714285714285708},null,{"$f":"OFFSET(Data!DQ49,Offsets!$A$28,0)","v":1.2857142857142858},{"$f":"OFFSET(Data!DR49,Offsets!$A$28,0)","v":63.857142857142854},{"$f":"OFFSET(Data!DS49,Offsets!$A$28,0)","v":7.2857142857142856},{"$f":"OFFSET(Data!DT49,Offsets!$A$28,0)","v":0.42857142857142855},{"$f":"OFFSET(Data!DU49,Offsets!$A$28,0)","v":0.8571428571428571},{"$f":"OFFSET(Data!DV49,Offsets!$A$28,0)","v":73.714285714285751},null,{"$f":"OFFSET(Data!DW49,Offsets!$A$28,0)","v":2.2857142857142856},{"$f":"OFFSET(Data!DX49,Offsets!$A$28,0)","v":138.42857142857142},{"$f":"OFFSET(Data!DY49,Offsets!$A$28,0)","v":16},{"$f":"OFFSET(Data!DZ49,Offsets!$A$28,0)","v":1.857142857142857},{"$f":"OFFSET(Data!EA49,Offsets!$A$28,0)","v":1.8571428571428572},{"$f":"OFFSET(Data!EB49,Offsets!$A$28,0)","v":160.42857142857144}]
[null,"11:15:00",{"$f":"OFFSET(Data!DK50,Offsets!$A$28,0)","v":1},{"$f":"OFFSET(Data!DL50,Offsets!$A$28,0)","v":83},{"$f":"OFFSET(Data!DM50,Offsets!$A$28,0)","v":8.4285714285714288},{"$f":"OFFSET(Data!DN50,Offsets!$A$28,0)","v":0.5714285714285714},{"$f":"OFFSET(Data!DO50,Offsets!$A$28,0)","v":1.2857142857142856},{"$f":"OFFSET(Data!DP50,Offsets!$A$28,0)","v":94.285714285714292},null,{"$f":"OFFSET(Data!DQ50,Offsets!$A$28,0)","v":2.1428571428571428},{"$f":"OFFSET(Data!DR50,Offsets!$A$28,0)","v":63.142857142857139},{"$f":"OFFSET(Data!DS50,Offsets!$A$28,0)","v":7.5714285714285712},{"$f":"OFFSET(Data!DT50,Offsets!$A$28,0)","v":1},{"$f":"OFFSET(Data!DU50,Offsets!$A$28,0)","v":1.2857142857142856},{"$f":"OFFSET(Data!DV50,Offsets!$A$28,0)","v":75.142857142857153},null,{"$f":"OFFSET(Data!DW50,Offsets!$A$28,0)","v":3.1428571428571428},{"$f":"OFFSET(Data!DX50,Offsets!$A$28,0)","v":146.14285714285714},{"$f":"OFFSET(Data!DY50,Offsets!$A$28,0)","v":16},{"$f":"OFFSET(Data!DZ50,Offsets!$A$28,0)","v":1.5714285714285714},{"$f":"OFFSET(Data!EA50,Offsets!$A$28,0)","v":2.5714285714285712},{"$f":"OFFSET(Data!EB50,Offsets!$A$28,0)","v":169.42857142857144}]
[null,"11:30:00",{"$f":"OFFSET(Data!DK51,Offsets!$A$28,0)","v":0.42857142857142855},{"$f":"OFFSET(Data!DL51,Offsets!$A$28,0)","v":78.714285714285722},{"$f":"OFFSET(Data!DM51,Offsets!$A$28,0)","v":8.7142857142857135},{"$f":"OFFSET(Data!DN51,Offsets!$A$28,0)","v":1.2857142857142856},{"$f":"OFFSET(Data!DO51,Offsets!$A$28,0)","v":1.7142857142857142},{"$f":"OFFSET(Data!DP51,Offsets!$A$28,0)","v":90.857142857142861},null,{"$f":"OFFSET(Data!DQ51,Offsets!$A$28,0)","v":2},{"$f":"OFFSET(Data!DR51,Offsets!$A$28,0)","v":72.571428571428569},{"$f":"OFFSET(Data!DS51,Offsets!$A$28,0)","v":8.2857142857142865},{"$f":"OFFSET(Data!DT51,Offsets!$A$28,0)","v":1},{"$f":"OFFSET(Data!DU51,Offsets!$A$28,0)","v":0.8571428571428571},{"$f":"OFFSET(Data!DV51,Offsets!$A$28,0)","v":84.714285714285722},null,{"$f":"OFFSET(Data!DW51,Offsets!$A$28,0)","v":2.4285714285714284},{"$f":"OFFSET(Data!DX51,Offsets!$A$28,0)","v":151.28571428571428},{"$f":"OFFSET(Data!DY51,Offsets!$A$28,0)","v":17},{"$f":"OFFSET(Data!DZ51,Offsets!$A$28,0)","v":2.2857142857142856},{"$f":"OFFSET(Data!EA51,Offsets!$A$28,0)","v":2.5714285714285712},{"$f":"OFFSET(Data!EB51,Offsets!$A$28,0)","v":175.57142857142858}]
[null,"11:45:00",{"$f":"OFFSET(Data!DK52,Offsets!$A$28,0)","v":2.8571428571428572},{"$f":"OFFSET(Data!DL52,Offsets!$A$28,0)","v":86.428571428571431},{"$f":"OFFSET(Data!DM52,Offsets!$A$28,0)","v":7.8571428571428568},{"$f":"OFFSET(Data!DN52,Offsets!$A$28,0)","v":1.5714285714285714},{"$f":"OFFSET(Data!DO52,Offsets!$A$28,0)","v":1.1428571428571428},{"$f":"OFFSET(Data!DP52,Offsets!$A$28,0)","v":99.857142857142861},null,{"$f":"OFFSET(Data!DQ52,Offsets!$A$28,0)","v":0.8571428571428571},{"$f":"OFFSET(Data!DR52,Offsets!$A$28,0)","v":68.285714285714278},{"$f":"OFFSET(Data!DS52,Offsets!$A$28,0)","v":8},{"$f":"OFFSET(Data!DT52,Offsets!$A$28,0)","v":0.71428571428571419},{"$f":"OFFSET(Data!DU52,Offsets!$A$28,0)","v":2.1428571428571428},{"$f":"OFFSET(Data!DV52,Offsets!$A$28,0)","v":79.999999999999986},null,{"$f":"OFFSET(Data!DW52,Offsets!$A$28,0)","v":3.7142857142857144},{"$f":"OFFSET(Data!DX52,Offsets!$A$28,0)","v":154.71428571428572},{"$f":"OFFSET(Data!DY52,Offsets!$A$28,0)","v":15.857142857142858},{"$f":"OFFSET(Data!DZ52,Offsets!$A$28,0)","v":2.2857142857142856},{"$f":"OFFSET(Data!EA52,Offsets!$A$28,0)","v":3.2857142857142856},{"$f":"OFFSET(Data!EB52,Offsets!$A$28,0)","v":179.85714285714283}]
[null,"12:00:00",{"$f":"OFFSET(Data!DK53,Offsets!$A$28,0)","v":2},{"$f":"OFFSET(Data!DL53,Offsets!$A$28,0)","v":81.714285714285722},{"$f":"OFFSET(Data!DM53,Offsets!$A$28,0)","v":6.4285714285714288},{"$f":"OFFSET(Data!DN53,Offsets!$A$28,0)","v":1.1428571428571428},{"$f":"OFFSET(Data!DO53,Offsets!$A$28,0)","v":1.1428571428571428},{"$f":"OFFSET(Data!DP53,Offsets!$A$28,0)","v":92.428571428571431},null,{"$f":"OFFSET(Data!DQ53,Offsets!$A$28,0)","v":0.7142857142857143},{"$f":"OFFSET(Data!DR53,Offsets!$A$28,0)","v":70.571428571428569},{"$f":"OFFSET(Data!DS53,Offsets!$A$28,0)","v":7.4285714285714288},{"$f":"OFFSET(Data!DT53,Offsets!$A$28,0)","v":1.1428571428571428},{"$f":"OFFSET(Data!DU53,Offsets!$A$28,0)","v":2.1428571428571428},{"$f":"OFFSET(Data!DV53,Offsets!$A$28,0)","v":81.999999999999986},null,{"$f":"OFFSET(Data!DW53,Offsets!$A$28,0)","v":2.7142857142857144},{"$f":"OFFSET(Data!DX53,Offsets!$A$28,0)","v":152.28571428571428},{"$f":"OFFSET(Data!DY53,Offsets!$A$28,0)","v":13.857142857142858},{"$f":"OFFSET(Data!DZ53,Offsets!$A$28,0)","v":2.2857142857142856},{"$f":"OFFSET(Data!EA53,Offsets!$A$28,0)","v":3.2857142857142856},{"$f":"OFFSET(Data!EB53,Offsets!$A$28,0)","v":174.42857142857142}]
[null,"12:15:00",{"$f":"OFFSET(Data!DK54,Offsets!$A$28,0)","v":2.1428571428571428},{"$f":"OFFSET(Data!DL54,Offsets!$A$28,0)","v":88.142857142857139},{"$f":"OFFSET(Data!DM54,Offsets!$A$28,0)","v":8.2857142857142865},{"$f":"OFFSET(Data!DN54,Offsets!$A$28,0)","v":1},{"$f":"OFFSET(Data!DO54,Offsets!$A$28,0)","v":1.4285714285714284},{"$f":"OFFSET(Data!DP54,Offsets!$A$28,0)","v":101},null,{"$f":"OFFSET(Data!DQ54,Offsets!$A$28,0)","v":0.8571428571428571},{"$f":"OFFSET(Data!DR54,Offsets!$A$28,0)","v":77.285714285714292},{"$f":"OFFSET(Data!DS54,Offsets!$A$28,0)","v":8},{"$f":"OFFSET(Data!DT54,Offsets!$A$28,0)","v":1.5714285714285714},{"$f":"OFFSET(Data!DU54,Offsets!$A$28,0)","v":1.7142857142857142},{"$f":"OFFSET(Data!DV54,Offsets!$A$28,0)","v":89.428571428571431},null,{"$f":"OFFSET(Data!DW54,Offsets!$A$28,0)","v":3},{"$f":"OFFSET(Data!DX54,Offsets!$A$28,0)","v":165.42857142857144},{"$f":"OFFSET(Data!DY54,Offsets!$A$28,0)","v":16.285714285714285},{"$f":"OFFSET(Data!DZ54,Offsets!$A$28,0)","v":2.5714285714285712},{"$f":"OFFSET(Data!EA54,Offsets!$A$28,0)","v":3.1428571428571423},{"$f":"OFFSET(Data!EB54,Offsets!$A$28,0)","v":190.42857142857144}]
[null,"12:30:00",{"$f":"OFFSET(Data!DK55,Offsets!$A$28,0)","v":3},{"$f":"OFFSET(Data!DL55,Offsets!$A$28,0)","v":91.428571428571431},{"$f":"OFFSET(Data!DM55,Offsets!$A$28,0)","v":6},{"$f":"OFFSET(Data!DN55,Offsets!$A$28,0)","v":0.8571428571428571},{"$f":"OFFSET(Data!DO55,Offsets!$A$28,0)","v":1.1428571428571428},{"$f":"OFFSET(Data!DP55,Offsets!$A$28,0)","v":102.42857142857144},null,{"$f":"OFFSET(Data!DQ55,Offsets!$A$28,0)","v":2.4285714285714284},{"$f":"OFFSET(Data!DR55,Offsets!$A$28,0)","v":80.571428571428569},{"$f":"OFFSET(Data!DS55,Offsets!$A$28,0)","v":8.1428571428571423},{"$f":"OFFSET(Data!DT55,Offsets!$A$28,0)","v":0.71428571428571419},{"$f":"OFFSET(Data!DU55,Offsets!$A$28,0)","v":1.714285714285714},{"$f":"OFFSET(Data!DV55,Offsets!$A$28,0)","v":93.571428571428555},null,{"$f":"OFFSET(Data!DW55,Offsets!$A$28,0)","v":5.4285714285714288},{"$f":"OFFSET(Data!DX55,Offsets!$A$28,0)","v":172},{"$f":"OFFSET(Data!DY55,Offsets!$A$28,0)","v":14.142857142857142},{"$f":"OFFSET(Data!DZ55,Offsets!$A$28,0)","v":1.5714285714285712},{"$f":"OFFSET(Data!EA55,Offsets!$A$28,0)","v":2.8571428571428568},{"$f":"OFFSET(Data!EB55,Offsets!$A$28,0)","v":196}]
[null,"12:45:00",{"$f":"OFFSET(Data!DK56,Offsets!$A$28,0)","v":1.2857142857142858},{"$f":"OFFSET(Data!DL56,Offsets!$A$28,0)","v":76.428571428571431},{"$f":"OFFSET(Data!DM56,Offsets!$A$28,0)","v":4.7142857142857144},{"$f":"OFFSET(Data!DN56,Offsets!$A$28,0)","v":1.1428571428571428},{"$f":"OFFSET(Data!DO56,Offsets!$A$28,0)","v":2},{"$f":"OFFSET(Data!DP56,Offsets!$A$28,0)","v":85.571428571428584},null,{"$f":"OFFSET(Data!DQ56,Offsets!$A$28,0)","v":1.2857142857142858},{"$f":"OFFSET(Data!DR56,Offsets!$A$28,0)","v":83.285714285714292},{"$f":"OFFSET(Data!DS56,Offsets!$A$28,0)","v":7.2857142857142856},{"$f":"OFFSET(Data!DT56,Offsets!$A$28,0)","v":0.2857142857142857},{"$f":"OFFSET(Data!DU56,Offsets!$A$28,0)","v":0.99999999999999989},{"$f":"OFFSET(Data!DV56,Offsets!$A$28,0)","v":93.142857142857153},null,{"$f":"OFFSET(Data!DW56,Offsets!$A$28,0)","v":2.5714285714285716},{"$f":"OFFSET(Data!DX56,Offsets!$A$28,0)","v":159.71428571428572},{"$f":"OFFSET(Data!DY56,Offsets!$A$28,0)","v":12},{"$f":"OFFSET(Data!DZ56,Offsets!$A$28,0)","v":1.4285714285714284},{"$f":"OFFSET(Data!EA56,Offsets!$A$28,0)","v":3},{"$f":"OFFSET(Data!EB56,Offsets!$A$28,0)","v":178.71428571428572}]
[null,"13:00:00",{"$f":"OFFSET(Data!DK57,Offsets!$A$28,0)","v":2.4285714285714284},{"$f":"OFFSET(Data!DL57,Offsets!$A$28,0)","v":86.285714285714278},{"$f":"OFFSET(Data!DM57,Offsets!$A$28,0)","v":6.7142857142857144},{"$f":"OFFSET(Data!DN57,Offsets!$A$28,0)","v":0.42857142857142855},{"$f":"OFFSET(Data!DO57,Offsets!$A$28,0)","v":1.5714285714285714},{"$f":"OFFSET(Data!DP57,Offsets!$A$28,0)","v":97.428571428571402},null,{"$f":"OFFSET(Data!DQ57,Offsets!$A$28,0)","v":0.7142857142857143},{"$f":"OFFSET(Data!DR57,Offsets!$A$28,0)","v":81.285714285714292},{"$f":"OFFSET(Data!DS57,Offsets!$A$28,0)","v":5},{"$f":"OFFSET(Data!DT57,Offsets!$A$28,0)","v":0.42857142857142855},{"$f":"OFFSET(Data!DU57,Offsets!$A$28,0)","v":0.42857142857142855},{"$f":"OFFSET(Data!DV57,Offsets!$A$28,0)","v":87.857142857142861},null,{"$f":"OFFSET(Data!DW57,Offsets!$A$28,0)","v":3.1428571428571428},{"$f":"OFFSET(Data!DX57,Offsets!$A$28,0)","v":167.57142857142856},{"$f":"OFFSET(Data!DY57,Offsets!$A$28,0)","v":11.714285714285715},{"$f":"OFFSET(Data!DZ57,Offsets!$A$28,0)","v":0.8571428571428571},{"$f":"OFFSET(Data!EA57,Offsets!$A$28,0)","v":2},{"$f":"OFFSET(Data!EB57,Offsets!$A$28,0)","v":185.28571428571428}]
[null,"13:15:00",{"$f":"OFFSET(Data!DK58,Offsets!$A$28,0)","v":1.5714285714285714},{"$f":"OFFSET(Data!DL58,Offsets!$A$28,0)","v":81.285714285714292},{"$f":"OFFSET(Data!DM58,Offsets!$A$28,0)","v":7.2857142857142856},{"$f":"OFFSET(Data!DN58,Offsets!$A$28,0)","v":0.5714285714285714},{"$f":"OFFSET(Data!DO58,Offsets!$A$28,0)","v":1.4285714285714284},{"$f":"OFFSET(Data!DP58,Offsets!$A$28,0)","v":92.142857142857153},null,{"$f":"OFFSET(Data!DQ58,Offsets!$A$28,0)","v":1.1428571428571428},{"$f":"OFFSET(Data!DR58,Offsets!$A$28,0)","v":81.285714285714278},{"$f":"OFFSET(Data!DS58,Offsets!$A$28,0)","v":6.2857142857142856},{"$f":"OFFSET(Data!DT58,Offsets!$A$28,0)","v":0.5714285714285714},{"$f":"OFFSET(Data!DU58,Offsets!$A$28,0)","v":1.2857142857142856},{"$f":"OFFSET(Data!DV58,Offsets!$A$28,0)","v":90.571428571428555},null,{"$f":"OFFSET(Data!DW58,Offsets!$A$28,0)","v":2.7142857142857144},{"$f":"OFFSET(Data!DX58,Offsets!$A$28,0)","v":162.57142857142856},{"$f":"OFFSET(Data!DY58,Offsets!$A$28,0)","v":13.571428571428571},{"$f":"OFFSET(Data!DZ58,Offsets!$A$28,0)","v":1.1428571428571428},{"$f":"OFFSET(Data!EA58,Offsets!$A$28,0)","v":2.714285714285714},{"$f":"OFFSET(Data!EB58,Offsets!$A$28,0)","v":182.71428571428572}]
[null,"13:30:00",{"$f":"OFFSET(Data!DK59,Offsets!$A$28,0)","v":2.1428571428571428},{"$f":"OFFSET(Data!DL59,Offsets!$A$28,0)","v":81.285714285714292},{"$f":"OFFSET(Data!DM59,Offsets!$A$28,0)","v":8.1428571428571423},{"$f":"OFFSET(Data!DN59,Offsets!$A$28,0)","v":0.5714285714285714},{"$f":"OFFSET(Data!DO59,Offsets!$A$28,0)","v":1.5714285714285716},{"$f":"OFFSET(Data!DP59,Offsets!$A$28,0)","v":93.714285714285722},null,{"$f":"OFFSET(Data!DQ59,Offsets!$A$28,0)","v":3.1428571428571428},{"$f":"OFFSET(Data!DR59,Offsets!$A$28,0)","v":81.571428571428569},{"$f":"OFFSET(Data!DS59,Offsets!$A$28,0)","v":5.4285714285714288},{"$f":"OFFSET(Data!DT59,Offsets!$A$28,0)","v":0.5714285714285714},{"$f":"OFFSET(Data!DU59,Offsets!$A$28,0)","v":0.42857142857142855},{"$f":"OFFSET(Data!DV59,Offsets!$A$28,0)","v":91.142857142857153},null,{"$f":"OFFSET(Data!DW59,Offsets!$A$28,0)","v":5.2857142857142856},{"$f":"OFFSET(Data!DX59,Offsets!$A$28,0)","v":162.85714285714286},{"$f":"OFFSET(Data!DY59,Offsets!$A$28,0)","v":13.571428571428571},{"$f":"OFFSET(Data!DZ59,Offsets!$A$28,0)","v":1.1428571428571428},{"$f":"OFFSET(Data!EA59,Offsets!$A$28,0)","v":2},{"$f":"OFFSET(Data!EB59,Offsets!$A$28,0)","v":184.85714285714289}]
[null,"13:45:00",{"$f":"OFFSET(Data!DK60,Offsets!$A$28,0)","v":1.4285714285714286},{"$f":"OFFSET(Data!DL60,Offsets!$A$28,0)","v":72.857142857142861},{"$f":"OFFSET(Data!DM60,Offsets!$A$28,0)","v":9.1428571428571423},{"$f":"OFFSET(Data!DN60,Offsets!$A$28,0)","v":0.2857142857142857},{"$f":"OFFSET(Data!DO60,Offsets!$A$28,0)","v":1.8571428571428572},{"$f":"OFFSET(Data!DP60,Offsets!$A$28,0)","v":85.571428571428584},null,{"$f":"OFFSET(Data!DQ60,Offsets!$A$28,0)","v":2.1428571428571428},{"$f":"OFFSET(Data!DR60,Offsets!$A$28,0)","v":82.428571428571431},{"$f":"OFFSET(Data!DS60,Offsets!$A$28,0)","v":6.4285714285714288},{"$f":"OFFSET(Data!DT60,Offsets!$A$28,0)","v":0.42857142857142855},{"$f":"OFFSET(Data!DU60,Offsets!$A$28,0)","v":1.857142857142857},{"$f":"OFFSET(Data!DV60,Offsets!$A$28,0)","v":93.285714285714292},null,{"$f":"OFFSET(Data!DW60,Offsets!$A$28,0)","v":3.5714285714285712},{"$f":"OFFSET(Data!DX60,Offsets!$A$28,0)","v":155.28571428571428},{"$f":"OFFSET(Data!DY60,Offsets!$A$28,0)","v":15.571428571428571},{"$f":"OFFSET(Data!DZ60,Offsets!$A$28,0)","v":0.71428571428571419},{"$f":"OFFSET(Data!EA60,Offsets!$A$28,0)","v":3.7142857142857144},{"$f":"OFFSET(Data!EB60,Offsets!$A$28,0)","v":178.85714285714289}]
[null,"14:00:00",{"$f":"OFFSET(Data!DK61,Offsets!$A$28,0)","v":2.4285714285714284},{"$f":"OFFSET(Data!DL61,Offsets!$A$28,0)","v":74.285714285714292},{"$f":"OFFSET(Data!DM61,Offsets!$A$28,0)","v":6},{"$f":"OFFSET(Data!DN61,Offsets!$A$28,0)","v":0.14285714285714285},{"$f":"OFFSET(Data!DO61,Offsets!$A$28,0)","v":2.5714285714285712},{"$f":"OFFSET(Data!DP61,Offsets!$A$28,0)","v":85.428571428571431},null,{"$f":"OFFSET(Data!DQ61,Offsets!$A$28,0)","v":1.7142857142857142},{"$f":"OFFSET(Data!DR61,Offsets!$A$28,0)","v":88.428571428571431},{"$f":"OFFSET(Data!DS61,Offsets!$A$28,0)","v":7.1428571428571432},{"$f":"OFFSET(Data!DT61,Offsets!$A$28,0)","v":0.85714285714285721},{"$f":"OFFSET(Data!DU61,Offsets!$A$28,0)","v":1.4285714285714284},{"$f":"OFFSET(Data!DV61,Offsets!$A$28,0)","v":99.571428571428555},null,{"$f":"OFFSET(Data!DW61,Offsets!$A$28,0)","v":4.1428571428571423},{"$f":"OFFSET(Data!DX61,Offsets!$A$28,0)","v":162.71428571428572},{"$f":"OFFSET(Data!DY61,Offsets!$A$28,0)","v":13.142857142857142},{"$f":"OFFSET(Data!DZ61,Offsets!$A$28,0)","v":1},{"$f":"OFFSET(Data!EA61,Offsets!$A$28,0)","v":3.9999999999999996},{"$f":"OFFSET(Data!EB61,Offsets!$A$28,0)","v":185}]
[null,"14:15:00",{"$f":"OFFSET(Data!DK62,Offsets!$A$28,0)","v":1.1428571428571428},{"$f":"OFFSET(Data!DL62,Offsets!$A$28,0)","v":76},{"$f":"OFFSET(Data!DM62,Offsets!$A$28,0)","v":7.4285714285714288},{"$f":"OFFSET(Data!DN62,Offsets!$A$28,0)","v":0.7142857142857143},{"$f":"OFFSET(Data!DO62,Offsets!$A$28,0)","v":0.2857142857142857},{"$f":"OFFSET(Data!DP62,Offsets!$A$28,0)","v":85.571428571428555},null,{"$f":"OFFSET(Data!DQ62,Offsets!$A$28,0)","v":1.8571428571428572},{"$f":"OFFSET(Data!DR62,Offsets!$A$28,0)","v":90.142857142857139},{"$f":"OFFSET(Data!DS62,Offsets!$A$28,0)","v":6.4285714285714288},{"$f":"OFFSET(Data!DT62,Offsets!$A$28,0)","v":1},{"$f":"OFFSET(Data!DU62,Offsets!$A$28,0)","v":2.1428571428571428},{"$f":"OFFSET(Data!DV62,Offsets!$A$28,0)","v":101.57142857142857},null,{"$f":"OFFSET(Data!DW62,Offsets!$A$28,0)","v":3},{"$f":"OFFSET(Data!DX62,Offsets!$A$28,0)","v":166.14285714285714},{"$f":"OFFSET(Data!DY62,Offsets!$A$28,0)","v":13.857142857142858},{"$f":"OFFSET(Data!DZ62,Offsets!$A$28,0)","v":1.7142857142857144},{"$f":"OFFSET(Data!EA62,Offsets!$A$28,0)","v":2.4285714285714284},{"$f":"OFFSET(Data!EB62,Offsets!$A$28,0)","v":187.14285714285711}]
[null,"14:30:00",{"$f":"OFFSET(Data!DK63,Offsets!$A$28,0)","v":1.5714285714285714},{"$f":"OFFSET(Data!DL63,Offsets!$A$28,0)","v":79.285714285714278},{"$f":"OFFSET(Data!DM63,Offsets!$A$28,0)","v":8},{"$f":"OFFSET(Data!DN63,Offsets!$A$28,0)","v":0.8571428571428571},{"$f":"OFFSET(Data!DO63,Offsets!$A$28,0)","v":1.1428571428571428},{"$f":"OFFSET(Data!DP63,Offsets!$A$28,0)","v":90.857142857142847},null,{"$f":"OFFSET(Data!DQ63,Offsets!$A$28,0)","v":2},{"$f":"OFFSET(Data!DR63,Offsets!$A$28,0)","v":90.857142857142861},{"$f":"OFFSET(Data!DS63,Offsets!$A$28,0)","v":9.7142857142857135},{"$f":"OFFSET(Data!DT63,Offsets!$A$28,0)","v":0.42857142857142855},{"$f":"OFFSET(Data!DU63,Offsets!$A$28,0)","v":1.857142857142857},{"$f":"OFFSET(Data!DV63,Offsets!$A$28,0)","v":104.85714285714286},null,{"$f":"OFFSET(Data!DW63,Offsets!$A$28,0)","v":3.5714285714285712},{"$f":"OFFSET(Data!DX63,Offsets!$A$28,0)","v":170.14285714285714},{"$f":"OFFSET(Data!DY63,Offsets!$A$28,0)","v":17.714285714285715},{"$f":"OFFSET(Data!DZ63,Offsets!$A$28,0)","v":1.2857142857142856},{"$f":"OFFSET(Data!EA63,Offsets!$A$28,0)","v":3},{"$f":"OFFSET(Data!EB63,Offsets!$A$28,0)","v":195.71428571428572}]
[null,"14:45:00",{"$f":"OFFSET(Data!DK64,Offsets!$A$28,0)","v":0.7142857142857143},{"$f":"OFFSET(Data!DL64,Offsets!$A$28,0)","v":77.285714285714278},{"$f":"OFFSET(Data!DM64,Offsets!$A$28,0)","v":6.8571428571428568},{"$f":"OFFSET(Data!DN64,Offsets!$A$28,0)","v":0.5714285714285714},{"$f":"OFFSET(Data!DO64,Offsets!$A$28,0)","v":1.2857142857142856},{"$f":"OFFSET(Data!DP64,Offsets!$A$28,0)","v":86.714285714285708},null,{"$f":"OFFSET(Data!DQ64,Offsets!$A$28,0)","v":2.1428571428571428},{"$f":"OFFSET(Data!DR64,Offsets!$A$28,0)","v":97.285714285714278},{"$f":"OFFSET(Data!DS64,Offsets!$A$28,0)","v":7},{"$f":"OFFSET(Data!DT64,Offsets!$A$28,0)","v":0.5714285714285714},{"$f":"OFFSET(Data!DU64,Offsets!$A$28,0)","v":1.1428571428571428},{"$f":"OFFSET(Data!DV64,Offsets!$A$28,0)","v":108.14285714285712},null,{"$f":"OFFSET(Data!DW64,Offsets!$A$28,0)","v":2.8571428571428572},{"$f":"OFFSET(Data!DX64,Offsets!$A$28,0)","v":174.57142857142856},{"$f":"OFFSET(Data!DY64,Offsets!$A$28,0)","v":13.857142857142858},{"$f":"OFFSET(Data!DZ64,Offsets!$A$28,0)","v":1.1428571428571428},{"$f":"OFFSET(Data!EA64,Offsets!$A$28,0)","v":2.4285714285714284},{"$f":"OFFSET(Data!EB64,Offsets!$A$28,0)","v":194.85714285714283}]
[null,"15:00:00",{"$f":"OFFSET(Data!DK65,Offsets!$A$28,0)","v":1.4285714285714286},{"$f":"OFFSET(Data!DL65,Offsets!$A$28,0)","v":78.285714285714292},{"$f":"OFFSET(Data!DM65,Offsets!$A$28,0)","v":7},{"$f":"OFFSET(Data!DN65,Offsets!$A$28,0)","v":0.42857142857142855},{"$f":"OFFSET(Data!DO65,Offsets!$A$28,0)","v":1},{"$f":"OFFSET(Data!DP65,Offsets!$A$28,0)","v":88.142857142857153},null,{"$f":"OFFSET(Data!DQ65,Offsets!$A$28,0)","v":1.7142857142857142},{"$f":"OFFSET(Data!DR65,Offsets!$A$28,0)","v":99.714285714285722},{"$f":"OFFSET(Data!DS65,Offsets!$A$28,0)","v":7.1428571428571432},{"$f":"OFFSET(Data!DT65,Offsets!$A$28,0)","v":0.8571428571428571},{"$f":"OFFSET(Data!DU65,Offsets!$A$28,0)","v":0.8571428571428571},{"$f":"OFFSET(Data!DV65,Offsets!$A$28,0)","v":110.28571428571429},null,{"$f":"OFFSET(Data!DW65,Offsets!$A$28,0)","v":3.1428571428571428},{"$f":"OFFSET(Data!DX65,Offsets!$A$28,0)","v":178},{"$f":"OFFSET(Data!DY65,Offsets!$A$28,0)","v":14.142857142857142},{"$f":"OFFSET(Data!DZ65,Offsets!$A$28,0)","v":1.2857142857142856},{"$f":"OFFSET(Data!EA65,Offsets!$A$28,0)","v":1.8571428571428572},{"$f":"OFFSET(Data!EB65,Offsets!$A$28,0)","v":198.42857142857144}]
[null,"15:15:00",{"$f":"OFFSET(Data!DK66,Offsets!$A$28,0)","v":1.8571428571428572},{"$f":"OFFSET(Data!DL66,Offsets!$A$28,0)","v":93},{"$f":"OFFSET(Data!DM66,Offsets!$A$28,0)","v":7.2857142857142856},{"$f":"OFFSET(Data!DN66,Offsets!$A$28,0)","v":1.4285714285714284},{"$f":"OFFSET(Data!DO66,Offsets!$A$28,0)","v":1.7142857142857144},{"$f":"OFFSET(Data!DP66,Offsets!$A$28,0)","v":105.28571428571429},null,{"$f":"OFFSET(Data!DQ66,Offsets!$A$28,0)","v":2.1428571428571428},{"$f":"OFFSET(Data!DR66,Offsets!$A$28,0)","v":98.857142857142861},{"$f":"OFFSET(Data!DS66,Offsets!$A$28,0)","v":6.5714285714285712},{"$f":"OFFSET(Data!DT66,Offsets!$A$28,0)","v":0.42857142857142855},{"$f":"OFFSET(Data!DU66,Offsets!$A$28,0)","v":1.1428571428571428},{"$f":"OFFSET(Data!DV66,Offsets!$A$28,0)","v":109.14285714285712},null,{"$f":"OFFSET(Data!DW66,Offsets!$A$28,0)","v":4},{"$f":"OFFSET(Data!DX66,Offsets!$A$28,0)","v":191.85714285714286},{"$f":"OFFSET(Data!DY66,Offsets!$A$28,0)","v":13.857142857142858},{"$f":"OFFSET(Data!DZ66,Offsets!$A$28,0)","v":1.857142857142857},{"$f":"OFFSET(Data!EA66,Offsets!$A$28,0)","v":2.8571428571428572},{"$f":"OFFSET(Data!EB66,Offsets!$A$28,0)","v":214.42857142857142}]
[null,"15:30:00",{"$f":"OFFSET(Data!DK67,Offsets!$A$28,0)","v":2.2857142857142856},{"$f":"OFFSET(Data!DL67,Offsets!$A$28,0)","v":88.428571428571431},{"$f":"OFFSET(Data!DM67,Offsets!$A$28,0)","v":8.1428571428571423},{"$f":"OFFSET(Data!DN67,Offsets!$A$28,0)","v":0.5714285714285714},{"$f":"OFFSET(Data!DO67,Offsets!$A$28,0)","v":1.2857142857142856},{"$f":"OFFSET(Data!DP67,Offsets!$A$28,0)","v":100.71428571428572},null,{"$f":"OFFSET(Data!DQ67,Offsets!$A$28,0)","v":2.2857142857142856},{"$f":"OFFSET(Data!DR67,Offsets!$A$28,0)","v":105},{"$f":"OFFSET(Data!DS67,Offsets!$A$28,0)","v":10.142857142857142},{"$f":"OFFSET(Data!DT67,Offsets!$A$28,0)","v":0.71428571428571419},{"$f":"OFFSET(Data!DU67,Offsets!$A$28,0)","v":2.1428571428571428},{"$f":"OFFSET(Data!DV67,Offsets!$A$28,0)","v":120.28571428571428},null,{"$f":"OFFSET(Data!DW67,Offsets!$A$28,0)","v":4.5714285714285712},{"$f":"OFFSET(Data!DX67,Offsets!$A$28,0)","v":193.42857142857144},{"$f":"OFFSET(Data!DY67,Offsets!$A$28,0)","v":18.285714285714285},{"$f":"OFFSET(Data!DZ67,Offsets!$A$28,0)","v":1.2857142857142856},{"$f":"OFFSET(Data!EA67,Offsets!$A$28,0)","v":3.4285714285714284},{"$f":"OFFSET(Data!EB67,Offsets!$A$28,0)","v":221}]
[null,"15:45:00",{"$f":"OFFSET(Data!DK68,Offsets!$A$28,0)","v":1.1428571428571428},{"$f":"OFFSET(Data!DL68,Offsets!$A$28,0)","v":91.714285714285708},{"$f":"OFFSET(Data!DM68,Offsets!$A$28,0)","v":9.2857142857142865},{"$f":"OFFSET(Data!DN68,Offsets!$A$28,0)","v":1.2857142857142856},{"$f":"OFFSET(Data!DO68,Offsets!$A$28,0)","v":1.857142857142857},{"$f":"OFFSET(Data!DP68,Offsets!$A$28,0)","v":105.28571428571428},null,{"$f":"OFFSET(Data!DQ68,Offsets!$A$28,0)","v":1.1428571428571428},{"$f":"OFFSET(Data!DR68,Offsets!$A$28,0)","v":112},{"$f":"OFFSET(Data!DS68,Offsets!$A$28,0)","v":6.8571428571428568},{"$f":"OFFSET(Data!DT68,Offsets!$A$28,0)","v":0.5714285714285714},{"$f":"OFFSET(Data!DU68,Offsets!$A$28,0)","v":0.71428571428571419},{"$f":"OFFSET(Data!DV68,Offsets!$A$28,0)","v":121.28571428571429},null,{"$f":"OFFSET(Data!DW68,Offsets!$A$28,0)","v":2.2857142857142856},{"$f":"OFFSET(Data!DX68,Offsets!$A$28,0)","v":203.71428571428572},{"$f":"OFFSET(Data!DY68,Offsets!$A$28,0)","v":16.142857142857142},{"$f":"OFFSET(Data!DZ68,Offsets!$A$28,0)","v":1.857142857142857},{"$f":"OFFSET(Data!EA68,Offsets!$A$28,0)","v":2.5714285714285712},{"$f":"OFFSET(Data!EB68,Offsets!$A$28,0)","v":226.57142857142856}]
[null,"16:00:00",{"$f":"OFFSET(Data!DK69,Offsets!$A$28,0)","v":2.2857142857142856},{"$f":"OFFSET(Data!DL69,Offsets!$A$28,0)","v":98.714285714285708},{"$f":"OFFSET(Data!DM69,Offsets!$A$28,0)","v":9.7142857142857135},{"$f":"OFFSET(Data!DN69,Offsets!$A$28,0)","v":0.42857142857142855},{"$f":"OFFSET(Data!DO69,Offsets!$A$28,0)","v":2.4285714285714288},{"$f":"OFFSET(Data!DP69,Offsets!$A$28,0)","v":113.57142857142857},null,{"$f":"OFFSET(Data!DQ69,Offsets!$A$28,0)","v":1.8571428571428572},{"$f":"OFFSET(Data!DR69,Offsets!$A$28,0)","v":110.85714285714285},{"$f":"OFFSET(Data!DS69,Offsets!$A$28,0)","v":7.7142857142857144},{"$f":"OFFSET(Data!DT69,Offsets!$A$28,0)","v":1.1428571428571428},{"$f":"OFFSET(Data!DU69,Offsets!$A$28,0)","v":0.71428571428571419},{"$f":"OFFSET(Data!DV69,Offsets!$A$28,0)","v":122.28571428571428},null,{"$f":"OFFSET(Data!DW69,Offsets!$A$28,0)","v":4.1428571428571423},{"$f":"OFFSET(Data!DX69,Offsets!$A$28,0)","v":209.57142857142856},{"$f":"OFFSET(Data!DY69,Offsets!$A$28,0)","v":17.428571428571427},{"$f":"OFFSET(Data!DZ69,Offsets!$A$28,0)","v":1.5714285714285714},{"$f":"OFFSET(Data!EA69,Offsets!$A$28,0)","v":3.1428571428571432},{"$f":"OFFSET(Data!EB69,Offsets!$A$28,0)","v":235.85714285714283}]
[null,"16:15:00",{"$f":"OFFSET(Data!DK70,Offsets!$A$28,0)","v":1.7142857142857142},{"$f":"OFFSET(Data!DL70,Offsets!$A$28,0)","v":92.571428571428569},{"$f":"OFFSET(Data!DM70,Offsets!$A$28,0)","v":6.8571428571428568},{"$f":"OFFSET(Data!DN70,Offsets!$A$28,0)","v":0.5714285714285714},{"$f":"OFFSET(Data!DO70,Offsets!$A$28,0)","v":1.9999999999999998},{"$f":"OFFSET(Data!DP70,Offsets!$A$28,0)","v":103.71428571428571},null,{"$f":"OFFSET(Data!DQ70,Offsets!$A$28,0)","v":2},{"$f":"OFFSET(Data!DR70,Offsets!$A$28,0)","v":111.71428571428571},{"$f":"OFFSET(Data!DS70,Offsets!$A$28,0)","v":6.5714285714285712},{"$f":"OFFSET(Data!DT70,Offsets!$A$28,0)","v":0.5714285714285714},{"$f":"OFFSET(Data!DU70,Offsets!$A$28,0)","v":0.5714285714285714},{"$f":"OFFSET(Data!DV70,Offsets!$A$28,0)","v":121.42857142857143},null,{"$f":"OFFSET(Data!DW70,Offsets!$A$28,0)","v":3.7142857142857144},{"$f":"OFFSET(Data!DX70,Offsets!$A$28,0)","v":204.28571428571428},{"$f":"OFFSET(Data!DY70,Offsets!$A$28,0)","v":13.428571428571427},{"$f":"OFFSET(Data!DZ70,Offsets!$A$28,0)","v":1.1428571428571428},{"$f":"OFFSET(Data!EA70,Offsets!$A$28,0)","v":2.5714285714285712},{"$f":"OFFSET(Data!EB70,Offsets!$A$28,0)","v":225.14285714285714}]
[null,"16:30:00",{"$f":"OFFSET(Data!DK71,Offsets!$A$28,0)","v":2.8571428571428572},{"$f":"OFFSET(Data!DL71,Offsets!$A$28,0)","v":91.142857142857139},{"$f":"OFFSET(Data!DM71,Offsets!$A$28,0)","v":5.1428571428571432},{"$f":"OFFSET(Data!DN71,Offsets!$A$28,0)","v":0.42857142857142855},{"$f":"OFFSET(Data!DO71,Offsets!$A$28,0)","v":1.4285714285714284},{"$f":"OFFSET(Data!DP71,Offsets!$A$28,0)","v":100.99999999999999},null,{"$f":"OFFSET(Data!DQ71,Offsets!$A$28,0)","v":2},{"$f":"OFFSET(Data!DR71,Offsets!$A$28,0)","v":114.42857142857143},{"$f":"OFFSET(Data!DS71,Offsets!$A$28,0)","v":6.1428571428571432},{"$f":"OFFSET(Data!DT71,Offsets!$A$28,0)","v":0.5714285714285714},{"$f":"OFFSET(Data!DU71,Offsets!$A$28,0)","v":0.42857142857142855},{"$f":"OFFSET(Data!DV71,Offsets!$A$28,0)","v":123.57142857142857},null,{"$f":"OFFSET(Data!DW71,Offsets!$A$28,0)","v":4.8571428571428577},{"$f":"OFFSET(Data!DX71,Offsets!$A$28,0)","v":205.57142857142856},{"$f":"OFFSET(Data!DY71,Offsets!$A$28,0)","v":11.285714285714286},{"$f":"OFFSET(Data!DZ71,Offsets!$A$28,0)","v":1},{"$f":"OFFSET(Data!EA71,Offsets!$A$28,0)","v":1.857142857142857},{"$f":"OFFSET(Data!EB71,Offsets!$A$28,0)","v":224.57142857142856}]
[null,"16:45:00",{"$f":"OFFSET(Data!DK72,Offsets!$A$28,0)","v":1.4285714285714286},{"$f":"OFFSET(Data!DL72,Offsets!$A$28,0)","v":84.571428571428569},{"$f":"OFFSET(Data!DM72,Offsets!$A$28,0)","v":4.8571428571428568},{"$f":"OFFSET(Data!DN72,Offsets!$A$28,0)","v":0.2857142857142857},{"$f":"OFFSET(Data!DO72,Offsets!$A$28,0)","v":1},{"$f":"OFFSET(Data!DP72,Offsets!$A$28,0)","v":92.142857142857153},null,{"$f":"OFFSET(Data!DQ72,Offsets!$A$28,0)","v":2.7142857142857144},{"$f":"OFFSET(Data!DR72,Offsets!$A$28,0)","v":114},{"$f":"OFFSET(Data!DS72,Offsets!$A$28,0)","v":5},{"$f":"OFFSET(Data!DT72,Offsets!$A$28,0)","v":0.42857142857142855},{"$f":"OFFSET(Data!DU72,Offsets!$A$28,0)","v":1},{"$f":"OFFSET(Data!DV72,Offsets!$A$28,0)","v":123.14285714285714},null,{"$f":"OFFSET(Data!DW72,Offsets!$A$28,0)","v":4.1428571428571432},{"$f":"OFFSET(Data!DX72,Offsets!$A$28,0)","v":198.57142857142856},{"$f":"OFFSET(Data!DY72,Offsets!$A$28,0)","v":9.8571428571428577},{"$f":"OFFSET(Data!DZ72,Offsets!$A$28,0)","v":0.71428571428571419},{"$f":"OFFSET(Data!EA72,Offsets!$A$28,0)","v":2},{"$f":"OFFSET(Data!EB72,Offsets!$A$28,0)","v":215.28571428571428}]
[null,"17:00:00",{"$f":"OFFSET(Data!DK73,Offsets!$A$28,0)","v":1.7142857142857142},{"$f":"OFFSET(Data!DL73,Offsets!$A$28,0)","v":97.285714285714292},{"$f":"OFFSET(Data!DM73,Offsets!$A$28,0)","v":4.5714285714285712},{"$f":"OFFSET(Data!DN73,Offsets!$A$28,0)","v":0.5714285714285714},{"$f":"OFFSET(Data!DO73,Offsets!$A$28,0)","v":1.1428571428571428},{"$f":"OFFSET(Data!DP73,Offsets!$A$28,0)","v":105.28571428571428},null,{"$f":"OFFSET(Data!DQ73,Offsets!$A$28,0)","v":1},{"$f":"OFFSET(Data!DR73,Offsets!$A$28,0)","v":123},{"$f":"OFFSET(Data!DS73,Offsets!$A$28,0)","v":4.4285714285714288},{"$f":"OFFSET(Data!DT73,Offsets!$A$28,0)","v":0.2857142857142857},{"$f":"OFFSET(Data!DU73,Offsets!$A$28,0)","v":0.71428571428571419},{"$f":"OFFSET(Data!DV73,Offsets!$A$28,0)","v":129.42857142857139},null,{"$f":"OFFSET(Data!DW73,Offsets!$A$28,0)","v":2.7142857142857144},{"$f":"OFFSET(Data!DX73,Offsets!$A$28,0)","v":220.28571428571428},{"$f":"OFFSET(Data!DY73,Offsets!$A$28,0)","v":9},{"$f":"OFFSET(Data!DZ73,Offsets!$A$28,0)","v":0.8571428571428571},{"$f":"OFFSET(Data!EA73,Offsets!$A$28,0)","v":1.857142857142857},{"$f":"OFFSET(Data!EB73,Offsets!$A$28,0)","v":234.71428571428567}]
[null,"17:15:00",{"$f":"OFFSET(Data!DK74,Offsets!$A$28,0)","v":2},{"$f":"OFFSET(Data!DL74,Offsets!$A$28,0)","v":91.285714285714278},{"$f":"OFFSET(Data!DM74,Offsets!$A$28,0)","v":3.2857142857142856},{"$f":"OFFSET(Data!DN74,Offsets!$A$28,0)","v":0.42857142857142855},{"$f":"OFFSET(Data!DO74,Offsets!$A$28,0)","v":0.8571428571428571},{"$f":"OFFSET(Data!DP74,Offsets!$A$28,0)","v":97.857142857142861},null,{"$f":"OFFSET(Data!DQ74,Offsets!$A$28,0)","v":1.2857142857142858},{"$f":"OFFSET(Data!DR74,Offsets!$A$28,0)","v":117.14285714285715},{"$f":"OFFSET(Data!DS74,Offsets!$A$28,0)","v":4.8571428571428568},{"$f":"OFFSET(Data!DT74,Offsets!$A$28,0)","v":0.85714285714285721},{"$f":"OFFSET(Data!DU74,Offsets!$A$28,0)","v":1},{"$f":"OFFSET(Data!DV74,Offsets!$A$28,0)","v":125.14285714285714},null,{"$f":"OFFSET(Data!DW74,Offsets!$A$28,0)","v":3.2857142857142856},{"$f":"OFFSET(Data!DX74,Offsets!$A$28,0)","v":208.42857142857144},{"$f":"OFFSET(Data!DY74,Offsets!$A$28,0)","v":8.1428571428571423},{"$f":"OFFSET(Data!DZ74,Offsets!$A$28,0)","v":1.2857142857142858},{"$f":"OFFSET(Data!EA74,Offsets!$A$28,0)","v":1.8571428571428572},{"$f":"OFFSET(Data!EB74,Offsets!$A$28,0)","v":223}]
[null,"17:30:00",{"$f":"OFFSET(Data!DK75,Offsets!$A$28,0)","v":2},{"$f":"OFFSET(Data!DL75,Offsets!$A$28,0)","v":96.285714285714292},{"$f":"OFFSET(Data!DM75,Offsets!$A$28,0)","v":5},{"$f":"OFFSET(Data!DN75,Offsets!$A$28,0)","v":0.14285714285714285},{"$f":"OFFSET(Data!DO75,Offsets!$A$28,0)","v":0.99999999999999989},{"$f":"OFFSET(Data!DP75,Offsets!$A$28,0)","v":104.42857142857143},null,{"$f":"OFFSET(Data!DQ75,Offsets!$A$28,0)","v":1.8571428571428572},{"$f":"OFFSET(Data!DR75,Offsets!$A$28,0)","v":107.71428571428572},{"$f":"OFFSET(Data!DS75,Offsets!$A$28,0)","v":4.2857142857142856},{"$f":"OFFSET(Data!DT75,Offsets!$A$28,0)","v":0.14285714285714285},{"$f":"OFFSET(Data!DU75,Offsets!$A$28,0)","v":0.8571428571428571},{"$f":"OFFSET(Data!DV75,Offsets!$A$28,0)","v":114.85714285714288},null,{"$f":"OFFSET(Data!DW75,Offsets!$A$28,0)","v":3.8571428571428572},{"$f":"OFFSET(Data!DX75,Offsets!$A$28,0)","v":204},{"$f":"OFFSET(Data!DY75,Offsets!$A$28,0)","v":9.2857142857142847},{"$f":"OFFSET(Data!DZ75,Offsets!$A$28,0)","v":0.2857142857142857},{"$f":"OFFSET(Data!EA75,Offsets!$A$28,0)","v":1.857142857142857},{"$f":"OFFSET(Data!EB75,Offsets!$A$28,0)","v":219.28571428571431}]
[null,"17:45:00",{"$f":"OFFSET(Data!DK76,Offsets!$A$28,0)","v":3.4285714285714284},{"$f":"OFFSET(Data!DL76,Offsets!$A$28,0)","v":80.857142857142847},{"$f":"OFFSET(Data!DM76,Offsets!$A$28,0)","v":3.2857142857142856},{"$f":"OFFSET(Data!DN76,Offsets!$A$28,0)","v":0.2857142857142857},{"$f":"OFFSET(Data!DO76,Offsets!$A$28,0)","v":0.2857142857142857},{"$f":"OFFSET(Data!DP76,Offsets!$A$28,0)","v":88.142857142857125},null,{"$f":"OFFSET(Data!DQ76,Offsets!$A$28,0)","v":1.8571428571428572},{"$f":"OFFSET(Data!DR76,Offsets!$A$28,0)","v":100.14285714285715},{"$f":"OFFSET(Data!DS76,Offsets!$A$28,0)","v":3.2857142857142856},{"$f":"OFFSET(Data!DT76,Offsets!$A$28,0)","v":0.42857142857142855},{"$f":"OFFSET(Data!DU76,Offsets!$A$28,0)","v":0.2857142857142857},{"$f":"OFFSET(Data!DV76,Offsets!$A$28,0)","v":106.00000000000001},null,{"$f":"OFFSET(Data!DW76,Offsets!$A$28,0)","v":5.2857142857142856},{"$f":"OFFSET(Data!DX76,Offsets!$A$28,0)","v":181},{"$f":"OFFSET(Data!DY76,Offsets!$A$28,0)","v":6.5714285714285712},{"$f":"OFFSET(Data!DZ76,Offsets!$A$28,0)","v":0.71428571428571419},{"$f":"OFFSET(Data!EA76,Offsets!$A$28,0)","v":0.5714285714285714},{"$f":"OFFSET(Data!EB76,Offsets!$A$28,0)","v":194.14285714285714}]
[null,"18:00:00",{"$f":"OFFSET(Data!DK77,Offsets!$A$28,0)","v":1.4285714285714286},{"$f":"OFFSET(Data!DL77,Offsets!$A$28,0)","v":84.571428571428569},{"$f":"OFFSET(Data!DM77,Offsets!$A$28,0)","v":3.1428571428571428},{"$f":"OFFSET(Data!DN77,Offsets!$A$28,0)","v":0.14285714285714285},{"$f":"OFFSET(Data!DO77,Offsets!$A$28,0)","v":0},{"$f":"OFFSET(Data!DP77,Offsets!$A$28,0)","v":89.285714285714278},null,{"$f":"OFFSET(Data!DQ77,Offsets!$A$28,0)","v":1.8571428571428572},{"$f":"OFFSET(Data!DR77,Offsets!$A$28,0)","v":100.71428571428572},{"$f":"OFFSET(Data!DS77,Offsets!$A$28,0)","v":3.7142857142857144},{"$f":"OFFSET(Data!DT77,Offsets!$A$28,0)","v":0},{"$f":"OFFSET(Data!DU77,Offsets!$A$28,0)","v":0.42857142857142855},{"$f":"OFFSET(Data!DV77,Offsets!$A$28,0)","v":106.71428571428572},null,{"$f":"OFFSET(Data!DW77,Offsets!$A$28,0)","v":3.2857142857142856},{"$f":"OFFSET(Data!DX77,Offsets!$A$28,0)","v":185.28571428571428},{"$f":"OFFSET(Data!DY77,Offsets!$A$28,0)","v":6.8571428571428577},{"$f":"OFFSET(Data!DZ77,Offsets!$A$28,0)","v":0.14285714285714285},{"$f":"OFFSET(Data!EA77,Offsets!$A$28,0)","v":0.42857142857142855},{"$f":"OFFSET(Data!EB77,Offsets!$A$28,0)","v":196}]
[null,"18:15:00",{"$f":"OFFSET(Data!DK78,Offsets!$A$28,0)","v":2.5714285714285716},{"$f":"OFFSET(Data!DL78,Offsets!$A$28,0)","v":64.714285714285708},{"$f":"OFFSET(Data!DM78,Offsets!$A$28,0)","v":2.7142857142857144},{"$f":"OFFSET(Data!DN78,Offsets!$A$28,0)","v":0},{"$f":"OFFSET(Data!DO78,Offsets!$A$28,0)","v":0.42857142857142855},{"$f":"OFFSET(Data!DP78,Offsets!$A$28,0)","v":70.428571428571416},null,{"$f":"OFFSET(Data!DQ78,Offsets!$A$28,0)","v":1.1428571428571428},{"$f":"OFFSET(Data!DR78,Offsets!$A$28,0)","v":87.857142857142861},{"$f":"OFFSET(Data!DS78,Offsets!$A$28,0)","v":4.1428571428571432},{"$f":"OFFSET(Data!DT78,Offsets!$A$28,0)","v":0.2857142857142857},{"$f":"OFFSET(Data!DU78,Offsets!$A$28,0)","v":0.2857142857142857},{"$f":"OFFSET(Data!DV78,Offsets!$A$28,0)","v":93.714285714285708},null,{"$f":"OFFSET(Data!DW78,Offsets!$A$28,0)","v":3.7142857142857144},{"$f":"OFFSET(Data!DX78,Offsets!$A$28,0)","v":152.57142857142856},{"$f":"OFFSET(Data!DY78,Offsets!$A$28,0)","v":6.8571428571428577},{"$f":"OFFSET(Data!DZ78,Offsets!$A$28,0)","v":0.2857142857142857},{"$f":"OFFSET(Data!EA78,Offsets!$A$28,0)","v":0.71428571428571419},{"$f":"OFFSET(Data!EB78,Offsets!$A$28,0)","v":164.14285714285711}]
[null,"18:30:00",{"$f":"OFFSET(Data!DK79,Offsets!$A$28,0)","v":1.2857142857142858},{"$f":"OFFSET(Data!DL79,Offsets!$A$28,0)","v":57.857142857142861},{"$f":"OFFSET(Data!DM79,Offsets!$A$28,0)","v":2.8571428571428572},{"$f":"OFFSET(Data!DN79,Offsets!$A$28,0)","v":0.2857142857142857},{"$f":"OFFSET(Data!DO79,Offsets!$A$28,0)","v":0.42857142857142855},{"$f":"OFFSET(Data!DP79,Offsets!$A$28,0)","v":62.714285714285715},null,{"$f":"OFFSET(Data!DQ79,Offsets!$A$28,0)","v":4.2857142857142856},{"$f":"OFFSET(Data!DR79,Offsets!$A$28,0)","v":114.28571428571429},{"$f":"OFFSET(Data!DS79,Offsets!$A$28,0)","v":5.7142857142857144},{"$f":"OFFSET(Data!DT79,Offsets!$A$28,0)","v":0},{"$f":"OFFSET(Data!DU79,Offsets!$A$28,0)","v":0.5714285714285714},{"$f":"OFFSET(Data!DV79,Offsets!$A$28,0)","v":124.85714285714286},null,{"$f":"OFFSET(Data!DW79,Offsets!$A$28,0)","v":5.5714285714285712},{"$f":"OFFSET(Data!DX79,Offsets!$A$28,0)","v":172.14285714285717},{"$f":"OFFSET(Data!DY79,Offsets!$A$28,0)","v":8.5714285714285712},{"$f":"OFFSET(Data!DZ79,Offsets!$A$28,0)","v":0.2857142857142857},{"$f":"OFFSET(Data!EA79,Offsets!$A$28,0)","v":1},{"$f":"OFFSET(Data!EB79,Offsets!$A$28,0)","v":187.57142857142858}]
[null,"18:45:00",{"$f":"OFFSET(Data!DK80,Offsets!$A$28,0)","v":1.1428571428571428},{"$f":"OFFSET(Data!DL80,Offsets!$A$28,0)","v":61.714285714285715},{"$f":"OFFSET(Data!DM80,Offsets!$A$28,0)","v":3.2857142857142856},{"$f":"OFFSET(Data!DN80,Offsets!$A$28,0)","v":0.2857142857142857},{"$f":"OFFSET(Data!DO80,Offsets!$A$28,0)","v":0.14285714285714285},{"$f":"OFFSET(Data!DP80,Offsets!$A$28,0)","v":66.571428571428569},null,{"$f":"OFFSET(Data!DQ80,Offsets!$A$28,0)","v":2.7142857142857144},{"$f":"OFFSET(Data!DR80,Offsets!$A$28,0)","v":89.857142857142861},{"$f":"OFFSET(Data!DS80,Offsets!$A$28,0)","v":3.2857142857142856},{"$f":"OFFSET(Data!DT80,Offsets!$A$28,0)","v":0.42857142857142855},{"$f":"OFFSET(Data!DU80,Offsets!$A$28,0)","v":0.2857142857142857},{"$f":"OFFSET(Data!DV80,Offsets!$A$28,0)","v":96.571428571428584},null,{"$f":"OFFSET(Data!DW80,Offsets!$A$28,0)","v":3.8571428571428572},{"$f":"OFFSET(Data!DX80,Offsets!$A$28,0)","v":151.57142857142858},{"$f":"OFFSET(Data!DY80,Offsets!$A$28,0)","v":6.5714285714285712},{"$f":"OFFSET(Data!DZ80,Offsets!$A$28,0)","v":0.71428571428571419},{"$f":"OFFSET(Data!EA80,Offsets!$A$28,0)","v":0.42857142857142855},{"$f":"OFFSET(Data!EB80,Offsets!$A$28,0)","v":163.14285714285717}]
[null,"19:00:00",{"$f":"OFFSET(Data!DK81,Offsets!$A$28,0)","v":3},{"$f":"OFFSET(Data!DL81,Offsets!$A$28,0)","v":67.285714285714278},{"$f":"OFFSET(Data!DM81,Offsets!$A$28,0)","v":1.8571428571428572},{"$f":"OFFSET(Data!DN81,Offsets!$A$28,0)","v":0.42857142857142855},{"$f":"OFFSET(Data!DO81,Offsets!$A$28,0)","v":0.14285714285714285},{"$f":"OFFSET(Data!DP81,Offsets!$A$28,0)","v":72.714285714285708},null,{"$f":"OFFSET(Data!DQ81,Offsets!$A$28,0)","v":1.8571428571428572},{"$f":"OFFSET(Data!DR81,Offsets!$A$28,0)","v":69},{"$f":"OFFSET(Data!DS81,Offsets!$A$28,0)","v":2.1428571428571428},{"$f":"OFFSET(Data!DT81,Offsets!$A$28,0)","v":0.2857142857142857},{"$f":"OFFSET(Data!DU81,Offsets!$A$28,0)","v":0.2857142857142857},{"$f":"OFFSET(Data!DV81,Offsets!$A$28,0)","v":73.571428571428555},null,{"$f":"OFFSET(Data!DW81,Offsets!$A$28,0)","v":4.8571428571428577},{"$f":"OFFSET(Data!DX81,Offsets!$A$28,0)","v":136.28571428571428},{"$f":"OFFSET(Data!DY81,Offsets!$A$28,0)","v":4},{"$f":"OFFSET(Data!DZ81,Offsets!$A$28,0)","v":0.71428571428571419},{"$f":"OFFSET(Data!EA81,Offsets!$A$28,0)","v":0.42857142857142855},{"$f":"OFFSET(Data!EB81,Offsets!$A$28,0)","v":146.28571428571428}]
[null,"19:15:00",{"$f":"OFFSET(Data!DK82,Offsets!$A$28,0)","v":1.2857142857142858},{"$f":"OFFSET(Data!DL82,Offsets!$A$28,0)","v":46.714285714285715},{"$f":"OFFSET(Data!DM82,Offsets!$A$28,0)","v":2},{"$f":"OFFSET(Data!DN82,Offsets!$A$28,0)","v":0},{"$f":"OFFSET(Data!DO82,Offsets!$A$28,0)","v":0.2857142857142857},{"$f":"OFFSET(Data!DP82,Offsets!$A$28,0)","v":50.285714285714285},null,{"$f":"OFFSET(Data!DQ82,Offsets!$A$28,0)","v":1.1428571428571428},{"$f":"OFFSET(Data!DR82,Offsets!$A$28,0)","v":68.428571428571431},{"$f":"OFFSET(Data!DS82,Offsets!$A$28,0)","v":2.4285714285714284},{"$f":"OFFSET(Data!DT82,Offsets!$A$28,0)","v":0.42857142857142855},{"$f":"OFFSET(Data!DU82,Offsets!$A$28,0)","v":0.2857142857142857},{"$f":"OFFSET(Data!DV82,Offsets!$A$28,0)","v":72.714285714285722},null,{"$f":"OFFSET(Data!DW82,Offsets!$A$28,0)","v":2.4285714285714288},{"$f":"OFFSET(Data!DX82,Offsets!$A$28,0)","v":115.14285714285714},{"$f":"OFFSET(Data!DY82,Offsets!$A$28,0)","v":4.4285714285714288},{"$f":"OFFSET(Data!DZ82,Offsets!$A$28,0)","v":0.42857142857142855},{"$f":"OFFSET(Data!EA82,Offsets!$A$28,0)","v":0.5714285714285714},{"$f":"OFFSET(Data!EB82,Offsets!$A$28,0)","v":123}]
[null,"19:30:00",{"$f":"OFFSET(Data!DK83,Offsets!$A$28,0)","v":2.5714285714285716},{"$f":"OFFSET(Data!DL83,Offsets!$A$28,0)","v":47.857142857142854},{"$f":"OFFSET(Data!DM83,Offsets!$A$28,0)","v":3.1428571428571428},{"$f":"OFFSET(Data!DN83,Offsets!$A$28,0)","v":0.2857142857142857},{"$f":"OFFSET(Data!DO83,Offsets!$A$28,0)","v":0.14285714285714285},{"$f":"OFFSET(Data!DP83,Offsets!$A$28,0)","v":54.000000000000007},null,{"$f":"OFFSET(Data!DQ83,Offsets!$A$28,0)","v":2.2857142857142856},{"$f":"OFFSET(Data!DR83,Offsets!$A$28,0)","v":56.571428571428569},{"$f":"OFFSET(Data!DS83,Offsets!$A$28,0)","v":1.2857142857142858},{"$f":"OFFSET(Data!DT83,Offsets!$A$28,0)","v":0.2857142857142857},{"$f":"OFFSET(Data!DU83,Offsets!$A$28,0)","v":0},{"$f":"OFFSET(Data!DV83,Offsets!$A$28,0)","v":60.428571428571423},null,{"$f":"OFFSET(Data!DW83,Offsets!$A$28,0)","v":4.8571428571428577},{"$f":"OFFSET(Data!DX83,Offsets!$A$28,0)","v":104.42857142857142},{"$f":"OFFSET(Data!DY83,Offsets!$A$28,0)","v":4.4285714285714288},{"$f":"OFFSET(Data!DZ83,Offsets!$A$28,0)","v":0.5714285714285714},{"$f":"OFFSET(Data!EA83,Offsets!$A$28,0)","v":0.14285714285714285},{"$f":"OFFSET(Data!EB83,Offsets!$A$28,0)","v":114.42857142857143}]
[null,"19:45:00",{"$f":"OFFSET(Data!DK84,Offsets!$A$28,0)","v":2.2857142857142856},{"$f":"OFFSET(Data!DL84,Offsets!$A$28,0)","v":40.285714285714285},{"$f":"OFFSET(Data!DM84,Offsets!$A$28,0)","v":2.1428571428571428},{"$f":"OFFSET(Data!DN84,Offsets!$A$28,0)","v":0.14285714285714285},{"$f":"OFFSET(Data!DO84,Offsets!$A$28,0)","v":0.2857142857142857},{"$f":"OFFSET(Data!DP84,Offsets!$A$28,0)","v":45.142857142857146},null,{"$f":"OFFSET(Data!DQ84,Offsets!$A$28,0)","v":1},{"$f":"OFFSET(Data!DR84,Offsets!$A$28,0)","v":55.714285714285715},{"$f":"OFFSET(Data!DS84,Offsets!$A$28,0)","v":1.2857142857142858},{"$f":"OFFSET(Data!DT84,Offsets!$A$28,0)","v":0},{"$f":"OFFSET(Data!DU84,Offsets!$A$28,0)","v":0.14285714285714285},{"$f":"OFFSET(Data!DV84,Offsets!$A$28,0)","v":58.142857142857146},null,{"$f":"OFFSET(Data!DW84,Offsets!$A$28,0)","v":3.2857142857142856},{"$f":"OFFSET(Data!DX84,Offsets!$A$28,0)","v":96},{"$f":"OFFSET(Data!DY84,Offsets!$A$28,0)","v":3.4285714285714288},{"$f":"OFFSET(Data!DZ84,Offsets!$A$28,0)","v":0.14285714285714285},{"$f":"OFFSET(Data!EA84,Offsets!$A$28,0)","v":0.42857142857142855},{"$f":"OFFSET(Data!EB84,Offsets!$A$28,0)","v":103.28571428571429}]
[null,"20:00:00",{"$f":"OFFSET(Data!DK85,Offsets!$A$28,0)","v":2},{"$f":"OFFSET(Data!DL85,Offsets!$A$28,0)","v":39.571428571428577},{"$f":"OFFSET(Data!DM85,Offsets!$A$28,0)","v":2.7142857142857144},{"$f":"OFFSET(Data!DN85,Offsets!$A$28,0)","v":0},{"$f":"OFFSET(Data!DO85,Offsets!$A$28,0)","v":0},{"$f":"OFFSET(Data!DP85,Offsets!$A$28,0)","v":44.285714285714292},null,{"$f":"OFFSET(Data!DQ85,Offsets!$A$28,0)","v":0.8571428571428571},{"$f":"OFFSET(Data!DR85,Offsets!$A$28,0)","v":49.285714285714285},{"$f":"OFFSET(Data!DS85,Offsets!$A$28,0)","v":1.4285714285714286},{"$f":"OFFSET(Data!DT85,Offsets!$A$28,0)","v":0.14285714285714285},{"$f":"OFFSET(Data!DU85,Offsets!$A$28,0)","v":0.14285714285714285},{"$f":"OFFSET(Data!DV85,Offsets!$A$28,0)","v":51.857142857142861},null,{"$f":"OFFSET(Data!DW85,Offsets!$A$28,0)","v":2.8571428571428572},{"$f":"OFFSET(Data!DX85,Offsets!$A$28,0)","v":88.857142857142861},{"$f":"OFFSET(Data!DY85,Offsets!$A$28,0)","v":4.1428571428571432},{"$f":"OFFSET(Data!DZ85,Offsets!$A$28,0)","v":0.14285714285714285},{"$f":"OFFSET(Data!EA85,Offsets!$A$28,0)","v":0.14285714285714285},{"$f":"OFFSET(Data!EB85,Offsets!$A$28,0)","v":96.142857142857153}]
[null,"20:15:00",{"$f":"OFFSET(Data!DK86,Offsets!$A$28,0)","v":1.5714285714285714},{"$f":"OFFSET(Data!DL86,Offsets!$A$28,0)","v":39.142857142857139},{"$f":"OFFSET(Data!DM86,Offsets!$A$28,0)","v":0.7142857142857143},{"$f":"OFFSET(Data!DN86,Offsets!$A$28,0)","v":0.14285714285714285},{"$f":"OFFSET(Data!DO86,Offsets!$A$28,0)","v":0},{"$f":"OFFSET(Data!DP86,Offsets!$A$28,0)","v":41.571428571428569},null,{"$f":"OFFSET(Data!DQ86,Offsets!$A$28,0)","v":1.7142857142857142},{"$f":"OFFSET(Data!DR86,Offsets!$A$28,0)","v":48.714285714285715},{"$f":"OFFSET(Data!DS86,Offsets!$A$28,0)","v":2.1428571428571428},{"$f":"OFFSET(Data!DT86,Offsets!$A$28,0)","v":0.14285714285714285},{"$f":"OFFSET(Data!DU86,Offsets!$A$28,0)","v":0.14285714285714285},{"$f":"OFFSET(Data!DV86,Offsets!$A$28,0)","v":52.857142857142868},null,{"$f":"OFFSET(Data!DW86,Offsets!$A$28,0)","v":3.2857142857142856},{"$f":"OFFSET(Data!DX86,Offsets!$A$28,0)","v":87.857142857142861},{"$f":"OFFSET(Data!DY86,Offsets!$A$28,0)","v":2.8571428571428572},{"$f":"OFFSET(Data!DZ86,Offsets!$A$28,0)","v":0.2857142857142857},{"$f":"OFFSET(Data!EA86,Offsets!$A$28,0)","v":0.14285714285714285},{"$f":"OFFSET(Data!EB86,Offsets!$A$28,0)","v":94.428571428571445}]
[null,"20:30:00",{"$f":"OFFSET(Data!DK87,Offsets!$A$28,0)","v":0.8571428571428571},{"$f":"OFFSET(Data!DL87,Offsets!$A$28,0)","v":28.285714285714285},{"$f":"OFFSET(Data!DM87,Offsets!$A$28,0)","v":1.5714285714285714},{"$f":"OFFSET(Data!DN87,Offsets!$A$28,0)","v":0},{"$f":"OFFSET(Data!DO87,Offsets!$A$28,0)","v":0},{"$f":"OFFSET(Data!DP87,Offsets!$A$28,0)","v":30.714285714285715},null,{"$f":"OFFSET(Data!DQ87,Offsets!$A$28,0)","v":0.8571428571428571},{"$f":"OFFSET(Data!DR87,Offsets!$A$28,0)","v":44.857142857142854},{"$f":"OFFSET(Data!DS87,Offsets!$A$28,0)","v":2.2857142857142856},{"$f":"OFFSET(Data!DT87,Offsets!$A$28,0)","v":0.14285714285714285},{"$f":"OFFSET(Data!DU87,Offsets!$A$28,0)","v":0},{"$f":"OFFSET(Data!DV87,Offsets!$A$28,0)","v":48.142857142857139},null,{"$f":"OFFSET(Data!DW87,Offsets!$A$28,0)","v":1.7142857142857142},{"$f":"OFFSET(Data!DX87,Offsets!$A$28,0)","v":73.142857142857139},{"$f":"OFFSET(Data!DY87,Offsets!$A$28,0)","v":3.8571428571428568},{"$f":"OFFSET(Data!DZ87,Offsets!$A$28,0)","v":0.14285714285714285},{"$f":"OFFSET(Data!EA87,Offsets!$A$28,0)","v":0},{"$f":"OFFSET(Data!EB87,Offsets!$A$28,0)","v":78.857142857142861}]
[null,"20:45:00",{"$f":"OFFSET(Data!DK88,Offsets!$A$28,0)","v":1.2857142857142858},{"$f":"OFFSET(Data!DL88,Offsets!$A$28,0)","v":33.142857142857146},{"$f":"OFFSET(Data!DM88,Offsets!$A$28,0)","v":1.4285714285714286},{"$f":"OFFSET(Data!DN88,Offsets!$A$28,0)","v":0},{"$f":"OFFSET(Data!DO88,Offsets!$A$28,0)","v":0.2857142857142857},{"$f":"OFFSET(Data!DP88,Offsets!$A$28,0)","v":36.142857142857153},null,{"$f":"OFFSET(Data!DQ88,Offsets!$A$28,0)","v":0.5714285714285714},{"$f":"OFFSET(Data!DR88,Offsets!$A$28,0)","v":42.571428571428569},{"$f":"OFFSET(Data!DS88,Offsets!$A$28,0)","v":1},{"$f":"OFFSET(Data!DT88,Offsets!$A$28,0)","v":0},{"$f":"OFFSET(Data!DU88,Offsets!$A$28,0)","v":0.14285714285714285},{"$f":"OFFSET(Data!DV88,Offsets!$A$28,0)","v":44.285714285714285},null,{"$f":"OFFSET(Data!DW88,Offsets!$A$28,0)","v":1.8571428571428572},{"$f":"OFFSET(Data!DX88,Offsets!$A$28,0)","v":75.714285714285722},{"$f":"OFFSET(Data!DY88,Offsets!$A$28,0)","v":2.4285714285714288},{"$f":"OFFSET(Data!DZ88,Offsets!$A$28,0)","v":0},{"$f":"OFFSET(Data!EA88,Offsets!$A$28,0)","v":0.42857142857142855},{"$f":"OFFSET(Data!EB88,Offsets!$A$28,0)","v":80.428571428571445}]
[null,"21:00:00",{"$f":"OFFSET(Data!DK89,Offsets!$A$28,0)","v":0.5714285714285714},{"$f":"OFFSET(Data!DL89,Offsets!$A$28,0)","v":27.285714285714285},{"$f":"OFFSET(Data!DM89,Offsets!$A$28,0)","v":0.8571428571428571},{"$f":"OFFSET(Data!DN89,Offsets!$A$28,0)","v":0.14285714285714285},{"$f":"OFFSET(Data!DO89,Offsets!$A$28,0)","v":0},{"$f":"OFFSET(Data!DP89,Offsets!$A$28,0)","v":28.857142857142858},null,{"$f":"OFFSET(Data!DQ89,Offsets!$A$28,0)","v":0.14285714285714285},{"$f":"OFFSET(Data!DR89,Offsets!$A$28,0)","v":38.285714285714285},{"$f":"OFFSET(Data!DS89,Offsets!$A$28,0)","v":1.1428571428571428},{"$f":"OFFSET(Data!DT89,Offsets!$A$28,0)","v":0},{"$f":"OFFSET(Data!DU89,Offsets!$A$28,0)","v":0.14285714285714285},{"$f":"OFFSET(Data!DV89,Offsets!$A$28,0)","v":39.714285714285722},null,{"$f":"OFFSET(Data!DW89,Offsets!$A$28,0)","v":0.71428571428571419},{"$f":"OFFSET(Data!DX89,Offsets!$A$28,0)","v":65.571428571428569},{"$f":"OFFSET(Data!DY89,Offsets!$A$28,0)","v":2},{"$f":"OFFSET(Data!DZ89,Offsets!$A$28,0)","v":0.14285714285714285},{"$f":"OFFSET(Data!EA89,Offsets!$A$28,0)","v":0.14285714285714285},{"$f":"OFFSET(Data!EB89,Offsets!$A$28,0)","v":68.571428571428584}]
[null,"21:15:00",{"$f":"OFFSET(Data!DK90,Offsets!$A$28,0)","v":0.7142857142857143},{"$f":"OFFSET(Data!DL90,Offsets!$A$28,0)","v":27.428571428571431},{"$f":"OFFSET(Data!DM90,Offsets!$A$28,0)","v":1.2857142857142858},{"$f":"OFFSET(Data!DN90,Offsets!$A$28,0)","v":0.14285714285714285},{"$f":"OFFSET(Data!DO90,Offsets!$A$28,0)","v":0.14285714285714285},{"$f":"OFFSET(Data!DP90,Offsets!$A$28,0)","v":29.714285714285715},null,{"$f":"OFFSET(Data!DQ90,Offsets!$A$28,0)","v":0.7142857142857143},{"$f":"OFFSET(Data!DR90,Offsets!$A$28,0)","v":34.571428571428577},{"$f":"OFFSET(Data!DS90,Offsets!$A$28,0)","v":2},{"$f":"OFFSET(Data!DT90,Offsets!$A$28,0)","v":0},{"$f":"OFFSET(Data!DU90,Offsets!$A$28,0)","v":0.14285714285714285},{"$f":"OFFSET(Data!DV90,Offsets!$A$28,0)","v":37.428571428571438},null,{"$f":"OFFSET(Data!DW90,Offsets!$A$28,0)","v":1.4285714285714286},{"$f":"OFFSET(Data!DX90,Offsets!$A$28,0)","v":62.000000000000007},{"$f":"OFFSET(Data!DY90,Offsets!$A$28,0)","v":3.2857142857142856},{"$f":"OFFSET(Data!DZ90,Offsets!$A$28,0)","v":0.14285714285714285},{"$f":"OFFSET(Data!EA90,Offsets!$A$28,0)","v":0.2857142857142857},{"$f":"OFFSET(Data!EB90,Offsets!$A$28,0)","v":67.142857142857153}]
[null,"21:30:00",{"$f":"OFFSET(Data!DK91,Offsets!$A$28,0)","v":1.1428571428571428},{"$f":"OFFSET(Data!DL91,Offsets!$A$28,0)","v":29.571428571428569},{"$f":"OFFSET(Data!DM91,Offsets!$A$28,0)","v":1.2857142857142858},{"$f":"OFFSET(Data!DN91,Offsets!$A$28,0)","v":0.14285714285714285},{"$f":"OFFSET(Data!DO91,Offsets!$A$28,0)","v":0},{"$f":"OFFSET(Data!DP91,Offsets!$A$28,0)","v":32.142857142857139},null,{"$f":"OFFSET(Data!DQ91,Offsets!$A$28,0)","v":1.1428571428571428},{"$f":"OFFSET(Data!DR91,Offsets!$A$28,0)","v":33.571428571428569},{"$f":"OFFSET(Data!DS91,Offsets!$A$28,0)","v":1.1428571428571428},{"$f":"OFFSET(Data!DT91,Offsets!$A$28,0)","v":0},{"$f":"OFFSET(Data!DU91,Offsets!$A$28,0)","v":0.14285714285714285},{"$f":"OFFSET(Data!DV91,Offsets!$A$28,0)","v":36.000000000000007},null,{"$f":"OFFSET(Data!DW91,Offsets!$A$28,0)","v":2.2857142857142856},{"$f":"OFFSET(Data!DX91,Offsets!$A$28,0)","v":63.142857142857139},{"$f":"OFFSET(Data!DY91,Offsets!$A$28,0)","v":2.4285714285714288},{"$f":"OFFSET(Data!DZ91,Offsets!$A$28,0)","v":0.14285714285714285},{"$f":"OFFSET(Data!EA91,Offsets!$A$28,0)","v":0.14285714285714285},{"$f":"OFFSET(Data!EB91,Offsets!$A$28,0)","v":68.142857142857139}]
[null,"21:45:00",{"$f":"OFFSET(Data!DK92,Offsets!$A$28,0)","v":1},{"$f":"OFFSET(Data!DL92,Offsets!$A$28,0)","v":28.285714285714288},{"$f":"OFFSET(Data!DM92,Offsets!$A$28,0)","v":0.5714285714285714},{"$f":"OFFSET(Data!DN92,Offsets!$A$28,0)","v":0},{"$f":"OFFSET(Data!DO92,Offsets!$A$28,0)","v":0},{"$f":"OFFSET(Data!DP92,Offsets!$A$28,0)","v":29.857142857142861},null,{"$f":"OFFSET(Data!DQ92,Offsets!$A$28,0)","v":1.2857142857142858},{"$f":"OFFSET(Data!DR92,Offsets!$A$28,0)","v":34.714285714285715},{"$f":"OFFSET(Data!DS92,Offsets!$A$28,0)","v":1},{"$f":"OFFSET(Data!DT92,Offsets!$A$28,0)","v":0},{"$f":"OFFSET(Data!DU92,Offsets!$A$28,0)","v":0},{"$f":"OFFSET(Data!DV92,Offsets!$A$28,0)","v":37},null,{"$f":"OFFSET(Data!DW92,Offsets!$A$28,0)","v":2.2857142857142856},{"$f":"OFFSET(Data!DX92,Offsets!$A$28,0)","v":63},{"$f":"OFFSET(Data!DY92,Offsets!$A$28,0)","v":1.5714285714285714},{"$f":"OFFSET(Data!DZ92,Offsets!$A$28,0)","v":0},{"$f":"OFFSET(Data!EA92,Offsets!$A$28,0)","v":0},{"$f":"OFFSET(Data!EB92,Offsets!$A$28,0)","v":66.857142857142861}]
[null,"22:00:00",{"$f":"OFFSET(Data!DK93,Offsets!$A$28,0)","v":0.2857142857142857},{"$f":"OFFSET(Data!DL93,Offsets!$A$28,0)","v":24.142857142857142},{"$f":"OFFSET(Data!DM93,Offsets!$A$28,0)","v":0.7142857142857143},{"$f":"OFFSET(Data!DN93,Offsets!$A$28,0)","v":0.2857142857142857},{"$f":"OFFSET(Data!DO93,Offsets!$A$28,0)","v":0},{"$f":"OFFSET(Data!DP93,Offsets!$A$28,0)","v":25.428571428571427},null,{"$f":"OFFSET(Data!DQ93,Offsets!$A$28,0)","v":0.8571428571428571},{"$f":"OFFSET(Data!DR93,Offsets!$A$28,0)","v":30},{"$f":"OFFSET(Data!DS93,Offsets!$A$28,0)","v":1.1428571428571428},{"$f":"OFFSET(Data!DT93,Offsets!$A$28,0)","v":0.14285714285714285},{"$f":"OFFSET(Data!DU93,Offsets!$A$28,0)","v":0.14285714285714285},{"$f":"OFFSET(Data!DV93,Offsets!$A$28,0)","v":32.285714285714292},null,{"$f":"OFFSET(Data!DW93,Offsets!$A$28,0)","v":1.1428571428571428},{"$f":"OFFSET(Data!DX93,Offsets!$A$28,0)","v":54.142857142857139},{"$f":"OFFSET(Data!DY93,Offsets!$A$28,0)","v":1.8571428571428572},{"$f":"OFFSET(Data!DZ93,Offsets!$A$28,0)","v":0.42857142857142855},{"$f":"OFFSET(Data!EA93,Offsets!$A$28,0)","v":0.14285714285714285},{"$f":"OFFSET(Data!EB93,Offsets!$A$28,0)","v":57.714285714285722}]
[null,"22:15:00",{"$f":"OFFSET(Data!DK94,Offsets!$A$28,0)","v":1.2857142857142858},{"$f":"OFFSET(Data!DL94,Offsets!$A$28,0)","v":21.571428571428569},{"$f":"OFFSET(Data!DM94,Offsets!$A$28,0)","v":0.7142857142857143},{"$f":"OFFSET(Data!DN94,Offsets!$A$28,0)","v":0.2857142857142857},{"$f":"OFFSET(Data!DO94,Offsets!$A$28,0)","v":0},{"$f":"OFFSET(Data!DP94,Offsets!$A$28,0)","v":23.857142857142854},null,{"$f":"OFFSET(Data!DQ94,Offsets!$A$28,0)","v":0.5714285714285714},{"$f":"OFFSET(Data!DR94,Offsets!$A$28,0)","v":29.428571428571431},{"$f":"OFFSET(Data!DS94,Offsets!$A$28,0)","v":0.2857142857142857},{"$f":"OFFSET(Data!DT94,Offsets!$A$28,0)","v":0},{"$f":"OFFSET(Data!DU94,Offsets!$A$28,0)","v":0},{"$f":"OFFSET(Data!DV94,Offsets!$A$28,0)","v":30.285714285714288},null,{"$f":"OFFSET(Data!DW94,Offsets!$A$28,0)","v":1.8571428571428572},{"$f":"OFFSET(Data!DX94,Offsets!$A$28,0)","v":51},{"$f":"OFFSET(Data!DY94,Offsets!$A$28,0)","v":1},{"$f":"OFFSET(Data!DZ94,Offsets!$A$28,0)","v":0.2857142857142857},{"$f":"OFFSET(Data!EA94,Offsets!$A$28,0)","v":0},{"$f":"OFFSET(Data!EB94,Offsets!$A$28,0)","v":54.142857142857139}]
[null,"22:30:00",{"$f":"OFFSET(Data!DK95,Offsets!$A$28,0)","v":0},{"$f":"OFFSET(Data!DL95,Offsets!$A$28,0)","v":14.571428571428571},{"$f":"OFFSET(Data!DM95,Offsets!$A$28,0)","v":1.5714285714285714},{"$f":"OFFSET(Data!DN95,Offsets!$A$28,0)","v":0.14285714285714285},{"$f":"OFFSET(Data!DO95,Offsets!$A$28,0)","v":0},{"$f":"OFFSET(Data!DP95,Offsets!$A$28,0)","v":16.285714285714285},null,{"$f":"OFFSET(Data!DQ95,Offsets!$A$28,0)","v":0.5714285714285714},{"$f":"OFFSET(Data!DR95,Offsets!$A$28,0)","v":28.142857142857142},{"$f":"OFFSET(Data!DS95,Offsets!$A$28,0)","v":1.2857142857142858},{"$f":"OFFSET(Data!DT95,Offsets!$A$28,0)","v":0},{"$f":"OFFSET(Data!DU95,Offsets!$A$28,0)","v":0},{"$f":"OFFSET(Data!DV95,Offsets!$A$28,0)","v":30},null,{"$f":"OFFSET(Data!DW95,Offsets!$A$28,0)","v":0.5714285714285714},{"$f":"OFFSET(Data!DX95,Offsets!$A$28,0)","v":42.714285714285715},{"$f":"OFFSET(Data!DY95,Offsets!$A$28,0)","v":2.8571428571428572},{"$f":"OFFSET(Data!DZ95,Offsets!$A$28,0)","v":0.14285714285714285},{"$f":"OFFSET(Data!EA95,Offsets!$A$28,0)","v":0},{"$f":"OFFSET(Data!EB95,Offsets!$A$28,0)","v":46.285714285714285}]
[null,"22:45:00",{"$f":"OFFSET(Data!DK96,Offsets!$A$28,0)","v":0.14285714285714285},{"$f":"OFFSET(Data!DL96,Offsets!$A$28,0)","v":18.428571428571427},{"$f":"OFFSET(Data!DM96,Offsets!$A$28,0)","v":0.5714285714285714},{"$f":"OFFSET(Data!DN96,Offsets!$A$28,0)","v":0.14285714285714285},{"$f":"OFFSET(Data!DO96,Offsets!$A$28,0)","v":0},{"$f":"OFFSET(Data!DP96,Offsets!$A$28,0)","v":19.285714285714285},null,{"$f":"OFFSET(Data!DQ96,Offsets!$A$28,0)","v":0.42857142857142855},{"$f":"OFFSET(Data!DR96,Offsets!$A$28,0)","v":20.857142857142858},{"$f":"OFFSET(Data!DS96,Offsets!$A$28,0)","v":0.7142857142857143},{"$f":"OFFSET(Data!DT96,Offsets!$A$28,0)","v":0.14285714285714285},{"$f":"OFFSET(Data!DU96,Offsets!$A$28,0)","v":0},{"$f":"OFFSET(Data!DV96,Offsets!$A$28,0)","v":22.142857142857142},null,{"$f":"OFFSET(Data!DW96,Offsets!$A$28,0)","v":0.5714285714285714},{"$f":"OFFSET(Data!DX96,Offsets!$A$28,0)","v":39.285714285714285},{"$f":"OFFSET(Data!DY96,Offsets!$A$28,0)","v":1.2857142857142856},{"$f":"OFFSET(Data!DZ96,Offsets!$A$28,0)","v":0.2857142857142857},{"$f":"OFFSET(Data!EA96,Offsets!$A$28,0)","v":0},{"$f":"OFFSET(Data!EB96,Offsets!$A$28,0)","v":41.428571428571431}]
[null,"23:00:00",{"$f":"OFFSET(Data!DK97,Offsets!$A$28,0)","v":0.2857142857142857},{"$f":"OFFSET(Data!DL97,Offsets!$A$28,0)","v":11.571428571428571},{"$f":"OFFSET(Data!DM97,Offsets!$A$28,0)","v":0.2857142857142857},{"$f":"OFFSET(Data!DN97,Offsets!$A$28,0)","v":0.2857142857142857},{"$f":"OFFSET(Data!DO97,Offsets!$A$28,0)","v":0},{"$f":"OFFSET(Data!DP97,Offsets!$A$28,0)","v":12.428571428571431},null,{"$f":"OFFSET(Data!DQ97,Offsets!$A$28,0)","v":0.5714285714285714},{"$f":"OFFSET(Data!DR97,Offsets!$A$28,0)","v":17.142857142857142},{"$f":"OFFSET(Data!DS97,Offsets!$A$28,0)","v":0.5714285714285714},{"$f":"OFFSET(Data!DT97,Offsets!$A$28,0)","v":0},{"$f":"OFFSET(Data!DU97,Offsets!$A$28,0)","v":0.14285714285714285},{"$f":"OFFSET(Data!DV97,Offsets!$A$28,0)","v":18.428571428571431},null,{"$f":"OFFSET(Data!DW97,Offsets!$A$28,0)","v":0.8571428571428571},{"$f":"OFFSET(Data!DX97,Offsets!$A$28,0)","v":28.714285714285715},{"$f":"OFFSET(Data!DY97,Offsets!$A$28,0)","v":0.8571428571428571},{"$f":"OFFSET(Data!DZ97,Offsets!$A$28,0)","v":0.2857142857142857},{"$f":"OFFSET(Data!EA97,Offsets!$A$28,0)","v":0.14285714285714285},{"$f":"OFFSET(Data!EB97,Offsets!$A$28,0)","v":30.857142857142861}]
[null,"23:15:00",{"$f":"OFFSET(Data!DK98,Offsets!$A$28,0)","v":0},{"$f":"OFFSET(Data!DL98,Offsets!$A$28,0)","v":10.857142857142858},{"$f":"OFFSET(Data!DM98,Offsets!$A$28,0)","v":0.7142857142857143},{"$f":"OFFSET(Data!DN98,Offsets!$A$28,0)","v":0},{"$f":"OFFSET(Data!DO98,Offsets!$A$28,0)","v":0},{"$f":"OFFSET(Data!DP98,Offsets!$A$28,0)","v":11.571428571428571},null,{"$f":"OFFSET(Data!DQ98,Offsets!$A$28,0)","v":0.14285714285714285},{"$f":"OFFSET(Data!DR98,Offsets!$A$28,0)","v":19.285714285714285},{"$f":"OFFSET(Data!DS98,Offsets!$A$28,0)","v":1.2857142857142858},{"$f":"OFFSET(Data!DT98,Offsets!$A$28,0)","v":0},{"$f":"OFFSET(Data!DU98,Offsets!$A$28,0)","v":0},{"$f":"OFFSET(Data!DV98,Offsets!$A$28,0)","v":20.714285714285712},null,{"$f":"OFFSET(Data!DW98,Offsets!$A$28,0)","v":0.14285714285714285},{"$f":"OFFSET(Data!DX98,Offsets!$A$28,0)","v":30.142857142857142},{"$f":"OFFSET(Data!DY98,Offsets!$A$28,0)","v":2},{"$f":"OFFSET(Data!DZ98,Offsets!$A$28,0)","v":0},{"$f":"OFFSET(Data!EA98,Offsets!$A$28,0)","v":0},{"$f":"OFFSET(Data!EB98,Offsets!$A$28,0)","v":32.285714285714285}]
[null,"23:30:00",{"$f":"OFFSET(Data!DK99,Offsets!$A$28,0)","v":0},{"$f":"OFFSET(Data!DL99,Offsets!$A$28,0)","v":11.571428571428571},{"$f":"OFFSET(Data!DM99,Offsets!$A$28,0)","v":0.5714285714285714},{"$f":"OFFSET(Data!DN99,Offsets!$A$28,0)","v":0},{"$f":"OFFSET(Data!DO99,Offsets!$A$28,0)","v":0},{"$f":"OFFSET(Data!DP99,Offsets!$A$28,0)","v":12.142857142857142},null,{"$f":"OFFSET(Data!DQ99,Offsets!$A$28,0)","v":0.42857142857142855},{"$f":"OFFSET(Data!DR99,Offsets!$A$28,0)","v":14.428571428571429},{"$f":"OFFSET(Data!DS99,Offsets!$A$28,0)","v":0.7142857142857143},{"$f":"OFFSET(Data!DT99,Offsets!$A$28,0)","v":0},{"$f":"OFFSET(Data!DU99,Offsets!$A$28,0)","v":0},{"$f":"OFFSET(Data!DV99,Offsets!$A$28,0)","v":15.571428571428571},null,{"$f":"OFFSET(Data!DW99,Offsets!$A$28,0)","v":0.42857142857142855},{"$f":"OFFSET(Data!DX99,Offsets!$A$28,0)","v":26},{"$f":"OFFSET(Data!DY99,Offsets!$A$28,0)","v":1.2857142857142856},{"$f":"OFFSET(Data!DZ99,Offsets!$A$28,0)","v":0},{"$f":"OFFSET(Data!EA99,Offsets!$A$28,0)","v":0},{"$f":"OFFSET(Data!EB99,Offsets!$A$28,0)","v":27.714285714285715}]
[null,"23:45:00",{"$f":"OFFSET(Data!DK100,Offsets!$A$28,0)","v":0},{"$f":"OFFSET(Data!DL100,Offsets!$A$28,0)","v":8},{"$f":"OFFSET(Data!DM100,Offsets!$A$28,0)","v":1.2857142857142858},{"$f":"OFFSET(Data!DN100,Offsets!$A$28,0)","v":0.14285714285714285},{"$f":"OFFSET(Data!DO100,Offsets!$A$28,0)","v":0},{"$f":"OFFSET(Data!DP100,Offsets!$A$28,0)","v":9.4285714285714288},null,{"$f":"OFFSET(Data!DQ100,Offsets!$A$28,0)","v":0.42857142857142855},{"$f":"OFFSET(Data!DR100,Offsets!$A$28,0)","v":14.142857142857142},{"$f":"OFFSET(Data!DS100,Offsets!$A$28,0)","v":0.5714285714285714},{"$f":"OFFSET(Data!DT100,Offsets!$A$28,0)","v":0},{"$f":"OFFSET(Data!DU100,Offsets!$A$28,0)","v":0},{"$f":"OFFSET(Data!DV100,Offsets!$A$28,0)","v":15.142857142857142},null,{"$f":"OFFSET(Data!DW100,Offsets!$A$28,0)","v":0.42857142857142855},{"$f":"OFFSET(Data!DX100,Offsets!$A$28,0)","v":22.142857142857142},{"$f":"OFFSET(Data!DY100,Offsets!$A$28,0)","v":1.8571428571428572},{"$f":"OFFSET(Data!DZ100,Offsets!$A$28,0)","v":0.14285714285714285},{"$f":"OFFSET(Data!EA100,Offsets!$A$28,0)","v":0},{"$f":"OFFSET(Data!EB100,Offsets!$A$28,0)","v":24.571428571428569}]
[null,"Total",{"$f":"SUM(C19:C114)","v":107.00000000000003},{"$f":"SUM(D19:D114)","v":4883.1428571428569},364.85714285714272,47.000000000000021,70.000000000000014,5472.0000000000009,null,100.85714285714288,4978.7142857142862,381.57142857142861,39.857142857142875,67.857142857142861,5568.8571428571422,null,207.85714285714283,9861.8571428571431,746.42857142857179,86.857142857142861,137.8571428571428,11040.857142857139]

{"sheet":"ARX Class Summary","index":8,"n_rows":116,"n_cols":43,"rows_kept":116,"cut":false,"hidden":false,"merged":[[12,30,12,42],[13,30,13,32],[13,33,13,35],[13,36,13,41],[9,4,10,14],[13,2,13,4],[13,5,13,7],[13,8,13,13],[13,16,13,18],[13,19,13,21],[13,22,13,27],[12,2,12,13],[12,16,12,27],[5,16,5,24],[6,16,6,24],[0,16,0,24],[1,16,1,24],[2,16,2,24],[3,16,3,24],[4,16,4,24]]}
[null,null,null,null,null,null,null,null,null,null,null,null,"Job Number",null,null,null,{"$f":"Offsets!I1","v":"3185-WAL"}]
[null,null,null,null,null,null,null,null,null,null,null,null,"Client:",null,null,null,{"$f":"Offsets!L1","v":"WYG"}]
[null,null,null,null,null,null,null,null,null,null,null,null,"Project:",null,null,null,{"$f":"Offsets!G1","v":"St Athan"}]
[null,null,null,null,null,null,null,null,null,null,null,null,"Location:",null,null,null,{"$f":"Offsets!H3","v":"51.39833, -3.41253"},null,null,null,null,null,null,null,null,null,null," "]
[null,null,null,null,null,null,null,null,null,null,null,null,"Site No.",null,null,null,{"$f":"Offsets!I3","v":1}]
[null,null,null,null,null,null,null,null,null,null,null,null,"Road",null,null,null,{"$f":"Offsets!G3","v":"B4265"},null,null,null,null,null,null,null,null,null,null,null,null,null," "]
[null,null,null,null,null,null,null,null,null,null,null,null,"Start Date",null,null,null,{"$f":"Offsets!L3","v":"2016-06-07"}]
[null,null,null,null,null,null,null,null,null,null,null,null,"Direction",null,null,null,{"$f":"Offsets!J3","v":"Eastbound"},null,null,{"$f":"Offsets!K3","v":"Westbound"}]
[]
[null,null,null,null,"12-Class Vehicle Summary"]
[]
[]
[null,null,{"$f":"Q8","v":"Eastbound"},null,null,null,null,null,null,null,null,null,null,null,null,null,{"$f":"T8","v":"Westbound"},null,null,null,null,null,null,null,null,null,null,null,null,null,"Combined"]
[null,null,"Light",null,null,"Medium",null,null,"Heavy",null,null,null,null,null,null,null,"Light",null,null,"Medium",null,null,"Heavy",null,null,null,null,null,null,null,"Light",null,null,"Medium",null,null,"Heavy"]
[null,null,"Class 1","Class 2","Class 3","Class 4","Class 5","Class 6","Class 7","Class 8","Class 9","Class 10","Class 11","Class 12","Total",null,"Class 1","Class 2","Class 3","Class 4","Class 5","Class 6","Class 7","Class 8","Class 9","Class 10","Class 11","Class 12","Total",null,"Class 1","Class 2","Class 3","Class 4","Class 5","Class 6","Class 7","Class 8","Class 9","Class 10","Class 11","Class 12","Total"]
[null,"00:00:00",{"$f":"OFFSET(Data!C5,Offsets!$A$28,0)","v":0.14285714285714285},{"$f":"OFFSET(Data!D5,Offsets!$A$28,0)","v":6},{"$f":"OFFSET(Data!E5,Offsets!$A$28,0)","v":0},{"$f":"OFFSET(Data!F5,Offsets!$A$28,0)","v":0.5714285714285714},{"$f":"OFFSET(Data!G5,Offsets!$A$28,0)","v":0},{"$f":"OFFSET(Data!H5,Offsets!$A$28,0)","v":0},{"$f":"OFFSET(Data!I5,Offsets!$A$28,0)","v":0},{"$f":"OFFSET(Data!J5,Offsets!$A$28,0)","v":0},{"$f":"OFFSET(Data!K5,Offsets!$A$28,0)","v":0},{"$f":"OFFSET(Data!L5,Offsets!$A$28,0)","v":0},{"$f":"OFFSET(Data!M5,Offsets!$A$28,0)","v":0},{"$f":"OFFSET(Data!N5,Offsets!$A$28,0)","v":0},{"$f":"SUM(C16:N16)","v":6.7142857142857144},null,{"$f":"OFFSET(Data!AO5,Offsets!$A$28,0)","v":0.2857142857142857},{"$f":"OFFSET(Data!AP5,Offsets!$A$28,0)","v":13.857142857142858},{"$f":"OFFSET(Data!AQ5,Offsets!$A$28,0)","v":0},{"$f":"OFFSET(Data!AR5,Offsets!$A$28,0)","v":0.2857142857142857},{"$f":"OFFSET(Data!AS5,Offsets!$A$28,0)","v":0},{"$f":"OFFSET(Data!AT5,Offsets!$A$28,0)","v":0},{"$f":"OFFSET(Data!AU5,Offsets!$A$28,0)","v":0},{"$f":"OFFSET(Data!AV5,Offsets!$A$28,0)","v":0},{"$f":"OFFSET(Data!AW5,Offsets!$A$28,0)","v":0},{"$f":"OFFSET(Data!AX5,Offsets!$A$28,0)","v":0},{"$f":"OFFSET(Data!AY5,Offsets!$A$28,0)","v":0},{"$f":"OFFSET(Data!AZ5,Offsets!$A$28,0)","v":0},{"$f":"SUM(Q16:AB16)","v":14.428571428571431},null,{"$f":"C16+Q16","v":0.42857142857142855},{"$f":"D16+R16","v":19.857142857142858},{"$f":"E16+S16","v":0},{"$f":"F16+T16","v":0.8571428571428571},{"$f":"G16+U16","v":0},{"$f":"H16+V16","v":0},{"$f":"I16+W16","v":0},{"$f":"J16+X16","v":0},{"$f":"K16+Y16","v":0},{"$f":"L16+Z16","v":0},{"$f":"M16+AA16","v":0},{"$f":"N16+AB16","v":0},{"$f":"SUM(AE16:AP16)","v":21.142857142857142}]
[null,"00:15:00",{"$f":"OFFSET(Data!C6,Offsets!$A$28,0)","v":0},{"$f":"OFFSET(Data!D6,Offsets!$A$28,0)","v":4},{"$f":"OFFSET(Data!E6,Offsets!$A$28,0)","v":0},{"$f":"OFFSET(Data!F6,Offsets!$A$28,0)","v":0.2857142857142857},{"$f":"OFFSET(Data!G6,Offsets!$A$28,0)","v":0},{"$f":"OFFSET(Data!H6,Offsets!$A$28,0)","v":0},{"$f":"OFFSET(Data!I6,Offsets!$A$28,0)","v":0},{"$f":"OFFSET(Data!J6,Offsets!$A$28,0)","v":0},{"$f":"OFFSET(Data!K6,Offsets!$A$28,0)","v":0},{"$f":"OFFSET(Data!L6,Offsets!$A$28,0)","v":0},{"$f":"OFFSET(Data!M6,Offsets!$A$28,0)","v":0},{"$f":"OFFSET(Data!N6,Offsets!$A$28,0)","v":0},{"$f":"SUM(C17:N17)","v":4.2857142857142856},null,{"$f":"OFFSET(Data!AO6,Offsets!$A$28,0)","v":0},{"$f":"OFFSET(Data!AP6,Offsets!$A$28,0)","v":11.857142857142858},{"$f":"OFFSET(Data!AQ6,Offsets!$A$28,0)","v":0.14285714285714285},{"$f":"OFFSET(Data!AR6,Offsets!$A$28,0)","v":2.1428571428571428},{"$f":"OFFSET(Data!AS6,Offsets!$A$28,0)","v":0},{"$f":"OFFSET(Data!AT6,Offsets!$A$28,0)","v":0},{"$f":"OFFSET(Data!AU6,Offsets!$A$28,0)","v":0},{"$f":"OFFSET(Data!AV6,Offsets!$A$28,0)","v":0},{"$f":"OFFSET(Data!AW6,Offsets!$A$28,0)","v":0},{"$f":"OFFSET(Data!AX6,Offsets!$A$28,0)","v":0},{"$f":"OFFSET(Data!AY6,Offsets!$A$28,0)","v":0},{"$f":"OFFSET(Data!AZ6,Offsets!$A$28,0)","v":0},{"$f":"SUM(Q17:AB17)","v":14.142857142857142},null,0,15.857142857142858,0.14285714285714285,2.4285714285714284,0,0,0,0,0,0,0,0,{"$f":"SUM(AE17:AP17)","v":18.428571428571427}]
[null,"00:30:00",{"$f":"OFFSET(Data!C7,Offsets!$A$28,0)","v":0},{"$f":"OFFSET(Data!D7,Offsets!$A$28,0)","v":6.2857142857142856},{"$f":"OFFSET(Data!E7,Offsets!$A$28,0)","v":0},{"$f":"OFFSET(Data!F7,Offsets!$A$28,0)","v":0.8571428571428571},{"$f":"OFFSET(Data!G7,Offsets!$A$28,0)","v":0.14285714285714285},{"$f":"OFFSET(Data!H7,Offsets!$A$28,0)","v":0},{"$f":"OFFSET(Data!I7,Offsets!$A$28,0)","v":0},{"$f":"OFFSET(Data!J7,Offsets!$A$28,0)","v":0},{"$f":"OFFSET(Data!K7,Offsets!$A$28,0)","v":0},{"$f":"OFFSET(Data!L7,Offsets!$A$28,0)","v":0},{"$f":"OFFSET(Data!M7,Offsets!$A$28,0)","v":0},{"$f":"OFFSET(Data!N7,Offsets!$A$28,0)","v":0},7.2857142857142856,null,{"$f":"OFFSET(Data!AO7,Offsets!$A$28,0)","v":0.42857142857142855},{"$f":"OFFSET(Data!AP7,Offsets!$A$28,0)","v":9.1428571428571423},{"$f":"OFFSET(Data!AQ7,Offsets!$A$28,0)","v":0},{"$f":"OFFSET(Data!AR7,Offsets!$A$28,0)","v":0.7142857142857143},{"$f":"OFFSET(Data!AS7,Offsets!$A$28,0)","v":0},{"$f":"OFFSET(Data!AT7,Offsets!$A$28,0)","v":0},{"$f":"OFFSET(Data!AU7,Offsets!$A$28,0)","v":0},{"$f":"OFFSET(Data!AV7,Offsets!$A$28,0)","v":0},{"$f":"OFFSET(Data!AW7,Offsets!$A$28,0)","v":0},{"$f":"OFFSET(Data!AX7,Offsets!$A$28,0)","v":0},{"$f":"OFFSET(Data!AY7,Offsets!$A$28,0)","v":0},{"$f":"OFFSET(Data!AZ7,Offsets!$A$28,0)","v":0},10.285714285714285,null,0.42857142857142855,15.428571428571427,0,1.5714285714285714,0.14285714285714285,0,0,0,0,0,0,0,17.571428571428569]
[null,"00:45:00",{"$f":"OFFSET(Data!C8,Offsets!$A$28,0)","v":0},{"$f":"OFFSET(Data!D8,Offsets!$A$28,0)","v":4.1428571428571432},{"$f":"OFFSET(Data!E8,Offsets!$A$28,0)","v":0.14285714285714285},{"$f":"OFFSET(Data!F8,Offsets!$A$28,0)","v":0.8571428571428571},{"$f":"OFFSET(Data!G8,Offsets!$A$28,0)","v":0},{"$f":"OFFSET(Data!H8,Offsets!$A$28,0)","v":0},{"$f":"OFFSET(Data!I8,Offsets!$A$28,0)","v":0},{"$f":"OFFSET(Data!J8,Offsets!$A$28,0)","v":0},{"$f":"OFFSET(Data!K8,Offsets!$A$28,0)","v":0},{"$f":"OFFSET(Data!L8,Offsets!$A$28,0)","v":0},{"$f":"OFFSET(Data!M8,Offsets!$A$28,0)","v":0},{"$f":"OFFSET(Data!N8,Offsets!$A$28,0)","v":0},5.1428571428571432,null,{"$f":"OFFSET(Data!AO8,Offsets!$A$28,0)","v":0.14285714285714285},{"$f":"OFFSET(Data!AP8,Offsets!$A$28,0)","v":9.7142857142857135},{"$f":"OFFSET(Data!AQ8,Offsets!$A$28,0)","v":0},{"$f":"OFFSET(Data!AR8,Offsets!$A$28,0)","v":0.2857142857142857},{"$f":"OFFSET(Data!AS8,Offsets!$A$28,0)","v":0},{"$f":"OFFSET(Data!AT8,Offsets!$A$28,0)","v":0},{"$f":"OFFSET(Data!AU8,Offsets!$A$28,0)","v":0},{"$f":"OFFSET(Data!AV8,Offsets!$A$28,0)","v":0},{"$f":"OFFSET(Data!AW8,Offsets!$A$28,0)","v":0},{"$f":"OFFSET(Data!AX8,Offsets!$A$28,0)","v":0},{"$f":"OFFSET(Data!AY8,Offsets!$A$28,0)","v":0},{"$f":"OFFSET(Data!AZ8,Offsets!$A$28,0)","v":0},10.142857142857142,null,0.14285714285714285,13.857142857142858,0.14285714285714285,1.1428571428571428,0,0,0,0,0,0,0,0,15.285714285714285]
[null,"01:00:00",{"$f":"OFFSET(Data!C9,Offsets!$A$28,0)","v":0},{"$f":"OFFSET(Data!D9,Offsets!$A$28,0)","v":4.4285714285714288},{"$f":"OFFSET(Data!E9,Offsets!$A$28,0)","v":0},{"$f":"OFFSET(Data!F9,Offsets!$A$28,0)","v":0},{"$f":"OFFSET(Data!G9,Offsets!$A$28,0)","v":0},{"$f":"OFFSET(Data!H9,Offsets!$A$28,0)","v":0},{"$f":"OFFSET(Data!I9,Offsets!$A$28,0)","v":0},{"$f":"OFFSET(Data!J9,Offsets!$A$28,0)","v":0.14285714285714285},{"$f":"OFFSET(Data!K9,Offsets!$A$28,0)","v":0},{"$f":"OFFSET(Data!L9,Offsets!$A$28,0)","v":0},{"$f":"OFFSET(Data!M9,Offsets!$A$28,0)","v":0},{"$f":"OFFSET(Data!N9,Offsets!$A$28,0)","v":0},4.5714285714285721,null,{"$f":"OFFSET(Data!AO9,Offsets!$A$28,0)","v":0},{"$f":"OFFSET(Data!AP9,Offsets!$A$28,0)","v":9.5714285714285712},{"$f":"OFFSET(Data!AQ9,Offsets!$A$28,0)","v":0},{"$f":"OFFSET(Data!AR9,Offsets!$A$28,0)","v":0.5714285714285714},{"$f":"OFFSET(Data!AS9,Offsets!$A$28,0)","v":0},{"$f":"OFFSET(Data!AT9,Offsets!$A$28,0)","v":0},{"$f":"OFFSET(Data!AU9,Offsets!$A$28,0)","v":0},{"$f":"OFFSET(Data!AV9,Offsets!$A$28,0)","v":0},{"$f":"OFFSET(Data!AW9,Offsets!$A$28,0)","v":0},{"$f":"OFFSET(Data!AX9,Offsets!$A$28,0)","v":0},{"$f":"OFFSET(Data!AY9,Offsets!$A$28,0)","v":0},{"$f":"OFFSET(Data!AZ9,Offsets!$A$28,0)","v":0},10.142857142857142,null,0,14,0,0.5714285714285714,0,0,0,0.14285714285714285,0,0,0,0,14.714285714285714]
[null,"01:15:00",{"$f":"OFFSET(Data!C10,Offsets!$A$28,0)","v":0},{"$f":"OFFSET(Data!D10,Offsets!$A$28,0)","v":4.4285714285714288},{"$f":"OFFSET(Data!E10,Offsets!$A$28,0)","v":0},{"$f":"OFFSET(Data!F10,Offsets!$A$28,0)","v":0.2857142857142857},{"$f":"OFFSET(Data!G10,Offsets!$A$28,0)","v":0.14285714285714285},{"$f":"OFFSET(Data!H10,Offsets!$A$28,0)","v":0.14285714285714285},{"$f":"OFFSET(Data!I10,Offsets!$A$28,0)","v":0},{"$f":"OFFSET(Data!J10,Offsets!$A$28,0)","v":0},{"$f":"OFFSET(Data!K10,Offsets!$A$28,0)","v":0},{"$f":"OFFSET(Data!L10,Offsets!$A$28,0)","v":0},{"$f":"OFFSET(Data!M10,Offsets!$A$28,0)","v":0},{"$f":"OFFSET(Data!N10,Offsets!$A$28,0)","v":0},5.0000000000000009,null,{"$f":"OFFSET(Data!AO10,Offsets!$A$28,0)","v":0.14285714285714285},{"$f":"OFFSET(Data!AP10,Offsets!$A$28,0)","v":5.8571428571428568},{"$f":"OFFSET(Data!AQ10,Offsets!$A$28,0)","v":0},{"$f":"OFFSET(Data!AR10,Offsets!$A$28,0)","v":0.2857142857142857},{"$f":"OFFSET(Data!AS10,Offsets!$A$28,0)","v":0},{"$f":"OFFSET(Data!AT10,Offsets!$A$28,0)","v":0},{"$f":"OFFSET(Data!AU10,Offsets!$A$28,0)","v":0},{"$f":"OFFSET(Data!AV10,Offsets!$A$28,0)","v":0},{"$f":"OFFSET(Data!AW10,Offsets!$A$28,0)","v":0},{"$f":"OFFSET(Data!AX10,Offsets!$A$28,0)","v":0},{"$f":"OFFSET(Data!AY10,Offsets!$A$28,0)","v":0},{"$f":"OFFSET(Data!AZ10,Offsets!$A$28,0)","v":0},6.2857142857142856,null,0.14285714285714285,10.285714285714285,0,0.5714285714285714,0.14285714285714285,0.14285714285714285,0,0,0,0,0,0,11.285714285714283]
[null,"01:30:00",{"$f":"OFFSET(Data!C11,Offsets!$A$28,0)","v":0},{"$f":"OFFSET(Data!D11,Offsets!$A$28,0)","v":2},{"$f":"OFFSET(Data!E11,Offsets!$A$28,0)","v":0},{"$f":"OFFSET(Data!F11,Offsets!$A$28,0)","v":0.8571428571428571},{"$f":"OFFSET(Data!G11,Offsets!$A$28,0)","v":0},{"$f":"OFFSET(Data!H11,Offsets!$A$28,0)","v":0},{"$f":"OFFSET(Data!I11,Offsets!$A$28,0)","v":0},{"$f":"OFFSET(Data!J11,Offsets!$A$28,0)","v":0},{"$f":"OFFSET(Data!K11,Offsets!$A$28,0)","v":0},{"$f":"OFFSET(Data!L11,Offsets!$A$28,0)","v":0},{"$f":"OFFSET(Data!M11,Offsets!$A$28,0)","v":0},{"$f":"OFFSET(Data!N11,Offsets!$A$28,0)","v":0},2.8571428571428572,null,{"$f":"OFFSET(Data!AO11,Offsets!$A$28,0)","v":0},{"$f":"OFFSET(Data!AP11,Offsets!$A$28,0)","v":3.2857142857142856},{"$f":"OFFSET(Data!AQ11,Offsets!$A$28,0)","v":0},{"$f":"OFFSET(Data!AR11,Offsets!$A$28,0)","v":0.2857142857142857},{"$f":"OFFSET(Data!AS11,Offsets!$A$28,0)","v":0},{"$f":"OFFSET(Data!AT11,Offsets!$A$28,0)","v":0},{"$f":"OFFSET(Data!AU11,Offsets!$A$28,0)","v":0},{"$f":"OFFSET(Data!AV11,Offsets!$A$28,0)","v":0},{"$f":"OFFSET(Data!AW11,Offsets!$A$28,0)","v":0},{"$f":"OFFSET(Data!AX11,Offsets!$A$28,0)","v":0},{"$f":"OFFSET(Data!AY11,Offsets!$A$28,0)","v":0},{"$f":"OFFSET(Data!AZ11,Offsets!$A$28,0)","v":0},3.5714285714285712,null,0,5.2857142857142856,0,1.1428571428571428,0,0,0,0,0,0,0,0,6.4285714285714288]
[null,"01:45:00",{"$f":"OFFSET(Data!C12,Offsets!$A$28,0)","v":0},{"$f":"OFFSET(Data!D12,Offsets!$A$28,0)","v":3},{"$f":"OFFSET(Data!E12,Offsets!$A$28,0)","v":0},{"$f":"OFFSET(Data!F12,Offsets!$A$28,0)","v":0.14285714285714285},{"$f":"OFFSET(Data!G12,Offsets!$A$28,0)","v":0},{"$f":"OFFSET(Data!H12,Offsets!$A$28,0)","v":0},{"$f":"OFFSET(Data!I12,Offsets!$A$28,0)","v":0},{"$f":"OFFSET(Data!J12,Offsets!$A$28,0)","v":0},{"$f":"OFFSET(Data!K12,Offsets!$A$28,0)","v":0},{"$f":"OFFSET(Data!L12,Offsets!$A$28,0)","v":0},{"$f":"OFFSET(Data!M12,Offsets!$A$28,0)","v":0},{"$f":"OFFSET(Data!N12,Offsets!$A$28,0)","v":0},3.1428571428571428,null,{"$f":"OFFSET(Data!AO12,Offsets!$A$28,0)","v":0},{"$f":"OFFSET(Data!AP12,Offsets!$A$28,0)","v":5.4285714285714288},{"$f":"OFFSET(Data!AQ12,Offsets!$A$28,0)","v":0},{"$f":"OFFSET(Data!AR12,Offsets!$A$28,0)","v":0.5714285714285714},{"$f":"OFFSET(Data!AS12,Offsets!$A$28,0)","v":0},{"$f":"OFFSET(Data!AT12,Offsets!$A$28,0)","v":0},{"$f":"OFFSET(Data!AU12,Offsets!$A$28,0)","v":0},{"$f":"OFFSET(Data!AV12,Offsets!$A$28,0)","v":0},{"$f":"OFFSET(Data!AW12,Offsets!$A$28,0)","v":0},{"$f":"OFFSET(Data!AX12,Offsets!$A$28,0)","v":0},{"$f":"OFFSET(Data!AY12,Offsets!$A$28,0)","v":0},{"$f":"OFFSET(Data!AZ12,Offsets!$A$28,0)","v":0},6,null,0,8.4285714285714288,0,0.71428571428571419,0,0,0,0,0,0,0,0,9.1428571428571423]
[null,"02:00:00",{"$f":"OFFSET(Data!C13,Offsets!$A$28,0)","v":0.2857142857142857},{"$f":"OFFSET(Data!D13,Offsets!$A$28,0)","v":3.8571428571428572},{"$f":"OFFSET(Data!E13,Offsets!$A$28,0)","v":0},{"$f":"OFFSET(Data!F13,Offsets!$A$28,0)","v":0},{"$f":"OFFSET(Data!G13,Offsets!$A$28,0)","v":0},{"$f":"OFFSET(Data!H13,Offsets!$A$28,0)","v":0},{"$f":"OFFSET(Data!I13,Offsets!$A$28,0)","v":0},{"$f":"OFFSET(Data!J13,Offsets!$A$28,0)","v":0},{"$f":"OFFSET(Data!K13,Offsets!$A$28,0)","v":0},{"$f":"OFFSET(Data!L13,Offsets!$A$28,0)","v":0},{"$f":"OFFSET(Data!M13,Offsets!$A$28,0)","v":0},{"$f":"OFFSET(Data!N13,Offsets!$A$28,0)","v":0},4.1428571428571432,null,{"$f":"OFFSET(Data!AO13,Offsets!$A$28,0)","v":0},{"$f":"OFFSET(Data!AP13,Offsets!$A$28,0)","v":4.7142857142857144},{"$f":"OFFSET(Data!AQ13,Offsets!$A$28,0)","v":0},{"$f":"OFFSET(Data!AR13,Offsets!$A$28,0)","v":0},{"$f":"OFFSET(Data!AS13,Offsets!$A$28,0)","v":0},{"$f":"OFFSET(Data!AT13,Offsets!$A$28,0)","v":0},{"$f":"OFFSET(Data!AU13,Offsets!$A$28,0)","v":0},{"$f":"OFFSET(Data!AV13,Offsets!$A$28,0)","v":0},{"$f":"OFFSET(Data!AW13,Offsets!$A$28,0)","v":0},{"$f":"OFFSET(Data!AX13,Offsets!$A$28,0)","v":0},{"$f":"OFFSET(Data!AY13,Offsets!$A$28,0)","v":0},{"$f":"OFFSET(Data!AZ13,Offsets!$A$28,0)","v":0},4.7142857142857144,null,0.2857142857142857,8.5714285714285712,0,0,0,0,0,0,0,0,0,0,8.8571428571428577]
[null,"02:15:00",{"$f":"OFFSET(Data!C14,Offsets!$A$28,0)","v":0},{"$f":"OFFSET(Data!D14,Offsets!$A$28,0)","v":5},{"$f":"OFFSET(Data!E14,Offsets!$A$28,0)","v":0.14285714285714285},{"$f":"OFFSET(Data!F14,Offsets!$A$28,0)","v":0.2857142857142857},{"$f":"OFFSET(Data!G14,Offsets!$A$28,0)","v":0},{"$f":"OFFSET(Data!H14,Offsets!$A$28,0)","v":0},{"$f":"OFFSET(Data!I14,Offsets!$A$28,0)","v":0},{"$f":"OFFSET(Data!J14,Offsets!$A$28,0)","v":0},{"$f":"OFFSET(Data!K14,Offsets!$A$28,0)","v":0},{"$f":"OFFSET(Data!L14,Offsets!$A$28,0)","v":0},{"$f":"OFFSET(Data!M14,Offsets!$A$28,0)","v":0},{"$f":"OFFSET(Data!N14,Offsets!$A$28,0)","v":0},5.4285714285714288,null,{"$f":"OFFSET(Data!AO14,Offsets!$A$28,0)","v":0},{"$f":"OFFSET(Data!AP14,Offsets!$A$28,0)","v":3.5714285714285716},{"$f":"OFFSET(Data!AQ14,Offsets!$A$28,0)","v":0},{"$f":"OFFSET(Data!AR14,Offsets!$A$28,0)","v":0.14285714285714285},{"$f":"OFFSET(Data!AS14,Offsets!$A$28,0)","v":0},{"$f":"OFFSET(Data!AT14,Offsets!$A$28,0)","v":0},{"$f":"OFFSET(Data!AU14,Offsets!$A$28,0)","v":0},{"$f":"OFFSET(Data!AV14,Offsets!$A$28,0)","v":0},{"$f":"OFFSET(Data!AW14,Offsets!$A$28,0)","v":0.14285714285714285},{"$f":"OFFSET(Data!AX14,Offsets!$A$28,0)","v":0},{"$f":"OFFSET(Data!AY14,Offsets!$A$28,0)","v":0},{"$f":"OFFSET(Data!AZ14,Offsets!$A$28,0)","v":0},3.8571428571428572,null,0,8.5714285714285712,0.14285714285714285,0.42857142857142855,0,0,0,0,0.14285714285714285,0,0,0,9.2857142857142847]
[null,"02:30:00",{"$f":"OFFSET(Data!C15,Offsets!$A$28,0)","v":0},{"$f":"OFFSET(Data!D15,Offsets!$A$28,0)","v":7.2857142857142856},{"$f":"OFFSET(Data!E15,Offsets!$A$28,0)","v":0},{"$f":"OFFSET(Data!F15,Offsets!$A$28,0)","v":0.2857142857142857},{"$f":"OFFSET(Data!G15,Offsets!$A$28,0)","v":0},{"$f":"OFFSET(Data!H15,Offsets!$A$28,0)","v":0},{"$f":"OFFSET(Data!I15,Offsets!$A$28,0)","v":0},{"$f":"OFFSET(Data!J15,Offsets!$A$28,0)","v":0},{"$f":"OFFSET(Data!K15,Offsets!$A$28,0)","v":0},{"$f":"OFFSET(Data!L15,Offsets!$A$28,0)","v":0},{"$f":"OFFSET(Data!M15,Offsets!$A$28,0)","v":0},{"$f":"OFFSET(Data!N15,Offsets!$A$28,0)","v":0},7.5714285714285712,null,{"$f":"OFFSET(Data!AO15,Offsets!$A$28,0)","v":0},{"$f":"OFFSET(Data!AP15,Offsets!$A$28,0)","v":3},{"$f":"OFFSET(Data!AQ15,Offsets!$A$28,0)","v":0},{"$f":"OFFSET(Data!AR15,Offsets!$A$28,0)","v":0.14285714285714285},{"$f":"OFFSET(Data!AS15,Offsets!$A$28,0)","v":0},{"$f":"OFFSET(Data!AT15,Offsets!$A$28,0)","v":0},{"$f":"OFFSET(Data!AU15,Offsets!$A$28,0)","v":0},{"$f":"OFFSET(Data!AV15,Offsets!$A$28,0)","v":0},{"$f":"OFFSET(Data!AW15,Offsets!$A$28,0)","v":0.14285714285714285},{"$f":"OFFSET(Data!AX15,Offsets!$A$28,0)","v":0},{"$f":"OFFSET(Data!AY15,Offsets!$A$28,0)","v":0},{"$f":"OFFSET(Data!AZ15,Offsets!$A$28,0)","v":0},3.2857142857142856,null,0,10.285714285714285,0,0.42857142857142855,0,0,0,0,0.14285714285714285,0,0,0,10.857142857142856]
[null,"02:45:00",{"$f":"OFFSET(Data!C16,Offsets!$A$28,0)","v":0},{"$f":"OFFSET(Data!D16,Offsets!$A$28,0)","v":2.8571428571428572},{"$f":"OFFSET(Data!E16,Offsets!$A$28,0)","v":0},{"$f":"OFFSET(Data!F16,Offsets!$A$28,0)","v":0.14285714285714285},{"$f":"OFFSET(Data!G16,Offsets!$A$28,0)","v":0},{"$f":"OFFSET(Data!H16,Offsets!$A$28,0)","v":0},{"$f":"OFFSET(Data!I16,Offsets!$A$28,0)","v":0.14285714285714285},{"$f":"OFFSET(Data!J16,Offsets!$A$28,0)","v":0},{"$f":"OFFSET(Data!K16,Offsets!$A$28,0)","v":0},{"$f":"OFFSET(Data!L16,Offsets!$A$28,0)","v":0},{"$f":"OFFSET(Data!M16,Offsets!$A$28,0)","v":0},{"$f":"OFFSET(Data!N16,Offsets!$A$28,0)","v":0},3.1428571428571428,null,{"$f":"OFFSET(Data!AO16,Offsets!$A$28,0)","v":0.14285714285714285},{"$f":"OFFSET(Data!AP16,Offsets!$A$28,0)","v":2},{"$f":"OFFSET(Data!AQ16,Offsets!$A$28,0)","v":0},{"$f":"OFFSET(Data!AR16,Offsets!$A$28,0)","v":0.14285714285714285},{"$f":"OFFSET(Data!AS16,Offsets!$A$28,0)","v":0},{"$f":"OFFSET(Data!AT16,Offsets!$A$28,0)","v":0},{"$f":"OFFSET(Data!AU16,Offsets!$A$28,0)","v":0},{"$f":"OFFSET(Data!AV16,Offsets!$A$28,0)","v":0},{"$f":"OFFSET(Data!AW16,Offsets!$A$28,0)","v":0.14285714285714285},{"$f":"OFFSET(Data!AX16,Offsets!$A$28,0)","v":0},{"$f":"OFFSET(Data!AY16,Offsets!$A$28,0)","v":0},{"$f":"OFFSET(Data!AZ16,Offsets!$A$28,0)","v":0},2.4285714285714284,null,0.14285714285714285,4.8571428571428577,0,0.2857142857142857,0,0,0.14285714285714285,0,0.14285714285714285,0,0,0,5.571428571428573]
[null,"03:00:00",{"$f":"OFFSET(Data!C17,Offsets!$A$28,0)","v":0},{"$f":"OFFSET(Data!D17,Offsets!$A$28,0)","v":3.7142857142857144},{"$f":"OFFSET(Data!E17,Offsets!$A$28,0)","v":0},{"$f":"OFFSET(Data!F17,Offsets!$A$28,0)","v":0.42857142857142855},{"$f":"OFFSET(Data!G17,Offsets!$A$28,0)","v":0},{"$f":"OFFSET(Data!H17,Offsets!$A$28,0)","v":0},{"$f":"OFFSET(Data!I17,Offsets!$A$28,0)","v":0},{"$f":"OFFSET(Data!J17,Offsets!$A$28,0)","v":0},{"$f":"OFFSET(Data!K17,Offsets!$A$28,0)","v":0},{"$f":"OFFSET(Data!L17,Offsets!$A$28,0)","v":0},{"$f":"OFFSET(Data!M17,Offsets!$A$28,0)","v":0},{"$f":"OFFSET(Data!N17,Offsets!$A$28,0)","v":0},4.1428571428571432,null,{"$f":"OFFSET(Data!AO17,Offsets!$A$28,0)","v":0},{"$f":"OFFSET(Data!AP17,Offsets!$A$28,0)","v":3.4285714285714284},{"$f":"OFFSET(Data!AQ17,Offsets!$A$28,0)","v":0},{"$f":"OFFSET(Data!AR17,Offsets!$A$28,0)","v":0.14285714285714285},{"$f":"OFFSET(Data!AS17,Offsets!$A$28,0)","v":0},{"$f":"OFFSET(Data!AT17,Offsets!$A$28,0)","v":0},{"$f":"OFFSET(Data!AU17,Offsets!$A$28,0)","v":0.14285714285714285},{"$f":"OFFSET(Data!AV17,Offsets!$A$28,0)","v":0},{"$f":"OFFSET(Data!AW17,Offsets!$A$28,0)","v":0.14285714285714285},{"$f":"OFFSET(Data!AX17,Offsets!$A$28,0)","v":0},{"$f":"OFFSET(Data!AY17,Offsets!$A$28,0)","v":0},{"$f":"OFFSET(Data!AZ17,Offsets!$A$28,0)","v":0},3.8571428571428568,null,0,7.1428571428571423,0,0.5714285714285714,0,0,0.14285714285714285,0,0.14285714285714285,0,0,0,8]
[null,"03:15:00",{"$f":"OFFSET(Data!C18,Offsets!$A$28,0)","v":0},{"$f":"OFFSET(Data!D18,Offsets!$A$28,0)","v":6.1428571428571432},{"$f":"OFFSET(Data!E18,Offsets!$A$28,0)","v":0},{"$f":"OFFSET(Data!F18,Offsets!$A$28,0)","v":0.42857142857142855},{"$f":"OFFSET(Data!G18,Offsets!$A$28,0)","v":0.14285714285714285},{"$f":"OFFSET(Data!H18,Offsets!$A$28,0)","v":0},{"$f":"OFFSET(Data!I18,Offsets!$A$28,0)","v":0},{"$f":"OFFSET(Data!J18,Offsets!$A$28,0)","v":0},{"$f":"OFFSET(Data!K18,Offsets!$A$28,0)","v":0},{"$f":"OFFSET(Data!L18,Offsets!$A$28,0)","v":0},{"$f":"OFFSET(Data!M18,Offsets!$A$28,0)","v":0},{"$f":"OFFSET(Data!N18,Offsets!$A$28,0)","v":0},6.7142857142857153,null,{"$f":"OFFSET(Data!AO18,Offsets!$A$28,0)","v":0},{"$f":"OFFSET(Data!AP18,Offsets!$A$28,0)","v":5.4285714285714288},{"$f":"OFFSET(Data!AQ18,Offsets!$A$28,0)","v":0},{"$f":"OFFSET(Data!AR18,Offsets!$A$28,0)","v":0.14285714285714285},{"$f":"OFFSET(Data!AS18,Offsets!$A$28,0)","v":0},{"$f":"OFFSET(Data!AT18,Offsets!$A$28,0)","v":0},{"$f":"OFFSET(Data!AU18,Offsets!$A$28,0)","v":0},{"$f":"OFFSET(Data!AV18,Offsets!$A$28,0)","v":0},{"$f":"OFFSET(Data!AW18,Offsets!$A$28,0)","v":0},{"$f":"OFFSET(Data!AX18,Offsets!$A$28,0)","v":0},{"$f":"OFFSET(Data!AY18,Offsets!$A$28,0)","v":0},{"$f":"OFFSET(Data!AZ18,Offsets!$A$28,0)","v":0},5.5714285714285721,null,0,11.571428571428573,0,0.5714285714285714,0.14285714285714285,0,0,0,0,0,0,0,12.285714285714286]
[null,"03:30:00",{"$f":"OFFSET(Data!C19,Offsets!$A$28,0)","v":0},{"$f":"OFFSET(Data!D19,Offsets!$A$28,0)","v":5.8571428571428568},{"$f":"OFFSET(Data!E19,Offsets!$A$28,0)","v":0},{"$f":"OFFSET(Data!F19,Offsets!$A$28,0)","v":0.7142857142857143},{"$f":"OFFSET(Data!G19,Offsets!$A$28,0)","v":0},{"$f":"OFFSET(Data!H19,Offsets!$A$28,0)","v":0},{"$f":"OFFSET(Data!I19,Offsets!$A$28,0)","v":0},{"$f":"OFFSET(Data!J19,Offsets!$A$28,0)","v":0},{"$f":"OFFSET(Data!K19,Offsets!$A$28,0)","v":0},{"$f":"OFFSET(Data!L19,Offsets!$A$28,0)","v":0},{"$f":"OFFSET(Data!M19,Offsets!$A$28,0)","v":0},{"$f":"OFFSET(Data!N19,Offsets!$A$28,0)","v":0},6.5714285714285712,null,{"$f":"OFFSET(Data!AO19,Offsets!$A$28,0)","v":0},{"$f":"OFFSET(Data!AP19,Offsets!$A$28,0)","v":3.4285714285714284},{"$f":"OFFSET(Data!AQ19,Offsets!$A$28,0)","v":0},{"$f":"OFFSET(Data!AR19,Offsets!$A$28,0)","v":0.5714285714285714},{"$f":"OFFSET(Data!AS19,Offsets!$A$28,0)","v":0.14285714285714285},{"$f":"OFFSET(Data!AT19,Offsets!$A$28,0)","v":0},{"$f":"OFFSET(Data!AU19,Offsets!$A$28,0)","v":0},{"$f":"OFFSET(Data!AV19,Offsets!$A$28,0)","v":0},{"$f":"OFFSET(Data!AW19,Offsets!$A$28,0)","v":0},{"$f":"OFFSET(Data!AX19,Offsets!$A$28,0)","v":0},{"$f":"OFFSET(Data!AY19,Offsets!$A$28,0)","v":0},{"$f":"OFFSET(Data!AZ19,Offsets!$A$28,0)","v":0},4.1428571428571432,null,0,9.2857142857142847,0,1.2857142857142856,0.14285714285714285,0,0,0,0,0,0,0,10.714285714285712]
[null,"03:45:00",{"$f":"OFFSET(Data!C20,Offsets!$A$28,0)","v":0.14285714285714285},{"$f":"OFFSET(Data!D20,Offsets!$A$28,0)","v":5.5714285714285712},{"$f":"OFFSET(Data!E20,Offsets!$A$28,0)","v":0},{"$f":"OFFSET(Data!F20,Offsets!$A$28,0)","v":0.5714285714285714},{"$f":"OFFSET(Data!G20,Offsets!$A$28,0)","v":0},{"$f":"OFFSET(Data!H20,Offsets!$A$28,0)","v":0.14285714285714285},{"$f":"OFFSET(Data!I20,Offsets!$A$28,0)","v":0},{"$f":"OFFSET(Data!J20,Offsets!$A$28,0)","v":0},{"$f":"OFFSET(Data!K20,Offsets!$A$28,0)","v":0},{"$f":"OFFSET(Data!L20,Offsets!$A$28,0)","v":0},{"$f":"OFFSET(Data!M20,Offsets!$A$28,0)","v":0},{"$f":"OFFSET(Data!N20,Offsets!$A$28,0)","v":0},6.4285714285714288,null,{"$f":"OFFSET(Data!AO20,Offsets!$A$28,0)","v":0},{"$f":"OFFSET(Data!AP20,Offsets!$A$28,0)","v":4.7142857142857144},{"$f":"OFFSET(Data!AQ20,Offsets!$A$28,0)","v":0},{"$f":"OFFSET(Data!AR20,Offsets!$A$28,0)","v":1},{"$f":"OFFSET(Data!AS20,Offsets!$A$28,0)","v":0.14285714285714285},{"$f":"OFFSET(Data!AT20,Offsets!$A$28,0)","v":0},{"$f":"OFFSET(Data!AU20,Offsets!$A$28,0)","v":0},{"$f":"OFFSET(Data!AV20,Offsets!$A$28,0)","v":0},{"$f":"OFFSET(Data!AW20,Offsets!$A$28,0)","v":0},{"$f":"OFFSET(Data!AX20,Offsets!$A$28,0)","v":0},{"$f":"OFFSET(Data!AY20,Offsets!$A$28,0)","v":0},{"$f":"OFFSET(Data!AZ20,Offsets!$A$28,0)","v":0},5.8571428571428577,null,0.14285714285714285,10.285714285714285,0,1.5714285714285714,0.14285714285714285,0.14285714285714285,0,0,0,0,0,0,12.285714285714283]
[null,"04:00:00",{"$f":"OFFSET(Data!C21,Offsets!$A$28,0)","v":0},{"$f":"OFFSET(Data!D21,Offsets!$A$28,0)","v":5.7142857142857144},{"$f":"OFFSET(Data!E21,Offsets!$A$28,0)","v":0},{"$f":"OFFSET(Data!F21,Offsets!$A$28,0)","v":0.14285714285714285},{"$f":"OFFSET(Data!G21,Offsets!$A$28,0)","v":0},{"$f":"OFFSET(Data!H21,Offsets!$A$28,0)","v":0},{"$f":"OFFSET(Data!I21,Offsets!$A$28,0)","v":0},{"$f":"OFFSET(Data!J21,Offsets!$A$28,0)","v":0},{"$f":"OFFSET(Data!K21,Offsets!$A$28,0)","v":0},{"$f":"OFFSET(Data!L21,Offsets!$A$28,0)","v":0},{"$f":"OFFSET(Data!M21,Offsets!$A$28,0)","v":0},{"$f":"OFFSET(Data!N21,Offsets!$A$28,0)","v":0},5.8571428571428577,null,{"$f":"OFFSET(Data!AO21,Offsets!$A$28,0)","v":0},{"$f":"OFFSET(Data!AP21,Offsets!$A$28,0)","v":3.2857142857142856},{"$f":"OFFSET(Data!AQ21,Offsets!$A$28,0)","v":0},{"$f":"OFFSET(Data!AR21,Offsets!$A$28,0)","v":0.5714285714285714},{"$f":"OFFSET(Data!AS21,Offsets!$A$28,0)","v":0},{"$f":"OFFSET(Data!AT21,Offsets!$A$28,0)","v":0},{"$f":"OFFSET(Data!AU21,Offsets!$A$28,0)","v":0},{"$f":"OFFSET(Data!AV21,Offsets!$A$28,0)","v":0},{"$f":"OFFSET(Data!AW21,Offsets!$A$28,0)","v":0.14285714285714285},{"$f":"OFFSET(Data!AX21,Offsets!$A$28,0)","v":0},{"$f":"OFFSET(Data!AY21,Offsets!$A$28,0)","v":0},{"$f":"OFFSET(Data!AZ21,Offsets!$A$28,0)","v":0},3.9999999999999996,null,0,9,0,0.71428571428571419,0,0,0,0,0.14285714285714285,0,0,0,9.8571428571428559]
[null,"04:15:00",{"$f":"OFFSET(Data!C22,Offsets!$A$28,0)","v":0.14285714285714285},{"$f":"OFFSET(Data!D22,Offsets!$A$28,0)","v":7.1428571428571432},{"$f":"OFFSET(Data!E22,Offsets!$A$28,0)","v":0},{"$f":"OFFSET(Data!F22,Offsets!$A$28,0)","v":0.2857142857142857},{"$f":"OFFSET(Data!G22,Offsets!$A$28,0)","v":0},{"$f":"OFFSET(Data!H22,Offsets!$A$28,0)","v":0},{"$f":"OFFSET(Data!I22,Offsets!$A$28,0)","v":0},{"$f":"OFFSET(Data!J22,Offsets!$A$28,0)","v":0},{"$f":"OFFSET(Data!K22,Offsets!$A$28,0)","v":0},{"$f":"OFFSET(Data!L22,Offsets!$A$28,0)","v":0},{"$f":"OFFSET(Data!M22,Offsets!$A$28,0)","v":0},{"$f":"OFFSET(Data!N22,Offsets!$A$28,0)","v":0},7.5714285714285721,null,{"$f":"OFFSET(Data!AO22,Offsets!$A$28,0)","v":0.14285714285714285},{"$f":"OFFSET(Data!AP22,Offsets!$A$28,0)","v":2.7142857142857144},{"$f":"OFFSET(Data!AQ22,Offsets!$A$28,0)","v":0},{"$f":"OFFSET(Data!AR22,Offsets!$A$28,0)","v":0.2857142857142857},{"$f":"OFFSET(Data!AS22,Offsets!$A$28,0)","v":0},{"$f":"OFFSET(Data!AT22,Offsets!$A$28,0)","v":0},{"$f":"OFFSET(Data!AU22,Offsets!$A$28,0)","v":0},{"$f":"OFFSET(Data!AV22,Offsets!$A$28,0)","v":0},{"$f":"OFFSET(Data!AW22,Offsets!$A$28,0)","v":0},{"$f":"OFFSET(Data!AX22,Offsets!$A$28,0)","v":0},{"$f":"OFFSET(Data!AY22,Offsets!$A$28,0)","v":0},{"$f":"OFFSET(Data!AZ22,Offsets!$A$28,0)","v":0},3.1428571428571428,null,0.2857142857142857,9.8571428571428577,0,0.5714285714285714,0,0,0,0,0,0,0,0,10.714285714285715]
[null,"04:30:00",{"$f":"OFFSET(Data!C23,Offsets!$A$28,0)","v":0.14285714285714285},{"$f":"OFFSET(Data!D23,Offsets!$A$28,0)","v":9.1428571428571423},{"$f":"OFFSET(Data!E23,Offsets!$A$28,0)","v":0},{"$f":"OFFSET(Data!F23,Offsets!$A$28,0)","v":0.8571428571428571},{"$f":"OFFSET(Data!G23,Offsets!$A$28,0)","v":0.14285714285714285},{"$f":"OFFSET(Data!H23,Offsets!$A$28,0)","v":0},{"$f":"OFFSET(Data!I23,Offsets!$A$28,0)","v":0},{"$f":"OFFSET(Data!J23,Offsets!$A$28,0)","v":0},{"$f":"OFFSET(Data!K23,Offsets!$A$28,0)","v":0.2857142857142857},{"$f":"OFFSET(Data!L23,Offsets!$A$28,0)","v":0},{"$f":"OFFSET(Data!M23,Offsets!$A$28,0)","v":0},{"$f":"OFFSET(Data!N23,Offsets!$A$28,0)","v":0},10.571428571428571,null,{"$f":"OFFSET(Data!AO23,Offsets!$A$28,0)","v":0},{"$f":"OFFSET(Data!AP23,Offsets!$A$28,0)","v":3.2857142857142856},{"$f":"OFFSET(Data!AQ23,Offsets!$A$28,0)","v":0},{"$f":"OFFSET(Data!AR23,Offsets!$A$28,0)","v":0.42857142857142855},{"$f":"OFFSET(Data!AS23,Offsets!$A$28,0)","v":0},{"$f":"OFFSET(Data!AT23,Offsets!$A$28,0)","v":0},{"$f":"OFFSET(Data!AU23,Offsets!$A$28,0)","v":0},{"$f":"OFFSET(Data!AV23,Offsets!$A$28,0)","v":0},{"$f":"OFFSET(Data!AW23,Offsets!$A$28,0)","v":0},{"$f":"OFFSET(Data!AX23,Offsets!$A$28,0)","v":0},{"$f":"OFFSET(Data!AY23,Offsets!$A$28,0)","v":0},{"$f":"OFFSET(Data!AZ23,Offsets!$A$28,0)","v":0},3.714285714285714,null,0.14285714285714285,12.428571428571427,0,1.2857142857142856,0.14285714285714285,0,0,0,0.2857142857142857,0,0,0,14.285714285714283]
[null,"04:45:00",{"$f":"OFFSET(Data!C24,Offsets!$A$28,0)","v":0.14285714285714285},{"$f":"OFFSET(Data!D24,Offsets!$A$28,0)","v":10.142857142857142},{"$f":"OFFSET(Data!E24,Offsets!$A$28,0)","v":0},{"$f":"OFFSET(Data!F24,Offsets!$A$28,0)","v":0.7142857142857143},{"$f":"OFFSET(Data!G24,Offsets!$A$28,0)","v":0},{"$f":"OFFSET(Data!H24,Offsets!$A$28,0)","v":0},{"$f":"OFFSET(Data!I24,Offsets!$A$28,0)","v":0},{"$f":"OFFSET(Data!J24,Offsets!$A$28,0)","v":0},{"$f":"OFFSET(Data!K24,Offsets!$A$28,0)","v":0},{"$f":"OFFSET(Data!L24,Offsets!$A$28,0)","v":0},{"$f":"OFFSET(Data!M24,Offsets!$A$28,0)","v":0},{"$f":"OFFSET(Data!N24,Offsets!$A$28,0)","v":0},10.999999999999998,null,{"$f":"OFFSET(Data!AO24,Offsets!$A$28,0)","v":0},{"$f":"OFFSET(Data!AP24,Offsets!$A$28,0)","v":4.8571428571428568},{"$f":"OFFSET(Data!AQ24,Offsets!$A$28,0)","v":0},{"$f":"OFFSET(Data!AR24,Offsets!$A$28,0)","v":0.5714285714285714},{"$f":"OFFSET(Data!AS24,Offsets!$A$28,0)","v":0},{"$f":"OFFSET(Data!AT24,Offsets!$A$28,0)","v":0},{"$f":"OFFSET(Data!AU24,Offsets!$A$28,0)","v":0},{"$f":"OFFSET(Data!AV24,Offsets!$A$28,0)","v":0},{"$f":"OFFSET(Data!AW24,Offsets!$A$28,0)","v":0},{"$f":"OFFSET(Data!AX24,Offsets!$A$28,0)","v":0},{"$f":"OFFSET(Data!AY24,Offsets!$A$28,0)","v":0},{"$f":"OFFSET(Data!AZ24,Offsets!$A$28,0)","v":0},5.4285714285714279,null,0.14285714285714285,15,0,1.2857142857142856,0,0,0,0,0,0,0,0,16.428571428571427]
[null,"05:00:00",{"$f":"OFFSET(Data!C25,Offsets!$A$28,0)","v":0.5714285714285714},{"$f":"OFFSET(Data!D25,Offsets!$A$28,0)","v":11.571428571428571},{"$f":"OFFSET(Data!E25,Offsets!$A$28,0)","v":0},{"$f":"OFFSET(Data!F25,Offsets!$A$28,0)","v":2.1428571428571428},{"$f":"OFFSET(Data!G25,Offsets!$A$28,0)","v":0},{"$f":"OFFSET(Data!H25,Offsets!$A$28,0)","v":0},{"$f":"OFFSET(Data!I25,Offsets!$A$28,0)","v":0},{"$f":"OFFSET(Data!J25,Offsets!$A$28,0)","v":0},{"$f":"OFFSET(Data!K25,Offsets!$A$28,0)","v":0},{"$f":"OFFSET(Data!L25,Offsets!$A$28,0)","v":0},{"$f":"OFFSET(Data!M25,Offsets!$A$28,0)","v":0},{"$f":"OFFSET(Data!N25,Offsets!$A$28,0)","v":0},14.285714285714285,null,{"$f":"OFFSET(Data!AO25,Offsets!$A$28,0)","v":0.14285714285714285},{"$f":"OFFSET(Data!AP25,Offsets!$A$28,0)","v":7.4285714285714288},{"$f":"OFFSET(Data!AQ25,Offsets!$A$28,0)","v":0},{"$f":"OFFSET(Data!AR25,Offsets!$A$28,0)","v":0.8571428571428571},{"$f":"OFFSET(Data!AS25,Offsets!$A$28,0)","v":0},{"$f":"OFFSET(Data!AT25,Offsets!$A$28,0)","v":0},{"$f":"OFFSET(Data!AU25,Offsets!$A$28,0)","v":0},{"$f":"OFFSET(Data!AV25,Offsets!$A$28,0)","v":0},{"$f":"OFFSET(Data!AW25,Offsets!$A$28,0)","v":0},{"$f":"OFFSET(Data!AX25,Offsets!$A$28,0)","v":0},{"$f":"OFFSET(Data!AY25,Offsets!$A$28,0)","v":0},{"$f":"OFFSET(Data!AZ25,Offsets!$A$28,0)","v":0},8.4285714285714288,null,0.71428571428571419,19,0,3,0,0,0,0,0,0,0,0,22.714285714285715]
[null,"05:15:00",{"$f":"OFFSET(Data!C26,Offsets!$A$28,0)","v":1},{"$f":"OFFSET(Data!D26,Offsets!$A$28,0)","v":18.142857142857142},{"$f":"OFFSET(Data!E26,Offsets!$A$28,0)","v":0},{"$f":"OFFSET(Data!F26,Offsets!$A$28,0)","v":2},{"$f":"OFFSET(Data!G26,Offsets!$A$28,0)","v":0.42857142857142855},{"$f":"OFFSET(Data!H26,Offsets!$A$28,0)","v":0.14285714285714285},{"$f":"OFFSET(Data!I26,Offsets!$A$28,0)","v":0},{"$f":"OFFSET(Data!J26,Offsets!$A$28,0)","v":0},{"$f":"OFFSET(Data!K26,Offsets!$A$28,0)","v":0},{"$f":"OFFSET(Data!L26,Offsets!$A$28,0)","v":0},{"$f":"OFFSET(Data!M26,Offsets!$A$28,0)","v":0},{"$f":"OFFSET(Data!N26,Offsets!$A$28,0)","v":0},21.714285714285712,null,{"$f":"OFFSET(Data!AO26,Offsets!$A$28,0)","v":0.2857142857142857},{"$f":"OFFSET(Data!AP26,Offsets!$A$28,0)","v":7.7142857142857144},{"$f":"OFFSET(Data!AQ26,Offsets!$A$28,0)","v":0},{"$f":"OFFSET(Data!AR26,Offsets!$A$28,0)","v":1},{"$f":"OFFSET(Data!AS26,Offsets!$A$28,0)","v":0},{"$f":"OFFSET(Data!AT26,Offsets!$A$28,0)","v":0},{"$f":"OFFSET(Data!AU26,Offsets!$A$28,0)","v":0},{"$f":"OFFSET(Data!AV26,Offsets!$A$28,0)","v":0},{"$f":"OFFSET(Data!AW26,Offsets!$A$28,0)","v":0},{"$f":"OFFSET(Data!AX26,Offsets!$A$28,0)","v":0.42857142857142855},{"$f":"OFFSET(Data!AY26,Offsets!$A$28,0)","v":0},{"$f":"OFFSET(Data!AZ26,Offsets!$A$28,0)","v":0},9.4285714285714288,null,1.2857142857142856,25.857142857142858,0,3,0.42857142857142855,0.14285714285714285,0,0,0,0.42857142857142855,0,0,31.142857142857139]
[null,"05:30:00",{"$f":"OFFSET(Data!C27,Offsets!$A$28,0)","v":1.1428571428571428},{"$f":"OFFSET(Data!D27,Offsets!$A$28,0)","v":26.428571428571427},{"$f":"OFFSET(Data!E27,Offsets!$A$28,0)","v":0},{"$f":"OFFSET(Data!F27,Offsets!$A$28,0)","v":2.4285714285714284},{"$f":"OFFSET(Data!G27,Offsets!$A$28,0)","v":0.14285714285714285},{"$f":"OFFSET(Data!H27,Offsets!$A$28,0)","v":0},{"$f":"OFFSET(Data!I27,Offsets!$A$28,0)","v":0.14285714285714285},{"$f":"OFFSET(Data!J27,Offsets!$A$28,0)","v":0},{"$f":"OFFSET(Data!K27,Offsets!$A$28,0)","v":0.14285714285714285},{"$f":"OFFSET(Data!L27,Offsets!$A$28,0)","v":0},{"$f":"OFFSET(Data!M27,Offsets!$A$28,0)","v":0},{"$f":"OFFSET(Data!N27,Offsets!$A$28,0)","v":0},30.428571428571423,null,{"$f":"OFFSET(Data!AO27,Offsets!$A$28,0)","v":0.42857142857142855},{"$f":"OFFSET(Data!AP27,Offsets!$A$28,0)","v":9.2857142857142865},{"$f":"OFFSET(Data!AQ27,Offsets!$A$28,0)","v":0},{"$f":"OFFSET(Data!AR27,Offsets!$A$28,0)","v":1.1428571428571428},{"$f":"OFFSET(Data!AS27,Offsets!$A$28,0)","v":0},{"$f":"OFFSET(Data!AT27,Offsets!$A$28,0)","v":0},{"$f":"OFFSET(Data!AU27,Offsets!$A$28,0)","v":0},{"$f":"OFFSET(Data!AV27,Offsets!$A$28,0)","v":0},{"$f":"OFFSET(Data!AW27,Offsets!$A$28,0)","v":0},{"$f":"OFFSET(Data!AX27,Offsets!$A$28,0)","v":0.2857142857142857},{"$f":"OFFSET(Data!AY27,Offsets!$A$28,0)","v":0},{"$f":"OFFSET(Data!AZ27,Offsets!$A$28,0)","v":0},11.142857142857144,null,1.5714285714285714,35.714285714285715,0,3.5714285714285712,0.14285714285714285,0,0.14285714285714285,0,0.14285714285714285,0.2857142857142857,0,0,41.571428571428577]
[null,"05:45:00",{"$f":"OFFSET(Data!C28,Offsets!$A$28,0)","v":1.1428571428571428},{"$f":"OFFSET(Data!D28,Offsets!$A$28,0)","v":41.857142857142854},{"$f":"OFFSET(Data!E28,Offsets!$A$28,0)","v":0.2857142857142857},{"$f":"OFFSET(Data!F28,Offsets!$A$28,0)","v":2.4285714285714284},{"$f":"OFFSET(Data!G28,Offsets!$A$28,0)","v":0.42857142857142855},{"$f":"OFFSET(Data!H28,Offsets!$A$28,0)","v":0},{"$f":"OFFSET(Data!I28,Offsets!$A$28,0)","v":0},{"$f":"OFFSET(Data!J28,Offsets!$A$28,0)","v":0},{"$f":"OFFSET(Data!K28,Offsets!$A$28,0)","v":0.14285714285714285},{"$f":"OFFSET(Data!L28,Offsets!$A$28,0)","v":0},{"$f":"OFFSET(Data!M28,Offsets!$A$28,0)","v":0},{"$f":"OFFSET(Data!N28,Offsets!$A$28,0)","v":0},46.285714285714292,null,{"$f":"OFFSET(Data!AO28,Offsets!$A$28,0)","v":0.14285714285714285},{"$f":"OFFSET(Data!AP28,Offsets!$A$28,0)","v":12},{"$f":"OFFSET(Data!AQ28,Offsets!$A$28,0)","v":0},{"$f":"OFFSET(Data!AR28,Offsets!$A$28,0)","v":0.5714285714285714},{"$f":"OFFSET(Data!AS28,Offsets!$A$28,0)","v":0},{"$f":"OFFSET(Data!AT28,Offsets!$A$28,0)","v":0.14285714285714285},{"$f":"OFFSET(Data!AU28,Offsets!$A$28,0)","v":0.14285714285714285},{"$f":"OFFSET(Data!AV28,Offsets!$A$28,0)","v":1.8571428571428572},{"$f":"OFFSET(Data!AW28,Offsets!$A$28,0)","v":0.14285714285714285},{"$f":"OFFSET(Data!AX28,Offsets!$A$28,0)","v":0},{"$f":"OFFSET(Data!AY28,Offsets!$A$28,0)","v":0},{"$f":"OFFSET(Data!AZ28,Offsets!$A$28,0)","v":0},14.999999999999998,null,1.2857142857142856,53.857142857142854,0.2857142857142857,3,0.42857142857142855,0.14285714285714285,0.14285714285714285,1.8571428571428572,0.2857142857142857,0,0,0,61.285714285714285]
[null,"06:00:00",{"$f":"OFFSET(Data!C29,Offsets!$A$28,0)","v":1.2857142857142858},{"$f":"OFFSET(Data!D29,Offsets!$A$28,0)","v":52.285714285714285},{"$f":"OFFSET(Data!E29,Offsets!$A$28,0)","v":0.2857142857142857},{"$f":"OFFSET(Data!F29,Offsets!$A$28,0)","v":1.7142857142857142},{"$f":"OFFSET(Data!G29,Offsets!$A$28,0)","v":0.5714285714285714},{"$f":"OFFSET(Data!H29,Offsets!$A$28,0)","v":0},{"$f":"OFFSET(Data!I29,Offsets!$A$28,0)","v":0},{"$f":"OFFSET(Data!J29,Offsets!$A$28,0)","v":0},{"$f":"OFFSET(Data!K29,Offsets!$A$28,0)","v":0.14285714285714285},{"$f":"OFFSET(Data!L29,Offsets!$A$28,0)","v":1.8571428571428572},{"$f":"OFFSET(Data!M29,Offsets!$A$28,0)","v":0},{"$f":"OFFSET(Data!N29,Offsets!$A$28,0)","v":0},58.142857142857139,null,{"$f":"OFFSET(Data!AO29,Offsets!$A$28,0)","v":0.8571428571428571},{"$f":"OFFSET(Data!AP29,Offsets!$A$28,0)","v":13.428571428571429},{"$f":"OFFSET(Data!AQ29,Offsets!$A$28,0)","v":0},{"$f":"OFFSET(Data!AR29,Offsets!$A$28,0)","v":2.8571428571428572},{"$f":"OFFSET(Data!AS29,Offsets!$A$28,0)","v":0.14285714285714285},{"$f":"OFFSET(Data!AT29,Offsets!$A$28,0)","v":0},{"$f":"OFFSET(Data!AU29,Offsets!$A$28,0)","v":0},{"$f":"OFFSET(Data!AV29,Offsets!$A$28,0)","v":1.8571428571428572},{"$f":"OFFSET(Data!AW29,Offsets!$A$28,0)","v":1.5714285714285714},{"$f":"OFFSET(Data!AX29,Offsets!$A$28,0)","v":0},{"$f":"OFFSET(Data!AY29,Offsets!$A$28,0)","v":0},{"$f":"OFFSET(Data!AZ29,Offsets!$A$28,0)","v":0},20.714285714285715,null,2.1428571428571428,65.714285714285708,0.2857142857142857,4.5714285714285712,0.71428571428571419,0,0,1.8571428571428572,1.7142857142857142,1.8571428571428572,0,0,78.857142857142847]
[null,"06:15:00",{"$f":"OFFSET(Data!C30,Offsets!$A$28,0)","v":1.8571428571428572},{"$f":"OFFSET(Data!D30,Offsets!$A$28,0)","v":39.142857142857146},{"$f":"OFFSET(Data!E30,Offsets!$A$28,0)","v":0},{"$f":"OFFSET(Data!F30,Offsets!$A$28,0)","v":2.1428571428571428},{"$f":"OFFSET(Data!G30,Offsets!$A$28,0)","v":0.14285714285714285},{"$f":"OFFSET(Data!H30,Offsets!$A$28,0)","v":0},{"$f":"OFFSET(Data!I30,Offsets!$A$28,0)","v":0},{"$f":"OFFSET(Data!J30,Offsets!$A$28,0)","v":0},{"$f":"OFFSET(Data!K30,Offsets!$A$28,0)","v":0.14285714285714285},{"$f":"OFFSET(Data!L30,Offsets!$A$28,0)","v":0.2857142857142857},{"$f":"OFFSET(Data!M30,Offsets!$A$28,0)","v":0},{"$f":"OFFSET(Data!N30,Offsets!$A$28,0)","v":0},43.714285714285722,null,{"$f":"OFFSET(Data!AO30,Offsets!$A$28,0)","v":0.2857142857142857},{"$f":"OFFSET(Data!AP30,Offsets!$A$28,0)","v":16},{"$f":"OFFSET(Data!AQ30,Offsets!$A$28,0)","v":0},{"$f":"OFFSET(Data!AR30,Offsets!$A$28,0)","v":3.2857142857142856},{"$f":"OFFSET(Data!AS30,Offsets!$A$28,0)","v":0.7142857142857143},{"$f":"OFFSET(Data!AT30,Offsets!$A$28,0)","v":0},{"$f":"OFFSET(Data!AU30,Offsets!$A$28,0)","v":0.2857142857142857},{"$f":"OFFSET(Data!AV30,Offsets!$A$28,0)","v":0.2857142857142857},{"$f":"OFFSET(Data!AW30,Offsets!$A$28,0)","v":0},{"$f":"OFFSET(Data!AX30,Offsets!$A$28,0)","v":0.14285714285714285},{"$f":"OFFSET(Data!AY30,Offsets!$A$28,0)","v":0},{"$f":"OFFSET(Data!AZ30,Offsets!$A$28,0)","v":0},20.999999999999996,null,2.1428571428571428,55.142857142857146,0,5.4285714285714288,0.85714285714285721,0,0.2857142857142857,0.2857142857142857,0.14285714285714285,0.42857142857142855,0,0,64.714285714285722]
[null,"06:30:00",{"$f":"OFFSET(Data!C31,Offsets!$A$28,0)","v":1.1428571428571428},{"$f":"OFFSET(Data!D31,Offsets!$A$28,0)","v":46.714285714285715},{"$f":"OFFSET(Data!E31,Offsets!$A$28,0)","v":0.14285714285714285},{"$f":"OFFSET(Data!F31,Offsets!$A$28,0)","v":3.2857142857142856},{"$f":"OFFSET(Data!G31,Offsets!$A$28,0)","v":0.42857142857142855},{"$f":"OFFSET(Data!H31,Offsets!$A$28,0)","v":0.14285714285714285},{"$f":"OFFSET(Data!I31,Offsets!$A$28,0)","v":0},{"$f":"OFFSET(Data!J31,Offsets!$A$28,0)","v":0.14285714285714285},{"$f":"OFFSET(Data!K31,Offsets!$A$28,0)","v":0.42857142857142855},{"$f":"OFFSET(Data!L31,Offsets!$A$28,0)","v":0},{"$f":"OFFSET(Data!M31,Offsets!$A$28,0)","v":0},{"$f":"OFFSET(Data!N31,Offsets!$A$28,0)","v":0},52.428571428571445,null,{"$f":"OFFSET(Data!AO31,Offsets!$A$28,0)","v":1.2857142857142858},{"$f":"OFFSET(Data!AP31,Offsets!$A$28,0)","v":32},{"$f":"OFFSET(Data!AQ31,Offsets!$A$28,0)","v":0},{"$f":"OFFSET(Data!AR31,Offsets!$A$28,0)","v":2.2857142857142856},{"$f":"OFFSET(Data!AS31,Offsets!$A$28,0)","v":0.14285714285714285},{"$f":"OFFSET(Data!AT31,Offsets!$A$28,0)","v":0},{"$f":"OFFSET(Data!AU31,Offsets!$A$28,0)","v":0},{"$f":"OFFSET(Data!AV31,Offsets!$A$28,0)","v":0},{"$f":"OFFSET(Data!AW31,Offsets!$A$28,0)","v":0},{"$f":"OFFSET(Data!AX31,Offsets!$A$28,0)","v":0.42857142857142855},{"$f":"OFFSET(Data!AY31,Offsets!$A$28,0)","v":0},{"$f":"OFFSET(Data!AZ31,Offsets!$A$28,0)","v":0},36.142857142857146,null,2.4285714285714288,78.714285714285722,0.14285714285714285,5.5714285714285712,0.5714285714285714,0.14285714285714285,0,0.14285714285714285,0.42857142857142855,0.42857142857142855,0,0,88.571428571428569]
[null,"06:45:00",{"$f":"OFFSET(Data!C32,Offsets!$A$28,0)","v":0.42857142857142855},{"$f":"OFFSET(Data!D32,Offsets!$A$28,0)","v":47.285714285714285},{"$f":"OFFSET(Data!E32,Offsets!$A$28,0)","v":0.2857142857142857},{"$f":"OFFSET(Data!F32,Offsets!$A$28,0)","v":4.1428571428571432},{"$f":"OFFSET(Data!G32,Offsets!$A$28,0)","v":0.2857142857142857},{"$f":"OFFSET(Data!H32,Offsets!$A$28,0)","v":0.14285714285714285},{"$f":"OFFSET(Data!I32,Offsets!$A$28,0)","v":0.14285714285714285},{"$f":"OFFSET(Data!J32,Offsets!$A$28,0)","v":0},{"$f":"OFFSET(Data!K32,Offsets!$A$28,0)","v":0},{"$f":"OFFSET(Data!L32,Offsets!$A$28,0)","v":0.14285714285714285},{"$f":"OFFSET(Data!M32,Offsets!$A$28,0)","v":0},{"$f":"OFFSET(Data!N32,Offsets!$A$28,0)","v":0},52.857142857142868,null,{"$f":"OFFSET(Data!AO32,Offsets!$A$28,0)","v":2},{"$f":"OFFSET(Data!AP32,Offsets!$A$28,0)","v":30.714285714285715},{"$f":"OFFSET(Data!AQ32,Offsets!$A$28,0)","v":0},{"$f":"OFFSET(Data!AR32,Offsets!$A$28,0)","v":3.2857142857142856},{"$f":"OFFSET(Data!AS32,Offsets!$A$28,0)","v":0.14285714285714285},{"$f":"OFFSET(Data!AT32,Offsets!$A$28,0)","v":0},{"$f":"OFFSET(Data!AU32,Offsets!$A$28,0)","v":0},{"$f":"OFFSET(Data!AV32,Offsets!$A$28,0)","v":0},{"$f":"OFFSET(Data!AW32,Offsets!$A$28,0)","v":0},{"$f":"OFFSET(Data!AX32,Offsets!$A$28,0)","v":0.42857142857142855},{"$f":"OFFSET(Data!AY32,Offsets!$A$28,0)","v":0},{"$f":"OFFSET(Data!AZ32,Offsets!$A$28,0)","v":0},36.571428571428577,null,2.4285714285714284,78,0.2857142857142857,7.4285714285714288,0.42857142857142855,0.14285714285714285,0.14285714285714285,0,0,0.5714285714285714,0,0,89.428571428571431]
[null,"07:00:00",{"$f":"OFFSET(Data!C33,Offsets!$A$28,0)","v":1.1428571428571428},{"$f":"OFFSET(Data!D33,Offsets!$A$28,0)","v":60.142857142857146},{"$f":"OFFSET(Data!E33,Offsets!$A$28,0)","v":0.42857142857142855},{"$f":"OFFSET(Data!F33,Offsets!$A$28,0)","v":3.5714285714285716},{"$f":"OFFSET(Data!G33,Offsets!$A$28,0)","v":0.2857142857142857},{"$f":"OFFSET(Data!H33,Offsets!$A$28,0)","v":0.14285714285714285},{"$f":"OFFSET(Data!I33,Offsets!$A$28,0)","v":0},{"$f":"OFFSET(Data!J33,Offsets!$A$28,0)","v":0.14285714285714285},{"$f":"OFFSET(Data!K33,Offsets!$A$28,0)","v":0.2857142857142857},{"$f":"OFFSET(Data!L33,Offsets!$A$28,0)","v":0},{"$f":"OFFSET(Data!M33,Offsets!$A$28,0)","v":0},{"$f":"OFFSET(Data!N33,Offsets!$A$28,0)","v":0},66.142857142857153,null,{"$f":"OFFSET(Data!AO33,Offsets!$A$28,0)","v":1.8571428571428572},{"$f":"OFFSET(Data!AP33,Offsets!$A$28,0)","v":39.285714285714285},{"$f":"OFFSET(Data!AQ33,Offsets!$A$28,0)","v":0},{"$f":"OFFSET(Data!AR33,Offsets!$A$28,0)","v":7.1428571428571432},{"$f":"OFFSET(Data!AS33,Offsets!$A$28,0)","v":0.42857142857142855},{"$f":"OFFSET(Data!AT33,Offsets!$A$28,0)","v":0.14285714285714285},{"$f":"OFFSET(Data!AU33,Offsets!$A$28,0)","v":0},{"$f":"OFFSET(Data!AV33,Offsets!$A$28,0)","v":0},{"$f":"OFFSET(Data!AW33,Offsets!$A$28,0)","v":0},{"$f":"OFFSET(Data!AX33,Offsets!$A$28,0)","v":0.14285714285714285},{"$f":"OFFSET(Data!AY33,Offsets!$A$28,0)","v":0},{"$f":"OFFSET(Data!AZ33,Offsets!$A$28,0)","v":0},49.000000000000007,null,3,99.428571428571431,0.42857142857142855,10.714285714285715,0.71428571428571419,0.2857142857142857,0,0.14285714285714285,0.2857142857142857,0.14285714285714285,0,0,115.14285714285715]
[null,"07:15:00",{"$f":"OFFSET(Data!C34,Offsets!$A$28,0)","v":2},{"$f":"OFFSET(Data!D34,Offsets!$A$28,0)","v":67.142857142857139},{"$f":"OFFSET(Data!E34,Offsets!$A$28,0)","v":0.5714285714285714},{"$f":"OFFSET(Data!F34,Offsets!$A$28,0)","v":4.5714285714285712},{"$f":"OFFSET(Data!G34,Offsets!$A$28,0)","v":1},{"$f":"OFFSET(Data!H34,Offsets!$A$28,0)","v":0.2857142857142857},{"$f":"OFFSET(Data!I34,Offsets!$A$28,0)","v":0},{"$f":"OFFSET(Data!J34,Offsets!$A$28,0)","v":0},{"$f":"OFFSET(Data!K34,Offsets!$A$28,0)","v":0.14285714285714285},{"$f":"OFFSET(Data!L34,Offsets!$A$28,0)","v":0},{"$f":"OFFSET(Data!M34,Offsets!$A$28,0)","v":0},{"$f":"OFFSET(Data!N34,Offsets!$A$28,0)","v":0},75.714285714285708,null,{"$f":"OFFSET(Data!AO34,Offsets!$A$28,0)","v":0.7142857142857143},{"$f":"OFFSET(Data!AP34,Offsets!$A$28,0)","v":52.714285714285715},{"$f":"OFFSET(Data!AQ34,Offsets!$A$28,0)","v":0},{"$f":"OFFSET(Data!AR34,Offsets!$A$28,0)","v":6.8571428571428568},{"$f":"OFFSET(Data!AS34,Offsets!$A$28,0)","v":1},{"$f":"OFFSET(Data!AT34,Offsets!$A$28,0)","v":0.14285714285714285},{"$f":"OFFSET(Data!AU34,Offsets!$A$28,0)","v":0},{"$f":"OFFSET(Data!AV34,Offsets!$A$28,0)","v":0},{"$f":"OFFSET(Data!AW34,Offsets!$A$28,0)","v":0},{"$f":"OFFSET(Data!AX34,Offsets!$A$28,0)","v":0},{"$f":"OFFSET(Data!AY34,Offsets!$A$28,0)","v":0},{"$f":"OFFSET(Data!AZ34,Offsets!$A$28,0)","v":0},61.428571428571431,null,2.7142857142857144,119.85714285714286,0.5714285714285714,11.428571428571427,2,0.42857142857142855,0,0,0.14285714285714285,0,0,0,137.14285714285711]
[null,"07:30:00",{"$f":"OFFSET(Data!C35,Offsets!$A$28,0)","v":1},{"$f":"OFFSET(Data!D35,Offsets!$A$28,0)","v":100.14285714285714},{"$f":"OFFSET(Data!E35,Offsets!$A$28,0)","v":0},{"$f":"OFFSET(Data!F35,Offsets!$A$28,0)","v":5.5714285714285712},{"$f":"OFFSET(Data!G35,Offsets!$A$28,0)","v":0.42857142857142855},{"$f":"OFFSET(Data!H35,Offsets!$A$28,0)","v":0.2857142857142857},{"$f":"OFFSET(Data!I35,Offsets!$A$28,0)","v":0},{"$f":"OFFSET(Data!J35,Offsets!$A$28,0)","v":0.14285714285714285},{"$f":"OFFSET(Data!K35,Offsets!$A$28,0)","v":0},{"$f":"OFFSET(Data!L35,Offsets!$A$28,0)","v":1.4285714285714286},{"$f":"OFFSET(Data!M35,Offsets!$A$28,0)","v":0},{"$f":"OFFSET(Data!N35,Offsets!$A$28,0)","v":0},109,null,{"$f":"OFFSET(Data!AO35,Offsets!$A$28,0)","v":0.5714285714285714},{"$f":"OFFSET(Data!AP35,Offsets!$A$28,0)","v":66.857142857142861},{"$f":"OFFSET(Data!AQ35,Offsets!$A$28,0)","v":0.2857142857142857},{"$f":"OFFSET(Data!AR35,Offsets!$A$28,0)","v":8},{"$f":"OFFSET(Data!AS35,Offsets!$A$28,0)","v":0.2857142857142857},{"$f":"OFFSET(Data!AT35,Offsets!$A$28,0)","v":0.14285714285714285},{"$f":"OFFSET(Data!AU35,Offsets!$A$28,0)","v":0},{"$f":"OFFSET(Data!AV35,Offsets!$A$28,0)","v":0},{"$f":"OFFSET(Data!AW35,Offsets!$A$28,0)","v":0.14285714285714285},{"$f":"OFFSET(Data!AX35,Offsets!$A$28,0)","v":0.8571428571428571},{"$f":"OFFSET(Data!AY35,Offsets!$A$28,0)","v":0},{"$f":"OFFSET(Data!AZ35,Offsets!$A$28,0)","v":0},77.142857142857153,null,1.5714285714285714,167,0.2857142857142857,13.571428571428571,0.71428571428571419,0.42857142857142855,0,0.14285714285714285,0.14285714285714285,2.2857142857142856,0,0,186.14285714285714]
[null,"07:45:00",{"$f":"OFFSET(Data!C36,Offsets!$A$28,0)","v":1.4285714285714286},{"$f":"OFFSET(Data!D36,Offsets!$A$28,0)","v":88.428571428571431},{"$f":"OFFSET(Data!E36,Offsets!$A$28,0)","v":0.2857142857142857},{"$f":"OFFSET(Data!F36,Offsets!$A$28,0)","v":6.5714285714285712},{"$f":"OFFSET(Data!G36,Offsets!$A$28,0)","v":0.8571428571428571},{"$f":"OFFSET(Data!H36,Offsets!$A$28,0)","v":0.7142857142857143},{"$f":"OFFSET(Data!I36,Offsets!$A$28,0)","v":0.14285714285714285},{"$f":"OFFSET(Data!J36,Offsets!$A$28,0)","v":0.14285714285714285},{"$f":"OFFSET(Data!K36,Offsets!$A$28,0)","v":0.14285714285714285},{"$f":"OFFSET(Data!L36,Offsets!$A$28,0)","v":1.5714285714285714},{"$f":"OFFSET(Data!M36,Offsets!$A$28,0)","v":0.2857142857142857},{"$f":"OFFSET(Data!N36,Offsets!$A$28,0)","v":0},100.57142857142857,null,{"$f":"OFFSET(Data!AO36,Offsets!$A$28,0)","v":1},{"$f":"OFFSET(Data!AP36,Offsets!$A$28,0)","v":84.285714285714292},{"$f":"OFFSET(Data!AQ36,Offsets!$A$28,0)","v":0.42857142857142855},{"$f":"OFFSET(Data!AR36,Offsets!$A$28,0)","v":11.285714285714286},{"$f":"OFFSET(Data!AS36,Offsets!$A$28,0)","v":0.2857142857142857},{"$f":"OFFSET(Data!AT36,Offsets!$A$28,0)","v":0.42857142857142855},{"$f":"OFFSET(Data!AU36,Offsets!$A$28,0)","v":0},{"$f":"OFFSET(Data!AV36,Offsets!$A$28,0)","v":0.5714285714285714},{"$f":"OFFSET(Data!AW36,Offsets!$A$28,0)","v":0.14285714285714285},{"$f":"OFFSET(Data!AX36,Offsets!$A$28,0)","v":0.8571428571428571},{"$f":"OFFSET(Data!AY36,Offsets!$A$28,0)","v":0},{"$f":"OFFSET(Data!AZ36,Offsets!$A$28,0)","v":0.14285714285714285},99.428571428571445,null,2.4285714285714288,172.71428571428572,0.71428571428571419,17.857142857142858,1.1428571428571428,1.1428571428571428,0.14285714285714285,0.71428571428571419,0.2857142857142857,2.4285714285714284,0.2857142857142857,0.14285714285714285,199.99999999999997]
[null,"08:00:00",{"$f":"OFFSET(Data!C37,Offsets!$A$28,0)","v":0.7142857142857143},{"$f":"OFFSET(Data!D37,Offsets!$A$28,0)","v":96},{"$f":"OFFSET(Data!E37,Offsets!$A$28,0)","v":0.2857142857142857},{"$f":"OFFSET(Data!F37,Offsets!$A$28,0)","v":7.8571428571428568},{"$f":"OFFSET(Data!G37,Offsets!$A$28,0)","v":0.7142857142857143},{"$f":"OFFSET(Data!H37,Offsets!$A$28,0)","v":1.1428571428571428},{"$f":"OFFSET(Data!I37,Offsets!$A$28,0)","v":0.42857142857142855},{"$f":"OFFSET(Data!J37,Offsets!$A$28,0)","v":0.7142857142857143},{"$f":"OFFSET(Data!K37,Offsets!$A$28,0)","v":0.2857142857142857},{"$f":"OFFSET(Data!L37,Offsets!$A$28,0)","v":0.7142857142857143},{"$f":"OFFSET(Data!M37,Offsets!$A$28,0)","v":0},{"$f":"OFFSET(Data!N37,Offsets!$A$28,0)","v":0},108.85714285714285,null,{"$f":"OFFSET(Data!AO37,Offsets!$A$28,0)","v":0.42857142857142855},{"$f":"OFFSET(Data!AP37,Offsets!$A$28,0)","v":77.571428571428569},{"$f":"OFFSET(Data!AQ37,Offsets!$A$28,0)","v":0.2857142857142857},{"$f":"OFFSET(Data!AR37,Offsets!$A$28,0)","v":6.5714285714285712},{"$f":"OFFSET(Data!AS37,Offsets!$A$28,0)","v":0.5714285714285714},{"$f":"OFFSET(Data!AT37,Offsets!$A$28,0)","v":0.8571428571428571},{"$f":"OFFSET(Data!AU37,Offsets!$A$28,0)","v":0},{"$f":"OFFSET(Data!AV37,Offsets!$A$28,0)","v":1.4285714285714286},{"$f":"OFFSET(Data!AW37,Offsets!$A$28,0)","v":0.5714285714285714},{"$f":"OFFSET(Data!AX37,Offsets!$A$28,0)","v":0.7142857142857143},{"$f":"OFFSET(Data!AY37,Offsets!$A$28,0)","v":0},{"$f":"OFFSET(Data!AZ37,Offsets!$A$28,0)","v":0},89,null,{"$f":"C48+Q48","v":1.1428571428571428},{"$f":"D48+R48","v":173.57142857142856},{"$f":"E48+S48","v":0.5714285714285714},{"$f":"F48+T48","v":14.428571428571427},{"$f":"G48+U48","v":1.2857142857142856},{"$f":"H48+V48","v":2},{"$f":"I48+W48","v":0.42857142857142855},{"$f":"J48+X48","v":2.1428571428571428},{"$f":"K48+Y48","v":0.8571428571428571},{"$f":"L48+Z48","v":1.4285714285714286},{"$f":"M48+AA48","v":0},{"$f":"N48+AB48","v":0},197.8571428571428]
[null,"08:15:00",{"$f":"OFFSET(Data!C38,Offsets!$A$28,0)","v":1.7142857142857142},{"$f":"OFFSET(Data!D38,Offsets!$A$28,0)","v":102.42857142857143},{"$f":"OFFSET(Data!E38,Offsets!$A$28,0)","v":0.42857142857142855},{"$f":"OFFSET(Data!F38,Offsets!$A$28,0)","v":6.8571428571428568},{"$f":"OFFSET(Data!G38,Offsets!$A$28,0)","v":1.1428571428571428},{"$f":"OFFSET(Data!H38,Offsets!$A$28,0)","v":0.8571428571428571},{"$f":"OFFSET(Data!I38,Offsets!$A$28,0)","v":0.14285714285714285},{"$f":"OFFSET(Data!J38,Offsets!$A$28,0)","v":0.14285714285714285},{"$f":"OFFSET(Data!K38,Offsets!$A$28,0)","v":0.2857142857142857},{"$f":"OFFSET(Data!L38,Offsets!$A$28,0)","v":1},{"$f":"OFFSET(Data!M38,Offsets!$A$28,0)","v":0},{"$f":"OFFSET(Data!N38,Offsets!$A$28,0)","v":0.14285714285714285},115.14285714285714,null,{"$f":"OFFSET(Data!AO38,Offsets!$A$28,0)","v":0.8571428571428571},{"$f":"OFFSET(Data!AP38,Offsets!$A$28,0)","v":71.142857142857139},{"$f":"OFFSET(Data!AQ38,Offsets!$A$28,0)","v":1},{"$f":"OFFSET(Data!AR38,Offsets!$A$28,0)","v":8.4285714285714288},{"$f":"OFFSET(Data!AS38,Offsets!$A$28,0)","v":0.8571428571428571},{"$f":"OFFSET(Data!AT38,Offsets!$A$28,0)","v":1},{"$f":"OFFSET(Data!AU38,Offsets!$A$28,0)","v":0},{"$f":"OFFSET(Data!AV38,Offsets!$A$28,0)","v":1},{"$f":"OFFSET(Data!AW38,Offsets!$A$28,0)","v":0.5714285714285714},{"$f":"OFFSET(Data!AX38,Offsets!$A$28,0)","v":0.14285714285714285},{"$f":"OFFSET(Data!AY38,Offsets!$A$28,0)","v":0},{"$f":"OFFSET(Data!AZ38,Offsets!$A$28,0)","v":0},85,null,2.5714285714285712,173.57142857142856,1.4285714285714286,15.285714285714285,2,1.8571428571428572,0.14285714285714285,1.1428571428571428,0.8571428571428571,1.1428571428571428,0,0.14285714285714285,200.14285714285711]
[null,"08:30:00",{"$f":"OFFSET(Data!C39,Offsets!$A$28,0)","v":1.1428571428571428},{"$f":"OFFSET(Data!D39,Offsets!$A$28,0)","v":81.714285714285708},{"$f":"OFFSET(Data!E39,Offsets!$A$28,0)","v":0.8571428571428571},{"$f":"OFFSET(Data!F39,Offsets!$A$28,0)","v":5.8571428571428568},{"$f":"OFFSET(Data!G39,Offsets!$A$28,0)","v":1.7142857142857142},{"$f":"OFFSET(Data!H39,Offsets!$A$28,0)","v":0.14285714285714285},{"$f":"OFFSET(Data!I39,Offsets!$A$28,0)","v":0.14285714285714285},{"$f":"OFFSET(Data!J39,Offsets!$A$28,0)","v":0.2857142857142857},{"$f":"OFFSET(Data!K39,Offsets!$A$28,0)","v":0.14285714285714285},{"$f":"OFFSET(Data!L39,Offsets!$A$28,0)","v":0.42857142857142855},{"$f":"OFFSET(Data!M39,Offsets!$A$28,0)","v":0},{"$f":"OFFSET(Data!N39,Offsets!$A$28,0)","v":0},92.428571428571416,null,{"$f":"OFFSET(Data!AO39,Offsets!$A$28,0)","v":0.5714285714285714},{"$f":"OFFSET(Data!AP39,Offsets!$A$28,0)","v":66.571428571428569},{"$f":"OFFSET(Data!AQ39,Offsets!$A$28,0)","v":0.8571428571428571},{"$f":"OFFSET(Data!AR39,Offsets!$A$28,0)","v":8.4285714285714288},{"$f":"OFFSET(Data!AS39,Offsets!$A$28,0)","v":0.42857142857142855},{"$f":"OFFSET(Data!AT39,Offsets!$A$28,0)","v":0.7142857142857143},{"$f":"OFFSET(Data!AU39,Offsets!$A$28,0)","v":0},{"$f":"OFFSET(Data!AV39,Offsets!$A$28,0)","v":0.7142857142857143},{"$f":"OFFSET(Data!AW39,Offsets!$A$28,0)","v":0.42857142857142855},{"$f":"OFFSET(Data!AX39,Offsets!$A$28,0)","v":0.5714285714285714},{"$f":"OFFSET(Data!AY39,Offsets!$A$28,0)","v":0},{"$f":"OFFSET(Data!AZ39,Offsets!$A$28,0)","v":0},79.285714285714278,null,1.7142857142857142,148.28571428571428,1.7142857142857142,14.285714285714285,2.1428571428571428,0.85714285714285721,0.14285714285714285,1,0.5714285714285714,1,0,0,171.71428571428572]
[null,"08:45:00",{"$f":"OFFSET(Data!C40,Offsets!$A$28,0)","v":2},{"$f":"OFFSET(Data!D40,Offsets!$A$28,0)","v":76},{"$f":"OFFSET(Data!E40,Offsets!$A$28,0)","v":1.1428571428571428},{"$f":"OFFSET(Data!F40,Offsets!$A$28,0)","v":5.8571428571428568},{"$f":"OFFSET(Data!G40,Offsets!$A$28,0)","v":0.7142857142857143},{"$f":"OFFSET(Data!H40,Offsets!$A$28,0)","v":0.2857142857142857},{"$f":"OFFSET(Data!I40,Offsets!$A$28,0)","v":0.2857142857142857},{"$f":"OFFSET(Data!J40,Offsets!$A$28,0)","v":0.2857142857142857},{"$f":"OFFSET(Data!K40,Offsets!$A$28,0)","v":0},{"$f":"OFFSET(Data!L40,Offsets!$A$28,0)","v":0.42857142857142855},{"$f":"OFFSET(Data!M40,Offsets!$A$28,0)","v":0},{"$f":"OFFSET(Data!N40,Offsets!$A$28,0)","v":0},87.000000000000014,null,{"$f":"OFFSET(Data!AO40,Offsets!$A$28,0)","v":0.5714285714285714},{"$f":"OFFSET(Data!AP40,Offsets!$A$28,0)","v":63.857142857142854},{"$f":"OFFSET(Data!AQ40,Offsets!$A$28,0)","v":0.42857142857142855},{"$f":"OFFSET(Data!AR40,Offsets!$A$28,0)","v":5.5714285714285712},{"$f":"OFFSET(Data!AS40,Offsets!$A$28,0)","v":0},{"$f":"OFFSET(Data!AT40,Offsets!$A$28,0)","v":1},{"$f":"OFFSET(Data!AU40,Offsets!$A$28,0)","v":0.14285714285714285},{"$f":"OFFSET(Data!AV40,Offsets!$A$28,0)","v":0.5714285714285714},{"$f":"OFFSET(Data!AW40,Offsets!$A$28,0)","v":0.5714285714285714},{"$f":"OFFSET(Data!AX40,Offsets!$A$28,0)","v":0.5714285714285714},{"$f":"OFFSET(Data!AY40,Offsets!$A$28,0)","v":0},{"$f":"OFFSET(Data!AZ40,Offsets!$A$28,0)","v":0.14285714285714285},73.428571428571416,null,2.5714285714285712,139.85714285714286,1.5714285714285714,11.428571428571427,0.7142857142857143,1.2857142857142856,0.42857142857142855,0.8571428571428571,0.5714285714285714,1,0,0.14285714285714285,160.42857142857144]
[null,"09:00:00",{"$f":"OFFSET(Data!C41,Offsets!$A$28,0)","v":0.5714285714285714},{"$f":"OFFSET(Data!D41,Offsets!$A$28,0)","v":81.571428571428569},{"$f":"OFFSET(Data!E41,Offsets!$A$28,0)","v":0.8571428571428571},{"$f":"OFFSET(Data!F41,Offsets!$A$28,0)","v":6.1428571428571432},{"$f":"OFFSET(Data!G41,Offsets!$A$28,0)","v":0.2857142857142857},{"$f":"OFFSET(Data!H41,Offsets!$A$28,0)","v":0.2857142857142857},{"$f":"OFFSET(Data!I41,Offsets!$A$28,0)","v":0},{"$f":"OFFSET(Data!J41,Offsets!$A$28,0)","v":0.14285714285714285},{"$f":"OFFSET(Data!K41,Offsets!$A$28,0)","v":0},{"$f":"OFFSET(Data!L41,Offsets!$A$28,0)","v":0.42857142857142855},{"$f":"OFFSET(Data!M41,Offsets!$A$28,0)","v":0},{"$f":"OFFSET(Data!N41,Offsets!$A$28,0)","v":0.14285714285714285},90.428571428571431,null,{"$f":"OFFSET(Data!AO41,Offsets!$A$28,0)","v":0.8571428571428571},{"$f":"OFFSET(Data!AP41,Offsets!$A$28,0)","v":59},{"$f":"OFFSET(Data!AQ41,Offsets!$A$28,0)","v":1.1428571428571428},{"$f":"OFFSET(Data!AR41,Offsets!$A$28,0)","v":8.8571428571428577},{"$f":"OFFSET(Data!AS41,Offsets!$A$28,0)","v":1},{"$f":"OFFSET(Data!AT41,Offsets!$A$28,0)","v":0.42857142857142855},{"$f":"OFFSET(Data!AU41,Offsets!$A$28,0)","v":0},{"$f":"OFFSET(Data!AV41,Offsets!$A$28,0)","v":0.14285714285714285},{"$f":"OFFSET(Data!AW41,Offsets!$A$28,0)","v":0.2857142857142857},{"$f":"OFFSET(Data!AX41,Offsets!$A$28,0)","v":0.2857142857142857},{"$f":"OFFSET(Data!AY41,Offsets!$A$28,0)","v":0.14285714285714285},{"$f":"OFFSET(Data!AZ41,Offsets!$A$28,0)","v":0.14285714285714285},72.285714285714292,null,1.4285714285714284,140.57142857142856,2,15,1.2857142857142856,0.71428571428571419,0,0.2857142857142857,0.2857142857142857,0.71428571428571419,0.14285714285714285,0.2857142857142857,162.71428571428567]
[null,"09:15:00",{"$f":"OFFSET(Data!C42,Offsets!$A$28,0)","v":0.7142857142857143},{"$f":"OFFSET(Data!D42,Offsets!$A$28,0)","v":71.714285714285708},{"$f":"OFFSET(Data!E42,Offsets!$A$28,0)","v":0.7142857142857143},{"$f":"OFFSET(Data!F42,Offsets!$A$28,0)","v":6},{"$f":"OFFSET(Data!G42,Offsets!$A$28,0)","v":0.8571428571428571},{"$f":"OFFSET(Data!H42,Offsets!$A$28,0)","v":0.42857142857142855},{"$f":"OFFSET(Data!I42,Offsets!$A$28,0)","v":0.14285714285714285},{"$f":"OFFSET(Data!J42,Offsets!$A$28,0)","v":0},{"$f":"OFFSET(Data!K42,Offsets!$A$28,0)","v":0.42857142857142855},{"$f":"OFFSET(Data!L42,Offsets!$A$28,0)","v":0.7142857142857143},{"$f":"OFFSET(Data!M42,Offsets!$A$28,0)","v":0.14285714285714285},{"$f":"OFFSET(Data!N42,Offsets!$A$28,0)","v":0},81.857142857142833,null,{"$f":"OFFSET(Data!AO42,Offsets!$A$28,0)","v":0.5714285714285714},{"$f":"OFFSET(Data!AP42,Offsets!$A$28,0)","v":59},{"$f":"OFFSET(Data!AQ42,Offsets!$A$28,0)","v":0.7142857142857143},{"$f":"OFFSET(Data!AR42,Offsets!$A$28,0)","v":8.4285714285714288},{"$f":"OFFSET(Data!AS42,Offsets!$A$28,0)","v":0.2857142857142857},{"$f":"OFFSET(Data!AT42,Offsets!$A$28,0)","v":0.5714285714285714},{"$f":"OFFSET(Data!AU42,Offsets!$A$28,0)","v":0},{"$f":"OFFSET(Data!AV42,Offsets!$A$28,0)","v":0.14285714285714285},{"$f":"OFFSET(Data!AW42,Offsets!$A$28,0)","v":0.14285714285714285},{"$f":"OFFSET(Data!AX42,Offsets!$A$28,0)","v":0.5714285714285714},{"$f":"OFFSET(Data!AY42,Offsets!$A$28,0)","v":0},{"$f":"OFFSET(Data!AZ42,Offsets!$A$28,0)","v":0.14285714285714285},70.571428571428555,null,1.2857142857142856,130.71428571428572,1.4285714285714286,14.428571428571429,1.1428571428571428,1,0.14285714285714285,0.14285714285714285,0.5714285714285714,1.2857142857142856,0.14285714285714285,0.14285714285714285,152.42857142857139]
[null,"09:30:00",{"$f":"OFFSET(Data!C43,Offsets!$A$28,0)","v":1},{"$f":"OFFSET(Data!D43,Offsets!$A$28,0)","v":69.428571428571431},{"$f":"OFFSET(Data!E43,Offsets!$A$28,0)","v":1},{"$f":"OFFSET(Data!F43,Offsets!$A$28,0)","v":7.8571428571428568},{"$f":"OFFSET(Data!G43,Offsets!$A$28,0)","v":1},{"$f":"OFFSET(Data!H43,Offsets!$A$28,0)","v":0.8571428571428571},{"$f":"OFFSET(Data!I43,Offsets!$A$28,0)","v":0},{"$f":"OFFSET(Data!J43,Offsets!$A$28,0)","v":0.14285714285714285},{"$f":"OFFSET(Data!K43,Offsets!$A$28,0)","v":0.2857142857142857},{"$f":"OFFSET(Data!L43,Offsets!$A$28,0)","v":3},{"$f":"OFFSET(Data!M43,Offsets!$A$28,0)","v":0.2857142857142857},{"$f":"OFFSET(Data!N43,Offsets!$A$28,0)","v":0.14285714285714285},85.000000000000014,null,{"$f":"OFFSET(Data!AO43,Offsets!$A$28,0)","v":1.7142857142857142},{"$f":"OFFSET(Data!AP43,Offsets!$A$28,0)","v":60},{"$f":"OFFSET(Data!AQ43,Offsets!$A$28,0)","v":1.1428571428571428},{"$f":"OFFSET(Data!AR43,Offsets!$A$28,0)","v":7.4285714285714288},{"$f":"OFFSET(Data!AS43,Offsets!$A$28,0)","v":0.42857142857142855},{"$f":"OFFSET(Data!AT43,Offsets!$A$28,0)","v":0.5714285714285714},{"$f":"OFFSET(Data!AU43,Offsets!$A$28,0)","v":0},{"$f":"OFFSET(Data!AV43,Offsets!$A$28,0)","v":0.5714285714285714},{"$f":"OFFSET(Data!AW43,Offsets!$A$28,0)","v":0.42857142857142855},{"$f":"OFFSET(Data!AX43,Offsets!$A$28,0)","v":0.5714285714285714},{"$f":"OFFSET(Data!AY43,Offsets!$A$28,0)","v":0},{"$f":"OFFSET(Data!AZ43,Offsets!$A$28,0)","v":0},72.857142857142861,null,2.7142857142857144,129.42857142857144,2.1428571428571428,15.285714285714285,1.4285714285714286,1.4285714285714284,0,0.71428571428571419,0.71428571428571419,3.5714285714285712,0.2857142857142857,0.14285714285714285,157.85714285714286]
[null,"09:45:00",{"$f":"OFFSET(Data!C44,Offsets!$A$28,0)","v":0.8571428571428571},{"$f":"OFFSET(Data!D44,Offsets!$A$28,0)","v":67.714285714285708},{"$f":"OFFSET(Data!E44,Offsets!$A$28,0)","v":1.1428571428571428},{"$f":"OFFSET(Data!F44,Offsets!$A$28,0)","v":7.5714285714285712},{"$f":"OFFSET(Data!G44,Offsets!$A$28,0)","v":0.5714285714285714},{"$f":"OFFSET(Data!H44,Offsets!$A$28,0)","v":0.2857142857142857},{"$f":"OFFSET(Data!I44,Offsets!$A$28,0)","v":0.14285714285714285},{"$f":"OFFSET(Data!J44,Offsets!$A$28,0)","v":0.14285714285714285},{"$f":"OFFSET(Data!K44,Offsets!$A$28,0)","v":0.14285714285714285},{"$f":"OFFSET(Data!L44,Offsets!$A$28,0)","v":1.8571428571428572},{"$f":"OFFSET(Data!M44,Offsets!$A$28,0)","v":0.2857142857142857},{"$f":"OFFSET(Data!N44,Offsets!$A$28,0)","v":0.14285714285714285},80.857142857142847,null,{"$f":"OFFSET(Data!AO44,Offsets!$A$28,0)","v":2},{"$f":"OFFSET(Data!AP44,Offsets!$A$28,0)","v":58.285714285714285},{"$f":"OFFSET(Data!AQ44,Offsets!$A$28,0)","v":1.1428571428571428},{"$f":"OFFSET(Data!AR44,Offsets!$A$28,0)","v":8.7142857142857135},{"$f":"OFFSET(Data!AS44,Offsets!$A$28,0)","v":0.5714285714285714},{"$f":"OFFSET(Data!AT44,Offsets!$A$28,0)","v":0.2857142857142857},{"$f":"OFFSET(Data!AU44,Offsets!$A$28,0)","v":0},{"$f":"OFFSET(Data!AV44,Offsets!$A$28,0)","v":1.1428571428571428},{"$f":"OFFSET(Data!AW44,Offsets!$A$28,0)","v":0.42857142857142855},{"$f":"OFFSET(Data!AX44,Offsets!$A$28,0)","v":0.42857142857142855},{"$f":"OFFSET(Data!AY44,Offsets!$A$28,0)","v":0.42857142857142855},{"$f":"OFFSET(Data!AZ44,Offsets!$A$28,0)","v":0},73.428571428571431,null,2.8571428571428572,126,2.2857142857142856,16.285714285714285,1.1428571428571428,0.5714285714285714,0.14285714285714285,1.2857142857142856,0.5714285714285714,2.2857142857142856,0.71428571428571419,0.14285714285714285,154.28571428571428]
[null,"10:00:00",{"$f":"OFFSET(Data!C45,Offsets!$A$28,0)","v":1.1428571428571428},{"$f":"OFFSET(Data!D45,Offsets!$A$28,0)","v":65.428571428571431},{"$f":"OFFSET(Data!E45,Offsets!$A$28,0)","v":0.5714285714285714},{"$f":"OFFSET(Data!F45,Offsets!$A$28,0)","v":6.7142857142857144},{"$f":"OFFSET(Data!G45,Offsets!$A$28,0)","v":1},{"$f":"OFFSET(Data!H45,Offsets!$A$28,0)","v":0.14285714285714285},{"$f":"OFFSET(Data!I45,Offsets!$A$28,0)","v":0},{"$f":"OFFSET(Data!J45,Offsets!$A$28,0)","v":0.42857142857142855},{"$f":"OFFSET(Data!K45,Offsets!$A$28,0)","v":0.2857142857142857},{"$f":"OFFSET(Data!L45,Offsets!$A$28,0)","v":0.8571428571428571},{"$f":"OFFSET(Data!M45,Offsets!$A$28,0)","v":0},{"$f":"OFFSET(Data!N45,Offsets!$A$28,0)","v":0},76.571428571428569,null,{"$f":"OFFSET(Data!AO45,Offsets!$A$28,0)","v":0.5714285714285714},{"$f":"OFFSET(Data!AP45,Offsets!$A$28,0)","v":52.285714285714285},{"$f":"OFFSET(Data!AQ45,Offsets!$A$28,0)","v":0.7142857142857143},{"$f":"OFFSET(Data!AR45,Offsets!$A$28,0)","v":7.7142857142857144},{"$f":"OFFSET(Data!AS45,Offsets!$A$28,0)","v":0.7142857142857143},{"$f":"OFFSET(Data!AT45,Offsets!$A$28,0)","v":1},{"$f":"OFFSET(Data!AU45,Offsets!$A$28,0)","v":0},{"$f":"OFFSET(Data!AV45,Offsets!$A$28,0)","v":1.1428571428571428},{"$f":"OFFSET(Data!AW45,Offsets!$A$28,0)","v":0.8571428571428571},{"$f":"OFFSET(Data!AX45,Offsets!$A$28,0)","v":0.2857142857142857},{"$f":"OFFSET(Data!AY45,Offsets!$A$28,0)","v":0},{"$f":"OFFSET(Data!AZ45,Offsets!$A$28,0)","v":0.14285714285714285},65.428571428571431,null,1.7142857142857142,117.71428571428572,1.2857142857142856,14.428571428571429,1.7142857142857144,1.1428571428571428,0,1.5714285714285714,1.1428571428571428,1.1428571428571428,0,0.14285714285714285,142]
[null,"10:15:00",{"$f":"OFFSET(Data!C46,Offsets!$A$28,0)","v":1.1428571428571428},{"$f":"OFFSET(Data!D46,Offsets!$A$28,0)","v":75},{"$f":"OFFSET(Data!E46,Offsets!$A$28,0)","v":1.2857142857142858},{"$f":"OFFSET(Data!F46,Offsets!$A$28,0)","v":6.1428571428571432},{"$f":"OFFSET(Data!G46,Offsets!$A$28,0)","v":0.7142857142857143},{"$f":"OFFSET(Data!H46,Offsets!$A$28,0)","v":0.7142857142857143},{"$f":"OFFSET(Data!I46,Offsets!$A$28,0)","v":0},{"$f":"OFFSET(Data!J46,Offsets!$A$28,0)","v":0.14285714285714285},{"$f":"OFFSET(Data!K46,Offsets!$A$28,0)","v":0.42857142857142855},{"$f":"OFFSET(Data!L46,Offsets!$A$28,0)","v":0.42857142857142855},{"$f":"OFFSET(Data!M46,Offsets!$A$28,0)","v":0},{"$f":"OFFSET(Data!N46,Offsets!$A$28,0)","v":0.14285714285714285},86.142857142857125,null,{"$f":"OFFSET(Data!AO46,Offsets!$A$28,0)","v":2.4285714285714284},{"$f":"OFFSET(Data!AP46,Offsets!$A$28,0)","v":54.571428571428569},{"$f":"OFFSET(Data!AQ46,Offsets!$A$28,0)","v":0.7142857142857143},{"$f":"OFFSET(Data!AR46,Offsets!$A$28,0)","v":6.2857142857142856},{"$f":"OFFSET(Data!AS46,Offsets!$A$28,0)","v":0.14285714285714285},{"$f":"OFFSET(Data!AT46,Offsets!$A$28,0)","v":0.5714285714285714},{"$f":"OFFSET(Data!AU46,Offsets!$A$28,0)","v":0},{"$f":"OFFSET(Data!AV46,Offsets!$A$28,0)","v":0.8571428571428571},{"$f":"OFFSET(Data!AW46,Offsets!$A$28,0)","v":0.2857142857142857},{"$f":"OFFSET(Data!AX46,Offsets!$A$28,0)","v":0.7142857142857143},{"$f":"OFFSET(Data!AY46,Offsets!$A$28,0)","v":0},{"$f":"OFFSET(Data!AZ46,Offsets!$A$28,0)","v":0},66.571428571428569,null,3.5714285714285712,129.57142857142856,2,12.428571428571429,0.85714285714285721,1.2857142857142856,0,1,0.71428571428571419,1.1428571428571428,0,0.14285714285714285,152.71428571428569]
[null,"10:30:00",{"$f":"OFFSET(Data!C47,Offsets!$A$28,0)","v":1.4285714285714286},{"$f":"OFFSET(Data!D47,Offsets!$A$28,0)","v":77.714285714285708},{"$f":"OFFSET(Data!E47,Offsets!$A$28,0)","v":0.8571428571428571},{"$f":"OFFSET(Data!F47,Offsets!$A$28,0)","v":8.2857142857142865},{"$f":"OFFSET(Data!G47,Offsets!$A$28,0)","v":0.7142857142857143},{"$f":"OFFSET(Data!H47,Offsets!$A$28,0)","v":0.2857142857142857},{"$f":"OFFSET(Data!I47,Offsets!$A$28,0)","v":0},{"$f":"OFFSET(Data!J47,Offsets!$A$28,0)","v":0.14285714285714285},{"$f":"OFFSET(Data!K47,Offsets!$A$28,0)","v":0.42857142857142855},{"$f":"OFFSET(Data!L47,Offsets!$A$28,0)","v":1},{"$f":"OFFSET(Data!M47,Offsets!$A$28,0)","v":0},{"$f":"OFFSET(Data!N47,Offsets!$A$28,0)","v":0},90.857142857142861,null,{"$f":"OFFSET(Data!AO47,Offsets!$A$28,0)","v":2.1428571428571428},{"$f":"OFFSET(Data!AP47,Offsets!$A$28,0)","v":65.428571428571431},{"$f":"OFFSET(Data!AQ47,Offsets!$A$28,0)","v":0.7142857142857143},{"$f":"OFFSET(Data!AR47,Offsets!$A$28,0)","v":9.8571428571428577},{"$f":"OFFSET(Data!AS47,Offsets!$A$28,0)","v":0.5714285714285714},{"$f":"OFFSET(Data!AT47,Offsets!$A$28,0)","v":0.7142857142857143},{"$f":"OFFSET(Data!AU47,Offsets!$A$28,0)","v":0},{"$f":"OFFSET(Data!AV47,Offsets!$A$28,0)","v":0},{"$f":"OFFSET(Data!AW47,Offsets!$A$28,0)","v":0.5714285714285714},{"$f":"OFFSET(Data!AX47,Offsets!$A$28,0)","v":0.2857142857142857},{"$f":"OFFSET(Data!AY47,Offsets!$A$28,0)","v":0},{"$f":"OFFSET(Data!AZ47,Offsets!$A$28,0)","v":0},80.285714285714278,null,3.5714285714285712,143.14285714285714,1.5714285714285714,18.142857142857146,1.2857142857142856,1,0,0.14285714285714285,1,1.2857142857142856,0,0,171.14285714285714]
[null,"10:45:00",{"$f":"OFFSET(Data!C48,Offsets!$A$28,0)","v":1.4285714285714286},{"$f":"OFFSET(Data!D48,Offsets!$A$28,0)","v":82.571428571428569},{"$f":"OFFSET(Data!E48,Offsets!$A$28,0)","v":0.5714285714285714},{"$f":"OFFSET(Data!F48,Offsets!$A$28,0)","v":9.2857142857142865},{"$f":"OFFSET(Data!G48,Offsets!$A$28,0)","v":0.2857142857142857},{"$f":"OFFSET(Data!H48,Offsets!$A$28,0)","v":0.7142857142857143},{"$f":"OFFSET(Data!I48,Offsets!$A$28,0)","v":0},{"$f":"OFFSET(Data!J48,Offsets!$A$28,0)","v":0.2857142857142857},{"$f":"OFFSET(Data!K48,Offsets!$A$28,0)","v":0.42857142857142855},{"$f":"OFFSET(Data!L48,Offsets!$A$28,0)","v":0.8571428571428571},{"$f":"OFFSET(Data!M48,Offsets!$A$28,0)","v":0},{"$f":"OFFSET(Data!N48,Offsets!$A$28,0)","v":0},96.428571428571445,null,{"$f":"OFFSET(Data!AO48,Offsets!$A$28,0)","v":1.4285714285714286},{"$f":"OFFSET(Data!AP48,Offsets!$A$28,0)","v":65.857142857142861},{"$f":"OFFSET(Data!AQ48,Offsets!$A$28,0)","v":0.7142857142857143},{"$f":"OFFSET(Data!AR48,Offsets!$A$28,0)","v":6.2857142857142856},{"$f":"OFFSET(Data!AS48,Offsets!$A$28,0)","v":0.2857142857142857},{"$f":"OFFSET(Data!AT48,Offsets!$A$28,0)","v":0.7142857142857143},{"$f":"OFFSET(Data!AU48,Offsets!$A$28,0)","v":0},{"$f":"OFFSET(Data!AV48,Offsets!$A$28,0)","v":0.14285714285714285},{"$f":"OFFSET(Data!AW48,Offsets!$A$28,0)","v":0},{"$f":"OFFSET(Data!AX48,Offsets!$A$28,0)","v":0.7142857142857143},{"$f":"OFFSET(Data!AY48,Offsets!$A$28,0)","v":0},{"$f":"OFFSET(Data!AZ48,Offsets!$A$28,0)","v":0},76.142857142857139,null,2.8571428571428572,148.42857142857144,1.2857142857142856,15.571428571428573,0.5714285714285714,1.4285714285714286,0,0.42857142857142855,0.42857142857142855,1.5714285714285714,0,0,172.57142857142858]
[null,"11:00:00",{"$f":"OFFSET(Data!C49,Offsets!$A$28,0)","v":1},{"$f":"OFFSET(Data!D49,Offsets!$A$28,0)","v":74},{"$f":"OFFSET(Data!E49,Offsets!$A$28,0)","v":0.5714285714285714},{"$f":"OFFSET(Data!F49,Offsets!$A$28,0)","v":8.7142857142857135},{"$f":"OFFSET(Data!G49,Offsets!$A$28,0)","v":0.8571428571428571},{"$f":"OFFSET(Data!H49,Offsets!$A$28,0)","v":0.5714285714285714},{"$f":"OFFSET(Data!I49,Offsets!$A$28,0)","v":0},{"$f":"OFFSET(Data!J49,Offsets!$A$28,0)","v":0.14285714285714285},{"$f":"OFFSET(Data!K49,Offsets!$A$28,0)","v":0.2857142857142857},{"$f":"OFFSET(Data!L49,Offsets!$A$28,0)","v":0.5714285714285714},{"$f":"OFFSET(Data!M49,Offsets!$A$28,0)","v":0},{"$f":"OFFSET(Data!N49,Offsets!$A$28,0)","v":0},86.714285714285708,null,{"$f":"OFFSET(Data!AO49,Offsets!$A$28,0)","v":1.2857142857142858},{"$f":"OFFSET(Data!AP49,Offsets!$A$28,0)","v":63},{"$f":"OFFSET(Data!AQ49,Offsets!$A$28,0)","v":0.8571428571428571},{"$f":"OFFSET(Data!AR49,Offsets!$A$28,0)","v":7.2857142857142856},{"$f":"OFFSET(Data!AS49,Offsets!$A$28,0)","v":0.14285714285714285},{"$f":"OFFSET(Data!AT49,Offsets!$A$28,0)","v":0.2857142857142857},{"$f":"OFFSET(Data!AU49,Offsets!$A$28,0)","v":0},{"$f":"OFFSET(Data!AV49,Offsets!$A$28,0)","v":0.2857142857142857},{"$f":"OFFSET(Data!AW49,Offsets!$A$28,0)","v":0.2857142857142857},{"$f":"OFFSET(Data!AX49,Offsets!$A$28,0)","v":0.2857142857142857},{"$f":"OFFSET(Data!AY49,Offsets!$A$28,0)","v":0},{"$f":"OFFSET(Data!AZ49,Offsets!$A$28,0)","v":0},73.714285714285751,null,2.2857142857142856,137,1.4285714285714284,16,1,0.8571428571428571,0,0.42857142857142855,0.5714285714285714,0.8571428571428571,0,0,160.42857142857142]
[null,"11:15:00",{"$f":"OFFSET(Data!C50,Offsets!$A$28,0)","v":1},{"$f":"OFFSET(Data!D50,Offsets!$A$28,0)","v":81.571428571428569},{"$f":"OFFSET(Data!E50,Offsets!$A$28,0)","v":1.4285714285714286},{"$f":"OFFSET(Data!F50,Offsets!$A$28,0)","v":8.4285714285714288},{"$f":"OFFSET(Data!G50,Offsets!$A$28,0)","v":0.42857142857142855},{"$f":"OFFSET(Data!H50,Offsets!$A$28,0)","v":0.14285714285714285},{"$f":"OFFSET(Data!I50,Offsets!$A$28,0)","v":0},{"$f":"OFFSET(Data!J50,Offsets!$A$28,0)","v":0},{"$f":"OFFSET(Data!K50,Offsets!$A$28,0)","v":0.42857142857142855},{"$f":"OFFSET(Data!L50,Offsets!$A$28,0)","v":0.8571428571428571},{"$f":"OFFSET(Data!M50,Offsets!$A$28,0)","v":0},{"$f":"OFFSET(Data!N50,Offsets!$A$28,0)","v":0},94.285714285714292,null,{"$f":"OFFSET(Data!AO50,Offsets!$A$28,0)","v":2.1428571428571428},{"$f":"OFFSET(Data!AP50,Offsets!$A$28,0)","v":62.285714285714285},{"$f":"OFFSET(Data!AQ50,Offsets!$A$28,0)","v":0.8571428571428571},{"$f":"OFFSET(Data!AR50,Offsets!$A$28,0)","v":7.5714285714285712},{"$f":"OFFSET(Data!AS50,Offsets!$A$28,0)","v":0.42857142857142855},{"$f":"OFFSET(Data!AT50,Offsets!$A$28,0)","v":0.5714285714285714},{"$f":"OFFSET(Data!AU50,Offsets!$A$28,0)","v":0},{"$f":"OFFSET(Data!AV50,Offsets!$A$28,0)","v":0.14285714285714285},{"$f":"OFFSET(Data!AW50,Offsets!$A$28,0)","v":0.2857142857142857},{"$f":"OFFSET(Data!AX50,Offsets!$A$28,0)","v":0.8571428571428571},{"$f":"OFFSET(Data!AY50,Offsets!$A$28,0)","v":0},{"$f":"OFFSET(Data!AZ50,Offsets!$A$28,0)","v":0},75.142857142857153,null,3.1428571428571428,143.85714285714286,2.2857142857142856,16,0.8571428571428571,0.71428571428571419,0,0.14285714285714285,0.71428571428571419,1.7142857142857142,0,0,169.42857142857144]
[null,"11:30:00",{"$f":"OFFSET(Data!C51,Offsets!$A$28,0)","v":0.42857142857142855},{"$f":"OFFSET(Data!D51,Offsets!$A$28,0)","v":77.428571428571431},{"$f":"OFFSET(Data!E51,Offsets!$A$28,0)","v":1.2857142857142858},{"$f":"OFFSET(Data!F51,Offsets!$A$28,0)","v":8.7142857142857135},{"$f":"OFFSET(Data!G51,Offsets!$A$28,0)","v":1},{"$f":"OFFSET(Data!H51,Offsets!$A$28,0)","v":0.2857142857142857},{"$f":"OFFSET(Data!I51,Offsets!$A$28,0)","v":0},{"$f":"OFFSET(Data!J51,Offsets!$A$28,0)","v":0},{"$f":"OFFSET(Data!K51,Offsets!$A$28,0)","v":0.14285714285714285},{"$f":"OFFSET(Data!L51,Offsets!$A$28,0)","v":1.4285714285714286},{"$f":"OFFSET(Data!M51,Offsets!$A$28,0)","v":0.14285714285714285},{"$f":"OFFSET(Data!N51,Offsets!$A$28,0)","v":0},90.857142857142861,null,{"$f":"OFFSET(Data!AO51,Offsets!$A$28,0)","v":2},{"$f":"OFFSET(Data!AP51,Offsets!$A$28,0)","v":71.571428571428569},{"$f":"OFFSET(Data!AQ51,Offsets!$A$28,0)","v":1},{"$f":"OFFSET(Data!AR51,Offsets!$A$28,0)","v":8.2857142857142865},{"$f":"OFFSET(Data!AS51,Offsets!$A$28,0)","v":0.2857142857142857},{"$f":"OFFSET(Data!AT51,Offsets!$A$28,0)","v":0.7142857142857143},{"$f":"OFFSET(Data!AU51,Offsets!$A$28,0)","v":0},{"$f":"OFFSET(Data!AV51,Offsets!$A$28,0)","v":0.14285714285714285},{"$f":"OFFSET(Data!AW51,Offsets!$A$28,0)","v":0.2857142857142857},{"$f":"OFFSET(Data!AX51,Offsets!$A$28,0)","v":0.42857142857142855},{"$f":"OFFSET(Data!AY51,Offsets!$A$28,0)","v":0},{"$f":"OFFSET(Data!AZ51,Offsets!$A$28,0)","v":0},84.714285714285722,null,2.4285714285714284,149,2.2857142857142856,17,1.2857142857142856,1,0,0.14285714285714285,0.42857142857142855,1.8571428571428572,0.14285714285714285,0,175.57142857142853]
[null,"11:45:00",{"$f":"OFFSET(Data!C52,Offsets!$A$28,0)","v":2.8571428571428572},{"$f":"OFFSET(Data!D52,Offsets!$A$28,0)","v":85.142857142857139},{"$f":"OFFSET(Data!E52,Offsets!$A$28,0)","v":1.2857142857142858},{"$f":"OFFSET(Data!F52,Offsets!$A$28,0)","v":7.8571428571428568},{"$f":"OFFSET(Data!G52,Offsets!$A$28,0)","v":0.8571428571428571},{"$f":"OFFSET(Data!H52,Offsets!$A$28,0)","v":0.7142857142857143},{"$f":"OFFSET(Data!I52,Offsets!$A$28,0)","v":0},{"$f":"OFFSET(Data!J52,Offsets!$A$28,0)","v":0.14285714285714285},{"$f":"OFFSET(Data!K52,Offsets!$A$28,0)","v":0},{"$f":"OFFSET(Data!L52,Offsets!$A$28,0)","v":1},{"$f":"OFFSET(Data!M52,Offsets!$A$28,0)","v":0},{"$f":"OFFSET(Data!N52,Offsets!$A$28,0)","v":0},99.857142857142861,null,{"$f":"OFFSET(Data!AO52,Offsets!$A$28,0)","v":0.8571428571428571},{"$f":"OFFSET(Data!AP52,Offsets!$A$28,0)","v":67.714285714285708},{"$f":"OFFSET(Data!AQ52,Offsets!$A$28,0)","v":0.5714285714285714},{"$f":"OFFSET(Data!AR52,Offsets!$A$28,0)","v":8},{"$f":"OFFSET(Data!AS52,Offsets!$A$28,0)","v":0.14285714285714285},{"$f":"OFFSET(Data!AT52,Offsets!$A$28,0)","v":0.5714285714285714},{"$f":"OFFSET(Data!AU52,Offsets!$A$28,0)","v":0.14285714285714285},{"$f":"OFFSET(Data!AV52,Offsets!$A$28,0)","v":0.7142857142857143},{"$f":"OFFSET(Data!AW52,Offsets!$A$28,0)","v":0.2857142857142857},{"$f":"OFFSET(Data!AX52,Offsets!$A$28,0)","v":1},{"$f":"OFFSET(Data!AY52,Offsets!$A$28,0)","v":0},{"$f":"OFFSET(Data!AZ52,Offsets!$A$28,0)","v":0},79.999999999999986,null,3.7142857142857144,152.85714285714283,1.8571428571428572,15.857142857142858,1,1.2857142857142856,0.14285714285714285,0.85714285714285721,0.2857142857142857,2,0,0,179.85714285714283]
[null,"12:00:00",{"$f":"OFFSET(Data!C53,Offsets!$A$28,0)","v":2},{"$f":"OFFSET(Data!D53,Offsets!$A$28,0)","v":81.285714285714292},{"$f":"OFFSET(Data!E53,Offsets!$A$28,0)","v":0.42857142857142855},{"$f":"OFFSET(Data!F53,Offsets!$A$28,0)","v":6.4285714285714288},{"$f":"OFFSET(Data!G53,Offsets!$A$28,0)","v":0.5714285714285714},{"$f":"OFFSET(Data!H53,Offsets!$A$28,0)","v":0.5714285714285714},{"$f":"OFFSET(Data!I53,Offsets!$A$28,0)","v":0},{"$f":"OFFSET(Data!J53,Offsets!$A$28,0)","v":0},{"$f":"OFFSET(Data!K53,Offsets!$A$28,0)","v":0.14285714285714285},{"$f":"OFFSET(Data!L53,Offsets!$A$28,0)","v":0.8571428571428571},{"$f":"OFFSET(Data!M53,Offsets!$A$28,0)","v":0.14285714285714285},{"$f":"OFFSET(Data!N53,Offsets!$A$28,0)","v":0},92.428571428571431,null,{"$f":"OFFSET(Data!AO53,Offsets!$A$28,0)","v":0.7142857142857143},{"$f":"OFFSET(Data!AP53,Offsets!$A$28,0)","v":69.857142857142861},{"$f":"OFFSET(Data!AQ53,Offsets!$A$28,0)","v":0.7142857142857143},{"$f":"OFFSET(Data!AR53,Offsets!$A$28,0)","v":7.4285714285714288},{"$f":"OFFSET(Data!AS53,Offsets!$A$28,0)","v":0.42857142857142855},{"$f":"OFFSET(Data!AT53,Offsets!$A$28,0)","v":0.7142857142857143},{"$f":"OFFSET(Data!AU53,Offsets!$A$28,0)","v":0},{"$f":"OFFSET(Data!AV53,Offsets!$A$28,0)","v":0.8571428571428571},{"$f":"OFFSET(Data!AW53,Offsets!$A$28,0)","v":0.7142857142857143},{"$f":"OFFSET(Data!AX53,Offsets!$A$28,0)","v":0.42857142857142855},{"$f":"OFFSET(Data!AY53,Offsets!$A$28,0)","v":0},{"$f":"OFFSET(Data!AZ53,Offsets!$A$28,0)","v":0.14285714285714285},81.999999999999986,null,2.7142857142857144,151.14285714285717,1.1428571428571428,13.857142857142858,1,1.2857142857142856,0,0.8571428571428571,0.85714285714285721,1.2857142857142856,0.14285714285714285,0.14285714285714285,174.42857142857144]
[null,"12:15:00",{"$f":"OFFSET(Data!C54,Offsets!$A$28,0)","v":2.1428571428571428},{"$f":"OFFSET(Data!D54,Offsets!$A$28,0)","v":86.714285714285708},{"$f":"OFFSET(Data!E54,Offsets!$A$28,0)","v":1.4285714285714286},{"$f":"OFFSET(Data!F54,Offsets!$A$28,0)","v":8.2857142857142865},{"$f":"OFFSET(Data!G54,Offsets!$A$28,0)","v":0.5714285714285714},{"$f":"OFFSET(Data!H54,Offsets!$A$28,0)","v":0.42857142857142855},{"$f":"OFFSET(Data!I54,Offsets!$A$28,0)","v":0},{"$f":"OFFSET(Data!J54,Offsets!$A$28,0)","v":0.2857142857142857},{"$f":"OFFSET(Data!K54,Offsets!$A$28,0)","v":0.5714285714285714},{"$f":"OFFSET(Data!L54,Offsets!$A$28,0)","v":0.5714285714285714},{"$f":"OFFSET(Data!M54,Offsets!$A$28,0)","v":0},{"$f":"OFFSET(Data!N54,Offsets!$A$28,0)","v":0},101,null,{"$f":"OFFSET(Data!AO54,Offsets!$A$28,0)","v":0.8571428571428571},{"$f":"OFFSET(Data!AP54,Offsets!$A$28,0)","v":76.428571428571431},{"$f":"OFFSET(Data!AQ54,Offsets!$A$28,0)","v":0.8571428571428571},{"$f":"OFFSET(Data!AR54,Offsets!$A$28,0)","v":8},{"$f":"OFFSET(Data!AS54,Offsets!$A$28,0)","v":0.5714285714285714},{"$f":"OFFSET(Data!AT54,Offsets!$A$28,0)","v":1},{"$f":"OFFSET(Data!AU54,Offsets!$A$28,0)","v":0},{"$f":"OFFSET(Data!AV54,Offsets!$A$28,0)","v":0.42857142857142855},{"$f":"OFFSET(Data!AW54,Offsets!$A$28,0)","v":0.7142857142857143},{"$f":"OFFSET(Data!AX54,Offsets!$A$28,0)","v":0.5714285714285714},{"$f":"OFFSET(Data!AY54,Offsets!$A$28,0)","v":0},{"$f":"OFFSET(Data!AZ54,Offsets!$A$28,0)","v":0},89.428571428571431,null,3,163.14285714285714,2.2857142857142856,16.285714285714285,1.1428571428571428,1.4285714285714286,0,0.71428571428571419,1.2857142857142856,1.1428571428571428,0,0,190.42857142857139]
[null,"12:30:00",{"$f":"OFFSET(Data!C55,Offsets!$A$28,0)","v":3},{"$f":"OFFSET(Data!D55,Offsets!$A$28,0)","v":90},{"$f":"OFFSET(Data!E55,Offsets!$A$28,0)","v":1.4285714285714286},{"$f":"OFFSET(Data!F55,Offsets!$A$28,0)","v":6},{"$f":"OFFSET(Data!G55,Offsets!$A$28,0)","v":0.42857142857142855},{"$f":"OFFSET(Data!H55,Offsets!$A$28,0)","v":0.42857142857142855},{"$f":"OFFSET(Data!I55,Offsets!$A$28,0)","v":0},{"$f":"OFFSET(Data!J55,Offsets!$A$28,0)","v":0},{"$f":"OFFSET(Data!K55,Offsets!$A$28,0)","v":0.8571428571428571},{"$f":"OFFSET(Data!L55,Offsets!$A$28,0)","v":0.2857142857142857},{"$f":"OFFSET(Data!M55,Offsets!$A$28,0)","v":0},{"$f":"OFFSET(Data!N55,Offsets!$A$28,0)","v":0},102.42857142857144,null,{"$f":"OFFSET(Data!AO55,Offsets!$A$28,0)","v":2.4285714285714284},{"$f":"OFFSET(Data!AP55,Offsets!$A$28,0)","v":79.571428571428569},{"$f":"OFFSET(Data!AQ55,Offsets!$A$28,0)","v":1},{"$f":"OFFSET(Data!AR55,Offsets!$A$28,0)","v":8.1428571428571423},{"$f":"OFFSET(Data!AS55,Offsets!$A$28,0)","v":0.14285714285714285},{"$f":"OFFSET(Data!AT55,Offsets!$A$28,0)","v":0.5714285714285714},{"$f":"OFFSET(Data!AU55,Offsets!$A$28,0)","v":0.14285714285714285},{"$f":"OFFSET(Data!AV55,Offsets!$A$28,0)","v":1},{"$f":"OFFSET(Data!AW55,Offsets!$A$28,0)","v":0.2857142857142857},{"$f":"OFFSET(Data!AX55,Offsets!$A$28,0)","v":0.14285714285714285},{"$f":"OFFSET(Data!AY55,Offsets!$A$28,0)","v":0.14285714285714285},{"$f":"OFFSET(Data!AZ55,Offsets!$A$28,0)","v":0},93.571428571428555,null,5.4285714285714288,169.57142857142856,2.4285714285714288,14.142857142857142,0.5714285714285714,1,0.14285714285714285,1,1.1428571428571428,0.42857142857142855,0.14285714285714285,0,195.99999999999994]
[null,"12:45:00",{"$f":"OFFSET(Data!C56,Offsets!$A$28,0)","v":1.2857142857142858},{"$f":"OFFSET(Data!D56,Offsets!$A$28,0)","v":76.285714285714292},{"$f":"OFFSET(Data!E56,Offsets!$A$28,0)","v":0.14285714285714285},{"$f":"OFFSET(Data!F56,Offsets!$A$28,0)","v":4.7142857142857144},{"$f":"OFFSET(Data!G56,Offsets!$A$28,0)","v":0.7142857142857143},{"$f":"OFFSET(Data!H56,Offsets!$A$28,0)","v":0.42857142857142855},{"$f":"OFFSET(Data!I56,Offsets!$A$28,0)","v":0},{"$f":"OFFSET(Data!J56,Offsets!$A$28,0)","v":0},{"$f":"OFFSET(Data!K56,Offsets!$A$28,0)","v":0.42857142857142855},{"$f":"OFFSET(Data!L56,Offsets!$A$28,0)","v":1.2857142857142858},{"$f":"OFFSET(Data!M56,Offsets!$A$28,0)","v":0.2857142857142857},{"$f":"OFFSET(Data!N56,Offsets!$A$28,0)","v":0},85.571428571428584,null,{"$f":"OFFSET(Data!AO56,Offsets!$A$28,0)","v":1.2857142857142858},{"$f":"OFFSET(Data!AP56,Offsets!$A$28,0)","v":82.285714285714292},{"$f":"OFFSET(Data!AQ56,Offsets!$A$28,0)","v":1},{"$f":"OFFSET(Data!AR56,Offsets!$A$28,0)","v":7.2857142857142856},{"$f":"OFFSET(Data!AS56,Offsets!$A$28,0)","v":0.14285714285714285},{"$f":"OFFSET(Data!AT56,Offsets!$A$28,0)","v":0.14285714285714285},{"$f":"OFFSET(Data!AU56,Offsets!$A$28,0)","v":0},{"$f":"OFFSET(Data!AV56,Offsets!$A$28,0)","v":0.14285714285714285},{"$f":"OFFSET(Data!AW56,Offsets!$A$28,0)","v":0.5714285714285714},{"$f":"OFFSET(Data!AX56,Offsets!$A$28,0)","v":0.2857142857142857},{"$f":"OFFSET(Data!AY56,Offsets!$A$28,0)","v":0},{"$f":"OFFSET(Data!AZ56,Offsets!$A$28,0)","v":0},93.142857142857153,null,2.5714285714285716,158.57142857142858,1.1428571428571428,12,0.85714285714285721,0.5714285714285714,0,0.14285714285714285,1,1.5714285714285716,0.2857142857142857,0,178.71428571428575]
[null,"13:00:00",{"$f":"OFFSET(Data!C57,Offsets!$A$28,0)","v":2.4285714285714284},{"$f":"OFFSET(Data!D57,Offsets!$A$28,0)","v":85.714285714285708},{"$f":"OFFSET(Data!E57,Offsets!$A$28,0)","v":0.5714285714285714},{"$f":"OFFSET(Data!F57,Offsets!$A$28,0)","v":6.7142857142857144},{"$f":"OFFSET(Data!G57,Offsets!$A$28,0)","v":0.2857142857142857},{"$f":"OFFSET(Data!H57,Offsets!$A$28,0)","v":0.14285714285714285},{"$f":"OFFSET(Data!I57,Offsets!$A$28,0)","v":0.14285714285714285},{"$f":"OFFSET(Data!J57,Offsets!$A$28,0)","v":0.14285714285714285},{"$f":"OFFSET(Data!K57,Offsets!$A$28,0)","v":0.14285714285714285},{"$f":"OFFSET(Data!L57,Offsets!$A$28,0)","v":1.1428571428571428},{"$f":"OFFSET(Data!M57,Offsets!$A$28,0)","v":0},{"$f":"OFFSET(Data!N57,Offsets!$A$28,0)","v":0},97.428571428571402,null,{"$f":"OFFSET(Data!AO57,Offsets!$A$28,0)","v":0.7142857142857143},{"$f":"OFFSET(Data!AP57,Offsets!$A$28,0)","v":80.428571428571431},{"$f":"OFFSET(Data!AQ57,Offsets!$A$28,0)","v":0.8571428571428571},{"$f":"OFFSET(Data!AR57,Offsets!$A$28,0)","v":5},{"$f":"OFFSET(Data!AS57,Offsets!$A$28,0)","v":0},{"$f":"OFFSET(Data!AT57,Offsets!$A$28,0)","v":0.42857142857142855},{"$f":"OFFSET(Data!AU57,Offsets!$A$28,0)","v":0},{"$f":"OFFSET(Data!AV57,Offsets!$A$28,0)","v":0.2857142857142857},{"$f":"OFFSET(Data!AW57,Offsets!$A$28,0)","v":0},{"$f":"OFFSET(Data!AX57,Offsets!$A$28,0)","v":0.14285714285714285},{"$f":"OFFSET(Data!AY57,Offsets!$A$28,0)","v":0},{"$f":"OFFSET(Data!AZ57,Offsets!$A$28,0)","v":0},87.857142857142861,null,3.1428571428571428,166.14285714285714,1.4285714285714284,11.714285714285715,0.2857142857142857,0.5714285714285714,0.14285714285714285,0.42857142857142855,0.14285714285714285,1.2857142857142856,0,0,185.28571428571425]
[null,"13:15:00",{"$f":"OFFSET(Data!C58,Offsets!$A$28,0)","v":1.5714285714285714},{"$f":"OFFSET(Data!D58,Offsets!$A$28,0)","v":80.285714285714292},{"$f":"OFFSET(Data!E58,Offsets!$A$28,0)","v":1},{"$f":"OFFSET(Data!F58,Offsets!$A$28,0)","v":7.2857142857142856},{"$f":"OFFSET(Data!G58,Offsets!$A$28,0)","v":0.2857142857142857},{"$f":"OFFSET(Data!H58,Offsets!$A$28,0)","v":0.2857142857142857},{"$f":"OFFSET(Data!I58,Offsets!$A$28,0)","v":0},{"$f":"OFFSET(Data!J58,Offsets!$A$28,0)","v":0.14285714285714285},{"$f":"OFFSET(Data!K58,Offsets!$A$28,0)","v":0.42857142857142855},{"$f":"OFFSET(Data!L58,Offsets!$A$28,0)","v":0.7142857142857143},{"$f":"OFFSET(Data!M58,Offsets!$A$28,0)","v":0},{"$f":"OFFSET(Data!N58,Offsets!$A$28,0)","v":0.14285714285714285},92.142857142857153,null,{"$f":"OFFSET(Data!AO58,Offsets!$A$28,0)","v":1.1428571428571428},{"$f":"OFFSET(Data!AP58,Offsets!$A$28,0)","v":80.571428571428569},{"$f":"OFFSET(Data!AQ58,Offsets!$A$28,0)","v":0.7142857142857143},{"$f":"OFFSET(Data!AR58,Offsets!$A$28,0)","v":6.2857142857142856},{"$f":"OFFSET(Data!AS58,Offsets!$A$28,0)","v":0.42857142857142855},{"$f":"OFFSET(Data!AT58,Offsets!$A$28,0)","v":0.14285714285714285},{"$f":"OFFSET(Data!AU58,Offsets!$A$28,0)","v":0.14285714285714285},{"$f":"OFFSET(Data!AV58,Offsets!$A$28,0)","v":0.7142857142857143},{"$f":"OFFSET(Data!AW58,Offsets!$A$28,0)","v":0.2857142857142857},{"$f":"OFFSET(Data!AX58,Offsets!$A$28,0)","v":0.14285714285714285},{"$f":"OFFSET(Data!AY58,Offsets!$A$28,0)","v":0},{"$f":"OFFSET(Data!AZ58,Offsets!$A$28,0)","v":0},90.571428571428555,null,2.7142857142857144,160.85714285714286,1.7142857142857144,13.571428571428571,0.71428571428571419,0.42857142857142855,0.14285714285714285,0.85714285714285721,0.71428571428571419,0.85714285714285721,0,0.14285714285714285,182.71428571428575]
[null,"13:30:00",{"$f":"OFFSET(Data!C59,Offsets!$A$28,0)","v":2.1428571428571428},{"$f":"OFFSET(Data!D59,Offsets!$A$28,0)","v":80.285714285714292},{"$f":"OFFSET(Data!E59,Offsets!$A$28,0)","v":1},{"$f":"OFFSET(Data!F59,Offsets!$A$28,0)","v":8.1428571428571423},{"$f":"OFFSET(Data!G59,Offsets!$A$28,0)","v":0.14285714285714285},{"$f":"OFFSET(Data!H59,Offsets!$A$28,0)","v":0.42857142857142855},{"$f":"OFFSET(Data!I59,Offsets!$A$28,0)","v":0},{"$f":"OFFSET(Data!J59,Offsets!$A$28,0)","v":0},{"$f":"OFFSET(Data!K59,Offsets!$A$28,0)","v":0.2857142857142857},{"$f":"OFFSET(Data!L59,Offsets!$A$28,0)","v":1.2857142857142858},{"$f":"OFFSET(Data!M59,Offsets!$A$28,0)","v":0},{"$f":"OFFSET(Data!N59,Offsets!$A$28,0)","v":0},93.714285714285722,null,{"$f":"OFFSET(Data!AO59,Offsets!$A$28,0)","v":3.1428571428571428},{"$f":"OFFSET(Data!AP59,Offsets!$A$28,0)","v":80.857142857142861},{"$f":"OFFSET(Data!AQ59,Offsets!$A$28,0)","v":0.7142857142857143},{"$f":"OFFSET(Data!AR59,Offsets!$A$28,0)","v":5.4285714285714288},{"$f":"OFFSET(Data!AS59,Offsets!$A$28,0)","v":0.2857142857142857},{"$f":"OFFSET(Data!AT59,Offsets!$A$28,0)","v":0.2857142857142857},{"$f":"OFFSET(Data!AU59,Offsets!$A$28,0)","v":0},{"$f":"OFFSET(Data!AV59,Offsets!$A$28,0)","v":0.2857142857142857},{"$f":"OFFSET(Data!AW59,Offsets!$A$28,0)","v":0},{"$f":"OFFSET(Data!AX59,Offsets!$A$28,0)","v":0.14285714285714285},{"$f":"OFFSET(Data!AY59,Offsets!$A$28,0)","v":0},{"$f":"OFFSET(Data!AZ59,Offsets!$A$28,0)","v":0},91.142857142857153,null,5.2857142857142856,161.14285714285717,1.7142857142857144,13.571428571428571,0.42857142857142855,0.71428571428571419,0,0.2857142857142857,0.2857142857142857,1.4285714285714286,0,0,184.85714285714286]
[null,"13:45:00",{"$f":"OFFSET(Data!C60,Offsets!$A$28,0)","v":1.4285714285714286},{"$f":"OFFSET(Data!D60,Offsets!$A$28,0)","v":71.571428571428569},{"$f":"OFFSET(Data!E60,Offsets!$A$28,0)","v":1.2857142857142858},{"$f":"OFFSET(Data!F60,Offsets!$A$28,0)","v":9.1428571428571423},{"$f":"OFFSET(Data!G60,Offsets!$A$28,0)","v":0.2857142857142857},{"$f":"OFFSET(Data!H60,Offsets!$A$28,0)","v":0},{"$f":"OFFSET(Data!I60,Offsets!$A$28,0)","v":0.14285714285714285},{"$f":"OFFSET(Data!J60,Offsets!$A$28,0)","v":0},{"$f":"OFFSET(Data!K60,Offsets!$A$28,0)","v":0.2857142857142857},{"$f":"OFFSET(Data!L60,Offsets!$A$28,0)","v":1.4285714285714286},{"$f":"OFFSET(Data!M60,Offsets!$A$28,0)","v":0},{"$f":"OFFSET(Data!N60,Offsets!$A$28,0)","v":0},85.571428571428584,null,{"$f":"OFFSET(Data!AO60,Offsets!$A$28,0)","v":2.1428571428571428},{"$f":"OFFSET(Data!AP60,Offsets!$A$28,0)","v":81.571428571428569},{"$f":"OFFSET(Data!AQ60,Offsets!$A$28,0)","v":0.8571428571428571},{"$f":"OFFSET(Data!AR60,Offsets!$A$28,0)","v":6.4285714285714288},{"$f":"OFFSET(Data!AS60,Offsets!$A$28,0)","v":0.2857142857142857},{"$f":"OFFSET(Data!AT60,Offsets!$A$28,0)","v":0.14285714285714285},{"$f":"OFFSET(Data!AU60,Offsets!$A$28,0)","v":0.2857142857142857},{"$f":"OFFSET(Data!AV60,Offsets!$A$28,0)","v":0.7142857142857143},{"$f":"OFFSET(Data!AW60,Offsets!$A$28,0)","v":0.2857142857142857},{"$f":"OFFSET(Data!AX60,Offsets!$A$28,0)","v":0.5714285714285714},{"$f":"OFFSET(Data!AY60,Offsets!$A$28,0)","v":0},{"$f":"OFFSET(Data!AZ60,Offsets!$A$28,0)","v":0},93.285714285714292,null,3.5714285714285712,153.14285714285714,2.1428571428571428,15.571428571428571,0.5714285714285714,0.14285714285714285,0.42857142857142855,0.7142857142857143,0.5714285714285714,2,0,0,178.85714285714289]
[null,"14:00:00",{"$f":"OFFSET(Data!C61,Offsets!$A$28,0)","v":2.4285714285714284},{"$f":"OFFSET(Data!D61,Offsets!$A$28,0)","v":73.857142857142861},{"$f":"OFFSET(Data!E61,Offsets!$A$28,0)","v":0.42857142857142855},{"$f":"OFFSET(Data!F61,Offsets!$A$28,0)","v":6},{"$f":"OFFSET(Data!G61,Offsets!$A$28,0)","v":0},{"$f":"OFFSET(Data!H61,Offsets!$A$28,0)","v":0.14285714285714285},{"$f":"OFFSET(Data!I61,Offsets!$A$28,0)","v":0},{"$f":"OFFSET(Data!J61,Offsets!$A$28,0)","v":0.14285714285714285},{"$f":"OFFSET(Data!K61,Offsets!$A$28,0)","v":0.2857142857142857},{"$f":"OFFSET(Data!L61,Offsets!$A$28,0)","v":2.1428571428571428},{"$f":"OFFSET(Data!M61,Offsets!$A$28,0)","v":0},{"$f":"OFFSET(Data!N61,Offsets!$A$28,0)","v":0},85.428571428571431,null,{"$f":"OFFSET(Data!AO61,Offsets!$A$28,0)","v":1.7142857142857142},{"$f":"OFFSET(Data!AP61,Offsets!$A$28,0)","v":87.571428571428569},{"$f":"OFFSET(Data!AQ61,Offsets!$A$28,0)","v":0.8571428571428571},{"$f":"OFFSET(Data!AR61,Offsets!$A$28,0)","v":7.1428571428571432},{"$f":"OFFSET(Data!AS61,Offsets!$A$28,0)","v":0.14285714285714285},{"$f":"OFFSET(Data!AT61,Offsets!$A$28,0)","v":0.7142857142857143},{"$f":"OFFSET(Data!AU61,Offsets!$A$28,0)","v":0},{"$f":"OFFSET(Data!AV61,Offsets!$A$28,0)","v":0.42857142857142855},{"$f":"OFFSET(Data!AW61,Offsets!$A$28,0)","v":0.7142857142857143},{"$f":"OFFSET(Data!AX61,Offsets!$A$28,0)","v":0.2857142857142857},{"$f":"OFFSET(Data!AY61,Offsets!$A$28,0)","v":0},{"$f":"OFFSET(Data!AZ61,Offsets!$A$28,0)","v":0},99.571428571428555,null,4.1428571428571423,161.42857142857144,1.2857142857142856,13.142857142857142,0.14285714285714285,0.85714285714285721,0,0.5714285714285714,1,2.4285714285714284,0,0,185]
[null,"14:15:00",{"$f":"OFFSET(Data!C62,Offsets!$A$28,0)","v":1.1428571428571428},{"$f":"OFFSET(Data!D62,Offsets!$A$28,0)","v":75.285714285714292},{"$f":"OFFSET(Data!E62,Offsets!$A$28,0)","v":0.7142857142857143},{"$f":"OFFSET(Data!F62,Offsets!$A$28,0)","v":7.4285714285714288},{"$f":"OFFSET(Data!G62,Offsets!$A$28,0)","v":0},{"$f":"OFFSET(Data!H62,Offsets!$A$28,0)","v":0.7142857142857143},{"$f":"OFFSET(Data!I62,Offsets!$A$28,0)","v":0},{"$f":"OFFSET(Data!J62,Offsets!$A$28,0)","v":0},{"$f":"OFFSET(Data!K62,Offsets!$A$28,0)","v":0.14285714285714285},{"$f":"OFFSET(Data!L62,Offsets!$A$28,0)","v":0.14285714285714285},{"$f":"OFFSET(Data!M62,Offsets!$A$28,0)","v":0},{"$f":"OFFSET(Data!N62,Offsets!$A$28,0)","v":0},85.571428571428555,null,{"$f":"OFFSET(Data!AO62,Offsets!$A$28,0)","v":1.8571428571428572},{"$f":"OFFSET(Data!AP62,Offsets!$A$28,0)","v":89},{"$f":"OFFSET(Data!AQ62,Offsets!$A$28,0)","v":1.1428571428571428},{"$f":"OFFSET(Data!AR62,Offsets!$A$28,0)","v":6.4285714285714288},{"$f":"OFFSET(Data!AS62,Offsets!$A$28,0)","v":0.42857142857142855},{"$f":"OFFSET(Data!AT62,Offsets!$A$28,0)","v":0.5714285714285714},{"$f":"OFFSET(Data!AU62,Offsets!$A$28,0)","v":0.14285714285714285},{"$f":"OFFSET(Data!AV62,Offsets!$A$28,0)","v":1},{"$f":"OFFSET(Data!AW62,Offsets!$A$28,0)","v":0.42857142857142855},{"$f":"OFFSET(Data!AX62,Offsets!$A$28,0)","v":0.5714285714285714},{"$f":"OFFSET(Data!AY62,Offsets!$A$28,0)","v":0},{"$f":"OFFSET(Data!AZ62,Offsets!$A$28,0)","v":0},101.57142857142857,null,3,164.28571428571428,1.8571428571428572,13.857142857142858,0.42857142857142855,1.2857142857142856,0.14285714285714285,1,0.5714285714285714,0.71428571428571419,0,0,187.14285714285714]
[null,"14:30:00",{"$f":"OFFSET(Data!C63,Offsets!$A$28,0)","v":1.5714285714285714},{"$f":"OFFSET(Data!D63,Offsets!$A$28,0)","v":78.571428571428569},{"$f":"OFFSET(Data!E63,Offsets!$A$28,0)","v":0.7142857142857143},{"$f":"OFFSET(Data!F63,Offsets!$A$28,0)","v":8},{"$f":"OFFSET(Data!G63,Offsets!$A$28,0)","v":0.2857142857142857},{"$f":"OFFSET(Data!H63,Offsets!$A$28,0)","v":0.5714285714285714},{"$f":"OFFSET(Data!I63,Offsets!$A$28,0)","v":0},{"$f":"OFFSET(Data!J63,Offsets!$A$28,0)","v":0.14285714285714285},{"$f":"OFFSET(Data!K63,Offsets!$A$28,0)","v":0.42857142857142855},{"$f":"OFFSET(Data!L63,Offsets!$A$28,0)","v":0.42857142857142855},{"$f":"OFFSET(Data!M63,Offsets!$A$28,0)","v":0.14285714285714285},{"$f":"OFFSET(Data!N63,Offsets!$A$28,0)","v":0},90.857142857142847,null,{"$f":"OFFSET(Data!AO63,Offsets!$A$28,0)","v":2},{"$f":"OFFSET(Data!AP63,Offsets!$A$28,0)","v":89.571428571428569},{"$f":"OFFSET(Data!AQ63,Offsets!$A$28,0)","v":1.2857142857142858},{"$f":"OFFSET(Data!AR63,Offsets!$A$28,0)","v":9.7142857142857135},{"$f":"OFFSET(Data!AS63,Offsets!$A$28,0)","v":0.2857142857142857},{"$f":"OFFSET(Data!AT63,Offsets!$A$28,0)","v":0.14285714285714285},{"$f":"OFFSET(Data!AU63,Offsets!$A$28,0)","v":0.5714285714285714},{"$f":"OFFSET(Data!AV63,Offsets!$A$28,0)","v":0.42857142857142855},{"$f":"OFFSET(Data!AW63,Offsets!$A$28,0)","v":0.2857142857142857},{"$f":"OFFSET(Data!AX63,Offsets!$A$28,0)","v":0.5714285714285714},{"$f":"OFFSET(Data!AY63,Offsets!$A$28,0)","v":0},{"$f":"OFFSET(Data!AZ63,Offsets!$A$28,0)","v":0},104.85714285714286,null,3.5714285714285712,168.14285714285714,2,17.714285714285715,0.5714285714285714,0.71428571428571419,0.5714285714285714,0.5714285714285714,0.71428571428571419,1,0.14285714285714285,0,195.71428571428578]
[null,"14:45:00",{"$f":"OFFSET(Data!C64,Offsets!$A$28,0)","v":0.7142857142857143},{"$f":"OFFSET(Data!D64,Offsets!$A$28,0)","v":75.714285714285708},{"$f":"OFFSET(Data!E64,Offsets!$A$28,0)","v":1.5714285714285714},{"$f":"OFFSET(Data!F64,Offsets!$A$28,0)","v":6.8571428571428568},{"$f":"OFFSET(Data!G64,Offsets!$A$28,0)","v":0.14285714285714285},{"$f":"OFFSET(Data!H64,Offsets!$A$28,0)","v":0.42857142857142855},{"$f":"OFFSET(Data!I64,Offsets!$A$28,0)","v":0.2857142857142857},{"$f":"OFFSET(Data!J64,Offsets!$A$28,0)","v":0},{"$f":"OFFSET(Data!K64,Offsets!$A$28,0)","v":0.2857142857142857},{"$f":"OFFSET(Data!L64,Offsets!$A$28,0)","v":0.5714285714285714},{"$f":"OFFSET(Data!M64,Offsets!$A$28,0)","v":0},{"$f":"OFFSET(Data!N64,Offsets!$A$28,0)","v":0.14285714285714285},86.714285714285708,null,{"$f":"OFFSET(Data!AO64,Offsets!$A$28,0)","v":2.1428571428571428},{"$f":"OFFSET(Data!AP64,Offsets!$A$28,0)","v":96.571428571428569},{"$f":"OFFSET(Data!AQ64,Offsets!$A$28,0)","v":0.7142857142857143},{"$f":"OFFSET(Data!AR64,Offsets!$A$28,0)","v":7},{"$f":"OFFSET(Data!AS64,Offsets!$A$28,0)","v":0.14285714285714285},{"$f":"OFFSET(Data!AT64,Offsets!$A$28,0)","v":0.42857142857142855},{"$f":"OFFSET(Data!AU64,Offsets!$A$28,0)","v":0.14285714285714285},{"$f":"OFFSET(Data!AV64,Offsets!$A$28,0)","v":0.5714285714285714},{"$f":"OFFSET(Data!AW64,Offsets!$A$28,0)","v":0.2857142857142857},{"$f":"OFFSET(Data!AX64,Offsets!$A$28,0)","v":0.14285714285714285},{"$f":"OFFSET(Data!AY64,Offsets!$A$28,0)","v":0},{"$f":"OFFSET(Data!AZ64,Offsets!$A$28,0)","v":0},108.14285714285712,null,2.8571428571428572,172.28571428571428,2.2857142857142856,13.857142857142858,0.2857142857142857,0.8571428571428571,0.42857142857142855,0.5714285714285714,0.5714285714285714,0.71428571428571419,0,0.14285714285714285,194.85714285714286]
[null,"15:00:00",{"$f":"OFFSET(Data!C65,Offsets!$A$28,0)","v":1.4285714285714286},{"$f":"OFFSET(Data!D65,Offsets!$A$28,0)","v":77.285714285714292},{"$f":"OFFSET(Data!E65,Offsets!$A$28,0)","v":1},{"$f":"OFFSET(Data!F65,Offsets!$A$28,0)","v":7},{"$f":"OFFSET(Data!G65,Offsets!$A$28,0)","v":0.2857142857142857},{"$f":"OFFSET(Data!H65,Offsets!$A$28,0)","v":0.14285714285714285},{"$f":"OFFSET(Data!I65,Offsets!$A$28,0)","v":0},{"$f":"OFFSET(Data!J65,Offsets!$A$28,0)","v":0},{"$f":"OFFSET(Data!K65,Offsets!$A$28,0)","v":0.14285714285714285},{"$f":"OFFSET(Data!L65,Offsets!$A$28,0)","v":0.8571428571428571},{"$f":"OFFSET(Data!M65,Offsets!$A$28,0)","v":0},{"$f":"OFFSET(Data!N65,Offsets!$A$28,0)","v":0},88.142857142857153,null,{"$f":"OFFSET(Data!AO65,Offsets!$A$28,0)","v":1.7142857142857142},{"$f":"OFFSET(Data!AP65,Offsets!$A$28,0)","v":98.285714285714292},{"$f":"OFFSET(Data!AQ65,Offsets!$A$28,0)","v":1.4285714285714286},{"$f":"OFFSET(Data!AR65,Offsets!$A$28,0)","v":7.1428571428571432},{"$f":"OFFSET(Data!AS65,Offsets!$A$28,0)","v":0.42857142857142855},{"$f":"OFFSET(Data!AT65,Offsets!$A$28,0)","v":0.42857142857142855},{"$f":"OFFSET(Data!AU65,Offsets!$A$28,0)","v":0},{"$f":"OFFSET(Data!AV65,Offsets!$A$28,0)","v":0.42857142857142855},{"$f":"OFFSET(Data!AW65,Offsets!$A$28,0)","v":0.42857142857142855},{"$f":"OFFSET(Data!AX65,Offsets!$A$28,0)","v":0},{"$f":"OFFSET(Data!AY65,Offsets!$A$28,0)","v":0},{"$f":"OFFSET(Data!AZ65,Offsets!$A$28,0)","v":0},110.28571428571429,null,3.1428571428571428,175.57142857142858,2.4285714285714288,14.142857142857142,0.71428571428571419,0.5714285714285714,0,0.42857142857142855,0.5714285714285714,0.8571428571428571,0,0,198.42857142857144]
[null,"15:15:00",{"$f":"OFFSET(Data!C66,Offsets!$A$28,0)","v":1.8571428571428572},{"$f":"OFFSET(Data!D66,Offsets!$A$28,0)","v":92.285714285714292},{"$f":"OFFSET(Data!E66,Offsets!$A$28,0)","v":0.7142857142857143},{"$f":"OFFSET(Data!F66,Offsets!$A$28,0)","v":7.2857142857142856},{"$f":"OFFSET(Data!G66,Offsets!$A$28,0)","v":0.5714285714285714},{"$f":"OFFSET(Data!H66,Offsets!$A$28,0)","v":0.8571428571428571},{"$f":"OFFSET(Data!I66,Offsets!$A$28,0)","v":0.14285714285714285},{"$f":"OFFSET(Data!J66,Offsets!$A$28,0)","v":0},{"$f":"OFFSET(Data!K66,Offsets!$A$28,0)","v":0.14285714285714285},{"$f":"OFFSET(Data!L66,Offsets!$A$28,0)","v":1.2857142857142858},{"$f":"OFFSET(Data!M66,Offsets!$A$28,0)","v":0.14285714285714285},{"$f":"OFFSET(Data!N66,Offsets!$A$28,0)","v":0},105.28571428571429,null,{"$f":"OFFSET(Data!AO66,Offsets!$A$28,0)","v":2.1428571428571428},{"$f":"OFFSET(Data!AP66,Offsets!$A$28,0)","v":97.571428571428569},{"$f":"OFFSET(Data!AQ66,Offsets!$A$28,0)","v":1.2857142857142858},{"$f":"OFFSET(Data!AR66,Offsets!$A$28,0)","v":6.5714285714285712},{"$f":"OFFSET(Data!AS66,Offsets!$A$28,0)","v":0.14285714285714285},{"$f":"OFFSET(Data!AT66,Offsets!$A$28,0)","v":0.2857142857142857},{"$f":"OFFSET(Data!AU66,Offsets!$A$28,0)","v":0.14285714285714285},{"$f":"OFFSET(Data!AV66,Offsets!$A$28,0)","v":0.7142857142857143},{"$f":"OFFSET(Data!AW66,Offsets!$A$28,0)","v":0.14285714285714285},{"$f":"OFFSET(Data!AX66,Offsets!$A$28,0)","v":0.14285714285714285},{"$f":"OFFSET(Data!AY66,Offsets!$A$28,0)","v":0},{"$f":"OFFSET(Data!AZ66,Offsets!$A$28,0)","v":0},109.14285714285712,null,4,189.85714285714286,2,13.857142857142858,0.71428571428571419,1.1428571428571428,0.2857142857142857,0.7142857142857143,0.2857142857142857,1.4285714285714286,0.14285714285714285,0,214.42857142857142]
[null,"15:30:00",{"$f":"OFFSET(Data!C67,Offsets!$A$28,0)","v":2.2857142857142856},{"$f":"OFFSET(Data!D67,Offsets!$A$28,0)","v":87.571428571428569},{"$f":"OFFSET(Data!E67,Offsets!$A$28,0)","v":0.8571428571428571},{"$f":"OFFSET(Data!F67,Offsets!$A$28,0)","v":8.1428571428571423},{"$f":"OFFSET(Data!G67,Offsets!$A$28,0)","v":0.42857142857142855},{"$f":"OFFSET(Data!H67,Offsets!$A$28,0)","v":0.14285714285714285},{"$f":"OFFSET(Data!I67,Offsets!$A$28,0)","v":0},{"$f":"OFFSET(Data!J67,Offsets!$A$28,0)","v":0.2857142857142857},{"$f":"OFFSET(Data!K67,Offsets!$A$28,0)","v":0.42857142857142855},{"$f":"OFFSET(Data!L67,Offsets!$A$28,0)","v":0.5714285714285714},{"$f":"OFFSET(Data!M67,Offsets!$A$28,0)","v":0},{"$f":"OFFSET(Data!N67,Offsets!$A$28,0)","v":0},100.71428571428572,null,{"$f":"OFFSET(Data!AO67,Offsets!$A$28,0)","v":2.2857142857142856},{"$f":"OFFSET(Data!AP67,Offsets!$A$28,0)","v":104.28571428571429},{"$f":"OFFSET(Data!AQ67,Offsets!$A$28,0)","v":0.7142857142857143},{"$f":"OFFSET(Data!AR67,Offsets!$A$28,0)","v":10.142857142857142},{"$f":"OFFSET(Data!AS67,Offsets!$A$28,0)","v":0.14285714285714285},{"$f":"OFFSET(Data!AT67,Offsets!$A$28,0)","v":0.5714285714285714},{"$f":"OFFSET(Data!AU67,Offsets!$A$28,0)","v":0.14285714285714285},{"$f":"OFFSET(Data!AV67,Offsets!$A$28,0)","v":0.5714285714285714},{"$f":"OFFSET(Data!AW67,Offsets!$A$28,0)","v":1},{"$f":"OFFSET(Data!AX67,Offsets!$A$28,0)","v":0.2857142857142857},{"$f":"OFFSET(Data!AY67,Offsets!$A$28,0)","v":0},{"$f":"OFFSET(Data!AZ67,Offsets!$A$28,0)","v":0.14285714285714285},120.28571428571428,null,4.5714285714285712,191.85714285714286,1.5714285714285714,18.285714285714285,0.5714285714285714,0.71428571428571419,0.14285714285714285,0.8571428571428571,1.4285714285714286,0.8571428571428571,0,0.14285714285714285,221.00000000000003]
[null,"15:45:00",{"$f":"OFFSET(Data!C68,Offsets!$A$28,0)","v":1.1428571428571428},{"$f":"OFFSET(Data!D68,Offsets!$A$28,0)","v":90.714285714285708},{"$f":"OFFSET(Data!E68,Offsets!$A$28,0)","v":1},{"$f":"OFFSET(Data!F68,Offsets!$A$28,0)","v":9.2857142857142865},{"$f":"OFFSET(Data!G68,Offsets!$A$28,0)","v":0.8571428571428571},{"$f":"OFFSET(Data!H68,Offsets!$A$28,0)","v":0.42857142857142855},{"$f":"OFFSET(Data!I68,Offsets!$A$28,0)","v":0},{"$f":"OFFSET(Data!J68,Offsets!$A$28,0)","v":0.14285714285714285},{"$f":"OFFSET(Data!K68,Offsets!$A$28,0)","v":0.42857142857142855},{"$f":"OFFSET(Data!L68,Offsets!$A$28,0)","v":1.1428571428571428},{"$f":"OFFSET(Data!M68,Offsets!$A$28,0)","v":0},{"$f":"OFFSET(Data!N68,Offsets!$A$28,0)","v":0.14285714285714285},105.28571428571428,null,{"$f":"OFFSET(Data!AO68,Offsets!$A$28,0)","v":1.1428571428571428},{"$f":"OFFSET(Data!AP68,Offsets!$A$28,0)","v":110.85714285714286},{"$f":"OFFSET(Data!AQ68,Offsets!$A$28,0)","v":1.1428571428571428},{"$f":"OFFSET(Data!AR68,Offsets!$A$28,0)","v":6.8571428571428568},{"$f":"OFFSET(Data!AS68,Offsets!$A$28,0)","v":0.2857142857142857},{"$f":"OFFSET(Data!AT68,Offsets!$A$28,0)","v":0.2857142857142857},{"$f":"OFFSET(Data!AU68,Offsets!$A$28,0)","v":0},{"$f":"OFFSET(Data!AV68,Offsets!$A$28,0)","v":0.42857142857142855},{"$f":"OFFSET(Data!AW68,Offsets!$A$28,0)","v":0.14285714285714285},{"$f":"OFFSET(Data!AX68,Offsets!$A$28,0)","v":0.14285714285714285},{"$f":"OFFSET(Data!AY68,Offsets!$A$28,0)","v":0},{"$f":"OFFSET(Data!AZ68,Offsets!$A$28,0)","v":0},121.28571428571429,null,2.2857142857142856,201.57142857142856,2.1428571428571428,16.142857142857142,1.1428571428571428,0.71428571428571419,0,0.5714285714285714,0.5714285714285714,1.2857142857142856,0,0.14285714285714285,226.57142857142856]
[null,"16:00:00",{"$f":"OFFSET(Data!C69,Offsets!$A$28,0)","v":2.2857142857142856},{"$f":"OFFSET(Data!D69,Offsets!$A$28,0)","v":97.714285714285708},{"$f":"OFFSET(Data!E69,Offsets!$A$28,0)","v":1},{"$f":"OFFSET(Data!F69,Offsets!$A$28,0)","v":9.7142857142857135},{"$f":"OFFSET(Data!G69,Offsets!$A$28,0)","v":0.42857142857142855},{"$f":"OFFSET(Data!H69,Offsets!$A$28,0)","v":0},{"$f":"OFFSET(Data!I69,Offsets!$A$28,0)","v":0},{"$f":"OFFSET(Data!J69,Offsets!$A$28,0)","v":0.14285714285714285},{"$f":"OFFSET(Data!K69,Offsets!$A$28,0)","v":1},{"$f":"OFFSET(Data!L69,Offsets!$A$28,0)","v":1.2857142857142858},{"$f":"OFFSET(Data!M69,Offsets!$A$28,0)","v":0},{"$f":"OFFSET(Data!N69,Offsets!$A$28,0)","v":0},113.57142857142857,null,{"$f":"OFFSET(Data!AO69,Offsets!$A$28,0)","v":1.8571428571428572},{"$f":"OFFSET(Data!AP69,Offsets!$A$28,0)","v":109.14285714285714},{"$f":"OFFSET(Data!AQ69,Offsets!$A$28,0)","v":1.7142857142857142},{"$f":"OFFSET(Data!AR69,Offsets!$A$28,0)","v":7.7142857142857144},{"$f":"OFFSET(Data!AS69,Offsets!$A$28,0)","v":0.5714285714285714},{"$f":"OFFSET(Data!AT69,Offsets!$A$28,0)","v":0.5714285714285714},{"$f":"OFFSET(Data!AU69,Offsets!$A$28,0)","v":0},{"$f":"OFFSET(Data!AV69,Offsets!$A$28,0)","v":0.42857142857142855},{"$f":"OFFSET(Data!AW69,Offsets!$A$28,0)","v":0},{"$f":"OFFSET(Data!AX69,Offsets!$A$28,0)","v":0.2857142857142857},{"$f":"OFFSET(Data!AY69,Offsets!$A$28,0)","v":0},{"$f":"OFFSET(Data!AZ69,Offsets!$A$28,0)","v":0},122.28571428571428,null,{"$f":"C80+Q80","v":4.1428571428571423},206.85714285714283,2.7142857142857144,17.428571428571427,1,0.5714285714285714,0,0.5714285714285714,1,{"$f":"L80+Z80","v":1.5714285714285716},0,0,235.85714285714286]
[null,"16:15:00",{"$f":"OFFSET(Data!C70,Offsets!$A$28,0)","v":1.7142857142857142},{"$f":"OFFSET(Data!D70,Offsets!$A$28,0)","v":92},{"$f":"OFFSET(Data!E70,Offsets!$A$28,0)","v":0.5714285714285714},{"$f":"OFFSET(Data!F70,Offsets!$A$28,0)","v":6.8571428571428568},{"$f":"OFFSET(Data!G70,Offsets!$A$28,0)","v":0.2857142857142857},{"$f":"OFFSET(Data!H70,Offsets!$A$28,0)","v":0.2857142857142857},{"$f":"OFFSET(Data!I70,Offsets!$A$28,0)","v":0},{"$f":"OFFSET(Data!J70,Offsets!$A$28,0)","v":0.14285714285714285},{"$f":"OFFSET(Data!K70,Offsets!$A$28,0)","v":0.42857142857142855},{"$f":"OFFSET(Data!L70,Offsets!$A$28,0)","v":1.1428571428571428},{"$f":"OFFSET(Data!M70,Offsets!$A$28,0)","v":0.14285714285714285},{"$f":"OFFSET(Data!N70,Offsets!$A$28,0)","v":0.14285714285714285},{"$f":"SUM(C81:N81)","v":103.71428571428571},null,{"$f":"OFFSET(Data!AO70,Offsets!$A$28,0)","v":2},{"$f":"OFFSET(Data!AP70,Offsets!$A$28,0)","v":110.71428571428571},{"$f":"OFFSET(Data!AQ70,Offsets!$A$28,0)","v":1},{"$f":"OFFSET(Data!AR70,Offsets!$A$28,0)","v":6.5714285714285712},{"$f":"OFFSET(Data!AS70,Offsets!$A$28,0)","v":0.2857142857142857},{"$f":"OFFSET(Data!AT70,Offsets!$A$28,0)","v":0.2857142857142857},{"$f":"OFFSET(Data!AU70,Offsets!$A$28,0)","v":0},{"$f":"OFFSET(Data!AV70,Offsets!$A$28,0)","v":0.14285714285714285},{"$f":"OFFSET(Data!AW70,Offsets!$A$28,0)","v":0.42857142857142855},{"$f":"OFFSET(Data!AX70,Offsets!$A$28,0)","v":0},{"$f":"OFFSET(Data!AY70,Offsets!$A$28,0)","v":0},{"$f":"OFFSET(Data!AZ70,Offsets!$A$28,0)","v":0},{"$f":"SUM(Q81:AB81)","v":121.42857142857143},null,3.7142857142857144,202.71428571428572,1.5714285714285714,13.428571428571427,0.5714285714285714,0.5714285714285714,0,0.2857142857142857,0.8571428571428571,1.1428571428571428,0.14285714285714285,0.14285714285714285,{"$f":"SUM(AE81:AP81)","v":225.14285714285717}]
[null,"16:30:00",{"$f":"OFFSET(Data!C71,Offsets!$A$28,0)","v":2.8571428571428572},{"$f":"OFFSET(Data!D71,Offsets!$A$28,0)","v":90.428571428571431},{"$f":"OFFSET(Data!E71,Offsets!$A$28,0)","v":0.7142857142857143},{"$f":"OFFSET(Data!F71,Offsets!$A$28,0)","v":5.1428571428571432},{"$f":"OFFSET(Data!G71,Offsets!$A$28,0)","v":0.2857142857142857},{"$f":"OFFSET(Data!H71,Offsets!$A$28,0)","v":0.14285714285714285},{"$f":"OFFSET(Data!I71,Offsets!$A$28,0)","v":0},{"$f":"OFFSET(Data!J71,Offsets!$A$28,0)","v":0.14285714285714285},{"$f":"OFFSET(Data!K71,Offsets!$A$28,0)","v":0.14285714285714285},{"$f":"OFFSET(Data!L71,Offsets!$A$28,0)","v":1.1428571428571428},{"$f":"OFFSET(Data!M71,Offsets!$A$28,0)","v":0},{"$f":"OFFSET(Data!N71,Offsets!$A$28,0)","v":0},100.99999999999999,null,{"$f":"OFFSET(Data!AO71,Offsets!$A$28,0)","v":2},{"$f":"OFFSET(Data!AP71,Offsets!$A$28,0)","v":113.14285714285714},{"$f":"OFFSET(Data!AQ71,Offsets!$A$28,0)","v":1.2857142857142858},{"$f":"OFFSET(Data!AR71,Offsets!$A$28,0)","v":6.1428571428571432},{"$f":"OFFSET(Data!AS71,Offsets!$A$28,0)","v":0.14285714285714285},{"$f":"OFFSET(Data!AT71,Offsets!$A$28,0)","v":0.42857142857142855},{"$f":"OFFSET(Data!AU71,Offsets!$A$28,0)","v":0},{"$f":"OFFSET(Data!AV71,Offsets!$A$28,0)","v":0},{"$f":"OFFSET(Data!AW71,Offsets!$A$28,0)","v":0.14285714285714285},{"$f":"OFFSET(Data!AX71,Offsets!$A$28,0)","v":0.2857142857142857},{"$f":"OFFSET(Data!AY71,Offsets!$A$28,0)","v":0},{"$f":"OFFSET(Data!AZ71,Offsets!$A$28,0)","v":0},123.57142857142857,null,4.8571428571428577,203.57142857142856,2,11.285714285714286,0.42857142857142855,0.5714285714285714,0,0.14285714285714285,0.2857142857142857,1.4285714285714284,0,0,224.57142857142853]
[null,"16:45:00",{"$f":"OFFSET(Data!C72,Offsets!$A$28,0)","v":1.4285714285714286},{"$f":"OFFSET(Data!D72,Offsets!$A$28,0)","v":83.714285714285708},{"$f":"OFFSET(Data!E72,Offsets!$A$28,0)","v":0.8571428571428571},{"$f":"OFFSET(Data!F72,Offsets!$A$28,0)","v":4.8571428571428568},{"$f":"OFFSET(Data!G72,Offsets!$A$28,0)","v":0.2857142857142857},{"$f":"OFFSET(Data!H72,Offsets!$A$28,0)","v":0},{"$f":"OFFSET(Data!I72,Offsets!$A$28,0)","v":0},{"$f":"OFFSET(Data!J72,Offsets!$A$28,0)","v":0},{"$f":"OFFSET(Data!K72,Offsets!$A$28,0)","v":0.2857142857142857},{"$f":"OFFSET(Data!L72,Offsets!$A$28,0)","v":0.7142857142857143},{"$f":"OFFSET(Data!M72,Offsets!$A$28,0)","v":0},{"$f":"OFFSET(Data!N72,Offsets!$A$28,0)","v":0},92.142857142857153,null,{"$f":"OFFSET(Data!AO72,Offsets!$A$28,0)","v":2.7142857142857144},{"$f":"OFFSET(Data!AP72,Offsets!$A$28,0)","v":113.57142857142857},{"$f":"OFFSET(Data!AQ72,Offsets!$A$28,0)","v":0.42857142857142855},{"$f":"OFFSET(Data!AR72,Offsets!$A$28,0)","v":5},{"$f":"OFFSET(Data!AS72,Offsets!$A$28,0)","v":0.14285714285714285},{"$f":"OFFSET(Data!AT72,Offsets!$A$28,0)","v":0.2857142857142857},{"$f":"OFFSET(Data!AU72,Offsets!$A$28,0)","v":0.14285714285714285},{"$f":"OFFSET(Data!AV72,Offsets!$A$28,0)","v":0},{"$f":"OFFSET(Data!AW72,Offsets!$A$28,0)","v":0.42857142857142855},{"$f":"OFFSET(Data!AX72,Offsets!$A$28,0)","v":0.2857142857142857},{"$f":"OFFSET(Data!AY72,Offsets!$A$28,0)","v":0.14285714285714285},{"$f":"OFFSET(Data!AZ72,Offsets!$A$28,0)","v":0},123.14285714285714,null,4.1428571428571432,197.28571428571428,1.2857142857142856,9.8571428571428577,0.42857142857142855,0.2857142857142857,0.14285714285714285,0,0.71428571428571419,1,0.14285714285714285,0,215.28571428571425]
[null,"17:00:00",{"$f":"OFFSET(Data!C73,Offsets!$A$28,0)","v":1.7142857142857142},{"$f":"OFFSET(Data!D73,Offsets!$A$28,0)","v":96.285714285714292},{"$f":"OFFSET(Data!E73,Offsets!$A$28,0)","v":1},{"$f":"OFFSET(Data!F73,Offsets!$A$28,0)","v":4.5714285714285712},{"$f":"OFFSET(Data!G73,Offsets!$A$28,0)","v":0.14285714285714285},{"$f":"OFFSET(Data!H73,Offsets!$A$28,0)","v":0.42857142857142855},{"$f":"OFFSET(Data!I73,Offsets!$A$28,0)","v":0},{"$f":"OFFSET(Data!J73,Offsets!$A$28,0)","v":0.14285714285714285},{"$f":"OFFSET(Data!K73,Offsets!$A$28,0)","v":0.2857142857142857},{"$f":"OFFSET(Data!L73,Offsets!$A$28,0)","v":0.7142857142857143},{"$f":"OFFSET(Data!M73,Offsets!$A$28,0)","v":0},{"$f":"OFFSET(Data!N73,Offsets!$A$28,0)","v":0},105.28571428571428,null,{"$f":"OFFSET(Data!AO73,Offsets!$A$28,0)","v":1},{"$f":"OFFSET(Data!AP73,Offsets!$A$28,0)","v":121.57142857142857},{"$f":"OFFSET(Data!AQ73,Offsets!$A$28,0)","v":1.4285714285714286},{"$f":"OFFSET(Data!AR73,Offsets!$A$28,0)","v":4.4285714285714288},{"$f":"OFFSET(Data!AS73,Offsets!$A$28,0)","v":0.14285714285714285},{"$f":"OFFSET(Data!AT73,Offsets!$A$28,0)","v":0.14285714285714285},{"$f":"OFFSET(Data!AU73,Offsets!$A$28,0)","v":0},{"$f":"OFFSET(Data!AV73,Offsets!$A$28,0)","v":0.14285714285714285},{"$f":"OFFSET(Data!AW73,Offsets!$A$28,0)","v":0.2857142857142857},{"$f":"OFFSET(Data!AX73,Offsets!$A$28,0)","v":0.14285714285714285},{"$f":"OFFSET(Data!AY73,Offsets!$A$28,0)","v":0},{"$f":"OFFSET(Data!AZ73,Offsets!$A$28,0)","v":0.14285714285714285},129.42857142857139,null,2.7142857142857144,217.85714285714286,2.4285714285714288,9,0.2857142857142857,0.5714285714285714,0,0.2857142857142857,0.5714285714285714,0.85714285714285721,0,0.14285714285714285,234.71428571428572]
[null,"17:15:00",{"$f":"OFFSET(Data!C74,Offsets!$A$28,0)","v":2},{"$f":"OFFSET(Data!D74,Offsets!$A$28,0)","v":91.142857142857139},{"$f":"OFFSET(Data!E74,Offsets!$A$28,0)","v":0.14285714285714285},{"$f":"OFFSET(Data!F74,Offsets!$A$28,0)","v":3.2857142857142856},{"$f":"OFFSET(Data!G74,Offsets!$A$28,0)","v":0.14285714285714285},{"$f":"OFFSET(Data!H74,Offsets!$A$28,0)","v":0.2857142857142857},{"$f":"OFFSET(Data!I74,Offsets!$A$28,0)","v":0},{"$f":"OFFSET(Data!J74,Offsets!$A$28,0)","v":0.14285714285714285},{"$f":"OFFSET(Data!K74,Offsets!$A$28,0)","v":0.2857142857142857},{"$f":"OFFSET(Data!L74,Offsets!$A$28,0)","v":0.42857142857142855},{"$f":"OFFSET(Data!M74,Offsets!$A$28,0)","v":0},{"$f":"OFFSET(Data!N74,Offsets!$A$28,0)","v":0},97.857142857142861,null,{"$f":"OFFSET(Data!AO74,Offsets!$A$28,0)","v":1.2857142857142858},{"$f":"OFFSET(Data!AP74,Offsets!$A$28,0)","v":115.85714285714286},{"$f":"OFFSET(Data!AQ74,Offsets!$A$28,0)","v":1.2857142857142858},{"$f":"OFFSET(Data!AR74,Offsets!$A$28,0)","v":4.8571428571428568},{"$f":"OFFSET(Data!AS74,Offsets!$A$28,0)","v":0.14285714285714285},{"$f":"OFFSET(Data!AT74,Offsets!$A$28,0)","v":0.7142857142857143},{"$f":"OFFSET(Data!AU74,Offsets!$A$28,0)","v":0.14285714285714285},{"$f":"OFFSET(Data!AV74,Offsets!$A$28,0)","v":0.14285714285714285},{"$f":"OFFSET(Data!AW74,Offsets!$A$28,0)","v":0.14285714285714285},{"$f":"OFFSET(Data!AX74,Offsets!$A$28,0)","v":0.5714285714285714},{"$f":"OFFSET(Data!AY74,Offsets!$A$28,0)","v":0},{"$f":"OFFSET(Data!AZ74,Offsets!$A$28,0)","v":0},125.14285714285714,null,3.2857142857142856,207,1.4285714285714286,8.1428571428571423,0.2857142857142857,1,0.14285714285714285,0.2857142857142857,0.42857142857142855,1,0,0,222.99999999999994]
[null,"17:30:00",{"$f":"OFFSET(Data!C75,Offsets!$A$28,0)","v":2},{"$f":"OFFSET(Data!D75,Offsets!$A$28,0)","v":95.428571428571431},{"$f":"OFFSET(Data!E75,Offsets!$A$28,0)","v":0.8571428571428571},{"$f":"OFFSET(Data!F75,Offsets!$A$28,0)","v":5},{"$f":"OFFSET(Data!G75,Offsets!$A$28,0)","v":0},{"$f":"OFFSET(Data!H75,Offsets!$A$28,0)","v":0.14285714285714285},{"$f":"OFFSET(Data!I75,Offsets!$A$28,0)","v":0},{"$f":"OFFSET(Data!J75,Offsets!$A$28,0)","v":0.14285714285714285},{"$f":"OFFSET(Data!K75,Offsets!$A$28,0)","v":0.42857142857142855},{"$f":"OFFSET(Data!L75,Offsets!$A$28,0)","v":0.14285714285714285},{"$f":"OFFSET(Data!M75,Offsets!$A$28,0)","v":0.2857142857142857},{"$f":"OFFSET(Data!N75,Offsets!$A$28,0)","v":0},104.42857142857143,null,{"$f":"OFFSET(Data!AO75,Offsets!$A$28,0)","v":1.8571428571428572},{"$f":"OFFSET(Data!AP75,Offsets!$A$28,0)","v":107.42857142857143},{"$f":"OFFSET(Data!AQ75,Offsets!$A$28,0)","v":0.2857142857142857},{"$f":"OFFSET(Data!AR75,Offsets!$A$28,0)","v":4.2857142857142856},{"$f":"OFFSET(Data!AS75,Offsets!$A$28,0)","v":0},{"$f":"OFFSET(Data!AT75,Offsets!$A$28,0)","v":0.14285714285714285},{"$f":"OFFSET(Data!AU75,Offsets!$A$28,0)","v":0},{"$f":"OFFSET(Data!AV75,Offsets!$A$28,0)","v":0.2857142857142857},{"$f":"OFFSET(Data!AW75,Offsets!$A$28,0)","v":0},{"$f":"OFFSET(Data!AX75,Offsets!$A$28,0)","v":0.5714285714285714},{"$f":"OFFSET(Data!AY75,Offsets!$A$28,0)","v":0},{"$f":"OFFSET(Data!AZ75,Offsets!$A$28,0)","v":0},114.85714285714288,null,3.8571428571428572,202.85714285714286,1.1428571428571428,9.2857142857142847,0,0.2857142857142857,0,0.42857142857142855,0.42857142857142855,0.71428571428571419,0.2857142857142857,0,219.28571428571425]
[null,"17:45:00",{"$f":"OFFSET(Data!C76,Offsets!$A$28,0)","v":3.4285714285714284},{"$f":"OFFSET(Data!D76,Offsets!$A$28,0)","v":79.714285714285708},{"$f":"OFFSET(Data!E76,Offsets!$A$28,0)","v":1.1428571428571428},{"$f":"OFFSET(Data!F76,Offsets!$A$28,0)","v":3.2857142857142856},{"$f":"OFFSET(Data!G76,Offsets!$A$28,0)","v":0.14285714285714285},{"$f":"OFFSET(Data!H76,Offsets!$A$28,0)","v":0.14285714285714285},{"$f":"OFFSET(Data!I76,Offsets!$A$28,0)","v":0},{"$f":"OFFSET(Data!J76,Offsets!$A$28,0)","v":0.14285714285714285},{"$f":"OFFSET(Data!K76,Offsets!$A$28,0)","v":0},{"$f":"OFFSET(Data!L76,Offsets!$A$28,0)","v":0.14285714285714285},{"$f":"OFFSET(Data!M76,Offsets!$A$28,0)","v":0},{"$f":"OFFSET(Data!N76,Offsets!$A$28,0)","v":0},88.142857142857125,null,{"$f":"OFFSET(Data!AO76,Offsets!$A$28,0)","v":1.8571428571428572},{"$f":"OFFSET(Data!AP76,Offsets!$A$28,0)","v":98.857142857142861},{"$f":"OFFSET(Data!AQ76,Offsets!$A$28,0)","v":1.2857142857142858},{"$f":"OFFSET(Data!AR76,Offsets!$A$28,0)","v":3.2857142857142856},{"$f":"OFFSET(Data!AS76,Offsets!$A$28,0)","v":0.2857142857142857},{"$f":"OFFSET(Data!AT76,Offsets!$A$28,0)","v":0.14285714285714285},{"$f":"OFFSET(Data!AU76,Offsets!$A$28,0)","v":0},{"$f":"OFFSET(Data!AV76,Offsets!$A$28,0)","v":0},{"$f":"OFFSET(Data!AW76,Offsets!$A$28,0)","v":0.14285714285714285},{"$f":"OFFSET(Data!AX76,Offsets!$A$28,0)","v":0.14285714285714285},{"$f":"OFFSET(Data!AY76,Offsets!$A$28,0)","v":0},{"$f":"OFFSET(Data!AZ76,Offsets!$A$28,0)","v":0},106.00000000000001,null,5.2857142857142856,178.57142857142856,2.4285714285714288,6.5714285714285712,0.42857142857142855,0.2857142857142857,0,0.14285714285714285,0.14285714285714285,0.2857142857142857,0,0,194.14285714285708]
[null,"18:00:00",{"$f":"OFFSET(Data!C77,Offsets!$A$28,0)","v":1.4285714285714286},{"$f":"OFFSET(Data!D77,Offsets!$A$28,0)","v":83.714285714285708},{"$f":"OFFSET(Data!E77,Offsets!$A$28,0)","v":0.8571428571428571},{"$f":"OFFSET(Data!F77,Offsets!$A$28,0)","v":3.1428571428571428},{"$f":"OFFSET(Data!G77,Offsets!$A$28,0)","v":0},{"$f":"OFFSET(Data!H77,Offsets!$A$28,0)","v":0.14285714285714285},{"$f":"OFFSET(Data!I77,Offsets!$A$28,0)","v":0},{"$f":"OFFSET(Data!J77,Offsets!$A$28,0)","v":0},{"$f":"OFFSET(Data!K77,Offsets!$A$28,0)","v":0},{"$f":"OFFSET(Data!L77,Offsets!$A$28,0)","v":0},{"$f":"OFFSET(Data!M77,Offsets!$A$28,0)","v":0},{"$f":"OFFSET(Data!N77,Offsets!$A$28,0)","v":0},89.285714285714278,null,{"$f":"OFFSET(Data!AO77,Offsets!$A$28,0)","v":1.8571428571428572},{"$f":"OFFSET(Data!AP77,Offsets!$A$28,0)","v":99.857142857142861},{"$f":"OFFSET(Data!AQ77,Offsets!$A$28,0)","v":0.8571428571428571},{"$f":"OFFSET(Data!AR77,Offsets!$A$28,0)","v":3.7142857142857144},{"$f":"OFFSET(Data!AS77,Offsets!$A$28,0)","v":0},{"$f":"OFFSET(Data!AT77,Offsets!$A$28,0)","v":0},{"$f":"OFFSET(Data!AU77,Offsets!$A$28,0)","v":0},{"$f":"OFFSET(Data!AV77,Offsets!$A$28,0)","v":0.14285714285714285},{"$f":"OFFSET(Data!AW77,Offsets!$A$28,0)","v":0},{"$f":"OFFSET(Data!AX77,Offsets!$A$28,0)","v":0.2857142857142857},{"$f":"OFFSET(Data!AY77,Offsets!$A$28,0)","v":0},{"$f":"OFFSET(Data!AZ77,Offsets!$A$28,0)","v":0},106.71428571428572,null,3.2857142857142856,183.57142857142856,1.7142857142857142,6.8571428571428577,0,0.14285714285714285,0,0.14285714285714285,0,0.2857142857142857,0,0,195.99999999999997]
[null,"18:15:00",{"$f":"OFFSET(Data!C78,Offsets!$A$28,0)","v":2.5714285714285716},{"$f":"OFFSET(Data!D78,Offsets!$A$28,0)","v":64.142857142857139},{"$f":"OFFSET(Data!E78,Offsets!$A$28,0)","v":0.5714285714285714},{"$f":"OFFSET(Data!F78,Offsets!$A$28,0)","v":2.7142857142857144},{"$f":"OFFSET(Data!G78,Offsets!$A$28,0)","v":0},{"$f":"OFFSET(Data!H78,Offsets!$A$28,0)","v":0},{"$f":"OFFSET(Data!I78,Offsets!$A$28,0)","v":0},{"$f":"OFFSET(Data!J78,Offsets!$A$28,0)","v":0},{"$f":"OFFSET(Data!K78,Offsets!$A$28,0)","v":0.2857142857142857},{"$f":"OFFSET(Data!L78,Offsets!$A$28,0)","v":0.14285714285714285},{"$f":"OFFSET(Data!M78,Offsets!$A$28,0)","v":0},{"$f":"OFFSET(Data!N78,Offsets!$A$28,0)","v":0},70.428571428571416,null,{"$f":"OFFSET(Data!AO78,Offsets!$A$28,0)","v":1.1428571428571428},{"$f":"OFFSET(Data!AP78,Offsets!$A$28,0)","v":87.285714285714292},{"$f":"OFFSET(Data!AQ78,Offsets!$A$28,0)","v":0.5714285714285714},{"$f":"OFFSET(Data!AR78,Offsets!$A$28,0)","v":4.1428571428571432},{"$f":"OFFSET(Data!AS78,Offsets!$A$28,0)","v":0.2857142857142857},{"$f":"OFFSET(Data!AT78,Offsets!$A$28,0)","v":0},{"$f":"OFFSET(Data!AU78,Offsets!$A$28,0)","v":0},{"$f":"OFFSET(Data!AV78,Offsets!$A$28,0)","v":0},{"$f":"OFFSET(Data!AW78,Offsets!$A$28,0)","v":0.14285714285714285},{"$f":"OFFSET(Data!AX78,Offsets!$A$28,0)","v":0},{"$f":"OFFSET(Data!AY78,Offsets!$A$28,0)","v":0.14285714285714285},{"$f":"OFFSET(Data!AZ78,Offsets!$A$28,0)","v":0},93.714285714285708,null,3.7142857142857144,151.42857142857144,1.1428571428571428,6.8571428571428577,0.2857142857142857,0,0,0,0.42857142857142855,0.14285714285714285,0.14285714285714285,0,164.14285714285714]
[null,"18:30:00",{"$f":"OFFSET(Data!C79,Offsets!$A$28,0)","v":1.2857142857142858},{"$f":"OFFSET(Data!D79,Offsets!$A$28,0)","v":57.714285714285715},{"$f":"OFFSET(Data!E79,Offsets!$A$28,0)","v":0.14285714285714285},{"$f":"OFFSET(Data!F79,Offsets!$A$28,0)","v":2.8571428571428572},{"$f":"OFFSET(Data!G79,Offsets!$A$28,0)","v":0.2857142857142857},{"$f":"OFFSET(Data!H79,Offsets!$A$28,0)","v":0},{"$f":"OFFSET(Data!I79,Offsets!$A$28,0)","v":0},{"$f":"OFFSET(Data!J79,Offsets!$A$28,0)","v":0},{"$f":"OFFSET(Data!K79,Offsets!$A$28,0)","v":0.14285714285714285},{"$f":"OFFSET(Data!L79,Offsets!$A$28,0)","v":0.2857142857142857},{"$f":"OFFSET(Data!M79,Offsets!$A$28,0)","v":0},{"$f":"OFFSET(Data!N79,Offsets!$A$28,0)","v":0},62.714285714285715,null,{"$f":"OFFSET(Data!AO79,Offsets!$A$28,0)","v":4.2857142857142856},{"$f":"OFFSET(Data!AP79,Offsets!$A$28,0)","v":113},{"$f":"OFFSET(Data!AQ79,Offsets!$A$28,0)","v":1.2857142857142858},{"$f":"OFFSET(Data!AR79,Offsets!$A$28,0)","v":5.7142857142857144},{"$f":"OFFSET(Data!AS79,Offsets!$A$28,0)","v":0},{"$f":"OFFSET(Data!AT79,Offsets!$A$28,0)","v":0},{"$f":"OFFSET(Data!AU79,Offsets!$A$28,0)","v":0.14285714285714285},{"$f":"OFFSET(Data!AV79,Offsets!$A$28,0)","v":0},{"$f":"OFFSET(Data!AW79,Offsets!$A$28,0)","v":0},{"$f":"OFFSET(Data!AX79,Offsets!$A$28,0)","v":0.42857142857142855},{"$f":"OFFSET(Data!AY79,Offsets!$A$28,0)","v":0},{"$f":"OFFSET(Data!AZ79,Offsets!$A$28,0)","v":0},124.85714285714286,null,5.5714285714285712,170.71428571428572,1.4285714285714286,8.5714285714285712,0.2857142857142857,0,0.14285714285714285,0,0.14285714285714285,0.71428571428571419,0,0,187.57142857142858]
[null,"18:45:00",{"$f":"OFFSET(Data!C80,Offsets!$A$28,0)","v":1.1428571428571428},{"$f":"OFFSET(Data!D80,Offsets!$A$28,0)","v":61.285714285714285},{"$f":"OFFSET(Data!E80,Offsets!$A$28,0)","v":0.42857142857142855},{"$f":"OFFSET(Data!F80,Offsets!$A$28,0)","v":3.2857142857142856},{"$f":"OFFSET(Data!G80,Offsets!$A$28,0)","v":0.14285714285714285},{"$f":"OFFSET(Data!H80,Offsets!$A$28,0)","v":0.14285714285714285},{"$f":"OFFSET(Data!I80,Offsets!$A$28,0)","v":0},{"$f":"OFFSET(Data!J80,Offsets!$A$28,0)","v":0},{"$f":"OFFSET(Data!K80,Offsets!$A$28,0)","v":0},{"$f":"OFFSET(Data!L80,Offsets!$A$28,0)","v":0.14285714285714285},{"$f":"OFFSET(Data!M80,Offsets!$A$28,0)","v":0},{"$f":"OFFSET(Data!N80,Offsets!$A$28,0)","v":0},66.571428571428569,null,{"$f":"OFFSET(Data!AO80,Offsets!$A$28,0)","v":2.7142857142857144},{"$f":"OFFSET(Data!AP80,Offsets!$A$28,0)","v":89.428571428571431},{"$f":"OFFSET(Data!AQ80,Offsets!$A$28,0)","v":0.42857142857142855},{"$f":"OFFSET(Data!AR80,Offsets!$A$28,0)","v":3.2857142857142856},{"$f":"OFFSET(Data!AS80,Offsets!$A$28,0)","v":0.14285714285714285},{"$f":"OFFSET(Data!AT80,Offsets!$A$28,0)","v":0.2857142857142857},{"$f":"OFFSET(Data!AU80,Offsets!$A$28,0)","v":0},{"$f":"OFFSET(Data!AV80,Offsets!$A$28,0)","v":0},{"$f":"OFFSET(Data!AW80,Offsets!$A$28,0)","v":0},{"$f":"OFFSET(Data!AX80,Offsets!$A$28,0)","v":0.2857142857142857},{"$f":"OFFSET(Data!AY80,Offsets!$A$28,0)","v":0},{"$f":"OFFSET(Data!AZ80,Offsets!$A$28,0)","v":0},96.571428571428584,null,3.8571428571428572,150.71428571428572,0.8571428571428571,6.5714285714285712,0.2857142857142857,0.42857142857142855,0,0,0,0.42857142857142855,0,0,163.14285714285714]
[null,"19:00:00",{"$f":"OFFSET(Data!C81,Offsets!$A$28,0)","v":3},{"$f":"OFFSET(Data!D81,Offsets!$A$28,0)","v":66.714285714285708},{"$f":"OFFSET(Data!E81,Offsets!$A$28,0)","v":0.5714285714285714},{"$f":"OFFSET(Data!F81,Offsets!$A$28,0)","v":1.8571428571428572},{"$f":"OFFSET(Data!G81,Offsets!$A$28,0)","v":0.14285714285714285},{"$f":"OFFSET(Data!H81,Offsets!$A$28,0)","v":0.2857142857142857},{"$f":"OFFSET(Data!I81,Offsets!$A$28,0)","v":0},{"$f":"OFFSET(Data!J81,Offsets!$A$28,0)","v":0},{"$f":"OFFSET(Data!K81,Offsets!$A$28,0)","v":0},{"$f":"OFFSET(Data!L81,Offsets!$A$28,0)","v":0.14285714285714285},{"$f":"OFFSET(Data!M81,Offsets!$A$28,0)","v":0},{"$f":"OFFSET(Data!N81,Offsets!$A$28,0)","v":0},72.714285714285708,null,{"$f":"OFFSET(Data!AO81,Offsets!$A$28,0)","v":1.8571428571428572},{"$f":"OFFSET(Data!AP81,Offsets!$A$28,0)","v":68.285714285714292},{"$f":"OFFSET(Data!AQ81,Offsets!$A$28,0)","v":0.7142857142857143},{"$f":"OFFSET(Data!AR81,Offsets!$A$28,0)","v":2.1428571428571428},{"$f":"OFFSET(Data!AS81,Offsets!$A$28,0)","v":0.14285714285714285},{"$f":"OFFSET(Data!AT81,Offsets!$A$28,0)","v":0.14285714285714285},{"$f":"OFFSET(Data!AU81,Offsets!$A$28,0)","v":0},{"$f":"OFFSET(Data!AV81,Offsets!$A$28,0)","v":0},{"$f":"OFFSET(Data!AW81,Offsets!$A$28,0)","v":0.14285714285714285},{"$f":"OFFSET(Data!AX81,Offsets!$A$28,0)","v":0.14285714285714285},{"$f":"OFFSET(Data!AY81,Offsets!$A$28,0)","v":0},{"$f":"OFFSET(Data!AZ81,Offsets!$A$28,0)","v":0},73.571428571428555,null,4.8571428571428577,135,1.2857142857142856,4,0.2857142857142857,0.42857142857142855,0,0,0.14285714285714285,0.2857142857142857,0,0,146.28571428571425]
[null,"19:15:00",{"$f":"OFFSET(Data!C82,Offsets!$A$28,0)","v":1.2857142857142858},{"$f":"OFFSET(Data!D82,Offsets!$A$28,0)","v":46.142857142857146},{"$f":"OFFSET(Data!E82,Offsets!$A$28,0)","v":0.5714285714285714},{"$f":"OFFSET(Data!F82,Offsets!$A$28,0)","v":2},{"$f":"OFFSET(Data!G82,Offsets!$A$28,0)","v":0},{"$f":"OFFSET(Data!H82,Offsets!$A$28,0)","v":0},{"$f":"OFFSET(Data!I82,Offsets!$A$28,0)","v":0},{"$f":"OFFSET(Data!J82,Offsets!$A$28,0)","v":0},{"$f":"OFFSET(Data!K82,Offsets!$A$28,0)","v":0.2857142857142857},{"$f":"OFFSET(Data!L82,Offsets!$A$28,0)","v":0},{"$f":"OFFSET(Data!M82,Offsets!$A$28,0)","v":0},{"$f":"OFFSET(Data!N82,Offsets!$A$28,0)","v":0},50.285714285714285,null,{"$f":"OFFSET(Data!AO82,Offsets!$A$28,0)","v":1.1428571428571428},{"$f":"OFFSET(Data!AP82,Offsets!$A$28,0)","v":68.142857142857139},{"$f":"OFFSET(Data!AQ82,Offsets!$A$28,0)","v":0.2857142857142857},{"$f":"OFFSET(Data!AR82,Offsets!$A$28,0)","v":2.4285714285714284},{"$f":"OFFSET(Data!AS82,Offsets!$A$28,0)","v":0.14285714285714285},{"$f":"OFFSET(Data!AT82,Offsets!$A$28,0)","v":0.2857142857142857},{"$f":"OFFSET(Data!AU82,Offsets!$A$28,0)","v":0},{"$f":"OFFSET(Data!AV82,Offsets!$A$28,0)","v":0},{"$f":"OFFSET(Data!AW82,Offsets!$A$28,0)","v":0},{"$f":"OFFSET(Data!AX82,Offsets!$A$28,0)","v":0.2857142857142857},{"$f":"OFFSET(Data!AY82,Offsets!$A$28,0)","v":0},{"$f":"OFFSET(Data!AZ82,Offsets!$A$28,0)","v":0},72.714285714285722,null,2.4285714285714288,114.28571428571428,0.8571428571428571,4.4285714285714288,0.14285714285714285,0.2857142857142857,0,0,0.2857142857142857,0.2857142857142857,0,0,123.00000000000001]
[null,"19:30:00",{"$f":"OFFSET(Data!C83,Offsets!$A$28,0)","v":2.5714285714285716},{"$f":"OFFSET(Data!D83,Offsets!$A$28,0)","v":47.571428571428569},{"$f":"OFFSET(Data!E83,Offsets!$A$28,0)","v":0.2857142857142857},{"$f":"OFFSET(Data!F83,Offsets!$A$28,0)","v":3.1428571428571428},{"$f":"OFFSET(Data!G83,Offsets!$A$28,0)","v":0.14285714285714285},{"$f":"OFFSET(Data!H83,Offsets!$A$28,0)","v":0.14285714285714285},{"$f":"OFFSET(Data!I83,Offsets!$A$28,0)","v":0},{"$f":"OFFSET(Data!J83,Offsets!$A$28,0)","v":0.14285714285714285},{"$f":"OFFSET(Data!K83,Offsets!$A$28,0)","v":0},{"$f":"OFFSET(Data!L83,Offsets!$A$28,0)","v":0},{"$f":"OFFSET(Data!M83,Offsets!$A$28,0)","v":0},{"$f":"OFFSET(Data!N83,Offsets!$A$28,0)","v":0},54.000000000000007,null,{"$f":"OFFSET(Data!AO83,Offsets!$A$28,0)","v":2.2857142857142856},{"$f":"OFFSET(Data!AP83,Offsets!$A$28,0)","v":55.857142857142854},{"$f":"OFFSET(Data!AQ83,Offsets!$A$28,0)","v":0.7142857142857143},{"$f":"OFFSET(Data!AR83,Offsets!$A$28,0)","v":1.2857142857142858},{"$f":"OFFSET(Data!AS83,Offsets!$A$28,0)","v":0},{"$f":"OFFSET(Data!AT83,Offsets!$A$28,0)","v":0.2857142857142857},{"$f":"OFFSET(Data!AU83,Offsets!$A$28,0)","v":0},{"$f":"OFFSET(Data!AV83,Offsets!$A$28,0)","v":0},{"$f":"OFFSET(Data!AW83,Offsets!$A$28,0)","v":0},{"$f":"OFFSET(Data!AX83,Offsets!$A$28,0)","v":0},{"$f":"OFFSET(Data!AY83,Offsets!$A$28,0)","v":0},{"$f":"OFFSET(Data!AZ83,Offsets!$A$28,0)","v":0},60.428571428571423,null,4.8571428571428577,103.42857142857142,1,4.4285714285714288,0.14285714285714285,0.42857142857142855,0,0.14285714285714285,0,0,0,0,114.42857142857142]
[null,"19:45:00",{"$f":"OFFSET(Data!C84,Offsets!$A$28,0)","v":2.2857142857142856},{"$f":"OFFSET(Data!D84,Offsets!$A$28,0)","v":39.428571428571431},{"$f":"OFFSET(Data!E84,Offsets!$A$28,0)","v":0.8571428571428571},{"$f":"OFFSET(Data!F84,Offsets!$A$28,0)","v":2.1428571428571428},{"$f":"OFFSET(Data!G84,Offsets!$A$28,0)","v":0},{"$f":"OFFSET(Data!H84,Offsets!$A$28,0)","v":0.14285714285714285},{"$f":"OFFSET(Data!I84,Offsets!$A$28,0)","v":0},{"$f":"OFFSET(Data!J84,Offsets!$A$28,0)","v":0},{"$f":"OFFSET(Data!K84,Offsets!$A$28,0)","v":0.2857142857142857},{"$f":"OFFSET(Data!L84,Offsets!$A$28,0)","v":0},{"$f":"OFFSET(Data!M84,Offsets!$A$28,0)","v":0},{"$f":"OFFSET(Data!N84,Offsets!$A$28,0)","v":0},45.142857142857146,null,{"$f":"OFFSET(Data!AO84,Offsets!$A$28,0)","v":1},{"$f":"OFFSET(Data!AP84,Offsets!$A$28,0)","v":55.285714285714285},{"$f":"OFFSET(Data!AQ84,Offsets!$A$28,0)","v":0.42857142857142855},{"$f":"OFFSET(Data!AR84,Offsets!$A$28,0)","v":1.2857142857142858},{"$f":"OFFSET(Data!AS84,Offsets!$A$28,0)","v":0},{"$f":"OFFSET(Data!AT84,Offsets!$A$28,0)","v":0},{"$f":"OFFSET(Data!AU84,Offsets!$A$28,0)","v":0},{"$f":"OFFSET(Data!AV84,Offsets!$A$28,0)","v":0},{"$f":"OFFSET(Data!AW84,Offsets!$A$28,0)","v":0},{"$f":"OFFSET(Data!AX84,Offsets!$A$28,0)","v":0},{"$f":"OFFSET(Data!AY84,Offsets!$A$28,0)","v":0.14285714285714285},{"$f":"OFFSET(Data!AZ84,Offsets!$A$28,0)","v":0},58.142857142857146,null,3.2857142857142856,94.714285714285722,1.2857142857142856,3.4285714285714288,0,0.14285714285714285,0,0,0.2857142857142857,0,0.14285714285714285,0,103.28571428571431]
[null,"20:00:00",{"$f":"OFFSET(Data!C85,Offsets!$A$28,0)","v":2},{"$f":"OFFSET(Data!D85,Offsets!$A$28,0)","v":39.142857142857146},{"$f":"OFFSET(Data!E85,Offsets!$A$28,0)","v":0.42857142857142855},{"$f":"OFFSET(Data!F85,Offsets!$A$28,0)","v":2.7142857142857144},{"$f":"OFFSET(Data!G85,Offsets!$A$28,0)","v":0},{"$f":"OFFSET(Data!H85,Offsets!$A$28,0)","v":0},{"$f":"OFFSET(Data!I85,Offsets!$A$28,0)","v":0},{"$f":"OFFSET(Data!J85,Offsets!$A$28,0)","v":0},{"$f":"OFFSET(Data!K85,Offsets!$A$28,0)","v":0},{"$f":"OFFSET(Data!L85,Offsets!$A$28,0)","v":0},{"$f":"OFFSET(Data!M85,Offsets!$A$28,0)","v":0},{"$f":"OFFSET(Data!N85,Offsets!$A$28,0)","v":0},44.285714285714292,null,{"$f":"OFFSET(Data!AO85,Offsets!$A$28,0)","v":0.8571428571428571},{"$f":"OFFSET(Data!AP85,Offsets!$A$28,0)","v":49},{"$f":"OFFSET(Data!AQ85,Offsets!$A$28,0)","v":0.2857142857142857},{"$f":"OFFSET(Data!AR85,Offsets!$A$28,0)","v":1.4285714285714286},{"$f":"OFFSET(Data!AS85,Offsets!$A$28,0)","v":0.14285714285714285},{"$f":"OFFSET(Data!AT85,Offsets!$A$28,0)","v":0},{"$f":"OFFSET(Data!AU85,Offsets!$A$28,0)","v":0.14285714285714285},{"$f":"OFFSET(Data!AV85,Offsets!$A$28,0)","v":0},{"$f":"OFFSET(Data!AW85,Offsets!$A$28,0)","v":0},{"$f":"OFFSET(Data!AX85,Offsets!$A$28,0)","v":0},{"$f":"OFFSET(Data!AY85,Offsets!$A$28,0)","v":0},{"$f":"OFFSET(Data!AZ85,Offsets!$A$28,0)","v":0},51.857142857142861,null,2.8571428571428572,88.142857142857139,0.71428571428571419,4.1428571428571432,0.14285714285714285,0,0.14285714285714285,0,0,0,0,0,96.142857142857125]
[null,"20:15:00",{"$f":"OFFSET(Data!C86,Offsets!$A$28,0)","v":1.5714285714285714},{"$f":"OFFSET(Data!D86,Offsets!$A$28,0)","v":38.857142857142854},{"$f":"OFFSET(Data!E86,Offsets!$A$28,0)","v":0.2857142857142857},{"$f":"OFFSET(Data!F86,Offsets!$A$28,0)","v":0.7142857142857143},{"$f":"OFFSET(Data!G86,Offsets!$A$28,0)","v":0.14285714285714285},{"$f":"OFFSET(Data!H86,Offsets!$A$28,0)","v":0},{"$f":"OFFSET(Data!I86,Offsets!$A$28,0)","v":0},{"$f":"OFFSET(Data!J86,Offsets!$A$28,0)","v":0},{"$f":"OFFSET(Data!K86,Offsets!$A$28,0)","v":0},{"$f":"OFFSET(Data!L86,Offsets!$A$28,0)","v":0},{"$f":"OFFSET(Data!M86,Offsets!$A$28,0)","v":0},{"$f":"OFFSET(Data!N86,Offsets!$A$28,0)","v":0},41.571428571428569,null,{"$f":"OFFSET(Data!AO86,Offsets!$A$28,0)","v":1.7142857142857142},{"$f":"OFFSET(Data!AP86,Offsets!$A$28,0)","v":48.285714285714285},{"$f":"OFFSET(Data!AQ86,Offsets!$A$28,0)","v":0.42857142857142855},{"$f":"OFFSET(Data!AR86,Offsets!$A$28,0)","v":2.1428571428571428},{"$f":"OFFSET(Data!AS86,Offsets!$A$28,0)","v":0.14285714285714285},{"$f":"OFFSET(Data!AT86,Offsets!$A$28,0)","v":0},{"$f":"OFFSET(Data!AU86,Offsets!$A$28,0)","v":0},{"$f":"OFFSET(Data!AV86,Offsets!$A$28,0)","v":0.14285714285714285},{"$f":"OFFSET(Data!AW86,Offsets!$A$28,0)","v":0},{"$f":"OFFSET(Data!AX86,Offsets!$A$28,0)","v":0},{"$f":"OFFSET(Data!AY86,Offsets!$A$28,0)","v":0},{"$f":"OFFSET(Data!AZ86,Offsets!$A$28,0)","v":0},52.857142857142868,null,3.2857142857142856,87.142857142857139,0.71428571428571419,2.8571428571428572,0.2857142857142857,0,0,0.14285714285714285,0,0,0,0,94.428571428571431]
[null,"20:30:00",{"$f":"OFFSET(Data!C87,Offsets!$A$28,0)","v":0.8571428571428571},{"$f":"OFFSET(Data!D87,Offsets!$A$28,0)","v":27.857142857142858},{"$f":"OFFSET(Data!E87,Offsets!$A$28,0)","v":0.42857142857142855},{"$f":"OFFSET(Data!F87,Offsets!$A$28,0)","v":1.5714285714285714},{"$f":"OFFSET(Data!G87,Offsets!$A$28,0)","v":0},{"$f":"OFFSET(Data!H87,Offsets!$A$28,0)","v":0},{"$f":"OFFSET(Data!I87,Offsets!$A$28,0)","v":0},{"$f":"OFFSET(Data!J87,Offsets!$A$28,0)","v":0},{"$f":"OFFSET(Data!K87,Offsets!$A$28,0)","v":0},{"$f":"OFFSET(Data!L87,Offsets!$A$28,0)","v":0},{"$f":"OFFSET(Data!M87,Offsets!$A$28,0)","v":0},{"$f":"OFFSET(Data!N87,Offsets!$A$28,0)","v":0},30.714285714285715,null,{"$f":"OFFSET(Data!AO87,Offsets!$A$28,0)","v":0.8571428571428571},{"$f":"OFFSET(Data!AP87,Offsets!$A$28,0)","v":44.285714285714285},{"$f":"OFFSET(Data!AQ87,Offsets!$A$28,0)","v":0.5714285714285714},{"$f":"OFFSET(Data!AR87,Offsets!$A$28,0)","v":2.2857142857142856},{"$f":"OFFSET(Data!AS87,Offsets!$A$28,0)","v":0},{"$f":"OFFSET(Data!AT87,Offsets!$A$28,0)","v":0.14285714285714285},{"$f":"OFFSET(Data!AU87,Offsets!$A$28,0)","v":0},{"$f":"OFFSET(Data!AV87,Offsets!$A$28,0)","v":0},{"$f":"OFFSET(Data!AW87,Offsets!$A$28,0)","v":0},{"$f":"OFFSET(Data!AX87,Offsets!$A$28,0)","v":0},{"$f":"OFFSET(Data!AY87,Offsets!$A$28,0)","v":0},{"$f":"OFFSET(Data!AZ87,Offsets!$A$28,0)","v":0},48.142857142857139,null,1.7142857142857142,72.142857142857139,1,3.8571428571428568,0,0.14285714285714285,0,0,0,0,0,0,78.857142857142847]
[null,"20:45:00",{"$f":"OFFSET(Data!C88,Offsets!$A$28,0)","v":1.2857142857142858},{"$f":"OFFSET(Data!D88,Offsets!$A$28,0)","v":33},{"$f":"OFFSET(Data!E88,Offsets!$A$28,0)","v":0.14285714285714285},{"$f":"OFFSET(Data!F88,Offsets!$A$28,0)","v":1.4285714285714286},{"$f":"OFFSET(Data!G88,Offsets!$A$28,0)","v":0},{"$f":"OFFSET(Data!H88,Offsets!$A$28,0)","v":0},{"$f":"OFFSET(Data!I88,Offsets!$A$28,0)","v":0.14285714285714285},{"$f":"OFFSET(Data!J88,Offsets!$A$28,0)","v":0},{"$f":"OFFSET(Data!K88,Offsets!$A$28,0)","v":0},{"$f":"OFFSET(Data!L88,Offsets!$A$28,0)","v":0.14285714285714285},{"$f":"OFFSET(Data!M88,Offsets!$A$28,0)","v":0},{"$f":"OFFSET(Data!N88,Offsets!$A$28,0)","v":0},36.142857142857153,null,{"$f":"OFFSET(Data!AO88,Offsets!$A$28,0)","v":0.5714285714285714},{"$f":"OFFSET(Data!AP88,Offsets!$A$28,0)","v":42},{"$f":"OFFSET(Data!AQ88,Offsets!$A$28,0)","v":0.5714285714285714},{"$f":"OFFSET(Data!AR88,Offsets!$A$28,0)","v":1},{"$f":"OFFSET(Data!AS88,Offsets!$A$28,0)","v":0},{"$f":"OFFSET(Data!AT88,Offsets!$A$28,0)","v":0},{"$f":"OFFSET(Data!AU88,Offsets!$A$28,0)","v":0},{"$f":"OFFSET(Data!AV88,Offsets!$A$28,0)","v":0},{"$f":"OFFSET(Data!AW88,Offsets!$A$28,0)","v":0},{"$f":"OFFSET(Data!AX88,Offsets!$A$28,0)","v":0.14285714285714285},{"$f":"OFFSET(Data!AY88,Offsets!$A$28,0)","v":0},{"$f":"OFFSET(Data!AZ88,Offsets!$A$28,0)","v":0},44.285714285714285,null,1.8571428571428572,75,0.71428571428571419,2.4285714285714288,0,0,0.14285714285714285,0,0,0.2857142857142857,0,0,80.428571428571431]
[null,"21:00:00",{"$f":"OFFSET(Data!C89,Offsets!$A$28,0)","v":0.5714285714285714},{"$f":"OFFSET(Data!D89,Offsets!$A$28,0)","v":27.285714285714285},{"$f":"OFFSET(Data!E89,Offsets!$A$28,0)","v":0},{"$f":"OFFSET(Data!F89,Offsets!$A$28,0)","v":0.8571428571428571},{"$f":"OFFSET(Data!G89,Offsets!$A$28,0)","v":0.14285714285714285},{"$f":"OFFSET(Data!H89,Offsets!$A$28,0)","v":0},{"$f":"OFFSET(Data!I89,Offsets!$A$28,0)","v":0},{"$f":"OFFSET(Data!J89,Offsets!$A$28,0)","v":0},{"$f":"OFFSET(Data!K89,Offsets!$A$28,0)","v":0},{"$f":"OFFSET(Data!L89,Offsets!$A$28,0)","v":0},{"$f":"OFFSET(Data!M89,Offsets!$A$28,0)","v":0},{"$f":"OFFSET(Data!N89,Offsets!$A$28,0)","v":0},28.857142857142858,null,{"$f":"OFFSET(Data!AO89,Offsets!$A$28,0)","v":0.14285714285714285},{"$f":"OFFSET(Data!AP89,Offsets!$A$28,0)","v":38},{"$f":"OFFSET(Data!AQ89,Offsets!$A$28,0)","v":0.2857142857142857},{"$f":"OFFSET(Data!AR89,Offsets!$A$28,0)","v":1.1428571428571428},{"$f":"OFFSET(Data!AS89,Offsets!$A$28,0)","v":0},{"$f":"OFFSET(Data!AT89,Offsets!$A$28,0)","v":0},{"$f":"OFFSET(Data!AU89,Offsets!$A$28,0)","v":0.14285714285714285},{"$f":"OFFSET(Data!AV89,Offsets!$A$28,0)","v":0},{"$f":"OFFSET(Data!AW89,Offsets!$A$28,0)","v":0},{"$f":"OFFSET(Data!AX89,Offsets!$A$28,0)","v":0},{"$f":"OFFSET(Data!AY89,Offsets!$A$28,0)","v":0},{"$f":"OFFSET(Data!AZ89,Offsets!$A$28,0)","v":0},39.714285714285722,null,0.71428571428571419,65.285714285714278,0.2857142857142857,2,0.14285714285714285,0,0.14285714285714285,0,0,0,0,0,68.571428571428555]
[null,"21:15:00",{"$f":"OFFSET(Data!C90,Offsets!$A$28,0)","v":0.7142857142857143},{"$f":"OFFSET(Data!D90,Offsets!$A$28,0)","v":26.857142857142858},{"$f":"OFFSET(Data!E90,Offsets!$A$28,0)","v":0.5714285714285714},{"$f":"OFFSET(Data!F90,Offsets!$A$28,0)","v":1.2857142857142858},{"$f":"OFFSET(Data!G90,Offsets!$A$28,0)","v":0.14285714285714285},{"$f":"OFFSET(Data!H90,Offsets!$A$28,0)","v":0},{"$f":"OFFSET(Data!I90,Offsets!$A$28,0)","v":0},{"$f":"OFFSET(Data!J90,Offsets!$A$28,0)","v":0},{"$f":"OFFSET(Data!K90,Offsets!$A$28,0)","v":0.14285714285714285},{"$f":"OFFSET(Data!L90,Offsets!$A$28,0)","v":0},{"$f":"OFFSET(Data!M90,Offsets!$A$28,0)","v":0},{"$f":"OFFSET(Data!N90,Offsets!$A$28,0)","v":0},29.714285714285715,null,{"$f":"OFFSET(Data!AO90,Offsets!$A$28,0)","v":0.7142857142857143},{"$f":"OFFSET(Data!AP90,Offsets!$A$28,0)","v":34.142857142857146},{"$f":"OFFSET(Data!AQ90,Offsets!$A$28,0)","v":0.42857142857142855},{"$f":"OFFSET(Data!AR90,Offsets!$A$28,0)","v":2},{"$f":"OFFSET(Data!AS90,Offsets!$A$28,0)","v":0},{"$f":"OFFSET(Data!AT90,Offsets!$A$28,0)","v":0},{"$f":"OFFSET(Data!AU90,Offsets!$A$28,0)","v":0},{"$f":"OFFSET(Data!AV90,Offsets!$A$28,0)","v":0},{"$f":"OFFSET(Data!AW90,Offsets!$A$28,0)","v":0.14285714285714285},{"$f":"OFFSET(Data!AX90,Offsets!$A$28,0)","v":0},{"$f":"OFFSET(Data!AY90,Offsets!$A$28,0)","v":0},{"$f":"OFFSET(Data!AZ90,Offsets!$A$28,0)","v":0},37.428571428571438,null,1.4285714285714286,61,1,3.2857142857142856,0.14285714285714285,0,0,0,0.2857142857142857,0,0,0,67.142857142857153]
[null,"21:30:00",{"$f":"OFFSET(Data!C91,Offsets!$A$28,0)","v":1.1428571428571428},{"$f":"OFFSET(Data!D91,Offsets!$A$28,0)","v":29.428571428571427},{"$f":"OFFSET(Data!E91,Offsets!$A$28,0)","v":0.14285714285714285},{"$f":"OFFSET(Data!F91,Offsets!$A$28,0)","v":1.2857142857142858},{"$f":"OFFSET(Data!G91,Offsets!$A$28,0)","v":0},{"$f":"OFFSET(Data!H91,Offsets!$A$28,0)","v":0.14285714285714285},{"$f":"OFFSET(Data!I91,Offsets!$A$28,0)","v":0},{"$f":"OFFSET(Data!J91,Offsets!$A$28,0)","v":0},{"$f":"OFFSET(Data!K91,Offsets!$A$28,0)","v":0},{"$f":"OFFSET(Data!L91,Offsets!$A$28,0)","v":0},{"$f":"OFFSET(Data!M91,Offsets!$A$28,0)","v":0},{"$f":"OFFSET(Data!N91,Offsets!$A$28,0)","v":0},32.142857142857139,null,{"$f":"OFFSET(Data!AO91,Offsets!$A$28,0)","v":1.1428571428571428},{"$f":"OFFSET(Data!AP91,Offsets!$A$28,0)","v":33.285714285714285},{"$f":"OFFSET(Data!AQ91,Offsets!$A$28,0)","v":0.2857142857142857},{"$f":"OFFSET(Data!AR91,Offsets!$A$28,0)","v":1.1428571428571428},{"$f":"OFFSET(Data!AS91,Offsets!$A$28,0)","v":0},{"$f":"OFFSET(Data!AT91,Offsets!$A$28,0)","v":0},{"$f":"OFFSET(Data!AU91,Offsets!$A$28,0)","v":0},{"$f":"OFFSET(Data!AV91,Offsets!$A$28,0)","v":0},{"$f":"OFFSET(Data!AW91,Offsets!$A$28,0)","v":0.14285714285714285},{"$f":"OFFSET(Data!AX91,Offsets!$A$28,0)","v":0},{"$f":"OFFSET(Data!AY91,Offsets!$A$28,0)","v":0},{"$f":"OFFSET(Data!AZ91,Offsets!$A$28,0)","v":0},36.000000000000007,null,{"$f":"C102+Q102","v":2.2857142857142856},62.714285714285708,0.42857142857142855,2.4285714285714288,0,0.14285714285714285,0,0,0.14285714285714285,0,0,0,68.142857142857139]
[null,"21:45:00",{"$f":"OFFSET(Data!C92,Offsets!$A$28,0)","v":1},{"$f":"OFFSET(Data!D92,Offsets!$A$28,0)","v":27.714285714285715},{"$f":"OFFSET(Data!E92,Offsets!$A$28,0)","v":0.5714285714285714},{"$f":"OFFSET(Data!F92,Offsets!$A$28,0)","v":0.5714285714285714},{"$f":"OFFSET(Data!G92,Offsets!$A$28,0)","v":0},{"$f":"OFFSET(Data!H92,Offsets!$A$28,0)","v":0},{"$f":"OFFSET(Data!I92,Offsets!$A$28,0)","v":0},{"$f":"OFFSET(Data!J92,Offsets!$A$28,0)","v":0},{"$f":"OFFSET(Data!K92,Offsets!$A$28,0)","v":0},{"$f":"OFFSET(Data!L92,Offsets!$A$28,0)","v":0},{"$f":"OFFSET(Data!M92,Offsets!$A$28,0)","v":0},{"$f":"OFFSET(Data!N92,Offsets!$A$28,0)","v":0},29.857142857142861,null,{"$f":"OFFSET(Data!AO92,Offsets!$A$28,0)","v":1.2857142857142858},{"$f":"OFFSET(Data!AP92,Offsets!$A$28,0)","v":34.285714285714285},{"$f":"OFFSET(Data!AQ92,Offsets!$A$28,0)","v":0.42857142857142855},{"$f":"OFFSET(Data!AR92,Offsets!$A$28,0)","v":1},{"$f":"OFFSET(Data!AS92,Offsets!$A$28,0)","v":0},{"$f":"OFFSET(Data!AT92,Offsets!$A$28,0)","v":0},{"$f":"OFFSET(Data!AU92,Offsets!$A$28,0)","v":0},{"$f":"OFFSET(Data!AV92,Offsets!$A$28,0)","v":0},{"$f":"OFFSET(Data!AW92,Offsets!$A$28,0)","v":0},{"$f":"OFFSET(Data!AX92,Offsets!$A$28,0)","v":0},{"$f":"OFFSET(Data!AY92,Offsets!$A$28,0)","v":0},{"$f":"OFFSET(Data!AZ92,Offsets!$A$28,0)","v":0},37,null,2.2857142857142856,62,1,1.5714285714285714,0,0,0,0,0,0,0,0,66.857142857142861]
[null,"22:00:00",{"$f":"OFFSET(Data!C93,Offsets!$A$28,0)","v":0.2857142857142857},{"$f":"OFFSET(Data!D93,Offsets!$A$28,0)","v":24},{"$f":"OFFSET(Data!E93,Offsets!$A$28,0)","v":0.14285714285714285},{"$f":"OFFSET(Data!F93,Offsets!$A$28,0)","v":0.7142857142857143},{"$f":"OFFSET(Data!G93,Offsets!$A$28,0)","v":0.14285714285714285},{"$f":"OFFSET(Data!H93,Offsets!$A$28,0)","v":0.14285714285714285},{"$f":"OFFSET(Data!I93,Offsets!$A$28,0)","v":0},{"$f":"OFFSET(Data!J93,Offsets!$A$28,0)","v":0},{"$f":"OFFSET(Data!K93,Offsets!$A$28,0)","v":0},{"$f":"OFFSET(Data!L93,Offsets!$A$28,0)","v":0},{"$f":"OFFSET(Data!M93,Offsets!$A$28,0)","v":0},{"$f":"OFFSET(Data!N93,Offsets!$A$28,0)","v":0},25.428571428571427,null,{"$f":"OFFSET(Data!AO93,Offsets!$A$28,0)","v":0.8571428571428571},{"$f":"OFFSET(Data!AP93,Offsets!$A$28,0)","v":29.428571428571427},{"$f":"OFFSET(Data!AQ93,Offsets!$A$28,0)","v":0.5714285714285714},{"$f":"OFFSET(Data!AR93,Offsets!$A$28,0)","v":1.1428571428571428},{"$f":"OFFSET(Data!AS93,Offsets!$A$28,0)","v":0},{"$f":"OFFSET(Data!AT93,Offsets!$A$28,0)","v":0.14285714285714285},{"$f":"OFFSET(Data!AU93,Offsets!$A$28,0)","v":0},{"$f":"OFFSET(Data!AV93,Offsets!$A$28,0)","v":0},{"$f":"OFFSET(Data!AW93,Offsets!$A$28,0)","v":0.14285714285714285},{"$f":"OFFSET(Data!AX93,Offsets!$A$28,0)","v":0},{"$f":"OFFSET(Data!AY93,Offsets!$A$28,0)","v":0},{"$f":"OFFSET(Data!AZ93,Offsets!$A$28,0)","v":0},32.285714285714292,null,1.1428571428571428,53.428571428571431,0.71428571428571419,1.8571428571428572,0.14285714285714285,0.2857142857142857,0,0,0.14285714285714285,0,0,0,57.714285714285722]
[null,"22:15:00",{"$f":"OFFSET(Data!C94,Offsets!$A$28,0)","v":1.2857142857142858},{"$f":"OFFSET(Data!D94,Offsets!$A$28,0)","v":21.142857142857142},{"$f":"OFFSET(Data!E94,Offsets!$A$28,0)","v":0.42857142857142855},{"$f":"OFFSET(Data!F94,Offsets!$A$28,0)","v":0.7142857142857143},{"$f":"OFFSET(Data!G94,Offsets!$A$28,0)","v":0},{"$f":"OFFSET(Data!H94,Offsets!$A$28,0)","v":0.2857142857142857},{"$f":"OFFSET(Data!I94,Offsets!$A$28,0)","v":0},{"$f":"OFFSET(Data!J94,Offsets!$A$28,0)","v":0},{"$f":"OFFSET(Data!K94,Offsets!$A$28,0)","v":0},{"$f":"OFFSET(Data!L94,Offsets!$A$28,0)","v":0},{"$f":"OFFSET(Data!M94,Offsets!$A$28,0)","v":0},{"$f":"OFFSET(Data!N94,Offsets!$A$28,0)","v":0},23.857142857142854,null,{"$f":"OFFSET(Data!AO94,Offsets!$A$28,0)","v":0.5714285714285714},{"$f":"OFFSET(Data!AP94,Offsets!$A$28,0)","v":28.857142857142858},{"$f":"OFFSET(Data!AQ94,Offsets!$A$28,0)","v":0.5714285714285714},{"$f":"OFFSET(Data!AR94,Offsets!$A$28,0)","v":0.2857142857142857},{"$f":"OFFSET(Data!AS94,Offsets!$A$28,0)","v":0},{"$f":"OFFSET(Data!AT94,Offsets!$A$28,0)","v":0},{"$f":"OFFSET(Data!AU94,Offsets!$A$28,0)","v":0},{"$f":"OFFSET(Data!AV94,Offsets!$A$28,0)","v":0},{"$f":"OFFSET(Data!AW94,Offsets!$A$28,0)","v":0},{"$f":"OFFSET(Data!AX94,Offsets!$A$28,0)","v":0},{"$f":"OFFSET(Data!AY94,Offsets!$A$28,0)","v":0},{"$f":"OFFSET(Data!AZ94,Offsets!$A$28,0)","v":0},30.285714285714288,null,1.8571428571428572,50,1,1,0,0.2857142857142857,0,0,0,0,0,0,54.142857142857139]
[null,"22:30:00",{"$f":"OFFSET(Data!C95,Offsets!$A$28,0)","v":0},{"$f":"OFFSET(Data!D95,Offsets!$A$28,0)","v":14.428571428571429},{"$f":"OFFSET(Data!E95,Offsets!$A$28,0)","v":0.14285714285714285},{"$f":"OFFSET(Data!F95,Offsets!$A$28,0)","v":1.5714285714285714},{"$f":"OFFSET(Data!G95,Offsets!$A$28,0)","v":0.14285714285714285},{"$f":"OFFSET(Data!H95,Offsets!$A$28,0)","v":0},{"$f":"OFFSET(Data!I95,Offsets!$A$28,0)","v":0},{"$f":"OFFSET(Data!J95,Offsets!$A$28,0)","v":0},{"$f":"OFFSET(Data!K95,Offsets!$A$28,0)","v":0},{"$f":"OFFSET(Data!L95,Offsets!$A$28,0)","v":0},{"$f":"OFFSET(Data!M95,Offsets!$A$28,0)","v":0},{"$f":"OFFSET(Data!N95,Offsets!$A$28,0)","v":0},16.285714285714285,null,{"$f":"OFFSET(Data!AO95,Offsets!$A$28,0)","v":0.5714285714285714},{"$f":"OFFSET(Data!AP95,Offsets!$A$28,0)","v":28.142857142857142},{"$f":"OFFSET(Data!AQ95,Offsets!$A$28,0)","v":0},{"$f":"OFFSET(Data!AR95,Offsets!$A$28,0)","v":1.2857142857142858},{"$f":"OFFSET(Data!AS95,Offsets!$A$28,0)","v":0},{"$f":"OFFSET(Data!AT95,Offsets!$A$28,0)","v":0},{"$f":"OFFSET(Data!AU95,Offsets!$A$28,0)","v":0},{"$f":"OFFSET(Data!AV95,Offsets!$A$28,0)","v":0},{"$f":"OFFSET(Data!AW95,Offsets!$A$28,0)","v":0},{"$f":"OFFSET(Data!AX95,Offsets!$A$28,0)","v":0},{"$f":"OFFSET(Data!AY95,Offsets!$A$28,0)","v":0},{"$f":"OFFSET(Data!AZ95,Offsets!$A$28,0)","v":0},30,null,0.5714285714285714,42.571428571428569,0.14285714285714285,2.8571428571428572,0.14285714285714285,0,0,0,0,0,0,0,46.285714285714285]
[null,"22:45:00",{"$f":"OFFSET(Data!C96,Offsets!$A$28,0)","v":0.14285714285714285},{"$f":"OFFSET(Data!D96,Offsets!$A$28,0)","v":18.142857142857142},{"$f":"OFFSET(Data!E96,Offsets!$A$28,0)","v":0.2857142857142857},{"$f":"OFFSET(Data!F96,Offsets!$A$28,0)","v":0.5714285714285714},{"$f":"OFFSET(Data!G96,Offsets!$A$28,0)","v":0.14285714285714285},{"$f":"OFFSET(Data!H96,Offsets!$A$28,0)","v":0},{"$f":"OFFSET(Data!I96,Offsets!$A$28,0)","v":0},{"$f":"OFFSET(Data!J96,Offsets!$A$28,0)","v":0},{"$f":"OFFSET(Data!K96,Offsets!$A$28,0)","v":0},{"$f":"OFFSET(Data!L96,Offsets!$A$28,0)","v":0},{"$f":"OFFSET(Data!M96,Offsets!$A$28,0)","v":0},{"$f":"OFFSET(Data!N96,Offsets!$A$28,0)","v":0},19.285714285714285,null,{"$f":"OFFSET(Data!AO96,Offsets!$A$28,0)","v":0.42857142857142855},{"$f":"OFFSET(Data!AP96,Offsets!$A$28,0)","v":20.857142857142858},{"$f":"OFFSET(Data!AQ96,Offsets!$A$28,0)","v":0},{"$f":"OFFSET(Data!AR96,Offsets!$A$28,0)","v":0.7142857142857143},{"$f":"OFFSET(Data!AS96,Offsets!$A$28,0)","v":0.14285714285714285},{"$f":"OFFSET(Data!AT96,Offsets!$A$28,0)","v":0},{"$f":"OFFSET(Data!AU96,Offsets!$A$28,0)","v":0},{"$f":"OFFSET(Data!AV96,Offsets!$A$28,0)","v":0},{"$f":"OFFSET(Data!AW96,Offsets!$A$28,0)","v":0},{"$f":"OFFSET(Data!AX96,Offsets!$A$28,0)","v":0},{"$f":"OFFSET(Data!AY96,Offsets!$A$28,0)","v":0},{"$f":"OFFSET(Data!AZ96,Offsets!$A$28,0)","v":0},22.142857142857142,null,0.5714285714285714,39,0.2857142857142857,1.2857142857142856,0.2857142857142857,0,0,0,0,0,0,0,41.428571428571423]
[null,"23:00:00",{"$f":"OFFSET(Data!C97,Offsets!$A$28,0)","v":0.2857142857142857},{"$f":"OFFSET(Data!D97,Offsets!$A$28,0)","v":11.571428571428571},{"$f":"OFFSET(Data!E97,Offsets!$A$28,0)","v":0},{"$f":"OFFSET(Data!F97,Offsets!$A$28,0)","v":0.2857142857142857},{"$f":"OFFSET(Data!G97,Offsets!$A$28,0)","v":0.2857142857142857},{"$f":"OFFSET(Data!H97,Offsets!$A$28,0)","v":0},{"$f":"OFFSET(Data!I97,Offsets!$A$28,0)","v":0},{"$f":"OFFSET(Data!J97,Offsets!$A$28,0)","v":0},{"$f":"OFFSET(Data!K97,Offsets!$A$28,0)","v":0},{"$f":"OFFSET(Data!L97,Offsets!$A$28,0)","v":0},{"$f":"OFFSET(Data!M97,Offsets!$A$28,0)","v":0},{"$f":"OFFSET(Data!N97,Offsets!$A$28,0)","v":0},12.428571428571431,null,{"$f":"OFFSET(Data!AO97,Offsets!$A$28,0)","v":0.5714285714285714},{"$f":"OFFSET(Data!AP97,Offsets!$A$28,0)","v":17.142857142857142},{"$f":"OFFSET(Data!AQ97,Offsets!$A$28,0)","v":0},{"$f":"OFFSET(Data!AR97,Offsets!$A$28,0)","v":0.5714285714285714},{"$f":"OFFSET(Data!AS97,Offsets!$A$28,0)","v":0},{"$f":"OFFSET(Data!AT97,Offsets!$A$28,0)","v":0},{"$f":"OFFSET(Data!AU97,Offsets!$A$28,0)","v":0},{"$f":"OFFSET(Data!AV97,Offsets!$A$28,0)","v":0},{"$f":"OFFSET(Data!AW97,Offsets!$A$28,0)","v":0.14285714285714285},{"$f":"OFFSET(Data!AX97,Offsets!$A$28,0)","v":0},{"$f":"OFFSET(Data!AY97,Offsets!$A$28,0)","v":0},{"$f":"OFFSET(Data!AZ97,Offsets!$A$28,0)","v":0},18.428571428571431,null,0.8571428571428571,28.714285714285715,0,0.8571428571428571,0.2857142857142857,0,0,0,0.14285714285714285,0,0,0,30.857142857142858]
[null,"23:15:00",{"$f":"OFFSET(Data!C98,Offsets!$A$28,0)","v":0},{"$f":"OFFSET(Data!D98,Offsets!$A$28,0)","v":10.857142857142858},{"$f":"OFFSET(Data!E98,Offsets!$A$28,0)","v":0},{"$f":"OFFSET(Data!F98,Offsets!$A$28,0)","v":0.7142857142857143},{"$f":"OFFSET(Data!G98,Offsets!$A$28,0)","v":0},{"$f":"OFFSET(Data!H98,Offsets!$A$28,0)","v":0},{"$f":"OFFSET(Data!I98,Offsets!$A$28,0)","v":0},{"$f":"OFFSET(Data!J98,Offsets!$A$28,0)","v":0},{"$f":"OFFSET(Data!K98,Offsets!$A$28,0)","v":0},{"$f":"OFFSET(Data!L98,Offsets!$A$28,0)","v":0},{"$f":"OFFSET(Data!M98,Offsets!$A$28,0)","v":0},{"$f":"OFFSET(Data!N98,Offsets!$A$28,0)","v":0},11.571428571428571,null,{"$f":"OFFSET(Data!AO98,Offsets!$A$28,0)","v":0.14285714285714285},{"$f":"OFFSET(Data!AP98,Offsets!$A$28,0)","v":19.285714285714285},{"$f":"OFFSET(Data!AQ98,Offsets!$A$28,0)","v":0},{"$f":"OFFSET(Data!AR98,Offsets!$A$28,0)","v":1.2857142857142858},{"$f":"OFFSET(Data!AS98,Offsets!$A$28,0)","v":0},{"$f":"OFFSET(Data!AT98,Offsets!$A$28,0)","v":0},{"$f":"OFFSET(Data!AU98,Offsets!$A$28,0)","v":0},{"$f":"OFFSET(Data!AV98,Offsets!$A$28,0)","v":0},{"$f":"OFFSET(Data!AW98,Offsets!$A$28,0)","v":0},{"$f":"OFFSET(Data!AX98,Offsets!$A$28,0)","v":0},{"$f":"OFFSET(Data!AY98,Offsets!$A$28,0)","v":0},{"$f":"OFFSET(Data!AZ98,Offsets!$A$28,0)","v":0},20.714285714285712,null,0.14285714285714285,30.142857142857142,0,2,0,0,0,0,0,0,0,0,32.285714285714285]
[null,"23:30:00",{"$f":"OFFSET(Data!C99,Offsets!$A$28,0)","v":0},{"$f":"OFFSET(Data!D99,Offsets!$A$28,0)","v":11.571428571428571},{"$f":"OFFSET(Data!E99,Offsets!$A$28,0)","v":0},{"$f":"OFFSET(Data!F99,Offsets!$A$28,0)","v":0.5714285714285714},{"$f":"OFFSET(Data!G99,Offsets!$A$28,0)","v":0},{"$f":"OFFSET(Data!H99,Offsets!$A$28,0)","v":0},{"$f":"OFFSET(Data!I99,Offsets!$A$28,0)","v":0},{"$f":"OFFSET(Data!J99,Offsets!$A$28,0)","v":0},{"$f":"OFFSET(Data!K99,Offsets!$A$28,0)","v":0},{"$f":"OFFSET(Data!L99,Offsets!$A$28,0)","v":0},{"$f":"OFFSET(Data!M99,Offsets!$A$28,0)","v":0},{"$f":"OFFSET(Data!N99,Offsets!$A$28,0)","v":0},12.142857142857142,null,{"$f":"OFFSET(Data!AO99,Offsets!$A$28,0)","v":0.42857142857142855},{"$f":"OFFSET(Data!AP99,Offsets!$A$28,0)","v":14.428571428571429},{"$f":"OFFSET(Data!AQ99,Offsets!$A$28,0)","v":0},{"$f":"OFFSET(Data!AR99,Offsets!$A$28,0)","v":0.7142857142857143},{"$f":"OFFSET(Data!AS99,Offsets!$A$28,0)","v":0},{"$f":"OFFSET(Data!AT99,Offsets!$A$28,0)","v":0},{"$f":"OFFSET(Data!AU99,Offsets!$A$28,0)","v":0},{"$f":"OFFSET(Data!AV99,Offsets!$A$28,0)","v":0},{"$f":"OFFSET(Data!AW99,Offsets!$A$28,0)","v":0},{"$f":"OFFSET(Data!AX99,Offsets!$A$28,0)","v":0},{"$f":"OFFSET(Data!AY99,Offsets!$A$28,0)","v":0},{"$f":"OFFSET(Data!AZ99,Offsets!$A$28,0)","v":0},15.571428571428571,null,0.42857142857142855,26,0,1.2857142857142856,0,0,0,0,0,0,0,0,27.714285714285712]
[null,"23:45:00",{"$f":"OFFSET(Data!C100,Offsets!$A$28,0)","v":0},{"$f":"OFFSET(Data!D100,Offsets!$A$28,0)","v":7.8571428571428568},{"$f":"OFFSET(Data!E100,Offsets!$A$28,0)","v":0.14285714285714285},{"$f":"OFFSET(Data!F100,Offsets!$A$28,0)","v":1.2857142857142858},{"$f":"OFFSET(Data!G100,Offsets!$A$28,0)","v":0.14285714285714285},{"$f":"OFFSET(Data!H100,Offsets!$A$28,0)","v":0},{"$f":"OFFSET(Data!I100,Offsets!$A$28,0)","v":0},{"$f":"OFFSET(Data!J100,Offsets!$A$28,0)","v":0},{"$f":"OFFSET(Data!K100,Offsets!$A$28,0)","v":0},{"$f":"OFFSET(Data!L100,Offsets!$A$28,0)","v":0},{"$f":"OFFSET(Data!M100,Offsets!$A$28,0)","v":0},{"$f":"OFFSET(Data!N100,Offsets!$A$28,0)","v":0},9.4285714285714288,null,{"$f":"OFFSET(Data!AO100,Offsets!$A$28,0)","v":0.42857142857142855},{"$f":"OFFSET(Data!AP100,Offsets!$A$28,0)","v":14.142857142857142},{"$f":"OFFSET(Data!AQ100,Offsets!$A$28,0)","v":0},{"$f":"OFFSET(Data!AR100,Offsets!$A$28,0)","v":0.5714285714285714},{"$f":"OFFSET(Data!AS100,Offsets!$A$28,0)","v":0},{"$f":"OFFSET(Data!AT100,Offsets!$A$28,0)","v":0},{"$f":"OFFSET(Data!AU100,Offsets!$A$28,0)","v":0},{"$f":"OFFSET(Data!AV100,Offsets!$A$28,0)","v":0},{"$f":"OFFSET(Data!AW100,Offsets!$A$28,0)","v":0},{"$f":"OFFSET(Data!AX100,Offsets!$A$28,0)","v":0},{"$f":"OFFSET(Data!AY100,Offsets!$A$28,0)","v":0},{"$f":"OFFSET(Data!AZ100,Offsets!$A$28,0)","v":0},15.142857142857142,null,0.42857142857142855,22,0.14285714285714285,1.8571428571428572,0.14285714285714285,0,0,0,0,0,0,0,24.571428571428569]
[null,"Total",{"$f":"SUM(C16:C111)","v":107.00000000000003},4837.7142857142853,45.428571428571431,364.85714285714272,27.999999999999979,18.999999999999986,2.7142857142857135,6.2857142857142891,15.285714285714292,42.142857142857167,2.2857142857142851,1.2857142857142854,5472.0000000000009,null,{"$f":"SUM(Q16:Q111)","v":100.85714285714288},4931.2857142857156,47.428571428571423,381.57142857142861,17.428571428571423,22.428571428571413,3.2857142857142847,24.142857142857135,17.714285714285712,20.42857142857142,1.1428571428571426,1.1428571428571426,5568.8571428571422,null,{"$f":"SUM(AE16:AE111)","v":207.85714285714283},9769,92.857142857142861,746.42857142857179,45.428571428571452,41.428571428571438,6.0000000000000018,30.428571428571427,33.000000000000007,62.571428571428577,3.4285714285714275,2.4285714285714279,11040.857142857139]
[null,null,null,null,null,null,null," "]
[]
[]
[null,null,null,null,null,null,null,null,null,null,null,null,null,null,null,null,null,null,null,null,null,null,null,null," "]

{"sheet":"Speed Summary","index":9,"n_rows":117,"n_cols":47,"rows_kept":117,"cut":false,"hidden":false,"merged":[[5,11,5,17],[0,11,0,17],[1,11,1,17],[2,11,2,17],[3,11,3,17],[4,11,4,17],[18,1,19,1],[12,3,12,12],[10,24,10,25],[12,24,12,25],[13,24,13,25],[14,24,14,25],[15,24,15,25],[6,22,6,24],[18,3,18,22],[11,24,11,25],[9,24,9,25],[16,24,16,25],[18,24,18,27],[6,11,6,17]]}
[null,null,null,null,null,null,null,null,null,"Job Number",null,{"$f":"Menu!H1","v":"3185-WAL"}]
[null,null,null,null,null,null,null,null,null,"Client",null,{"$f":"Menu!H2","v":"WYG"}]
[null,null,null,null,null,null,null,null,null,"Project",null,{"$f":"Menu!H3","v":"St Athan"}]
[null,null,null,null,null,null,null,null,null,"Location",null,{"$f":"Menu!H4","v":"51.39833, -3.41253"}]
[null,null,null,null,null,null,null,null,null,"Site No.",null,{"$f":"Menu!H5","v":1}]
[null,null,null,null,null,null,null,null,null,"Road",null,{"$f":"Menu!H6","v":"B4265"}]
[null,null,null,null,null,null,null,null,null,"Start Date",null,{"$f":"Menu!H7","v":"2016-06-07"}]
[null,null,null,null,null,null,null,null,null,"Direction",null,{"$f":"+Offsets!A2","v":"Combined"}]
[]
[null,null,null,null,null,null,null,null,null,null,null,null,null,null,null,null,null,null,null,"Site Speed Limit (mph)",null,{"$f":"Offsets!M3","v":40},null,null,"Average Speed"]
[null,null,null,null,null,null,null,null,null,null,null,null,null,null,null,null,null,null,null,null,null,null,null,null,{"$f":"Y117","v":37.731447085081349}]
[null,null,null,null,null,null,null,null,null,null,null,null,null,null,null,null,null,null,null,null,null,null,null,null,"85th Percentile Speed"]
[null,null,null,"Speed Bin Percentage (mph)",null,null,null,null,null,null,null,null,null,null,null,null,null,null,null,null,null,null,null,null,{"$f":"Z117","v":44.237527777777778}]
[null,null,null,{"$f":"Data!O4","v":"0-10"},{"$f":"Data!P4","v":"10-15"},{"$f":"Data!Q4","v":"15-20"},{"$f":"Data!R4","v":"20-25"},{"$f":"Data!S4","v":"25-30"},{"$f":"Data!T4","v":"30-35"},{"$f":"Data!U4","v":"35-40"},{"$f":"Data!V4","v":"40-45"},{"$f":"Data!W4","v":"45-50"},{"$f":"Data!X4","v":"50-55"},null,null,null,null,null,null,null,null,null,null,null,"Over Speed Limit (%)"]
[null,null,null,{"$f":"D117/SUM($D$117:$W$117)","v":3.62290712418808E-4},4.0369536526667204E-3,1.1813265015656139E-2,3.5789146805372263E-2,0.14071112491266202,0.22938177677716534,0.2796107962632301,0.18967212690526095,7.437310767797535E-2,2.4286416686075108E-2,null,null,null,null,null,null,null,null,null,null,null,{"$f":"IF(V10=10,SUM(E117:W117)/SUM(D117:W117),IF(V10=20,SUM(G117:W117)/SUM(D117:W117),IF(V10=30,SUM(I117:W117)/SUM(D117:W117),IF(V10=40,SUM(K117:W117)/SUM(D117:W117),IF(V10=50,SUM(M117:W117)/SUM(D117:W117),IF(V10=60,SUM(O117:W117)/SUM(D117:W117),IF(V10=70,SUM(Q117:W117)/SUM(D117:W117))))))))","v":0.2982946458608286}]
[null,null,null,{"$f":"Data!Y4","v":"55-60"},{"$f":"Data!Z4","v":"60-65"},{"$f":"Data!AA4","v":"65-70"},{"$f":"Data!AB4","v":"70-75"},{"$f":"Data!AC4","v":"75-80"},{"$f":"Data!AD4","v":"80-85"},{"$f":"Data!AE4","v":"85-90"},{"$f":"Data!AF4","v":"90-95"},{"$f":"Data!AG4","v":"95-100"},{"$f":"Data!AH4","v":"100+"}]
[null,null,null,{"$f":"N117/SUM($D$117:$W$117)","v":6.8835235359573539E-3},1.9925989183034436E-3,5.5637502264316969E-4,2.3290117226923372E-4,1.6820640219444662E-4,0,2.5877908029914863E-5,0,1.2938954014957431E-5,9.0572678104702028E-5]
[]
[null,"Time Period",null,"Vehicle Speed Bins (mph)",null,null,null,null,null,null,null,null,null,null,null,null,null,null,null,null,null,null,null,null,"Speed Statistics"]
[null,null,null,{"$f":"Data!O4","v":"0-10"},{"$f":"Data!P4","v":"10-15"},{"$f":"Data!Q4","v":"15-20"},{"$f":"Data!R4","v":"20-25"},{"$f":"Data!S4","v":"25-30"},{"$f":"Data!T4","v":"30-35"},{"$f":"Data!U4","v":"35-40"},{"$f":"Data!V4","v":"40-45"},{"$f":"Data!W4","v":"45-50"},{"$f":"Data!X4","v":"50-55"},{"$f":"Data!Y4","v":"55-60"},{"$f":"Data!Z4","v":"60-65"},{"$f":"Data!AA4","v":"65-70"},{"$f":"Data!AB4","v":"70-75"},{"$f":"Data!AC4","v":"75-80"},{"$f":"Data!AD4","v":"80-85"},{"$f":"Data!AE4","v":"85-90"},{"$f":"Data!AF4","v":"90-95"},{"$f":"Data!AG4","v":"95-100"},{"$f":"Data!AH4","v":"100+"},null,"Average Speed","85th %ile Speed","Slowest Speed","Fastest Speed"]
[null,"00:00:00",null,{"$f":"OFFSET(Data!O5,Offsets!$A$33,Offsets!$A$31)","v":0},{"$f":"OFFSET(Data!P5,Offsets!$A$33,Offsets!$A$31)","v":0},{"$f":"OFFSET(Data!Q5,Offsets!$A$33,Offsets!$A$31)","v":0},{"$f":"OFFSET(Data!R5,Offsets!$A$33,Offsets!$A$31)","v":0.7142857142857143},{"$f":"OFFSET(Data!S5,Offsets!$A$33,Offsets!$A$31)","v":2.7142857142857144},{"$f":"OFFSET(Data!T5,Offsets!$A$33,Offsets!$A$31)","v":2.7142857142857144},{"$f":"OFFSET(Data!U5,Offsets!$A$33,Offsets!$A$31)","v":5.2857142857142856},{"$f":"OFFSET(Data!V5,Offsets!$A$33,Offsets!$A$31)","v":5.1428571428571432},{"$f":"OFFSET(Data!W5,Offsets!$A$33,Offsets!$A$31)","v":2.4285714285714284},{"$f":"OFFSET(Data!X5,Offsets!$A$33,Offsets!$A$31)","v":1.1428571428571428},{"$f":"OFFSET(Data!Y5,Offsets!$A$33,Offsets!$A$31)","v":0.8571428571428571},{"$f":"OFFSET(Data!Z5,Offsets!$A$33,Offsets!$A$31)","v":0.14285714285714285},{"$f":"OFFSET(Data!AA5,Offsets!$A$33,Offsets!$A$31)","v":0},{"$f":"OFFSET(Data!AB5,Offsets!$A$33,Offsets!$A$31)","v":0},{"$f":"OFFSET(Data!AC5,Offsets!$A$33,Offsets!$A$31)","v":0},{"$f":"OFFSET(Data!AD5,Offsets!$A$33,Offsets!$A$31)","v":0},{"$f":"OFFSET(Data!AE5,Offsets!$A$33,Offsets!$A$31)","v":0},{"$f":"OFFSET(Data!AF5,Offsets!$A$33,Offsets!$A$31)","v":0},{"$f":"OFFSET(Data!AG5,Offsets!$A$33,Offsets!$A$31)","v":0},{"$f":"OFFSET(Data!AH5,Offsets!$A$33,Offsets!$A$31)","v":0},null,{"$f":"OFFSET(Data!AI5,Offsets!$A$33,Offsets!$A$31)","v":39.384554121771927},{"$f":"IF(OFFSET(Data!AJ5,Offsets!$A$33,Offsets!$A$31)=\"\", \"-\", OFFSET(Data!AJ5,Offsets!$A$33,Offsets!$A$31))","v":45.7},{"$f":"OFFSET(Data!AK5,Offsets!$A$33,Offsets!$A$31)","v":20.8},{"$f":"OFFSET(Data!AL5,Offsets!$A$33,Offsets!$A$31)","v":60.6},null,null,null,null,null,null,{"$f":"IF(AK21=0,\"\",SUM(D21:W21)*Y21)","v":832.7020014317493},{"$f":"IF(AM21=0,\"\",SUM(D21:W21)*Z21)","v":966.22857142857151},{"$f":"SUMIF(D21:W21,\">0\",D21:W21)","v":21.142857142857142},null,{"$f":"SUMIF(AN21:AU21,\">0\",D21:W21)","v":16.571428571428573},{"$f":"+Z21","v":45.7},{"$f":"+AN21","v":45.7},45.7,45.7,45.7,45.7,45.7,45.7]
[null,"00:15:00",null,{"$f":"OFFSET(Data!O6,Offsets!$A$33,Offsets!$A$31)","v":0},{"$f":"OFFSET(Data!P6,Offsets!$A$33,Offsets!$A$31)","v":0.14285714285714285},{"$f":"OFFSET(Data!Q6,Offsets!$A$33,Offsets!$A$31)","v":0.5714285714285714},{"$f":"OFFSET(Data!R6,Offsets!$A$33,Offsets!$A$31)","v":0.5714285714285714},{"$f":"OFFSET(Data!S6,Offsets!$A$33,Offsets!$A$31)","v":2.4285714285714284},{"$f":"OFFSET(Data!T6,Offsets!$A$33,Offsets!$A$31)","v":2.1428571428571428},{"$f":"OFFSET(Data!U6,Offsets!$A$33,Offsets!$A$31)","v":4.8571428571428568},{"$f":"OFFSET(Data!V6,Offsets!$A$33,Offsets!$A$31)","v":3.5714285714285716},{"$f":"OFFSET(Data!W6,Offsets!$A$33,Offsets!$A$31)","v":2.2857142857142856},{"$f":"OFFSET(Data!X6,Offsets!$A$33,Offsets!$A$31)","v":0.8571428571428571},{"$f":"OFFSET(Data!Y6,Offsets!$A$33,Offsets!$A$31)","v":0.2857142857142857},{"$f":"OFFSET(Data!Z6,Offsets!$A$33,Offsets!$A$31)","v":0.2857142857142857},{"$f":"OFFSET(Data!AA6,Offsets!$A$33,Offsets!$A$31)","v":0.2857142857142857},{"$f":"OFFSET(Data!AB6,Offsets!$A$33,Offsets!$A$31)","v":0.14285714285714285},{"$f":"OFFSET(Data!AC6,Offsets!$A$33,Offsets!$A$31)","v":0},{"$f":"OFFSET(Data!AD6,Offsets!$A$33,Offsets!$A$31)","v":0},{"$f":"OFFSET(Data!AE6,Offsets!$A$33,Offsets!$A$31)","v":0},{"$f":"OFFSET(Data!AF6,Offsets!$A$33,Offsets!$A$31)","v":0},{"$f":"OFFSET(Data!AG6,Offsets!$A$33,Offsets!$A$31)","v":0},{"$f":"OFFSET(Data!AH6,Offsets!$A$33,Offsets!$A$31)","v":0},null,{"$f":"OFFSET(Data!AI6,Offsets!$A$33,Offsets!$A$31)","v":39.71808013415157},{"$f":"IF(OFFSET(Data!AJ6,Offsets!$A$33,Offsets!$A$31)=\"\", \"-\", OFFSET(Data!AJ6,Offsets!$A$33,Offsets!$A$31))","v":47.800000000000004},{"$f":"OFFSET(Data!AK6,Offsets!$A$33,Offsets!$A$31)","v":14.2},{"$f":"OFFSET(Data!AL6,Offsets!$A$33,Offsets!$A$31)","v":70.3},null,null,null,null,null,null,731.94747675793587,880.88571428571413,18.428571428571423,null,14.285714285714285,47.800000000000004,47.800000000000004,47.800000000000004,47.800000000000004,47.800000000000004,47.800000000000004,47.800000000000004,47.800000000000004]
[null,"00:30:00",null,{"$f":"OFFSET(Data!O7,Offsets!$A$33,Offsets!$A$31)","v":0},{"$f":"OFFSET(Data!P7,Offsets!$A$33,Offsets!$A$31)","v":0},{"$f":"OFFSET(Data!Q7,Offsets!$A$33,Offsets!$A$31)","v":0},{"$f":"OFFSET(Data!R7,Offsets!$A$33,Offsets!$A$31)","v":0.42857142857142855},{"$f":"OFFSET(Data!S7,Offsets!$A$33,Offsets!$A$31)","v":2.2857142857142856},{"$f":"OFFSET(Data!T7,Offsets!$A$33,Offsets!$A$31)","v":2.2857142857142856},{"$f":"OFFSET(Data!U7,Offsets!$A$33,Offsets!$A$31)","v":3.8571428571428572},{"$f":"OFFSET(Data!V7,Offsets!$A$33,Offsets!$A$31)","v":3.1428571428571428},{"$f":"OFFSET(Data!W7,Offsets!$A$33,Offsets!$A$31)","v":2.4285714285714284},{"$f":"OFFSET(Data!X7,Offsets!$A$33,Offsets!$A$31)","v":2.1428571428571428},{"$f":"OFFSET(Data!Y7,Offsets!$A$33,Offsets!$A$31)","v":0.5714285714285714},{"$f":"OFFSET(Data!Z7,Offsets!$A$33,Offsets!$A$31)","v":0.2857142857142857},{"$f":"OFFSET(Data!AA7,Offsets!$A$33,Offsets!$A$31)","v":0.14285714285714285},{"$f":"OFFSET(Data!AB7,Offsets!$A$33,Offsets!$A$31)","v":0},{"$f":"OFFSET(Data!AC7,Offsets!$A$33,Offsets!$A$31)","v":0},{"$f":"OFFSET(Data!AD7,Offsets!$A$33,Offsets!$A$31)","v":0},{"$f":"OFFSET(Data!AE7,Offsets!$A$33,Offsets!$A$31)","v":0},{"$f":"OFFSET(Data!AF7,Offsets!$A$33,Offsets!$A$31)","v":0},{"$f":"OFFSET(Data!AG7,Offsets!$A$33,Offsets!$A$31)","v":0},{"$f":"OFFSET(Data!AH7,Offsets!$A$33,Offsets!$A$31)","v":0},null,{"$f":"OFFSET(Data!AI7,Offsets!$A$33,Offsets!$A$31)","v":41.730908799482847},{"$f":"IF(OFFSET(Data!AJ7,Offsets!$A$33,Offsets!$A$31)=\"\", \"-\", OFFSET(Data!AJ7,Offsets!$A$33,Offsets!$A$31))","v":46.274999999999999},{"$f":"OFFSET(Data!AK7,Offsets!$A$33,Offsets!$A$31)","v":22.3},{"$f":"OFFSET(Data!AL7,Offsets!$A$33,Offsets!$A$31)","v":65.900000000000006},null,null,null,null,null,null,733.271683190913,813.11785714285713,17.571428571428573,null,12,46.274999999999999,46.274999999999999,46.274999999999999,46.274999999999999,46.274999999999999,46.274999999999999,46.274999999999999,46.274999999999999]
[null,"00:45:00",null,{"$f":"OFFSET(Data!O8,Offsets!$A$33,Offsets!$A$31)","v":0},{"$f":"OFFSET(Data!P8,Offsets!$A$33,Offsets!$A$31)","v":0},{"$f":"OFFSET(Data!Q8,Offsets!$A$33,Offsets!$A$31)","v":0},{"$f":"OFFSET(Data!R8,Offsets!$A$33,Offsets!$A$31)","v":0},{"$f":"OFFSET(Data!S8,Offsets!$A$33,Offsets!$A$31)","v":0.8571428571428571},{"$f":"OFFSET(Data!T8,Offsets!$A$33,Offsets!$A$31)","v":3},{"$f":"OFFSET(Data!U8,Offsets!$A$33,Offsets!$A$31)","v":4.4285714285714288},{"$f":"OFFSET(Data!V8,Offsets!$A$33,Offsets!$A$31)","v":4.2857142857142856},{"$f":"OFFSET(Data!W8,Offsets!$A$33,Offsets!$A$31)","v":1.4285714285714286},{"$f":"OFFSET(Data!X8,Offsets!$A$33,Offsets!$A$31)","v":0.42857142857142855},{"$f":"OFFSET(Data!Y8,Offsets!$A$33,Offsets!$A$31)","v":0.5714285714285714},{"$f":"OFFSET(Data!Z8,Offsets!$A$33,Offsets!$A$31)","v":0.2857142857142857},{"$f":"OFFSET(Data!AA8,Offsets!$A$33,Offsets!$A$31)","v":0},{"$f":"OFFSET(Data!AB8,Offsets!$A$33,Offsets!$A$31)","v":0},{"$f":"OFFSET(Data!AC8,Offsets!$A$33,Offsets!$A$31)","v":0},{"$f":"OFFSET(Data!AD8,Offsets!$A$33,Offsets!$A$31)","v":0},{"$f":"OFFSET(Data!AE8,Offsets!$A$33,Offsets!$A$31)","v":0},{"$f":"OFFSET(Data!AF8,Offsets!$A$33,Offsets!$A$31)","v":0},{"$f":"OFFSET(Data!AG8,Offsets!$A$33,Offsets!$A$31)","v":0},{"$f":"OFFSET(Data!AH8,Offsets!$A$33,Offsets!$A$31)","v":0},null,{"$f":"OFFSET(Data!AI8,Offsets!$A$33,Offsets!$A$31)","v":40.13902923331495},{"$f":"IF(OFFSET(Data!AJ8,Offsets!$A$33,Offsets!$A$31)=\"\", \"-\", OFFSET(Data!AJ8,Offsets!$A$33,Offsets!$A$31))","v":43.6},{"$f":"OFFSET(Data!AK8,Offsets!$A$33,Offsets!$A$31)","v":26.6},{"$f":"OFFSET(Data!AL8,Offsets!$A$33,Offsets!$A$31)","v":60.8},null,null,null,null,null,null,613.55373256638575,666.45714285714303,15.285714285714288,null,12.571428571428573,43.6,43.6,43.6,43.6,43.6,43.6,43.6,43.6]
[null,"01:00:00",null,{"$f":"OFFSET(Data!O9,Offsets!$A$33,Offsets!$A$31)","v":0},{"$f":"OFFSET(Data!P9,Offsets!$A$33,Offsets!$A$31)","v":0},{"$f":"OFFSET(Data!Q9,Offsets!$A$33,Offsets!$A$31)","v":0},{"$f":"OFFSET(Data!R9,Offsets!$A$33,Offsets!$A$31)","v":0.5714285714285714},{"$f":"OFFSET(Data!S9,Offsets!$A$33,Offsets!$A$31)","v":1.7142857142857142},{"$f":"OFFSET(Data!T9,Offsets!$A$33,Offsets!$A$31)","v":2.2857142857142856},{"$f":"OFFSET(Data!U9,Offsets!$A$33,Offsets!$A$31)","v":4.4285714285714288},{"$f":"OFFSET(Data!V9,Offsets!$A$33,Offsets!$A$31)","v":3.2857142857142856},{"$f":"OFFSET(Data!W9,Offsets!$A$33,Offsets!$A$31)","v":2},{"$f":"OFFSET(Data!X9,Offsets!$A$33,Offsets!$A$31)","v":0.14285714285714285},{"$f":"OFFSET(Data!Y9,Offsets!$A$33,Offsets!$A$31)","v":0.14285714285714285},{"$f":"OFFSET(Data!Z9,Offsets!$A$33,Offsets!$A$31)","v":0.14285714285714285},{"$f":"OFFSET(Data!AA9,Offsets!$A$33,Offsets!$A$31)","v":0},{"$f":"OFFSET(Data!AB9,Offsets!$A$33,Offsets!$A$31)","v":0},{"$f":"OFFSET(Data!AC9,Offsets!$A$33,Offsets!$A$31)","v":0},{"$f":"OFFSET(Data!AD9,Offsets!$A$33,Offsets!$A$31)","v":0},{"$f":"OFFSET(Data!AE9,Offsets!$A$33,Offsets!$A$31)","v":0},{"$f":"OFFSET(Data!AF9,Offsets!$A$33,Offsets!$A$31)","v":0},{"$f":"OFFSET(Data!AG9,Offsets!$A$33,Offsets!$A$31)","v":0},{"$f":"OFFSET(Data!AH9,Offsets!$A$33,Offsets!$A$31)","v":0},null,{"$f":"OFFSET(Data!AI9,Offsets!$A$33,Offsets!$A$31)","v":37.931934137291286},{"$f":"IF(OFFSET(Data!AJ9,Offsets!$A$33,Offsets!$A$31)=\"\", \"-\", OFFSET(Data!AJ9,Offsets!$A$33,Offsets!$A$31))","v":43.4},{"$f":"OFFSET(Data!AK9,Offsets!$A$33,Offsets!$A$31)","v":22.5},{"$f":"OFFSET(Data!AL9,Offsets!$A$33,Offsets!$A$31)","v":60.3},null,null,null,null,null,null,558.14131659157169,638.59999999999991,14.714285714285712,null,12.285714285714285,43.4,43.4,43.4,43.4,43.4,43.4,43.4,43.4]
[null,"01:15:00",null,{"$f":"OFFSET(Data!O10,Offsets!$A$33,Offsets!$A$31)","v":0},{"$f":"OFFSET(Data!P10,Offsets!$A$33,Offsets!$A$31)","v":0},{"$f":"OFFSET(Data!Q10,Offsets!$A$33,Offsets!$A$31)","v":0},{"$f":"OFFSET(Data!R10,Offsets!$A$33,Offsets!$A$31)","v":0},{"$f":"OFFSET(Data!S10,Offsets!$A$33,Offsets!$A$31)","v":1.1428571428571428},{"$f":"OFFSET(Data!T10,Offsets!$A$33,Offsets!$A$31)","v":1.8571428571428572},{"$f":"OFFSET(Data!U10,Offsets!$A$33,Offsets!$A$31)","v":3.7142857142857144},{"$f":"OFFSET(Data!V10,Offsets!$A$33,Offsets!$A$31)","v":2},{"$f":"OFFSET(Data!W10,Offsets!$A$33,Offsets!$A$31)","v":1.4285714285714286},{"$f":"OFFSET(Data!X10,Offsets!$A$33,Offsets!$A$31)","v":0.5714285714285714},{"$f":"OFFSET(Data!Y10,Offsets!$A$33,Offsets!$A$31)","v":0},{"$f":"OFFSET(Data!Z10,Offsets!$A$33,Offsets!$A$31)","v":0.42857142857142855},{"$f":"OFFSET(Data!AA10,Offsets!$A$33,Offsets!$A$31)","v":0.14285714285714285},{"$f":"OFFSET(Data!AB10,Offsets!$A$33,Offsets!$A$31)","v":0},{"$f":"OFFSET(Data!AC10,Offsets!$A$33,Offsets!$A$31)","v":0},{"$f":"OFFSET(Data!AD10,Offsets!$A$33,Offsets!$A$31)","v":0},{"$f":"OFFSET(Data!AE10,Offsets!$A$33,Offsets!$A$31)","v":0},{"$f":"OFFSET(Data!AF10,Offsets!$A$33,Offsets!$A$31)","v":0},{"$f":"OFFSET(Data!AG10,Offsets!$A$33,Offsets!$A$31)","v":0},{"$f":"OFFSET(Data!AH10,Offsets!$A$33,Offsets!$A$31)","v":0},null,{"$f":"OFFSET(Data!AI10,Offsets!$A$33,Offsets!$A$31)","v":40.152510822510827},{"$f":"IF(OFFSET(Data!AJ10,Offsets!$A$33,Offsets!$A$31)=\"\", \"-\", OFFSET(Data!AJ10,Offsets!$A$33,Offsets!$A$31))","v":44.400000000000006},{"$f":"OFFSET(Data!AK10,Offsets!$A$33,Offsets!$A$31)","v":26.6},{"$f":"OFFSET(Data!AL10,Offsets!$A$33,Offsets!$A$31)","v":65.7},null,null,null,null,null,null,453.14976499690795,501.0857142857144,11.285714285714286,null,8.7142857142857153,44.400000000000006,44.400000000000006,44.400000000000006,44.400000000000006,44.400000000000006,44.400000000000006,44.400000000000006,44.400000000000006]
[null,"01:30:00",null,{"$f":"OFFSET(Data!O11,Offsets!$A$33,Offsets!$A$31)","v":0},{"$f":"OFFSET(Data!P11,Offsets!$A$33,Offsets!$A$31)","v":0},{"$f":"OFFSET(Data!Q11,Offsets!$A$33,Offsets!$A$31)","v":0.14285714285714285},{"$f":"OFFSET(Data!R11,Offsets!$A$33,Offsets!$A$31)","v":0.14285714285714285},{"$f":"OFFSET(Data!S11,Offsets!$A$33,Offsets!$A$31)","v":0.7142857142857143},{"$f":"OFFSET(Data!T11,Offsets!$A$33,Offsets!$A$31)","v":1},{"$f":"OFFSET(Data!U11,Offsets!$A$33,Offsets!$A$31)","v":1.5714285714285714},{"$f":"OFFSET(Data!V11,Offsets!$A$33,Offsets!$A$31)","v":0.8571428571428571},{"$f":"OFFSET(Data!W11,Offsets!$A$33,Offsets!$A$31)","v":1.1428571428571428},{"$f":"OFFSET(Data!X11,Offsets!$A$33,Offsets!$A$31)","v":0.42857142857142855},{"$f":"OFFSET(Data!Y11,Offsets!$A$33,Offsets!$A$31)","v":0.2857142857142857},{"$f":"OFFSET(Data!Z11,Offsets!$A$33,Offsets!$A$31)","v":0.14285714285714285},{"$f":"OFFSET(Data!AA11,Offsets!$A$33,Offsets!$A$31)","v":0},{"$f":"OFFSET(Data!AB11,Offsets!$A$33,Offsets!$A$31)","v":0},{"$f":"OFFSET(Data!AC11,Offsets!$A$33,Offsets!$A$31)","v":0},{"$f":"OFFSET(Data!AD11,Offsets!$A$33,Offsets!$A$31)","v":0},{"$f":"OFFSET(Data!AE11,Offsets!$A$33,Offsets!$A$31)","v":0},{"$f":"OFFSET(Data!AF11,Offsets!$A$33,Offsets!$A$31)","v":0},{"$f":"OFFSET(Data!AG11,Offsets!$A$33,Offsets!$A$31)","v":0},{"$f":"OFFSET(Data!AH11,Offsets!$A$33,Offsets!$A$31)","v":0},null,{"$f":"OFFSET(Data!AI11,Offsets!$A$33,Offsets!$A$31)","v":41.0390306122449},{"$f":"IF(OFFSET(Data!AJ11,Offsets!$A$33,Offsets!$A$31)=\"\", \"-\", OFFSET(Data!AJ11,Offsets!$A$33,Offsets!$A$31))","v":"-"},{"$f":"OFFSET(Data!AK11,Offsets!$A$33,Offsets!$A$31)","v":16.8},{"$f":"OFFSET(Data!AL11,Offsets!$A$33,Offsets!$A$31)","v":63.1},null,null,null,null,null,null,263.82233965014581,"",6.4285714285714288,null,0,"-","-","-","-","-","-","-","-"]
[null,"01:45:00",null,{"$f":"OFFSET(Data!O12,Offsets!$A$33,Offsets!$A$31)","v":0},{"$f":"OFFSET(Data!P12,Offsets!$A$33,Offsets!$A$31)","v":0},{"$f":"OFFSET(Data!Q12,Offsets!$A$33,Offsets!$A$31)","v":0},{"$f":"OFFSET(Data!R12,Offsets!$A$33,Offsets!$A$31)","v":0},{"$f":"OFFSET(Data!S12,Offsets!$A$33,Offsets!$A$31)","v":1.4285714285714286},{"$f":"OFFSET(Data!T12,Offsets!$A$33,Offsets!$A$31)","v":2},{"$f":"OFFSET(Data!U12,Offsets!$A$33,Offsets!$A$31)","v":2.7142857142857144},{"$f":"OFFSET(Data!V12,Offsets!$A$33,Offsets!$A$31)","v":1.1428571428571428},{"$f":"OFFSET(Data!W12,Offsets!$A$33,Offsets!$A$31)","v":1.1428571428571428},{"$f":"OFFSET(Data!X12,Offsets!$A$33,Offsets!$A$31)","v":0.7142857142857143},{"$f":"OFFSET(Data!Y12,Offsets!$A$33,Offsets!$A$31)","v":0},{"$f":"OFFSET(Data!Z12,Offsets!$A$33,Offsets!$A$31)","v":0},{"$f":"OFFSET(Data!AA12,Offsets!$A$33,Offsets!$A$31)","v":0},{"$f":"OFFSET(Data!AB12,Offsets!$A$33,Offsets!$A$31)","v":0},{"$f":"OFFSET(Data!AC12,Offsets!$A$33,Offsets!$A$31)","v":0},{"$f":"OFFSET(Data!AD12,Offsets!$A$33,Offsets!$A$31)","v":0},{"$f":"OFFSET(Data!AE12,Offsets!$A$33,Offsets!$A$31)","v":0},{"$f":"OFFSET(Data!AF12,Offsets!$A$33,Offsets!$A$31)","v":0},{"$f":"OFFSET(Data!AG12,Offsets!$A$33,Offsets!$A$31)","v":0},{"$f":"OFFSET(Data!AH12,Offsets!$A$33,Offsets!$A$31)","v":0},null,{"$f":"OFFSET(Data!AI12,Offsets!$A$33,Offsets!$A$31)","v":37.585432900432906},{"$f":"IF(OFFSET(Data!AJ12,Offsets!$A$33,Offsets!$A$31)=\"\", \"-\", OFFSET(Data!AJ12,Offsets!$A$33,Offsets!$A$31))","v":37.799999999999997},{"$f":"OFFSET(Data!AK12,Offsets!$A$33,Offsets!$A$31)","v":25.1},{"$f":"OFFSET(Data!AL12,Offsets!$A$33,Offsets!$A$31)","v":54},null,null,null,null,null,null,343.63824366110083,345.59999999999997,9.1428571428571423,null,7.2857142857142865,37.799999999999997,37.799999999999997,37.799999999999997,37.799999999999997,37.799999999999997,37.799999999999997,37.799999999999997,37.799999999999997]
[null,"02:00:00",null,{"$f":"OFFSET(Data!O13,Offsets!$A$33,Offsets!$A$31)","v":0},{"$f":"OFFSET(Data!P13,Offsets!$A$33,Offsets!$A$31)","v":0},{"$f":"OFFSET(Data!Q13,Offsets!$A$33,Offsets!$A$31)","v":0},{"$f":"OFFSET(Data!R13,Offsets!$A$33,Offsets!$A$31)","v":0.2857142857142857},{"$f":"OFFSET(Data!S13,Offsets!$A$33,Offsets!$A$31)","v":0.8571428571428571},{"$f":"OFFSET(Data!T13,Offsets!$A$33,Offsets!$A$31)","v":2},{"$f":"OFFSET(Data!U13,Offsets!$A$33,Offsets!$A$31)","v":1.4285714285714286},{"$f":"OFFSET(Data!V13,Offsets!$A$33,Offsets!$A$31)","v":2.1428571428571428},{"$f":"OFFSET(Data!W13,Offsets!$A$33,Offsets!$A$31)","v":1.1428571428571428},{"$f":"OFFSET(Data!X13,Offsets!$A$33,Offsets!$A$31)","v":0.2857142857142857},{"$f":"OFFSET(Data!Y13,Offsets!$A$33,Offsets!$A$31)","v":0.5714285714285714},{"$f":"OFFSET(Data!Z13,Offsets!$A$33,Offsets!$A$31)","v":0.14285714285714285},{"$f":"OFFSET(Data!AA13,Offsets!$A$33,Offsets!$A$31)","v":0},{"$f":"OFFSET(Data!AB13,Offsets!$A$33,Offsets!$A$31)","v":0},{"$f":"OFFSET(Data!AC13,Offsets!$A$33,Offsets!$A$31)","v":0},{"$f":"OFFSET(Data!AD13,Offsets!$A$33,Offsets!$A$31)","v":0},{"$f":"OFFSET(Data!AE13,Offsets!$A$33,Offsets!$A$31)","v":0},{"$f":"OFFSET(Data!AF13,Offsets!$A$33,Offsets!$A$31)","v":0},{"$f":"OFFSET(Data!AG13,Offsets!$A$33,Offsets!$A$31)","v":0},{"$f":"OFFSET(Data!AH13,Offsets!$A$33,Offsets!$A$31)","v":0},null,{"$f":"OFFSET(Data!AI13,Offsets!$A$33,Offsets!$A$31)","v":40.61331168831169},{"$f":"IF(OFFSET(Data!AJ13,Offsets!$A$33,Offsets!$A$31)=\"\", \"-\", OFFSET(Data!AJ13,Offsets!$A$33,Offsets!$A$31))","v":"-"},{"$f":"OFFSET(Data!AK13,Offsets!$A$33,Offsets!$A$31)","v":21.1},{"$f":"OFFSET(Data!AL13,Offsets!$A$33,Offsets!$A$31)","v":62.8},null,null,null,null,null,null,359.71790352504632,"",8.8571428571428559,null,0,"-",{"$f":"+AN29","v":"-"},{"$f":"+AO29","v":"-"},"-","-","-","-","-"]
[null,"02:15:00",null,{"$f":"OFFSET(Data!O14,Offsets!$A$33,Offsets!$A$31)","v":0},{"$f":"OFFSET(Data!P14,Offsets!$A$33,Offsets!$A$31)","v":0},{"$f":"OFFSET(Data!Q14,Offsets!$A$33,Offsets!$A$31)","v":0},{"$f":"OFFSET(Data!R14,Offsets!$A$33,Offsets!$A$31)","v":0.14285714285714285},{"$f":"OFFSET(Data!S14,Offsets!$A$33,Offsets!$A$31)","v":0.5714285714285714},{"$f":"OFFSET(Data!T14,Offsets!$A$33,Offsets!$A$31)","v":2.1428571428571428},{"$f":"OFFSET(Data!U14,Offsets!$A$33,Offsets!$A$31)","v":1.4285714285714286},{"$f":"OFFSET(Data!V14,Offsets!$A$33,Offsets!$A$31)","v":1.2857142857142858},{"$f":"OFFSET(Data!W14,Offsets!$A$33,Offsets!$A$31)","v":2},{"$f":"OFFSET(Data!X14,Offsets!$A$33,Offsets!$A$31)","v":0.7142857142857143},{"$f":"OFFSET(Data!Y14,Offsets!$A$33,Offsets!$A$31)","v":0.5714285714285714},{"$f":"OFFSET(Data!Z14,Offsets!$A$33,Offsets!$A$31)","v":0.42857142857142855},{"$f":"OFFSET(Data!AA14,Offsets!$A$33,Offsets!$A$31)","v":0},{"$f":"OFFSET(Data!AB14,Offsets!$A$33,Offsets!$A$31)","v":0},{"$f":"OFFSET(Data!AC14,Offsets!$A$33,Offsets!$A$31)","v":0},{"$f":"OFFSET(Data!AD14,Offsets!$A$33,Offsets!$A$31)","v":0},{"$f":"OFFSET(Data!AE14,Offsets!$A$33,Offsets!$A$31)","v":0},{"$f":"OFFSET(Data!AF14,Offsets!$A$33,Offsets!$A$31)","v":0},{"$f":"OFFSET(Data!AG14,Offsets!$A$33,Offsets!$A$31)","v":0},{"$f":"OFFSET(Data!AH14,Offsets!$A$33,Offsets!$A$31)","v":0},null,{"$f":"OFFSET(Data!AI14,Offsets!$A$33,Offsets!$A$31)","v":41.852730404516123},{"$f":"IF(OFFSET(Data!AJ14,Offsets!$A$33,Offsets!$A$31)=\"\", \"-\", OFFSET(Data!AJ14,Offsets!$A$33,Offsets!$A$31))","v":"-"},{"$f":"OFFSET(Data!AK14,Offsets!$A$33,Offsets!$A$31)","v":24.3},{"$f":"OFFSET(Data!AL14,Offsets!$A$33,Offsets!$A$31)","v":64.8},null,null,null,null,null,null,388.63249661336397,"",9.2857142857142847,null,0,"-","-",{"$f":"+AO30","v":"-"},"-","-","-","-","-"]
[null,"02:30:00",null,{"$f":"OFFSET(Data!O15,Offsets!$A$33,Offsets!$A$31)","v":0},{"$f":"OFFSET(Data!P15,Offsets!$A$33,Offsets!$A$31)","v":0},{"$f":"OFFSET(Data!Q15,Offsets!$A$33,Offsets!$A$31)","v":0.14285714285714285},{"$f":"OFFSET(Data!R15,Offsets!$A$33,Offsets!$A$31)","v":0.14285714285714285},{"$f":"OFFSET(Data!S15,Offsets!$A$33,Offsets!$A$31)","v":1.1428571428571428},{"$f":"OFFSET(Data!T15,Offsets!$A$33,Offsets!$A$31)","v":0.7142857142857143},{"$f":"OFFSET(Data!U15,Offsets!$A$33,Offsets!$A$31)","v":2.2857142857142856},{"$f":"OFFSET(Data!V15,Offsets!$A$33,Offsets!$A$31)","v":3.4285714285714284},{"$f":"OFFSET(Data!W15,Offsets!$A$33,Offsets!$A$31)","v":1.7142857142857142},{"$f":"OFFSET(Data!X15,Offsets!$A$33,Offsets!$A$31)","v":1},{"$f":"OFFSET(Data!Y15,Offsets!$A$33,Offsets!$A$31)","v":0.14285714285714285},{"$f":"OFFSET(Data!Z15,Offsets!$A$33,Offsets!$A$31)","v":0.14285714285714285},{"$f":"OFFSET(Data!AA15,Offsets!$A$33,Offsets!$A$31)","v":0},{"$f":"OFFSET(Data!AB15,Offsets!$A$33,Offsets!$A$31)","v":0},{"$f":"OFFSET(Data!AC15,Offsets!$A$33,Offsets!$A$31)","v":0},{"$f":"OFFSET(Data!AD15,Offsets!$A$33,Offsets!$A$31)","v":0},{"$f":"OFFSET(Data!AE15,Offsets!$A$33,Offsets!$A$31)","v":0},{"$f":"OFFSET(Data!AF15,Offsets!$A$33,Offsets!$A$31)","v":0},{"$f":"OFFSET(Data!AG15,Offsets!$A$33,Offsets!$A$31)","v":0},{"$f":"OFFSET(Data!AH15,Offsets!$A$33,Offsets!$A$31)","v":0},null,{"$f":"OFFSET(Data!AI15,Offsets!$A$33,Offsets!$A$31)","v":41.128724489795914},{"$f":"IF(OFFSET(Data!AJ15,Offsets!$A$33,Offsets!$A$31)=\"\", \"-\", OFFSET(Data!AJ15,Offsets!$A$33,Offsets!$A$31))","v":46.8},{"$f":"OFFSET(Data!AK15,Offsets!$A$33,Offsets!$A$31)","v":16.5},{"$f":"OFFSET(Data!AL15,Offsets!$A$33,Offsets!$A$31)","v":63.3},null,null,null,null,null,null,446.54043731778415,508.11428571428564,10.857142857142856,null,7.8571428571428577,46.8,46.8,46.8,46.8,46.8,46.8,46.8,46.8]
[null,"02:45:00",null,{"$f":"OFFSET(Data!O16,Offsets!$A$33,Offsets!$A$31)","v":0},{"$f":"OFFSET(Data!P16,Offsets!$A$33,Offsets!$A$31)","v":0},{"$f":"OFFSET(Data!Q16,Offsets!$A$33,Offsets!$A$31)","v":0},{"$f":"OFFSET(Data!R16,Offsets!$A$33,Offsets!$A$31)","v":0.14285714285714285},{"$f":"OFFSET(Data!S16,Offsets!$A$33,Offsets!$A$31)","v":0.14285714285714285},{"$f":"OFFSET(Data!T16,Offsets!$A$33,Offsets!$A$31)","v":1},{"$f":"OFFSET(Data!U16,Offsets!$A$33,Offsets!$A$31)","v":1.7142857142857142},{"$f":"OFFSET(Data!V16,Offsets!$A$33,Offsets!$A$31)","v":1},{"$f":"OFFSET(Data!W16,Offsets!$A$33,Offsets!$A$31)","v":0.5714285714285714},{"$f":"OFFSET(Data!X16,Offsets!$A$33,Offsets!$A$31)","v":0.8571428571428571},{"$f":"OFFSET(Data!Y16,Offsets!$A$33,Offsets!$A$31)","v":0.14285714285714285},{"$f":"OFFSET(Data!Z16,Offsets!$A$33,Offsets!$A$31)","v":0},{"$f":"OFFSET(Data!AA16,Offsets!$A$33,Offsets!$A$31)","v":0},{"$f":"OFFSET(Data!AB16,Offsets!$A$33,Offsets!$A$31)","v":0},{"$f":"OFFSET(Data!AC16,Offsets!$A$33,Offsets!$A$31)","v":0},{"$f":"OFFSET(Data!AD16,Offsets!$A$33,Offsets!$A$31)","v":0},{"$f":"OFFSET(Data!AE16,Offsets!$A$33,Offsets!$A$31)","v":0},{"$f":"OFFSET(Data!AF16,Offsets!$A$33,Offsets!$A$31)","v":0},{"$f":"OFFSET(Data!AG16,Offsets!$A$33,Offsets!$A$31)","v":0},{"$f":"OFFSET(Data!AH16,Offsets!$A$33,Offsets!$A$31)","v":0},null,{"$f":"OFFSET(Data!AI16,Offsets!$A$33,Offsets!$A$31)","v":40.600476190476193},{"$f":"IF(OFFSET(Data!AJ16,Offsets!$A$33,Offsets!$A$31)=\"\", \"-\", OFFSET(Data!AJ16,Offsets!$A$33,Offsets!$A$31))","v":"-"},{"$f":"OFFSET(Data!AK16,Offsets!$A$33,Offsets!$A$31)","v":24.4},{"$f":"OFFSET(Data!AL16,Offsets!$A$33,Offsets!$A$31)","v":59.3},null,null,null,null,null,null,226.20265306122451,"",5.5714285714285712,null,0,"-","-","-","-","-","-","-","-"]
[null,"03:00:00",null,{"$f":"OFFSET(Data!O17,Offsets!$A$33,Offsets!$A$31)","v":0},{"$f":"OFFSET(Data!P17,Offsets!$A$33,Offsets!$A$31)","v":0},{"$f":"OFFSET(Data!Q17,Offsets!$A$33,Offsets!$A$31)","v":0},{"$f":"OFFSET(Data!R17,Offsets!$A$33,Offsets!$A$31)","v":0},{"$f":"OFFSET(Data!S17,Offsets!$A$33,Offsets!$A$31)","v":1},{"$f":"OFFSET(Data!T17,Offsets!$A$33,Offsets!$A$31)","v":1.2857142857142858},{"$f":"OFFSET(Data!U17,Offsets!$A$33,Offsets!$A$31)","v":1.4285714285714286},{"$f":"OFFSET(Data!V17,Offsets!$A$33,Offsets!$A$31)","v":1.8571428571428572},{"$f":"OFFSET(Data!W17,Offsets!$A$33,Offsets!$A$31)","v":0.8571428571428571},{"$f":"OFFSET(Data!X17,Offsets!$A$33,Offsets!$A$31)","v":1},{"$f":"OFFSET(Data!Y17,Offsets!$A$33,Offsets!$A$31)","v":0.2857142857142857},{"$f":"OFFSET(Data!Z17,Offsets!$A$33,Offsets!$A$31)","v":0.2857142857142857},{"$f":"OFFSET(Data!AA17,Offsets!$A$33,Offsets!$A$31)","v":0},{"$f":"OFFSET(Data!AB17,Offsets!$A$33,Offsets!$A$31)","v":0},{"$f":"OFFSET(Data!AC17,Offsets!$A$33,Offsets!$A$31)","v":0},{"$f":"OFFSET(Data!AD17,Offsets!$A$33,Offsets!$A$31)","v":0},{"$f":"OFFSET(Data!AE17,Offsets!$A$33,Offsets!$A$31)","v":0},{"$f":"OFFSET(Data!AF17,Offsets!$A$33,Offsets!$A$31)","v":0},{"$f":"OFFSET(Data!AG17,Offsets!$A$33,Offsets!$A$31)","v":0},{"$f":"OFFSET(Data!AH17,Offsets!$A$33,Offsets!$A$31)","v":0},null,{"$f":"OFFSET(Data!AI17,Offsets!$A$33,Offsets!$A$31)","v":40.613214285714285},{"$f":"IF(OFFSET(Data!AJ17,Offsets!$A$33,Offsets!$A$31)=\"\", \"-\", OFFSET(Data!AJ17,Offsets!$A$33,Offsets!$A$31))","v":46.3},{"$f":"OFFSET(Data!AK17,Offsets!$A$33,Offsets!$A$31)","v":25.6},{"$f":"OFFSET(Data!AL17,Offsets!$A$33,Offsets!$A$31)","v":61},null,null,null,null,null,null,324.90571428571423,370.39999999999992,7.9999999999999991,null,5.5714285714285712,46.3,46.3,46.3,46.3,46.3,46.3,46.3,46.3]
[null,"03:15:00",null,{"$f":"OFFSET(Data!O18,Offsets!$A$33,Offsets!$A$31)","v":0},{"$f":"OFFSET(Data!P18,Offsets!$A$33,Offsets!$A$31)","v":0},{"$f":"OFFSET(Data!Q18,Offsets!$A$33,Offsets!$A$31)","v":0},{"$f":"OFFSET(Data!R18,Offsets!$A$33,Offsets!$A$31)","v":0.42857142857142855},{"$f":"OFFSET(Data!S18,Offsets!$A$33,Offsets!$A$31)","v":0.7142857142857143},{"$f":"OFFSET(Data!T18,Offsets!$A$33,Offsets!$A$31)","v":2.4285714285714284},{"$f":"OFFSET(Data!U18,Offsets!$A$33,Offsets!$A$31)","v":2.7142857142857144},{"$f":"OFFSET(Data!V18,Offsets!$A$33,Offsets!$A$31)","v":3.7142857142857144},{"$f":"OFFSET(Data!W18,Offsets!$A$33,Offsets!$A$31)","v":1.4285714285714286},{"$f":"OFFSET(Data!X18,Offsets!$A$33,Offsets!$A$31)","v":0.42857142857142855},{"$f":"OFFSET(Data!Y18,Offsets!$A$33,Offsets!$A$31)","v":0.14285714285714285},{"$f":"OFFSET(Data!Z18,Offsets!$A$33,Offsets!$A$31)","v":0.14285714285714285},{"$f":"OFFSET(Data!AA18,Offsets!$A$33,Offsets!$A$31)","v":0},{"$f":"OFFSET(Data!AB18,Offsets!$A$33,Offsets!$A$31)","v":0},{"$f":"OFFSET(Data!AC18,Offsets!$A$33,Offsets!$A$31)","v":0.14285714285714285},{"$f":"OFFSET(Data!AD18,Offsets!$A$33,Offsets!$A$31)","v":0},{"$f":"OFFSET(Data!AE18,Offsets!$A$33,Offsets!$A$31)","v":0},{"$f":"OFFSET(Data!AF18,Offsets!$A$33,Offsets!$A$31)","v":0},{"$f":"OFFSET(Data!AG18,Offsets!$A$33,Offsets!$A$31)","v":0},{"$f":"OFFSET(Data!AH18,Offsets!$A$33,Offsets!$A$31)","v":0},null,{"$f":"OFFSET(Data!AI18,Offsets!$A$33,Offsets!$A$31)","v":39.55277526395173},{"$f":"IF(OFFSET(Data!AJ18,Offsets!$A$33,Offsets!$A$31)=\"\", \"-\", OFFSET(Data!AJ18,Offsets!$A$33,Offsets!$A$31))","v":"-"},{"$f":"OFFSET(Data!AK18,Offsets!$A$33,Offsets!$A$31)","v":24.6},{"$f":"OFFSET(Data!AL18,Offsets!$A$33,Offsets!$A$31)","v":78.099999999999994},null,null,null,null,null,null,485.93409609997838,"",12.285714285714285,null,0,"-","-","-","-","-","-","-","-"]
[null,"03:30:00",null,{"$f":"OFFSET(Data!O19,Offsets!$A$33,Offsets!$A$31)","v":0},{"$f":"OFFSET(Data!P19,Offsets!$A$33,Offsets!$A$31)","v":0},{"$f":"OFFSET(Data!Q19,Offsets!$A$33,Offsets!$A$31)","v":0.14285714285714285},{"$f":"OFFSET(Data!R19,Offsets!$A$33,Offsets!$A$31)","v":0.14285714285714285},{"$f":"OFFSET(Data!S19,Offsets!$A$33,Offsets!$A$31)","v":0.8571428571428571},{"$f":"OFFSET(Data!T19,Offsets!$A$33,Offsets!$A$31)","v":2},{"$f":"OFFSET(Data!U19,Offsets!$A$33,Offsets!$A$31)","v":2.7142857142857144},{"$f":"OFFSET(Data!V19,Offsets!$A$33,Offsets!$A$31)","v":2.1428571428571428},{"$f":"OFFSET(Data!W19,Offsets!$A$33,Offsets!$A$31)","v":1.8571428571428572},{"$f":"OFFSET(Data!X19,Offsets!$A$33,Offsets!$A$31)","v":0.5714285714285714},{"$f":"OFFSET(Data!Y19,Offsets!$A$33,Offsets!$A$31)","v":0.2857142857142857},{"$f":"OFFSET(Data!Z19,Offsets!$A$33,Offsets!$A$31)","v":0},{"$f":"OFFSET(Data!AA19,Offsets!$A$33,Offsets!$A$31)","v":0},{"$f":"OFFSET(Data!AB19,Offsets!$A$33,Offsets!$A$31)","v":0},{"$f":"OFFSET(Data!AC19,Offsets!$A$33,Offsets!$A$31)","v":0},{"$f":"OFFSET(Data!AD19,Offsets!$A$33,Offsets!$A$31)","v":0},{"$f":"OFFSET(Data!AE19,Offsets!$A$33,Offsets!$A$31)","v":0},{"$f":"OFFSET(Data!AF19,Offsets!$A$33,Offsets!$A$31)","v":0},{"$f":"OFFSET(Data!AG19,Offsets!$A$33,Offsets!$A$31)","v":0},{"$f":"OFFSET(Data!AH19,Offsets!$A$33,Offsets!$A$31)","v":0},null,{"$f":"OFFSET(Data!AI19,Offsets!$A$33,Offsets!$A$31)","v":38.778005565862713},{"$f":"IF(OFFSET(Data!AJ19,Offsets!$A$33,Offsets!$A$31)=\"\", \"-\", OFFSET(Data!AJ19,Offsets!$A$33,Offsets!$A$31))","v":42.3},{"$f":"OFFSET(Data!AK19,Offsets!$A$33,Offsets!$A$31)","v":17},{"$f":"OFFSET(Data!AL19,Offsets!$A$33,Offsets!$A$31)","v":55.5},null,null,null,null,null,null,415.47863106281483,453.21428571428572,10.714285714285715,null,8,42.3,42.3,42.3,42.3,42.3,42.3,42.3,42.3]
[null,"03:45:00",null,{"$f":"OFFSET(Data!O20,Offsets!$A$33,Offsets!$A$31)","v":0},{"$f":"OFFSET(Data!P20,Offsets!$A$33,Offsets!$A$31)","v":0},{"$f":"OFFSET(Data!Q20,Offsets!$A$33,Offsets!$A$31)","v":0},{"$f":"OFFSET(Data!R20,Offsets!$A$33,Offsets!$A$31)","v":0.14285714285714285},{"$f":"OFFSET(Data!S20,Offsets!$A$33,Offsets!$A$31)","v":1.1428571428571428},{"$f":"OFFSET(Data!T20,Offsets!$A$33,Offsets!$A$31)","v":1.5714285714285714},{"$f":"OFFSET(Data!U20,Offsets!$A$33,Offsets!$A$31)","v":1.5714285714285714},{"$f":"OFFSET(Data!V20,Offsets!$A$33,Offsets!$A$31)","v":2.7142857142857144},{"$f":"OFFSET(Data!W20,Offsets!$A$33,Offsets!$A$31)","v":2.8571428571428572},{"$f":"OFFSET(Data!X20,Offsets!$A$33,Offsets!$A$31)","v":1.7142857142857142},{"$f":"OFFSET(Data!Y20,Offsets!$A$33,Offsets!$A$31)","v":0.2857142857142857},{"$f":"OFFSET(Data!Z20,Offsets!$A$33,Offsets!$A$31)","v":0.2857142857142857},{"$f":"OFFSET(Data!AA20,Offsets!$A$33,Offsets!$A$31)","v":0},{"$f":"OFFSET(Data!AB20,Offsets!$A$33,Offsets!$A$31)","v":0},{"$f":"OFFSET(Data!AC20,Offsets!$A$33,Offsets!$A$31)","v":0},{"$f":"OFFSET(Data!AD20,Offsets!$A$33,Offsets!$A$31)","v":0},{"$f":"OFFSET(Data!AE20,Offsets!$A$33,Offsets!$A$31)","v":0},{"$f":"OFFSET(Data!AF20,Offsets!$A$33,Offsets!$A$31)","v":0},{"$f":"OFFSET(Data!AG20,Offsets!$A$33,Offsets!$A$31)","v":0},{"$f":"OFFSET(Data!AH20,Offsets!$A$33,Offsets!$A$31)","v":0},null,{"$f":"OFFSET(Data!AI20,Offsets!$A$33,Offsets!$A$31)","v":41.933787878787882},{"$f":"IF(OFFSET(Data!AJ20,Offsets!$A$33,Offsets!$A$31)=\"\", \"-\", OFFSET(Data!AJ20,Offsets!$A$33,Offsets!$A$31))","v":53.2},{"$f":"OFFSET(Data!AK20,Offsets!$A$33,Offsets!$A$31)","v":24.3},{"$f":"OFFSET(Data!AL20,Offsets!$A$33,Offsets!$A$31)","v":61.6},null,null,null,null,null,null,515.18653679653687,653.6,12.285714285714286,null,7.1428571428571423,53.2,53.2,53.2,53.2,53.2,53.2,53.2,53.2]
[null,"04:00:00",null,{"$f":"OFFSET(Data!O21,Offsets!$A$33,Offsets!$A$31)","v":0},{"$f":"OFFSET(Data!P21,Offsets!$A$33,Offsets!$A$31)","v":0},{"$f":"OFFSET(Data!Q21,Offsets!$A$33,Offsets!$A$31)","v":0},{"$f":"OFFSET(Data!R21,Offsets!$A$33,Offsets!$A$31)","v":0},{"$f":"OFFSET(Data!S21,Offsets!$A$33,Offsets!$A$31)","v":0.42857142857142855},{"$f":"OFFSET(Data!T21,Offsets!$A$33,Offsets!$A$31)","v":1.7142857142857142},{"$f":"OFFSET(Data!U21,Offsets!$A$33,Offsets!$A$31)","v":3.1428571428571428},{"$f":"OFFSET(Data!V21,Offsets!$A$33,Offsets!$A$31)","v":2.1428571428571428},{"$f":"OFFSET(Data!W21,Offsets!$A$33,Offsets!$A$31)","v":1.1428571428571428},{"$f":"OFFSET(Data!X21,Offsets!$A$33,Offsets!$A$31)","v":0.5714285714285714},{"$f":"OFFSET(Data!Y21,Offsets!$A$33,Offsets!$A$31)","v":0.42857142857142855},{"$f":"OFFSET(Data!Z21,Offsets!$A$33,Offsets!$A$31)","v":0.2857142857142857},{"$f":"OFFSET(Data!AA21,Offsets!$A$33,Offsets!$A$31)","v":0},{"$f":"OFFSET(Data!AB21,Offsets!$A$33,Offsets!$A$31)","v":0},{"$f":"OFFSET(Data!AC21,Offsets!$A$33,Offsets!$A$31)","v":0},{"$f":"OFFSET(Data!AD21,Offsets!$A$33,Offsets!$A$31)","v":0},{"$f":"OFFSET(Data!AE21,Offsets!$A$33,Offsets!$A$31)","v":0},{"$f":"OFFSET(Data!AF21,Offsets!$A$33,Offsets!$A$31)","v":0},{"$f":"OFFSET(Data!AG21,Offsets!$A$33,Offsets!$A$31)","v":0},{"$f":"OFFSET(Data!AH21,Offsets!$A$33,Offsets!$A$31)","v":0},null,{"$f":"OFFSET(Data!AI21,Offsets!$A$33,Offsets!$A$31)","v":40.815445269016699},{"$f":"IF(OFFSET(Data!AJ21,Offsets!$A$33,Offsets!$A$31)=\"\", \"-\", OFFSET(Data!AJ21,Offsets!$A$33,Offsets!$A$31))","v":"-"},{"$f":"OFFSET(Data!AK21,Offsets!$A$33,Offsets!$A$31)","v":28},{"$f":"OFFSET(Data!AL21,Offsets!$A$33,Offsets!$A$31)","v":64.8},null,null,null,null,null,null,402.32367479459322,"",9.8571428571428577,null,0,"-","-","-","-","-","-","-","-"]
[null,"04:15:00",null,{"$f":"OFFSET(Data!O22,Offsets!$A$33,Offsets!$A$31)","v":0},{"$f":"OFFSET(Data!P22,Offsets!$A$33,Offsets!$A$31)","v":0},{"$f":"OFFSET(Data!Q22,Offsets!$A$33,Offsets!$A$31)","v":0},{"$f":"OFFSET(Data!R22,Offsets!$A$33,Offsets!$A$31)","v":0.14285714285714285},{"$f":"OFFSET(Data!S22,Offsets!$A$33,Offsets!$A$31)","v":1.1428571428571428},{"$f":"OFFSET(Data!T22,Offsets!$A$33,Offsets!$A$31)","v":1.8571428571428572},{"$f":"OFFSET(Data!U22,Offsets!$A$33,Offsets!$A$31)","v":2.1428571428571428},{"$f":"OFFSET(Data!V22,Offsets!$A$33,Offsets!$A$31)","v":2.5714285714285716},{"$f":"OFFSET(Data!W22,Offsets!$A$33,Offsets!$A$31)","v":1.5714285714285714},{"$f":"OFFSET(Data!X22,Offsets!$A$33,Offsets!$A$31)","v":0.7142857142857143},{"$f":"OFFSET(Data!Y22,Offsets!$A$33,Offsets!$A$31)","v":0.5714285714285714},{"$f":"OFFSET(Data!Z22,Offsets!$A$33,Offsets!$A$31)","v":0},{"$f":"OFFSET(Data!AA22,Offsets!$A$33,Offsets!$A$31)","v":0},{"$f":"OFFSET(Data!AB22,Offsets!$A$33,Offsets!$A$31)","v":0},{"$f":"OFFSET(Data!AC22,Offsets!$A$33,Offsets!$A$31)","v":0},{"$f":"OFFSET(Data!AD22,Offsets!$A$33,Offsets!$A$31)","v":0},{"$f":"OFFSET(Data!AE22,Offsets!$A$33,Offsets!$A$31)","v":0},{"$f":"OFFSET(Data!AF22,Offsets!$A$33,Offsets!$A$31)","v":0},{"$f":"OFFSET(Data!AG22,Offsets!$A$33,Offsets!$A$31)","v":0},{"$f":"OFFSET(Data!AH22,Offsets!$A$33,Offsets!$A$31)","v":0},null,{"$f":"OFFSET(Data!AI22,Offsets!$A$33,Offsets!$A$31)","v":39.851526251526252},{"$f":"IF(OFFSET(Data!AJ22,Offsets!$A$33,Offsets!$A$31)=\"\", \"-\", OFFSET(Data!AJ22,Offsets!$A$33,Offsets!$A$31))","v":49.3},{"$f":"OFFSET(Data!AK22,Offsets!$A$33,Offsets!$A$31)","v":22.8},{"$f":"OFFSET(Data!AL22,Offsets!$A$33,Offsets!$A$31)","v":58.4},null,null,null,null,null,null,426.9806384092098,528.21428571428567,10.714285714285714,null,7.8571428571428577,49.3,49.3,49.3,49.3,49.3,49.3,49.3,49.3]
[null,"04:30:00",null,{"$f":"OFFSET(Data!O23,Offsets!$A$33,Offsets!$A$31)","v":0},{"$f":"OFFSET(Data!P23,Offsets!$A$33,Offsets!$A$31)","v":0},{"$f":"OFFSET(Data!Q23,Offsets!$A$33,Offsets!$A$31)","v":0},{"$f":"OFFSET(Data!R23,Offsets!$A$33,Offsets!$A$31)","v":0.2857142857142857},{"$f":"OFFSET(Data!S23,Offsets!$A$33,Offsets!$A$31)","v":1.1428571428571428},{"$f":"OFFSET(Data!T23,Offsets!$A$33,Offsets!$A$31)","v":3.1428571428571428},{"$f":"OFFSET(Data!U23,Offsets!$A$33,Offsets!$A$31)","v":2.8571428571428572},{"$f":"OFFSET(Data!V23,Offsets!$A$33,Offsets!$A$31)","v":2.4285714285714284},{"$f":"OFFSET(Data!W23,Offsets!$A$33,Offsets!$A$31)","v":2.1428571428571428},{"$f":"OFFSET(Data!X23,Offsets!$A$33,Offsets!$A$31)","v":1.7142857142857142},{"$f":"OFFSET(Data!Y23,Offsets!$A$33,Offsets!$A$31)","v":0.42857142857142855},{"$f":"OFFSET(Data!Z23,Offsets!$A$33,Offsets!$A$31)","v":0},{"$f":"OFFSET(Data!AA23,Offsets!$A$33,Offsets!$A$31)","v":0.14285714285714285},{"$f":"OFFSET(Data!AB23,Offsets!$A$33,Offsets!$A$31)","v":0},{"$f":"OFFSET(Data!AC23,Offsets!$A$33,Offsets!$A$31)","v":0},{"$f":"OFFSET(Data!AD23,Offsets!$A$33,Offsets!$A$31)","v":0},{"$f":"OFFSET(Data!AE23,Offsets!$A$33,Offsets!$A$31)","v":0},{"$f":"OFFSET(Data!AF23,Offsets!$A$33,Offsets!$A$31)","v":0},{"$f":"OFFSET(Data!AG23,Offsets!$A$33,Offsets!$A$31)","v":0},{"$f":"OFFSET(Data!AH23,Offsets!$A$33,Offsets!$A$31)","v":0},null,{"$f":"OFFSET(Data!AI23,Offsets!$A$33,Offsets!$A$31)","v":40.335219318496634},{"$f":"IF(OFFSET(Data!AJ23,Offsets!$A$33,Offsets!$A$31)=\"\", \"-\", OFFSET(Data!AJ23,Offsets!$A$33,Offsets!$A$31))","v":50.1},{"$f":"OFFSET(Data!AK23,Offsets!$A$33,Offsets!$A$31)","v":24.4},{"$f":"OFFSET(Data!AL23,Offsets!$A$33,Offsets!$A$31)","v":66.099999999999994},null,null,null,null,null,null,576.21741883566619,715.71428571428567,14.285714285714285,null,9.8571428571428577,50.1,50.1,50.1,50.1,50.1,50.1,50.1,50.1]
[null,"04:45:00",null,{"$f":"OFFSET(Data!O24,Offsets!$A$33,Offsets!$A$31)","v":0},{"$f":"OFFSET(Data!P24,Offsets!$A$33,Offsets!$A$31)","v":0},{"$f":"OFFSET(Data!Q24,Offsets!$A$33,Offsets!$A$31)","v":0},{"$f":"OFFSET(Data!R24,Offsets!$A$33,Offsets!$A$31)","v":0.42857142857142855},{"$f":"OFFSET(Data!S24,Offsets!$A$33,Offsets!$A$31)","v":2},{"$f":"OFFSET(Data!T24,Offsets!$A$33,Offsets!$A$31)","v":2},{"$f":"OFFSET(Data!U24,Offsets!$A$33,Offsets!$A$31)","v":2.4285714285714284},{"$f":"OFFSET(Data!V24,Offsets!$A$33,Offsets!$A$31)","v":2.4285714285714284},{"$f":"OFFSET(Data!W24,Offsets!$A$33,Offsets!$A$31)","v":3.7142857142857144},{"$f":"OFFSET(Data!X24,Offsets!$A$33,Offsets!$A$31)","v":2.2857142857142856},{"$f":"OFFSET(Data!Y24,Offsets!$A$33,Offsets!$A$31)","v":0.5714285714285714},{"$f":"OFFSET(Data!Z24,Offsets!$A$33,Offsets!$A$31)","v":0.5714285714285714},{"$f":"OFFSET(Data!AA24,Offsets!$A$33,Offsets!$A$31)","v":0},{"$f":"OFFSET(Data!AB24,Offsets!$A$33,Offsets!$A$31)","v":0},{"$f":"OFFSET(Data!AC24,Offsets!$A$33,Offsets!$A$31)","v":0},{"$f":"OFFSET(Data!AD24,Offsets!$A$33,Offsets!$A$31)","v":0},{"$f":"OFFSET(Data!AE24,Offsets!$A$33,Offsets!$A$31)","v":0},{"$f":"OFFSET(Data!AF24,Offsets!$A$33,Offsets!$A$31)","v":0},{"$f":"OFFSET(Data!AG24,Offsets!$A$33,Offsets!$A$31)","v":0},{"$f":"OFFSET(Data!AH24,Offsets!$A$33,Offsets!$A$31)","v":0},null,{"$f":"OFFSET(Data!AI24,Offsets!$A$33,Offsets!$A$31)","v":41.606767950095012},{"$f":"IF(OFFSET(Data!AJ24,Offsets!$A$33,Offsets!$A$31)=\"\", \"-\", OFFSET(Data!AJ24,Offsets!$A$33,Offsets!$A$31))","v":47.800000000000004},{"$f":"OFFSET(Data!AK24,Offsets!$A$33,Offsets!$A$31)","v":24.1},{"$f":"OFFSET(Data!AL24,Offsets!$A$33,Offsets!$A$31)","v":62.6},null,null,null,null,null,null,683.53975918013225,785.28571428571433,16.428571428571427,null,9.2857142857142865,47.800000000000004,47.800000000000004,47.800000000000004,47.800000000000004,47.800000000000004,47.800000000000004,47.800000000000004,47.800000000000004]
[null,"05:00:00",null,{"$f":"OFFSET(Data!O25,Offsets!$A$33,Offsets!$A$31)","v":0},{"$f":"OFFSET(Data!P25,Offsets!$A$33,Offsets!$A$31)","v":0},{"$f":"OFFSET(Data!Q25,Offsets!$A$33,Offsets!$A$31)","v":0.14285714285714285},{"$f":"OFFSET(Data!R25,Offsets!$A$33,Offsets!$A$31)","v":0.2857142857142857},{"$f":"OFFSET(Data!S25,Offsets!$A$33,Offsets!$A$31)","v":2.2857142857142856},{"$f":"OFFSET(Data!T25,Offsets!$A$33,Offsets!$A$31)","v":3.1428571428571428},{"$f":"OFFSET(Data!U25,Offsets!$A$33,Offsets!$A$31)","v":2.8571428571428572},{"$f":"OFFSET(Data!V25,Offsets!$A$33,Offsets!$A$31)","v":4.4285714285714288},{"$f":"OFFSET(Data!W25,Offsets!$A$33,Offsets!$A$31)","v":4.7142857142857144},{"$f":"OFFSET(Data!X25,Offsets!$A$33,Offsets!$A$31)","v":2.2857142857142856},{"$f":"OFFSET(Data!Y25,Offsets!$A$33,Offsets!$A$31)","v":1.8571428571428572},{"$f":"OFFSET(Data!Z25,Offsets!$A$33,Offsets!$A$31)","v":0.42857142857142855},{"$f":"OFFSET(Data!AA25,Offsets!$A$33,Offsets!$A$31)","v":0.14285714285714285},{"$f":"OFFSET(Data!AB25,Offsets!$A$33,Offsets!$A$31)","v":0},{"$f":"OFFSET(Data!AC25,Offsets!$A$33,Offsets!$A$31)","v":0.14285714285714285},{"$f":"OFFSET(Data!AD25,Offsets!$A$33,Offsets!$A$31)","v":0},{"$f":"OFFSET(Data!AE25,Offsets!$A$33,Offsets!$A$31)","v":0},{"$f":"OFFSET(Data!AF25,Offsets!$A$33,Offsets!$A$31)","v":0},{"$f":"OFFSET(Data!AG25,Offsets!$A$33,Offsets!$A$31)","v":0},{"$f":"OFFSET(Data!AH25,Offsets!$A$33,Offsets!$A$31)","v":0},null,{"$f":"OFFSET(Data!AI25,Offsets!$A$33,Offsets!$A$31)","v":43.058755207063669},{"$f":"IF(OFFSET(Data!AJ25,Offsets!$A$33,Offsets!$A$31)=\"\", \"-\", OFFSET(Data!AJ25,Offsets!$A$33,Offsets!$A$31))","v":51.116666666666667},{"$f":"OFFSET(Data!AK25,Offsets!$A$33,Offsets!$A$31)","v":16.8},{"$f":"OFFSET(Data!AL25,Offsets!$A$33,Offsets!$A$31)","v":76.099999999999994},null,null,null,null,null,null,978.04886827473183,1161.0785714285714,22.714285714285712,null,13.142857142857142,51.116666666666667,51.116666666666667,51.116666666666667,51.116666666666667,51.116666666666667,51.116666666666667,51.116666666666667,51.116666666666667]
[null,"05:15:00",null,{"$f":"OFFSET(Data!O26,Offsets!$A$33,Offsets!$A$31)","v":0},{"$f":"OFFSET(Data!P26,Offsets!$A$33,Offsets!$A$31)","v":0.14285714285714285},{"$f":"OFFSET(Data!Q26,Offsets!$A$33,Offsets!$A$31)","v":0.14285714285714285},{"$f":"OFFSET(Data!R26,Offsets!$A$33,Offsets!$A$31)","v":0.2857142857142857},{"$f":"OFFSET(Data!S26,Offsets!$A$33,Offsets!$A$31)","v":4.5714285714285712},{"$f":"OFFSET(Data!T26,Offsets!$A$33,Offsets!$A$31)","v":5.2857142857142856},{"$f":"OFFSET(Data!U26,Offsets!$A$33,Offsets!$A$31)","v":4.4285714285714288},{"$f":"OFFSET(Data!V26,Offsets!$A$33,Offsets!$A$31)","v":6.8571428571428568},{"$f":"OFFSET(Data!W26,Offsets!$A$33,Offsets!$A$31)","v":5.5714285714285712},{"$f":"OFFSET(Data!X26,Offsets!$A$33,Offsets!$A$31)","v":2.5714285714285716},{"$f":"OFFSET(Data!Y26,Offsets!$A$33,Offsets!$A$31)","v":0.7142857142857143},{"$f":"OFFSET(Data!Z26,Offsets!$A$33,Offsets!$A$31)","v":0.14285714285714285},{"$f":"OFFSET(Data!AA26,Offsets!$A$33,Offsets!$A$31)","v":0.42857142857142855},{"$f":"OFFSET(Data!AB26,Offsets!$A$33,Offsets!$A$31)","v":0},{"$f":"OFFSET(Data!AC26,Offsets!$A$33,Offsets!$A$31)","v":0},{"$f":"OFFSET(Data!AD26,Offsets!$A$33,Offsets!$A$31)","v":0},{"$f":"OFFSET(Data!AE26,Offsets!$A$33,Offsets!$A$31)","v":0},{"$f":"OFFSET(Data!AF26,Offsets!$A$33,Offsets!$A$31)","v":0},{"$f":"OFFSET(Data!AG26,Offsets!$A$33,Offsets!$A$31)","v":0},{"$f":"OFFSET(Data!AH26,Offsets!$A$33,Offsets!$A$31)","v":0},null,{"$f":"OFFSET(Data!AI26,Offsets!$A$33,Offsets!$A$31)","v":40.057456389086383},{"$f":"IF(OFFSET(Data!AJ26,Offsets!$A$33,Offsets!$A$31)=\"\", \"-\", OFFSET(Data!AJ26,Offsets!$A$33,Offsets!$A$31))","v":47.471428571428575},{"$f":"OFFSET(Data!AK26,Offsets!$A$33,Offsets!$A$31)","v":14.4},{"$f":"OFFSET(Data!AL26,Offsets!$A$33,Offsets!$A$31)","v":69.7},null,null,null,null,null,null,1247.5036418315474,1478.3959183673471,31.142857142857142,null,21.714285714285712,47.471428571428575,47.471428571428575,47.471428571428575,47.471428571428575,47.471428571428575,47.471428571428575,47.471428571428575,47.471428571428575]
[null,"05:30:00",null,{"$f":"OFFSET(Data!O27,Offsets!$A$33,Offsets!$A$31)","v":0},{"$f":"OFFSET(Data!P27,Offsets!$A$33,Offsets!$A$31)","v":0.5714285714285714},{"$f":"OFFSET(Data!Q27,Offsets!$A$33,Offsets!$A$31)","v":0.14285714285714285},{"$f":"OFFSET(Data!R27,Offsets!$A$33,Offsets!$A$31)","v":0.2857142857142857},{"$f":"OFFSET(Data!S27,Offsets!$A$33,Offsets!$A$31)","v":4.7142857142857144},{"$f":"OFFSET(Data!T27,Offsets!$A$33,Offsets!$A$31)","v":5.5714285714285712},{"$f":"OFFSET(Data!U27,Offsets!$A$33,Offsets!$A$31)","v":7.5714285714285712},{"$f":"OFFSET(Data!V27,Offsets!$A$33,Offsets!$A$31)","v":9.2857142857142865},{"$f":"OFFSET(Data!W27,Offsets!$A$33,Offsets!$A$31)","v":7.2857142857142856},{"$f":"OFFSET(Data!X27,Offsets!$A$33,Offsets!$A$31)","v":4.7142857142857144},{"$f":"OFFSET(Data!Y27,Offsets!$A$33,Offsets!$A$31)","v":1.1428571428571428},{"$f":"OFFSET(Data!Z27,Offsets!$A$33,Offsets!$A$31)","v":0.14285714285714285},{"$f":"OFFSET(Data!AA27,Offsets!$A$33,Offsets!$A$31)","v":0.14285714285714285},{"$f":"OFFSET(Data!AB27,Offsets!$A$33,Offsets!$A$31)","v":0},{"$f":"OFFSET(Data!AC27,Offsets!$A$33,Offsets!$A$31)","v":0},{"$f":"OFFSET(Data!AD27,Offsets!$A$33,Offsets!$A$31)","v":0},{"$f":"OFFSET(Data!AE27,Offsets!$A$33,Offsets!$A$31)","v":0},{"$f":"OFFSET(Data!AF27,Offsets!$A$33,Offsets!$A$31)","v":0},{"$f":"OFFSET(Data!AG27,Offsets!$A$33,Offsets!$A$31)","v":0},{"$f":"OFFSET(Data!AH27,Offsets!$A$33,Offsets!$A$31)","v":0},null,{"$f":"OFFSET(Data!AI27,Offsets!$A$33,Offsets!$A$31)","v":40.63348534560437},{"$f":"IF(OFFSET(Data!AJ27,Offsets!$A$33,Offsets!$A$31)=\"\", \"-\", OFFSET(Data!AJ27,Offsets!$A$33,Offsets!$A$31))","v":48.26428571428572},{"$f":"OFFSET(Data!AK27,Offsets!$A$33,Offsets!$A$31)","v":10.199999999999999},{"$f":"OFFSET(Data!AL27,Offsets!$A$33,Offsets!$A$31)","v":65.599999999999994},null,null,null,null,null,null,1689.192033652982,2006.4153061224495,41.571428571428577,null,28.142857142857139,48.26428571428572,{"$f":"+AN43","v":48.26428571428572},48.26428571428572,48.26428571428572,48.26428571428572,48.26428571428572,48.26428571428572,48.26428571428572]
[null,"05:45:00",null,{"$f":"OFFSET(Data!O28,Offsets!$A$33,Offsets!$A$31)","v":0},{"$f":"OFFSET(Data!P28,Offsets!$A$33,Offsets!$A$31)","v":0.14285714285714285},{"$f":"OFFSET(Data!Q28,Offsets!$A$33,Offsets!$A$31)","v":0},{"$f":"OFFSET(Data!R28,Offsets!$A$33,Offsets!$A$31)","v":0.8571428571428571},{"$f":"OFFSET(Data!S28,Offsets!$A$33,Offsets!$A$31)","v":7.4285714285714288},{"$f":"OFFSET(Data!T28,Offsets!$A$33,Offsets!$A$31)","v":7},{"$f":"OFFSET(Data!U28,Offsets!$A$33,Offsets!$A$31)","v":10.571428571428571},{"$f":"OFFSET(Data!V28,Offsets!$A$33,Offsets!$A$31)","v":11.857142857142858},{"$f":"OFFSET(Data!W28,Offsets!$A$33,Offsets!$A$31)","v":14.285714285714286},{"$f":"OFFSET(Data!X28,Offsets!$A$33,Offsets!$A$31)","v":6.8571428571428568},{"$f":"OFFSET(Data!Y28,Offsets!$A$33,Offsets!$A$31)","v":1.5714285714285714},{"$f":"OFFSET(Data!Z28,Offsets!$A$33,Offsets!$A$31)","v":0.5714285714285714},{"$f":"OFFSET(Data!AA28,Offsets!$A$33,Offsets!$A$31)","v":0.14285714285714285},{"$f":"OFFSET(Data!AB28,Offsets!$A$33,Offsets!$A$31)","v":0},{"$f":"OFFSET(Data!AC28,Offsets!$A$33,Offsets!$A$31)","v":0},{"$f":"OFFSET(Data!AD28,Offsets!$A$33,Offsets!$A$31)","v":0},{"$f":"OFFSET(Data!AE28,Offsets!$A$33,Offsets!$A$31)","v":0},{"$f":"OFFSET(Data!AF28,Offsets!$A$33,Offsets!$A$31)","v":0},{"$f":"OFFSET(Data!AG28,Offsets!$A$33,Offsets!$A$31)","v":0},{"$f":"OFFSET(Data!AH28,Offsets!$A$33,Offsets!$A$31)","v":0},null,{"$f":"OFFSET(Data!AI28,Offsets!$A$33,Offsets!$A$31)","v":41.228124549789257},{"$f":"IF(OFFSET(Data!AJ28,Offsets!$A$33,Offsets!$A$31)=\"\", \"-\", OFFSET(Data!AJ28,Offsets!$A$33,Offsets!$A$31))","v":48.427142857142854},{"$f":"OFFSET(Data!AK28,Offsets!$A$33,Offsets!$A$31)","v":14.5},{"$f":"OFFSET(Data!AL28,Offsets!$A$33,Offsets!$A$31)","v":68.2},null,null,null,null,null,null,2526.6950616942272,2967.8920408163262,61.285714285714285,null,37.857142857142861,48.427142857142854,{"$f":"+AN44","v":48.427142857142854},48.427142857142854,48.427142857142854,48.427142857142854,48.427142857142854,48.427142857142854,48.427142857142854]
[null,"06:00:00",null,{"$f":"OFFSET(Data!O29,Offsets!$A$33,Offsets!$A$31)","v":0},{"$f":"OFFSET(Data!P29,Offsets!$A$33,Offsets!$A$31)","v":0},{"$f":"OFFSET(Data!Q29,Offsets!$A$33,Offsets!$A$31)","v":0},{"$f":"OFFSET(Data!R29,Offsets!$A$33,Offsets!$A$31)","v":0.42857142857142855},{"$f":"OFFSET(Data!S29,Offsets!$A$33,Offsets!$A$31)","v":8.2857142857142865},{"$f":"OFFSET(Data!T29,Offsets!$A$33,Offsets!$A$31)","v":9.8571428571428577},{"$f":"OFFSET(Data!U29,Offsets!$A$33,Offsets!$A$31)","v":12.428571428571429},{"$f":"OFFSET(Data!V29,Offsets!$A$33,Offsets!$A$31)","v":19.714285714285715},{"$f":"OFFSET(Data!W29,Offsets!$A$33,Offsets!$A$31)","v":16.571428571428573},{"$f":"OFFSET(Data!X29,Offsets!$A$33,Offsets!$A$31)","v":7.2857142857142856},{"$f":"OFFSET(Data!Y29,Offsets!$A$33,Offsets!$A$31)","v":3.4285714285714284},{"$f":"OFFSET(Data!Z29,Offsets!$A$33,Offsets!$A$31)","v":0.7142857142857143},{"$f":"OFFSET(Data!AA29,Offsets!$A$33,Offsets!$A$31)","v":0.14285714285714285},{"$f":"OFFSET(Data!AB29,Offsets!$A$33,Offsets!$A$31)","v":0},{"$f":"OFFSET(Data!AC29,Offsets!$A$33,Offsets!$A$31)","v":0},{"$f":"OFFSET(Data!AD29,Offsets!$A$33,Offsets!$A$31)","v":0},{"$f":"OFFSET(Data!AE29,Offsets!$A$33,Offsets!$A$31)","v":0},{"$f":"OFFSET(Data!AF29,Offsets!$A$33,Offsets!$A$31)","v":0},{"$f":"OFFSET(Data!AG29,Offsets!$A$33,Offsets!$A$31)","v":0},{"$f":"OFFSET(Data!AH29,Offsets!$A$33,Offsets!$A$31)","v":0},null,{"$f":"OFFSET(Data!AI29,Offsets!$A$33,Offsets!$A$31)","v":42.151529752576572},{"$f":"IF(OFFSET(Data!AJ29,Offsets!$A$33,Offsets!$A$31)=\"\", \"-\", OFFSET(Data!AJ29,Offsets!$A$33,Offsets!$A$31))","v":48.878571428571433},{"$f":"OFFSET(Data!AK29,Offsets!$A$33,Offsets!$A$31)","v":20.6},{"$f":"OFFSET(Data!AL29,Offsets!$A$33,Offsets!$A$31)","v":68.900000000000006},null,null,null,null,null,null,{"$f":"SUM(AI21:AI44)","v":16223.326124282261},{"$f":"SUM(AJ21:AJ44)","v":16440.29969387755},{"$f":"SUM(AK21:AK44)","v":399.85714285714283},{"$f":"SUM(D45:W45)","v":78.857142857142861},{"$f":"SUM(AM21:AM44)","v":240.14285714285717}]
[null,"06:15:00",null,{"$f":"OFFSET(Data!O30,Offsets!$A$33,Offsets!$A$31)","v":0},{"$f":"OFFSET(Data!P30,Offsets!$A$33,Offsets!$A$31)","v":0},{"$f":"OFFSET(Data!Q30,Offsets!$A$33,Offsets!$A$31)","v":0.14285714285714285},{"$f":"OFFSET(Data!R30,Offsets!$A$33,Offsets!$A$31)","v":0.7142857142857143},{"$f":"OFFSET(Data!S30,Offsets!$A$33,Offsets!$A$31)","v":7},{"$f":"OFFSET(Data!T30,Offsets!$A$33,Offsets!$A$31)","v":9.2857142857142865},{"$f":"OFFSET(Data!U30,Offsets!$A$33,Offsets!$A$31)","v":11.142857142857142},{"$f":"OFFSET(Data!V30,Offsets!$A$33,Offsets!$A$31)","v":14.285714285714286},{"$f":"OFFSET(Data!W30,Offsets!$A$33,Offsets!$A$31)","v":11.714285714285714},{"$f":"OFFSET(Data!X30,Offsets!$A$33,Offsets!$A$31)","v":7.4285714285714288},{"$f":"OFFSET(Data!Y30,Offsets!$A$33,Offsets!$A$31)","v":1.8571428571428572},{"$f":"OFFSET(Data!Z30,Offsets!$A$33,Offsets!$A$31)","v":0.8571428571428571},{"$f":"OFFSET(Data!AA30,Offsets!$A$33,Offsets!$A$31)","v":0.14285714285714285},{"$f":"OFFSET(Data!AB30,Offsets!$A$33,Offsets!$A$31)","v":0.14285714285714285},{"$f":"OFFSET(Data!AC30,Offsets!$A$33,Offsets!$A$31)","v":0},{"$f":"OFFSET(Data!AD30,Offsets!$A$33,Offsets!$A$31)","v":0},{"$f":"OFFSET(Data!AE30,Offsets!$A$33,Offsets!$A$31)","v":0},{"$f":"OFFSET(Data!AF30,Offsets!$A$33,Offsets!$A$31)","v":0},{"$f":"OFFSET(Data!AG30,Offsets!$A$33,Offsets!$A$31)","v":0},{"$f":"OFFSET(Data!AH30,Offsets!$A$33,Offsets!$A$31)","v":0},null,{"$f":"OFFSET(Data!AI30,Offsets!$A$33,Offsets!$A$31)","v":41.167271966216596},{"$f":"IF(OFFSET(Data!AJ30,Offsets!$A$33,Offsets!$A$31)=\"\", \"-\", OFFSET(Data!AJ30,Offsets!$A$33,Offsets!$A$31))","v":49.30238095238095},{"$f":"OFFSET(Data!AK30,Offsets!$A$33,Offsets!$A$31)","v":19.2},{"$f":"OFFSET(Data!AL30,Offsets!$A$33,Offsets!$A$31)","v":71.400000000000006},null,null,null,null,null,null,{"$f":"SUM(D45:W45)","v":78.857142857142861}]
[null,"06:30:00",null,{"$f":"OFFSET(Data!O31,Offsets!$A$33,Offsets!$A$31)","v":0},{"$f":"OFFSET(Data!P31,Offsets!$A$33,Offsets!$A$31)","v":0},{"$f":"OFFSET(Data!Q31,Offsets!$A$33,Offsets!$A$31)","v":0.2857142857142857},{"$f":"OFFSET(Data!R31,Offsets!$A$33,Offsets!$A$31)","v":1.4285714285714286},{"$f":"OFFSET(Data!S31,Offsets!$A$33,Offsets!$A$31)","v":8.5714285714285712},{"$f":"OFFSET(Data!T31,Offsets!$A$33,Offsets!$A$31)","v":14.714285714285714},{"$f":"OFFSET(Data!U31,Offsets!$A$33,Offsets!$A$31)","v":13.285714285714286},{"$f":"OFFSET(Data!V31,Offsets!$A$33,Offsets!$A$31)","v":17.142857142857142},{"$f":"OFFSET(Data!W31,Offsets!$A$33,Offsets!$A$31)","v":19.142857142857142},{"$f":"OFFSET(Data!X31,Offsets!$A$33,Offsets!$A$31)","v":10},{"$f":"OFFSET(Data!Y31,Offsets!$A$33,Offsets!$A$31)","v":3.1428571428571428},{"$f":"OFFSET(Data!Z31,Offsets!$A$33,Offsets!$A$31)","v":0.8571428571428571},{"$f":"OFFSET(Data!AA31,Offsets!$A$33,Offsets!$A$31)","v":0},{"$f":"OFFSET(Data!AB31,Offsets!$A$33,Offsets!$A$31)","v":0},{"$f":"OFFSET(Data!AC31,Offsets!$A$33,Offsets!$A$31)","v":0},{"$f":"OFFSET(Data!AD31,Offsets!$A$33,Offsets!$A$31)","v":0},{"$f":"OFFSET(Data!AE31,Offsets!$A$33,Offsets!$A$31)","v":0},{"$f":"OFFSET(Data!AF31,Offsets!$A$33,Offsets!$A$31)","v":0},{"$f":"OFFSET(Data!AG31,Offsets!$A$33,Offsets!$A$31)","v":0},{"$f":"OFFSET(Data!AH31,Offsets!$A$33,Offsets!$A$31)","v":0},null,{"$f":"OFFSET(Data!AI31,Offsets!$A$33,Offsets!$A$31)","v":41.343550103276129},{"$f":"IF(OFFSET(Data!AJ31,Offsets!$A$33,Offsets!$A$31)=\"\", \"-\", OFFSET(Data!AJ31,Offsets!$A$33,Offsets!$A$31))","v":49.900000000000006},{"$f":"OFFSET(Data!AK31,Offsets!$A$33,Offsets!$A$31)","v":16.899999999999999},{"$f":"OFFSET(Data!AL31,Offsets!$A$33,Offsets!$A$31)","v":62.5},null,null,null,null,null,null,{"$f":"SUM(AI45/AK45)","v":40.572805598419379},{"$f":"SUM(AJ45/AM45)","v":68.46049842780657}]
[null,"06:45:00",null,{"$f":"OFFSET(Data!O32,Offsets!$A$33,Offsets!$A$31)","v":0.14285714285714285},{"$f":"OFFSET(Data!P32,Offsets!$A$33,Offsets!$A$31)","v":0.2857142857142857},{"$f":"OFFSET(Data!Q32,Offsets!$A$33,Offsets!$A$31)","v":0.2857142857142857},{"$f":"OFFSET(Data!R32,Offsets!$A$33,Offsets!$A$31)","v":2.4285714285714284},{"$f":"OFFSET(Data!S32,Offsets!$A$33,Offsets!$A$31)","v":10.428571428571429},{"$f":"OFFSET(Data!T32,Offsets!$A$33,Offsets!$A$31)","v":12},{"$f":"OFFSET(Data!U32,Offsets!$A$33,Offsets!$A$31)","v":15.142857142857142},{"$f":"OFFSET(Data!V32,Offsets!$A$33,Offsets!$A$31)","v":24.428571428571427},{"$f":"OFFSET(Data!W32,Offsets!$A$33,Offsets!$A$31)","v":14.285714285714286},{"$f":"OFFSET(Data!X32,Offsets!$A$33,Offsets!$A$31)","v":7.8571428571428568},{"$f":"OFFSET(Data!Y32,Offsets!$A$33,Offsets!$A$31)","v":1.4285714285714286},{"$f":"OFFSET(Data!Z32,Offsets!$A$33,Offsets!$A$31)","v":0.7142857142857143},{"$f":"OFFSET(Data!AA32,Offsets!$A$33,Offsets!$A$31)","v":0},{"$f":"OFFSET(Data!AB32,Offsets!$A$33,Offsets!$A$31)","v":0},{"$f":"OFFSET(Data!AC32,Offsets!$A$33,Offsets!$A$31)","v":0},{"$f":"OFFSET(Data!AD32,Offsets!$A$33,Offsets!$A$31)","v":0},{"$f":"OFFSET(Data!AE32,Offsets!$A$33,Offsets!$A$31)","v":0},{"$f":"OFFSET(Data!AF32,Offsets!$A$33,Offsets!$A$31)","v":0},{"$f":"OFFSET(Data!AG32,Offsets!$A$33,Offsets!$A$31)","v":0},{"$f":"OFFSET(Data!AH32,Offsets!$A$33,Offsets!$A$31)","v":0},null,{"$f":"OFFSET(Data!AI32,Offsets!$A$33,Offsets!$A$31)","v":40.049781837530453},{"$f":"IF(OFFSET(Data!AJ32,Offsets!$A$33,Offsets!$A$31)=\"\", \"-\", OFFSET(Data!AJ32,Offsets!$A$33,Offsets!$A$31))","v":48.571428571428577},{"$f":"OFFSET(Data!AK32,Offsets!$A$33,Offsets!$A$31)","v":9.6},{"$f":"OFFSET(Data!AL32,Offsets!$A$33,Offsets!$A$31)","v":63.9}]
[null,"07:00:00",null,{"$f":"OFFSET(Data!O33,Offsets!$A$33,Offsets!$A$31)","v":0},{"$f":"OFFSET(Data!P33,Offsets!$A$33,Offsets!$A$31)","v":0.7142857142857143},{"$f":"OFFSET(Data!Q33,Offsets!$A$33,Offsets!$A$31)","v":1.1428571428571428},{"$f":"OFFSET(Data!R33,Offsets!$A$33,Offsets!$A$31)","v":2.2857142857142856},{"$f":"OFFSET(Data!S33,Offsets!$A$33,Offsets!$A$31)","v":18},{"$f":"OFFSET(Data!T33,Offsets!$A$33,Offsets!$A$31)","v":19.142857142857142},{"$f":"OFFSET(Data!U33,Offsets!$A$33,Offsets!$A$31)","v":25},{"$f":"OFFSET(Data!V33,Offsets!$A$33,Offsets!$A$31)","v":24.714285714285715},{"$f":"OFFSET(Data!W33,Offsets!$A$33,Offsets!$A$31)","v":17.571428571428573},{"$f":"OFFSET(Data!X33,Offsets!$A$33,Offsets!$A$31)","v":5.1428571428571432},{"$f":"OFFSET(Data!Y33,Offsets!$A$33,Offsets!$A$31)","v":1},{"$f":"OFFSET(Data!Z33,Offsets!$A$33,Offsets!$A$31)","v":0.2857142857142857},{"$f":"OFFSET(Data!AA33,Offsets!$A$33,Offsets!$A$31)","v":0.14285714285714285},{"$f":"OFFSET(Data!AB33,Offsets!$A$33,Offsets!$A$31)","v":0},{"$f":"OFFSET(Data!AC33,Offsets!$A$33,Offsets!$A$31)","v":0},{"$f":"OFFSET(Data!AD33,Offsets!$A$33,Offsets!$A$31)","v":0},{"$f":"OFFSET(Data!AE33,Offsets!$A$33,Offsets!$A$31)","v":0},{"$f":"OFFSET(Data!AF33,Offsets!$A$33,Offsets!$A$31)","v":0},{"$f":"OFFSET(Data!AG33,Offsets!$A$33,Offsets!$A$31)","v":0},{"$f":"OFFSET(Data!AH33,Offsets!$A$33,Offsets!$A$31)","v":0},null,{"$f":"OFFSET(Data!AI33,Offsets!$A$33,Offsets!$A$31)","v":38.582290607351965},{"$f":"IF(OFFSET(Data!AJ33,Offsets!$A$33,Offsets!$A$31)=\"\", \"-\", OFFSET(Data!AJ33,Offsets!$A$33,Offsets!$A$31))","v":46.564285714285717},{"$f":"OFFSET(Data!AK33,Offsets!$A$33,Offsets!$A$31)","v":12.1},{"$f":"OFFSET(Data!AL33,Offsets!$A$33,Offsets!$A$31)","v":68.2}]
[null,"07:15:00",null,{"$f":"OFFSET(Data!O34,Offsets!$A$33,Offsets!$A$31)","v":0},{"$f":"OFFSET(Data!P34,Offsets!$A$33,Offsets!$A$31)","v":0.5714285714285714},{"$f":"OFFSET(Data!Q34,Offsets!$A$33,Offsets!$A$31)","v":1.2857142857142858},{"$f":"OFFSET(Data!R34,Offsets!$A$33,Offsets!$A$31)","v":3.5714285714285716},{"$f":"OFFSET(Data!S34,Offsets!$A$33,Offsets!$A$31)","v":16.714285714285715},{"$f":"OFFSET(Data!T34,Offsets!$A$33,Offsets!$A$31)","v":26.428571428571427},{"$f":"OFFSET(Data!U34,Offsets!$A$33,Offsets!$A$31)","v":32.428571428571431},{"$f":"OFFSET(Data!V34,Offsets!$A$33,Offsets!$A$31)","v":31.714285714285715},{"$f":"OFFSET(Data!W34,Offsets!$A$33,Offsets!$A$31)","v":15.571428571428571},{"$f":"OFFSET(Data!X34,Offsets!$A$33,Offsets!$A$31)","v":6.7142857142857144},{"$f":"OFFSET(Data!Y34,Offsets!$A$33,Offsets!$A$31)","v":1.5714285714285714},{"$f":"OFFSET(Data!Z34,Offsets!$A$33,Offsets!$A$31)","v":0.2857142857142857},{"$f":"OFFSET(Data!AA34,Offsets!$A$33,Offsets!$A$31)","v":0.14285714285714285},{"$f":"OFFSET(Data!AB34,Offsets!$A$33,Offsets!$A$31)","v":0.14285714285714285},{"$f":"OFFSET(Data!AC34,Offsets!$A$33,Offsets!$A$31)","v":0},{"$f":"OFFSET(Data!AD34,Offsets!$A$33,Offsets!$A$31)","v":0},{"$f":"OFFSET(Data!AE34,Offsets!$A$33,Offsets!$A$31)","v":0},{"$f":"OFFSET(Data!AF34,Offsets!$A$33,Offsets!$A$31)","v":0},{"$f":"OFFSET(Data!AG34,Offsets!$A$33,Offsets!$A$31)","v":0},{"$f":"OFFSET(Data!AH34,Offsets!$A$33,Offsets!$A$31)","v":0},null,{"$f":"OFFSET(Data!AI34,Offsets!$A$33,Offsets!$A$31)","v":38.592078482109535},{"$f":"IF(OFFSET(Data!AJ34,Offsets!$A$33,Offsets!$A$31)=\"\", \"-\", OFFSET(Data!AJ34,Offsets!$A$33,Offsets!$A$31))","v":45.907142857142851},{"$f":"OFFSET(Data!AK34,Offsets!$A$33,Offsets!$A$31)","v":12.1},{"$f":"OFFSET(Data!AL34,Offsets!$A$33,Offsets!$A$31)","v":70.099999999999994}]
[null,"07:30:00",null,{"$f":"OFFSET(Data!O35,Offsets!$A$33,Offsets!$A$31)","v":0.2857142857142857},{"$f":"OFFSET(Data!P35,Offsets!$A$33,Offsets!$A$31)","v":0.5714285714285714},{"$f":"OFFSET(Data!Q35,Offsets!$A$33,Offsets!$A$31)","v":2.7142857142857144},{"$f":"OFFSET(Data!R35,Offsets!$A$33,Offsets!$A$31)","v":8.4285714285714288},{"$f":"OFFSET(Data!S35,Offsets!$A$33,Offsets!$A$31)","v":27.285714285714285},{"$f":"OFFSET(Data!T35,Offsets!$A$33,Offsets!$A$31)","v":45.857142857142854},{"$f":"OFFSET(Data!U35,Offsets!$A$33,Offsets!$A$31)","v":48.714285714285715},{"$f":"OFFSET(Data!V35,Offsets!$A$33,Offsets!$A$31)","v":33.285714285714285},{"$f":"OFFSET(Data!W35,Offsets!$A$33,Offsets!$A$31)","v":14.285714285714286},{"$f":"OFFSET(Data!X35,Offsets!$A$33,Offsets!$A$31)","v":3.1428571428571428},{"$f":"OFFSET(Data!Y35,Offsets!$A$33,Offsets!$A$31)","v":1.1428571428571428},{"$f":"OFFSET(Data!Z35,Offsets!$A$33,Offsets!$A$31)","v":0.2857142857142857},{"$f":"OFFSET(Data!AA35,Offsets!$A$33,Offsets!$A$31)","v":0.14285714285714285},{"$f":"OFFSET(Data!AB35,Offsets!$A$33,Offsets!$A$31)","v":0},{"$f":"OFFSET(Data!AC35,Offsets!$A$33,Offsets!$A$31)","v":0},{"$f":"OFFSET(Data!AD35,Offsets!$A$33,Offsets!$A$31)","v":0},{"$f":"OFFSET(Data!AE35,Offsets!$A$33,Offsets!$A$31)","v":0},{"$f":"OFFSET(Data!AF35,Offsets!$A$33,Offsets!$A$31)","v":0},{"$f":"OFFSET(Data!AG35,Offsets!$A$33,Offsets!$A$31)","v":0},{"$f":"OFFSET(Data!AH35,Offsets!$A$33,Offsets!$A$31)","v":0},null,{"$f":"OFFSET(Data!AI35,Offsets!$A$33,Offsets!$A$31)","v":36.762402074601631},{"$f":"IF(OFFSET(Data!AJ35,Offsets!$A$33,Offsets!$A$31)=\"\", \"-\", OFFSET(Data!AJ35,Offsets!$A$33,Offsets!$A$31))","v":44.257142857142853},{"$f":"OFFSET(Data!AK35,Offsets!$A$33,Offsets!$A$31)","v":6.8},{"$f":"OFFSET(Data!AL35,Offsets!$A$33,Offsets!$A$31)","v":69.8}]
[null,"07:45:00",null,{"$f":"OFFSET(Data!O36,Offsets!$A$33,Offsets!$A$31)","v":0},{"$f":"OFFSET(Data!P36,Offsets!$A$33,Offsets!$A$31)","v":1.4285714285714286},{"$f":"OFFSET(Data!Q36,Offsets!$A$33,Offsets!$A$31)","v":3.5714285714285716},{"$f":"OFFSET(Data!R36,Offsets!$A$33,Offsets!$A$31)","v":5.2857142857142856},{"$f":"OFFSET(Data!S36,Offsets!$A$33,Offsets!$A$31)","v":23.714285714285715},{"$f":"OFFSET(Data!T36,Offsets!$A$33,Offsets!$A$31)","v":44.428571428571431},{"$f":"OFFSET(Data!U36,Offsets!$A$33,Offsets!$A$31)","v":62.142857142857146},{"$f":"OFFSET(Data!V36,Offsets!$A$33,Offsets!$A$31)","v":40.428571428571431},{"$f":"OFFSET(Data!W36,Offsets!$A$33,Offsets!$A$31)","v":13.714285714285714},{"$f":"OFFSET(Data!X36,Offsets!$A$33,Offsets!$A$31)","v":3.4285714285714284},{"$f":"OFFSET(Data!Y36,Offsets!$A$33,Offsets!$A$31)","v":1.2857142857142858},{"$f":"OFFSET(Data!Z36,Offsets!$A$33,Offsets!$A$31)","v":0.42857142857142855},{"$f":"OFFSET(Data!AA36,Offsets!$A$33,Offsets!$A$31)","v":0},{"$f":"OFFSET(Data!AB36,Offsets!$A$33,Offsets!$A$31)","v":0.14285714285714285},{"$f":"OFFSET(Data!AC36,Offsets!$A$33,Offsets!$A$31)","v":0},{"$f":"OFFSET(Data!AD36,Offsets!$A$33,Offsets!$A$31)","v":0},{"$f":"OFFSET(Data!AE36,Offsets!$A$33,Offsets!$A$31)","v":0},{"$f":"OFFSET(Data!AF36,Offsets!$A$33,Offsets!$A$31)","v":0},{"$f":"OFFSET(Data!AG36,Offsets!$A$33,Offsets!$A$31)","v":0},{"$f":"OFFSET(Data!AH36,Offsets!$A$33,Offsets!$A$31)","v":0},null,{"$f":"OFFSET(Data!AI36,Offsets!$A$33,Offsets!$A$31)","v":36.971878109901915},{"$f":"IF(OFFSET(Data!AJ36,Offsets!$A$33,Offsets!$A$31)=\"\", \"-\", OFFSET(Data!AJ36,Offsets!$A$33,Offsets!$A$31))","v":43.75714285714286},{"$f":"OFFSET(Data!AK36,Offsets!$A$33,Offsets!$A$31)","v":10.199999999999999},{"$f":"OFFSET(Data!AL36,Offsets!$A$33,Offsets!$A$31)","v":73}]
[null,"08:00:00",null,{"$f":"OFFSET(Data!O37,Offsets!$A$33,Offsets!$A$31)","v":0},{"$f":"OFFSET(Data!P37,Offsets!$A$33,Offsets!$A$31)","v":1.4285714285714286},{"$f":"OFFSET(Data!Q37,Offsets!$A$33,Offsets!$A$31)","v":1.8571428571428572},{"$f":"OFFSET(Data!R37,Offsets!$A$33,Offsets!$A$31)","v":5.7142857142857144},{"$f":"OFFSET(Data!S37,Offsets!$A$33,Offsets!$A$31)","v":25.714285714285715},{"$f":"OFFSET(Data!T37,Offsets!$A$33,Offsets!$A$31)","v":42.142857142857146},{"$f":"OFFSET(Data!U37,Offsets!$A$33,Offsets!$A$31)","v":58.428571428571431},{"$f":"OFFSET(Data!V37,Offsets!$A$33,Offsets!$A$31)","v":46.714285714285715},{"$f":"OFFSET(Data!W37,Offsets!$A$33,Offsets!$A$31)","v":13.285714285714286},{"$f":"OFFSET(Data!X37,Offsets!$A$33,Offsets!$A$31)","v":2.2857142857142856},{"$f":"OFFSET(Data!Y37,Offsets!$A$33,Offsets!$A$31)","v":0.2857142857142857},{"$f":"OFFSET(Data!Z37,Offsets!$A$33,Offsets!$A$31)","v":0},{"$f":"OFFSET(Data!AA37,Offsets!$A$33,Offsets!$A$31)","v":0},{"$f":"OFFSET(Data!AB37,Offsets!$A$33,Offsets!$A$31)","v":0},{"$f":"OFFSET(Data!AC37,Offsets!$A$33,Offsets!$A$31)","v":0},{"$f":"OFFSET(Data!AD37,Offsets!$A$33,Offsets!$A$31)","v":0},{"$f":"OFFSET(Data!AE37,Offsets!$A$33,Offsets!$A$31)","v":0},{"$f":"OFFSET(Data!AF37,Offsets!$A$33,Offsets!$A$31)","v":0},{"$f":"OFFSET(Data!AG37,Offsets!$A$33,Offsets!$A$31)","v":0},{"$f":"OFFSET(Data!AH37,Offsets!$A$33,Offsets!$A$31)","v":0},null,{"$f":"OFFSET(Data!AI37,Offsets!$A$33,Offsets!$A$31)","v":36.512561382129157},{"$f":"IF(OFFSET(Data!AJ37,Offsets!$A$33,Offsets!$A$31)=\"\", \"-\", OFFSET(Data!AJ37,Offsets!$A$33,Offsets!$A$31))","v":43.291666666666664},{"$f":"OFFSET(Data!AK37,Offsets!$A$33,Offsets!$A$31)","v":13.4},{"$f":"OFFSET(Data!AL37,Offsets!$A$33,Offsets!$A$31)","v":57.6}]
[null,"08:15:00",null,{"$f":"OFFSET(Data!O38,Offsets!$A$33,Offsets!$A$31)","v":0.14285714285714285},{"$f":"OFFSET(Data!P38,Offsets!$A$33,Offsets!$A$31)","v":1.1428571428571428},{"$f":"OFFSET(Data!Q38,Offsets!$A$33,Offsets!$A$31)","v":3.7142857142857144},{"$f":"OFFSET(Data!R38,Offsets!$A$33,Offsets!$A$31)","v":12.714285714285714},{"$f":"OFFSET(Data!S38,Offsets!$A$33,Offsets!$A$31)","v":33.571428571428569},{"$f":"OFFSET(Data!T38,Offsets!$A$33,Offsets!$A$31)","v":47.428571428571431},{"$f":"OFFSET(Data!U38,Offsets!$A$33,Offsets!$A$31)","v":54},{"$f":"OFFSET(Data!V38,Offsets!$A$33,Offsets!$A$31)","v":36.428571428571431},{"$f":"OFFSET(Data!W38,Offsets!$A$33,Offsets!$A$31)","v":8.5714285714285712},{"$f":"OFFSET(Data!X38,Offsets!$A$33,Offsets!$A$31)","v":1.4285714285714286},{"$f":"OFFSET(Data!Y38,Offsets!$A$33,Offsets!$A$31)","v":0.8571428571428571},{"$f":"OFFSET(Data!Z38,Offsets!$A$33,Offsets!$A$31)","v":0.14285714285714285},{"$f":"OFFSET(Data!AA38,Offsets!$A$33,Offsets!$A$31)","v":0},{"$f":"OFFSET(Data!AB38,Offsets!$A$33,Offsets!$A$31)","v":0},{"$f":"OFFSET(Data!AC38,Offsets!$A$33,Offsets!$A$31)","v":0},{"$f":"OFFSET(Data!AD38,Offsets!$A$33,Offsets!$A$31)","v":0},{"$f":"OFFSET(Data!AE38,Offsets!$A$33,Offsets!$A$31)","v":0},{"$f":"OFFSET(Data!AF38,Offsets!$A$33,Offsets!$A$31)","v":0},{"$f":"OFFSET(Data!AG38,Offsets!$A$33,Offsets!$A$31)","v":0},{"$f":"OFFSET(Data!AH38,Offsets!$A$33,Offsets!$A$31)","v":0},null,{"$f":"OFFSET(Data!AI38,Offsets!$A$33,Offsets!$A$31)","v":35.025111802305453},{"$f":"IF(OFFSET(Data!AJ38,Offsets!$A$33,Offsets!$A$31)=\"\", \"-\", OFFSET(Data!AJ38,Offsets!$A$33,Offsets!$A$31))","v":41.933333333333337},{"$f":"OFFSET(Data!AK38,Offsets!$A$33,Offsets!$A$31)","v":8.1999999999999993},{"$f":"OFFSET(Data!AL38,Offsets!$A$33,Offsets!$A$31)","v":62.6}]
[null,"08:30:00",null,{"$f":"OFFSET(Data!O39,Offsets!$A$33,Offsets!$A$31)","v":0},{"$f":"OFFSET(Data!P39,Offsets!$A$33,Offsets!$A$31)","v":0.5714285714285714},{"$f":"OFFSET(Data!Q39,Offsets!$A$33,Offsets!$A$31)","v":2.5714285714285716},{"$f":"OFFSET(Data!R39,Offsets!$A$33,Offsets!$A$31)","v":6.5714285714285712},{"$f":"OFFSET(Data!S39,Offsets!$A$33,Offsets!$A$31)","v":28.714285714285715},{"$f":"OFFSET(Data!T39,Offsets!$A$33,Offsets!$A$31)","v":38.571428571428569},{"$f":"OFFSET(Data!U39,Offsets!$A$33,Offsets!$A$31)","v":50.714285714285715},{"$f":"OFFSET(Data!V39,Offsets!$A$33,Offsets!$A$31)","v":31.857142857142858},{"$f":"OFFSET(Data!W39,Offsets!$A$33,Offsets!$A$31)","v":9.7142857142857135},{"$f":"OFFSET(Data!X39,Offsets!$A$33,Offsets!$A$31)","v":2},{"$f":"OFFSET(Data!Y39,Offsets!$A$33,Offsets!$A$31)","v":0.42857142857142855},{"$f":"OFFSET(Data!Z39,Offsets!$A$33,Offsets!$A$31)","v":0},{"$f":"OFFSET(Data!AA39,Offsets!$A$33,Offsets!$A$31)","v":0},{"$f":"OFFSET(Data!AB39,Offsets!$A$33,Offsets!$A$31)","v":0},{"$f":"OFFSET(Data!AC39,Offsets!$A$33,Offsets!$A$31)","v":0},{"$f":"OFFSET(Data!AD39,Offsets!$A$33,Offsets!$A$31)","v":0},{"$f":"OFFSET(Data!AE39,Offsets!$A$33,Offsets!$A$31)","v":0},{"$f":"OFFSET(Data!AF39,Offsets!$A$33,Offsets!$A$31)","v":0},{"$f":"OFFSET(Data!AG39,Offsets!$A$33,Offsets!$A$31)","v":0},{"$f":"OFFSET(Data!AH39,Offsets!$A$33,Offsets!$A$31)","v":0},null,{"$f":"OFFSET(Data!AI39,Offsets!$A$33,Offsets!$A$31)","v":35.800824147034561},{"$f":"IF(OFFSET(Data!AJ39,Offsets!$A$33,Offsets!$A$31)=\"\", \"-\", OFFSET(Data!AJ39,Offsets!$A$33,Offsets!$A$31))","v":42.016666666666666},{"$f":"OFFSET(Data!AK39,Offsets!$A$33,Offsets!$A$31)","v":13.7},{"$f":"OFFSET(Data!AL39,Offsets!$A$33,Offsets!$A$31)","v":58.1}]
[null,"08:45:00",null,{"$f":"OFFSET(Data!O40,Offsets!$A$33,Offsets!$A$31)","v":0},{"$f":"OFFSET(Data!P40,Offsets!$A$33,Offsets!$A$31)","v":0.14285714285714285},{"$f":"OFFSET(Data!Q40,Offsets!$A$33,Offsets!$A$31)","v":2.5714285714285716},{"$f":"OFFSET(Data!R40,Offsets!$A$33,Offsets!$A$31)","v":9.2857142857142865},{"$f":"OFFSET(Data!S40,Offsets!$A$33,Offsets!$A$31)","v":25.571428571428573},{"$f":"OFFSET(Data!T40,Offsets!$A$33,Offsets!$A$31)","v":32.857142857142854},{"$f":"OFFSET(Data!U40,Offsets!$A$33,Offsets!$A$31)","v":43.857142857142854},{"$f":"OFFSET(Data!V40,Offsets!$A$33,Offsets!$A$31)","v":30.285714285714285},{"$f":"OFFSET(Data!W40,Offsets!$A$33,Offsets!$A$31)","v":12.285714285714286},{"$f":"OFFSET(Data!X40,Offsets!$A$33,Offsets!$A$31)","v":3},{"$f":"OFFSET(Data!Y40,Offsets!$A$33,Offsets!$A$31)","v":0.2857142857142857},{"$f":"OFFSET(Data!Z40,Offsets!$A$33,Offsets!$A$31)","v":0.14285714285714285},{"$f":"OFFSET(Data!AA40,Offsets!$A$33,Offsets!$A$31)","v":0.14285714285714285},{"$f":"OFFSET(Data!AB40,Offsets!$A$33,Offsets!$A$31)","v":0},{"$f":"OFFSET(Data!AC40,Offsets!$A$33,Offsets!$A$31)","v":0},{"$f":"OFFSET(Data!AD40,Offsets!$A$33,Offsets!$A$31)","v":0},{"$f":"OFFSET(Data!AE40,Offsets!$A$33,Offsets!$A$31)","v":0},{"$f":"OFFSET(Data!AF40,Offsets!$A$33,Offsets!$A$31)","v":0},{"$f":"OFFSET(Data!AG40,Offsets!$A$33,Offsets!$A$31)","v":0},{"$f":"OFFSET(Data!AH40,Offsets!$A$33,Offsets!$A$31)","v":0},null,{"$f":"OFFSET(Data!AI40,Offsets!$A$33,Offsets!$A$31)","v":35.900760587779892},{"$f":"IF(OFFSET(Data!AJ40,Offsets!$A$33,Offsets!$A$31)=\"\", \"-\", OFFSET(Data!AJ40,Offsets!$A$33,Offsets!$A$31))","v":43.00714285714286},{"$f":"OFFSET(Data!AK40,Offsets!$A$33,Offsets!$A$31)","v":14.6},{"$f":"OFFSET(Data!AL40,Offsets!$A$33,Offsets!$A$31)","v":69.8}]
[null,"09:00:00",null,{"$f":"OFFSET(Data!O41,Offsets!$A$33,Offsets!$A$31)","v":0},{"$f":"OFFSET(Data!P41,Offsets!$A$33,Offsets!$A$31)","v":0.5714285714285714},{"$f":"OFFSET(Data!Q41,Offsets!$A$33,Offsets!$A$31)","v":1.5714285714285714},{"$f":"OFFSET(Data!R41,Offsets!$A$33,Offsets!$A$31)","v":4.5714285714285712},{"$f":"OFFSET(Data!S41,Offsets!$A$33,Offsets!$A$31)","v":25.571428571428573},{"$f":"OFFSET(Data!T41,Offsets!$A$33,Offsets!$A$31)","v":36.285714285714285},{"$f":"OFFSET(Data!U41,Offsets!$A$33,Offsets!$A$31)","v":44.857142857142854},{"$f":"OFFSET(Data!V41,Offsets!$A$33,Offsets!$A$31)","v":33.285714285714285},{"$f":"OFFSET(Data!W41,Offsets!$A$33,Offsets!$A$31)","v":11.285714285714286},{"$f":"OFFSET(Data!X41,Offsets!$A$33,Offsets!$A$31)","v":3.7142857142857144},{"$f":"OFFSET(Data!Y41,Offsets!$A$33,Offsets!$A$31)","v":1},{"$f":"OFFSET(Data!Z41,Offsets!$A$33,Offsets!$A$31)","v":0},{"$f":"OFFSET(Data!AA41,Offsets!$A$33,Offsets!$A$31)","v":0},{"$f":"OFFSET(Data!AB41,Offsets!$A$33,Offsets!$A$31)","v":0},{"$f":"OFFSET(Data!AC41,Offsets!$A$33,Offsets!$A$31)","v":0},{"$f":"OFFSET(Data!AD41,Offsets!$A$33,Offsets!$A$31)","v":0},{"$f":"OFFSET(Data!AE41,Offsets!$A$33,Offsets!$A$31)","v":0},{"$f":"OFFSET(Data!AF41,Offsets!$A$33,Offsets!$A$31)","v":0},{"$f":"OFFSET(Data!AG41,Offsets!$A$33,Offsets!$A$31)","v":0},{"$f":"OFFSET(Data!AH41,Offsets!$A$33,Offsets!$A$31)","v":0},null,{"$f":"OFFSET(Data!AI41,Offsets!$A$33,Offsets!$A$31)","v":36.332691501377653},{"$f":"IF(OFFSET(Data!AJ41,Offsets!$A$33,Offsets!$A$31)=\"\", \"-\", OFFSET(Data!AJ41,Offsets!$A$33,Offsets!$A$31))","v":42.792857142857144},{"$f":"OFFSET(Data!AK41,Offsets!$A$33,Offsets!$A$31)","v":11.2},{"$f":"OFFSET(Data!AL41,Offsets!$A$33,Offsets!$A$31)","v":58.7}]
[null,"09:15:00",null,{"$f":"OFFSET(Data!O42,Offsets!$A$33,Offsets!$A$31)","v":0},{"$f":"OFFSET(Data!P42,Offsets!$A$33,Offsets!$A$31)","v":0.14285714285714285},{"$f":"OFFSET(Data!Q42,Offsets!$A$33,Offsets!$A$31)","v":0.7142857142857143},{"$f":"OFFSET(Data!R42,Offsets!$A$33,Offsets!$A$31)","v":8.1428571428571423},{"$f":"OFFSET(Data!S42,Offsets!$A$33,Offsets!$A$31)","v":26.142857142857142},{"$f":"OFFSET(Data!T42,Offsets!$A$33,Offsets!$A$31)","v":31.714285714285715},{"$f":"OFFSET(Data!U42,Offsets!$A$33,Offsets!$A$31)","v":38.714285714285715},{"$f":"OFFSET(Data!V42,Offsets!$A$33,Offsets!$A$31)","v":31.571428571428573},{"$f":"OFFSET(Data!W42,Offsets!$A$33,Offsets!$A$31)","v":11.714285714285714},{"$f":"OFFSET(Data!X42,Offsets!$A$33,Offsets!$A$31)","v":2.5714285714285716},{"$f":"OFFSET(Data!Y42,Offsets!$A$33,Offsets!$A$31)","v":1},{"$f":"OFFSET(Data!Z42,Offsets!$A$33,Offsets!$A$31)","v":0},{"$f":"OFFSET(Data!AA42,Offsets!$A$33,Offsets!$A$31)","v":0},{"$f":"OFFSET(Data!AB42,Offsets!$A$33,Offsets!$A$31)","v":0},{"$f":"OFFSET(Data!AC42,Offsets!$A$33,Offsets!$A$31)","v":0},{"$f":"OFFSET(Data!AD42,Offsets!$A$33,Offsets!$A$31)","v":0},{"$f":"OFFSET(Data!AE42,Offsets!$A$33,Offsets!$A$31)","v":0},{"$f":"OFFSET(Data!AF42,Offsets!$A$33,Offsets!$A$31)","v":0},{"$f":"OFFSET(Data!AG42,Offsets!$A$33,Offsets!$A$31)","v":0},{"$f":"OFFSET(Data!AH42,Offsets!$A$33,Offsets!$A$31)","v":0},null,{"$f":"OFFSET(Data!AI42,Offsets!$A$33,Offsets!$A$31)","v":36.220592859295948},{"$f":"IF(OFFSET(Data!AJ42,Offsets!$A$33,Offsets!$A$31)=\"\", \"-\", OFFSET(Data!AJ42,Offsets!$A$33,Offsets!$A$31))","v":43.292857142857144},{"$f":"OFFSET(Data!AK42,Offsets!$A$33,Offsets!$A$31)","v":12.3},{"$f":"OFFSET(Data!AL42,Offsets!$A$33,Offsets!$A$31)","v":59}]
[null,"09:30:00",null,{"$f":"OFFSET(Data!O43,Offsets!$A$33,Offsets!$A$31)","v":0},{"$f":"OFFSET(Data!P43,Offsets!$A$33,Offsets!$A$31)","v":0.2857142857142857},{"$f":"OFFSET(Data!Q43,Offsets!$A$33,Offsets!$A$31)","v":2.8571428571428572},{"$f":"OFFSET(Data!R43,Offsets!$A$33,Offsets!$A$31)","v":7.5714285714285712},{"$f":"OFFSET(Data!S43,Offsets!$A$33,Offsets!$A$31)","v":25.428571428571427},{"$f":"OFFSET(Data!T43,Offsets!$A$33,Offsets!$A$31)","v":36.714285714285715},{"$f":"OFFSET(Data!U43,Offsets!$A$33,Offsets!$A$31)","v":41.142857142857146},{"$f":"OFFSET(Data!V43,Offsets!$A$33,Offsets!$A$31)","v":29.428571428571427},{"$f":"OFFSET(Data!W43,Offsets!$A$33,Offsets!$A$31)","v":10.714285714285714},{"$f":"OFFSET(Data!X43,Offsets!$A$33,Offsets!$A$31)","v":2.1428571428571428},{"$f":"OFFSET(Data!Y43,Offsets!$A$33,Offsets!$A$31)","v":1.1428571428571428},{"$f":"OFFSET(Data!Z43,Offsets!$A$33,Offsets!$A$31)","v":0.2857142857142857},{"$f":"OFFSET(Data!AA43,Offsets!$A$33,Offsets!$A$31)","v":0.14285714285714285},{"$f":"OFFSET(Data!AB43,Offsets!$A$33,Offsets!$A$31)","v":0},{"$f":"OFFSET(Data!AC43,Offsets!$A$33,Offsets!$A$31)","v":0},{"$f":"OFFSET(Data!AD43,Offsets!$A$33,Offsets!$A$31)","v":0},{"$f":"OFFSET(Data!AE43,Offsets!$A$33,Offsets!$A$31)","v":0},{"$f":"OFFSET(Data!AF43,Offsets!$A$33,Offsets!$A$31)","v":0},{"$f":"OFFSET(Data!AG43,Offsets!$A$33,Offsets!$A$31)","v":0},{"$f":"OFFSET(Data!AH43,Offsets!$A$33,Offsets!$A$31)","v":0},null,{"$f":"OFFSET(Data!AI43,Offsets!$A$33,Offsets!$A$31)","v":35.838190340808012},{"$f":"IF(OFFSET(Data!AJ43,Offsets!$A$33,Offsets!$A$31)=\"\", \"-\", OFFSET(Data!AJ43,Offsets!$A$33,Offsets!$A$31))","v":42.778571428571432},{"$f":"OFFSET(Data!AK43,Offsets!$A$33,Offsets!$A$31)","v":11},{"$f":"OFFSET(Data!AL43,Offsets!$A$33,Offsets!$A$31)","v":68.900000000000006}]
[null,"09:45:00",null,{"$f":"OFFSET(Data!O44,Offsets!$A$33,Offsets!$A$31)","v":0.14285714285714285},{"$f":"OFFSET(Data!P44,Offsets!$A$33,Offsets!$A$31)","v":0.42857142857142855},{"$f":"OFFSET(Data!Q44,Offsets!$A$33,Offsets!$A$31)","v":2.5714285714285716},{"$f":"OFFSET(Data!R44,Offsets!$A$33,Offsets!$A$31)","v":5.1428571428571432},{"$f":"OFFSET(Data!S44,Offsets!$A$33,Offsets!$A$31)","v":23.428571428571427},{"$f":"OFFSET(Data!T44,Offsets!$A$33,Offsets!$A$31)","v":32.571428571428569},{"$f":"OFFSET(Data!U44,Offsets!$A$33,Offsets!$A$31)","v":46.142857142857146},{"$f":"OFFSET(Data!V44,Offsets!$A$33,Offsets!$A$31)","v":28.714285714285715},{"$f":"OFFSET(Data!W44,Offsets!$A$33,Offsets!$A$31)","v":11},{"$f":"OFFSET(Data!X44,Offsets!$A$33,Offsets!$A$31)","v":3},{"$f":"OFFSET(Data!Y44,Offsets!$A$33,Offsets!$A$31)","v":0.7142857142857143},{"$f":"OFFSET(Data!Z44,Offsets!$A$33,Offsets!$A$31)","v":0.14285714285714285},{"$f":"OFFSET(Data!AA44,Offsets!$A$33,Offsets!$A$31)","v":0.2857142857142857},{"$f":"OFFSET(Data!AB44,Offsets!$A$33,Offsets!$A$31)","v":0},{"$f":"OFFSET(Data!AC44,Offsets!$A$33,Offsets!$A$31)","v":0},{"$f":"OFFSET(Data!AD44,Offsets!$A$33,Offsets!$A$31)","v":0},{"$f":"OFFSET(Data!AE44,Offsets!$A$33,Offsets!$A$31)","v":0},{"$f":"OFFSET(Data!AF44,Offsets!$A$33,Offsets!$A$31)","v":0},{"$f":"OFFSET(Data!AG44,Offsets!$A$33,Offsets!$A$31)","v":0},{"$f":"OFFSET(Data!AH44,Offsets!$A$33,Offsets!$A$31)","v":0},null,{"$f":"OFFSET(Data!AI44,Offsets!$A$33,Offsets!$A$31)","v":36.194718243981065},{"$f":"IF(OFFSET(Data!AJ44,Offsets!$A$33,Offsets!$A$31)=\"\", \"-\", OFFSET(Data!AJ44,Offsets!$A$33,Offsets!$A$31))","v":42.835714285714289},{"$f":"OFFSET(Data!AK44,Offsets!$A$33,Offsets!$A$31)","v":9.8000000000000007},{"$f":"OFFSET(Data!AL44,Offsets!$A$33,Offsets!$A$31)","v":65.599999999999994}]
[null,"10:00:00",null,{"$f":"OFFSET(Data!O45,Offsets!$A$33,Offsets!$A$31)","v":0},{"$f":"OFFSET(Data!P45,Offsets!$A$33,Offsets!$A$31)","v":0.2857142857142857},{"$f":"OFFSET(Data!Q45,Offsets!$A$33,Offsets!$A$31)","v":1.8571428571428572},{"$f":"OFFSET(Data!R45,Offsets!$A$33,Offsets!$A$31)","v":6.2857142857142856},{"$f":"OFFSET(Data!S45,Offsets!$A$33,Offsets!$A$31)","v":24.571428571428573},{"$f":"OFFSET(Data!T45,Offsets!$A$33,Offsets!$A$31)","v":29},{"$f":"OFFSET(Data!U45,Offsets!$A$33,Offsets!$A$31)","v":39.714285714285715},{"$f":"OFFSET(Data!V45,Offsets!$A$33,Offsets!$A$31)","v":28.142857142857142},{"$f":"OFFSET(Data!W45,Offsets!$A$33,Offsets!$A$31)","v":8.2857142857142865},{"$f":"OFFSET(Data!X45,Offsets!$A$33,Offsets!$A$31)","v":2.8571428571428572},{"$f":"OFFSET(Data!Y45,Offsets!$A$33,Offsets!$A$31)","v":1},{"$f":"OFFSET(Data!Z45,Offsets!$A$33,Offsets!$A$31)","v":0},{"$f":"OFFSET(Data!AA45,Offsets!$A$33,Offsets!$A$31)","v":0},{"$f":"OFFSET(Data!AB45,Offsets!$A$33,Offsets!$A$31)","v":0},{"$f":"OFFSET(Data!AC45,Offsets!$A$33,Offsets!$A$31)","v":0},{"$f":"OFFSET(Data!AD45,Offsets!$A$33,Offsets!$A$31)","v":0},{"$f":"OFFSET(Data!AE45,Offsets!$A$33,Offsets!$A$31)","v":0},{"$f":"OFFSET(Data!AF45,Offsets!$A$33,Offsets!$A$31)","v":0},{"$f":"OFFSET(Data!AG45,Offsets!$A$33,Offsets!$A$31)","v":0},{"$f":"OFFSET(Data!AH45,Offsets!$A$33,Offsets!$A$31)","v":0},null,{"$f":"OFFSET(Data!AI45,Offsets!$A$33,Offsets!$A$31)","v":35.855076084107687},{"$f":"IF(OFFSET(Data!AJ45,Offsets!$A$33,Offsets!$A$31)=\"\", \"-\", OFFSET(Data!AJ45,Offsets!$A$33,Offsets!$A$31))","v":42.449999999999996},{"$f":"OFFSET(Data!AK45,Offsets!$A$33,Offsets!$A$31)","v":13.1},{"$f":"OFFSET(Data!AL45,Offsets!$A$33,Offsets!$A$31)","v":59.8}]
[null,"10:15:00",null,{"$f":"OFFSET(Data!O46,Offsets!$A$33,Offsets!$A$31)","v":0},{"$f":"OFFSET(Data!P46,Offsets!$A$33,Offsets!$A$31)","v":1},{"$f":"OFFSET(Data!Q46,Offsets!$A$33,Offsets!$A$31)","v":2},{"$f":"OFFSET(Data!R46,Offsets!$A$33,Offsets!$A$31)","v":6.4285714285714288},{"$f":"OFFSET(Data!S46,Offsets!$A$33,Offsets!$A$31)","v":25.428571428571427},{"$f":"OFFSET(Data!T46,Offsets!$A$33,Offsets!$A$31)","v":33.142857142857146},{"$f":"OFFSET(Data!U46,Offsets!$A$33,Offsets!$A$31)","v":50.285714285714285},{"$f":"OFFSET(Data!V46,Offsets!$A$33,Offsets!$A$31)","v":26.571428571428573},{"$f":"OFFSET(Data!W46,Offsets!$A$33,Offsets!$A$31)","v":5.4285714285714288},{"$f":"OFFSET(Data!X46,Offsets!$A$33,Offsets!$A$31)","v":1.5714285714285714},{"$f":"OFFSET(Data!Y46,Offsets!$A$33,Offsets!$A$31)","v":0.7142857142857143},{"$f":"OFFSET(Data!Z46,Offsets!$A$33,Offsets!$A$31)","v":0},{"$f":"OFFSET(Data!AA46,Offsets!$A$33,Offsets!$A$31)","v":0.14285714285714285},{"$f":"OFFSET(Data!AB46,Offsets!$A$33,Offsets!$A$31)","v":0},{"$f":"OFFSET(Data!AC46,Offsets!$A$33,Offsets!$A$31)","v":0},{"$f":"OFFSET(Data!AD46,Offsets!$A$33,Offsets!$A$31)","v":0},{"$f":"OFFSET(Data!AE46,Offsets!$A$33,Offsets!$A$31)","v":0},{"$f":"OFFSET(Data!AF46,Offsets!$A$33,Offsets!$A$31)","v":0},{"$f":"OFFSET(Data!AG46,Offsets!$A$33,Offsets!$A$31)","v":0},{"$f":"OFFSET(Data!AH46,Offsets!$A$33,Offsets!$A$31)","v":0},null,{"$f":"OFFSET(Data!AI46,Offsets!$A$33,Offsets!$A$31)","v":35.261168404943689},{"$f":"IF(OFFSET(Data!AJ46,Offsets!$A$33,Offsets!$A$31)=\"\", \"-\", OFFSET(Data!AJ46,Offsets!$A$33,Offsets!$A$31))","v":41.257142857142853},{"$f":"OFFSET(Data!AK46,Offsets!$A$33,Offsets!$A$31)","v":12.1},{"$f":"OFFSET(Data!AL46,Offsets!$A$33,Offsets!$A$31)","v":66.5}]
[null,"10:30:00",null,{"$f":"OFFSET(Data!O47,Offsets!$A$33,Offsets!$A$31)","v":0.2857142857142857},{"$f":"OFFSET(Data!P47,Offsets!$A$33,Offsets!$A$31)","v":0.8571428571428571},{"$f":"OFFSET(Data!Q47,Offsets!$A$33,Offsets!$A$31)","v":2.4285714285714284},{"$f":"OFFSET(Data!R47,Offsets!$A$33,Offsets!$A$31)","v":11.142857142857142},{"$f":"OFFSET(Data!S47,Offsets!$A$33,Offsets!$A$31)","v":27.857142857142858},{"$f":"OFFSET(Data!T47,Offsets!$A$33,Offsets!$A$31)","v":43.142857142857146},{"$f":"OFFSET(Data!U47,Offsets!$A$33,Offsets!$A$31)","v":47.428571428571431},{"$f":"OFFSET(Data!V47,Offsets!$A$33,Offsets!$A$31)","v":25.857142857142858},{"$f":"OFFSET(Data!W47,Offsets!$A$33,Offsets!$A$31)","v":8},{"$f":"OFFSET(Data!X47,Offsets!$A$33,Offsets!$A$31)","v":3.5714285714285716},{"$f":"OFFSET(Data!Y47,Offsets!$A$33,Offsets!$A$31)","v":0.42857142857142855},{"$f":"OFFSET(Data!Z47,Offsets!$A$33,Offsets!$A$31)","v":0.14285714285714285},{"$f":"OFFSET(Data!AA47,Offsets!$A$33,Offsets!$A$31)","v":0},{"$f":"OFFSET(Data!AB47,Offsets!$A$33,Offsets!$A$31)","v":0},{"$f":"OFFSET(Data!AC47,Offsets!$A$33,Offsets!$A$31)","v":0},{"$f":"OFFSET(Data!AD47,Offsets!$A$33,Offsets!$A$31)","v":0},{"$f":"OFFSET(Data!AE47,Offsets!$A$33,Offsets!$A$31)","v":0},{"$f":"OFFSET(Data!AF47,Offsets!$A$33,Offsets!$A$31)","v":0},{"$f":"OFFSET(Data!AG47,Offsets!$A$33,Offsets!$A$31)","v":0},{"$f":"OFFSET(Data!AH47,Offsets!$A$33,Offsets!$A$31)","v":0},null,{"$f":"OFFSET(Data!AI47,Offsets!$A$33,Offsets!$A$31)","v":34.849480014002296},{"$f":"IF(OFFSET(Data!AJ47,Offsets!$A$33,Offsets!$A$31)=\"\", \"-\", OFFSET(Data!AJ47,Offsets!$A$33,Offsets!$A$31))","v":41.378571428571433},{"$f":"OFFSET(Data!AK47,Offsets!$A$33,Offsets!$A$31)","v":9.6},{"$f":"OFFSET(Data!AL47,Offsets!$A$33,Offsets!$A$31)","v":60.1}]
[null,"10:45:00",null,{"$f":"OFFSET(Data!O48,Offsets!$A$33,Offsets!$A$31)","v":0},{"$f":"OFFSET(Data!P48,Offsets!$A$33,Offsets!$A$31)","v":0.8571428571428571},{"$f":"OFFSET(Data!Q48,Offsets!$A$33,Offsets!$A$31)","v":3.4285714285714284},{"$f":"OFFSET(Data!R48,Offsets!$A$33,Offsets!$A$31)","v":7.8571428571428568},{"$f":"OFFSET(Data!S48,Offsets!$A$33,Offsets!$A$31)","v":26},{"$f":"OFFSET(Data!T48,Offsets!$A$33,Offsets!$A$31)","v":41},{"$f":"OFFSET(Data!U48,Offsets!$A$33,Offsets!$A$31)","v":50.571428571428569},{"$f":"OFFSET(Data!V48,Offsets!$A$33,Offsets!$A$31)","v":32.714285714285715},{"$f":"OFFSET(Data!W48,Offsets!$A$33,Offsets!$A$31)","v":7.8571428571428568},{"$f":"OFFSET(Data!X48,Offsets!$A$33,Offsets!$A$31)","v":1.4285714285714286},{"$f":"OFFSET(Data!Y48,Offsets!$A$33,Offsets!$A$31)","v":0.5714285714285714},{"$f":"OFFSET(Data!Z48,Offsets!$A$33,Offsets!$A$31)","v":0.14285714285714285},{"$f":"OFFSET(Data!AA48,Offsets!$A$33,Offsets!$A$31)","v":0},{"$f":"OFFSET(Data!AB48,Offsets!$A$33,Offsets!$A$31)","v":0},{"$f":"OFFSET(Data!AC48,Offsets!$A$33,Offsets!$A$31)","v":0},{"$f":"OFFSET(Data!AD48,Offsets!$A$33,Offsets!$A$31)","v":0},{"$f":"OFFSET(Data!AE48,Offsets!$A$33,Offsets!$A$31)","v":0.14285714285714285},{"$f":"OFFSET(Data!AF48,Offsets!$A$33,Offsets!$A$31)","v":0},{"$f":"OFFSET(Data!AG48,Offsets!$A$33,Offsets!$A$31)","v":0},{"$f":"OFFSET(Data!AH48,Offsets!$A$33,Offsets!$A$31)","v":0},null,{"$f":"OFFSET(Data!AI48,Offsets!$A$33,Offsets!$A$31)","v":35.189800827529673},{"$f":"IF(OFFSET(Data!AJ48,Offsets!$A$33,Offsets!$A$31)=\"\", \"-\", OFFSET(Data!AJ48,Offsets!$A$33,Offsets!$A$31))","v":41.48571428571428},{"$f":"OFFSET(Data!AK48,Offsets!$A$33,Offsets!$A$31)","v":11.8},{"$f":"OFFSET(Data!AL48,Offsets!$A$33,Offsets!$A$31)","v":88.3}]
[null,"11:00:00",null,{"$f":"OFFSET(Data!O49,Offsets!$A$33,Offsets!$A$31)","v":0},{"$f":"OFFSET(Data!P49,Offsets!$A$33,Offsets!$A$31)","v":0.2857142857142857},{"$f":"OFFSET(Data!Q49,Offsets!$A$33,Offsets!$A$31)","v":2},{"$f":"OFFSET(Data!R49,Offsets!$A$33,Offsets!$A$31)","v":10.714285714285714},{"$f":"OFFSET(Data!S49,Offsets!$A$33,Offsets!$A$31)","v":26.142857142857142},{"$f":"OFFSET(Data!T49,Offsets!$A$33,Offsets!$A$31)","v":34.714285714285715},{"$f":"OFFSET(Data!U49,Offsets!$A$33,Offsets!$A$31)","v":45.428571428571431},{"$f":"OFFSET(Data!V49,Offsets!$A$33,Offsets!$A$31)","v":27.285714285714285},{"$f":"OFFSET(Data!W49,Offsets!$A$33,Offsets!$A$31)","v":10.285714285714286},{"$f":"OFFSET(Data!X49,Offsets!$A$33,Offsets!$A$31)","v":2.4285714285714284},{"$f":"OFFSET(Data!Y49,Offsets!$A$33,Offsets!$A$31)","v":0.8571428571428571},{"$f":"OFFSET(Data!Z49,Offsets!$A$33,Offsets!$A$31)","v":0.14285714285714285},{"$f":"OFFSET(Data!AA49,Offsets!$A$33,Offsets!$A$31)","v":0.14285714285714285},{"$f":"OFFSET(Data!AB49,Offsets!$A$33,Offsets!$A$31)","v":0},{"$f":"OFFSET(Data!AC49,Offsets!$A$33,Offsets!$A$31)","v":0},{"$f":"OFFSET(Data!AD49,Offsets!$A$33,Offsets!$A$31)","v":0},{"$f":"OFFSET(Data!AE49,Offsets!$A$33,Offsets!$A$31)","v":0},{"$f":"OFFSET(Data!AF49,Offsets!$A$33,Offsets!$A$31)","v":0},{"$f":"OFFSET(Data!AG49,Offsets!$A$33,Offsets!$A$31)","v":0},{"$f":"OFFSET(Data!AH49,Offsets!$A$33,Offsets!$A$31)","v":0},null,{"$f":"OFFSET(Data!AI49,Offsets!$A$33,Offsets!$A$31)","v":35.645702697603298},{"$f":"IF(OFFSET(Data!AJ49,Offsets!$A$33,Offsets!$A$31)=\"\", \"-\", OFFSET(Data!AJ49,Offsets!$A$33,Offsets!$A$31))","v":42.18571428571429},{"$f":"OFFSET(Data!AK49,Offsets!$A$33,Offsets!$A$31)","v":11.9},{"$f":"OFFSET(Data!AL49,Offsets!$A$33,Offsets!$A$31)","v":66.3}]
[null,"11:15:00",null,{"$f":"OFFSET(Data!O50,Offsets!$A$33,Offsets!$A$31)","v":0.42857142857142855},{"$f":"OFFSET(Data!P50,Offsets!$A$33,Offsets!$A$31)","v":1},{"$f":"OFFSET(Data!Q50,Offsets!$A$33,Offsets!$A$31)","v":2.1428571428571428},{"$f":"OFFSET(Data!R50,Offsets!$A$33,Offsets!$A$31)","v":4.5714285714285712},{"$f":"OFFSET(Data!S50,Offsets!$A$33,Offsets!$A$31)","v":28.428571428571427},{"$f":"OFFSET(Data!T50,Offsets!$A$33,Offsets!$A$31)","v":39.428571428571431},{"$f":"OFFSET(Data!U50,Offsets!$A$33,Offsets!$A$31)","v":48.142857142857146},{"$f":"OFFSET(Data!V50,Offsets!$A$33,Offsets!$A$31)","v":32},{"$f":"OFFSET(Data!W50,Offsets!$A$33,Offsets!$A$31)","v":10.714285714285714},{"$f":"OFFSET(Data!X50,Offsets!$A$33,Offsets!$A$31)","v":1.8571428571428572},{"$f":"OFFSET(Data!Y50,Offsets!$A$33,Offsets!$A$31)","v":0.42857142857142855},{"$f":"OFFSET(Data!Z50,Offsets!$A$33,Offsets!$A$31)","v":0.2857142857142857},{"$f":"OFFSET(Data!AA50,Offsets!$A$33,Offsets!$A$31)","v":0},{"$f":"OFFSET(Data!AB50,Offsets!$A$33,Offsets!$A$31)","v":0},{"$f":"OFFSET(Data!AC50,Offsets!$A$33,Offsets!$A$31)","v":0},{"$f":"OFFSET(Data!AD50,Offsets!$A$33,Offsets!$A$31)","v":0},{"$f":"OFFSET(Data!AE50,Offsets!$A$33,Offsets!$A$31)","v":0},{"$f":"OFFSET(Data!AF50,Offsets!$A$33,Offsets!$A$31)","v":0},{"$f":"OFFSET(Data!AG50,Offsets!$A$33,Offsets!$A$31)","v":0},{"$f":"OFFSET(Data!AH50,Offsets!$A$33,Offsets!$A$31)","v":0},null,{"$f":"OFFSET(Data!AI50,Offsets!$A$33,Offsets!$A$31)","v":35.567461602873223},{"$f":"IF(OFFSET(Data!AJ50,Offsets!$A$33,Offsets!$A$31)=\"\", \"-\", OFFSET(Data!AJ50,Offsets!$A$33,Offsets!$A$31))","v":41.971428571428575},{"$f":"OFFSET(Data!AK50,Offsets!$A$33,Offsets!$A$31)","v":6.6},{"$f":"OFFSET(Data!AL50,Offsets!$A$33,Offsets!$A$31)","v":62.7}]
[null,"11:30:00",null,{"$f":"OFFSET(Data!O51,Offsets!$A$33,Offsets!$A$31)","v":0.14285714285714285},{"$f":"OFFSET(Data!P51,Offsets!$A$33,Offsets!$A$31)","v":0.14285714285714285},{"$f":"OFFSET(Data!Q51,Offsets!$A$33,Offsets!$A$31)","v":0.7142857142857143},{"$f":"OFFSET(Data!R51,Offsets!$A$33,Offsets!$A$31)","v":5.5714285714285712},{"$f":"OFFSET(Data!S51,Offsets!$A$33,Offsets!$A$31)","v":24.714285714285715},{"$f":"OFFSET(Data!T51,Offsets!$A$33,Offsets!$A$31)","v":45.428571428571431},{"$f":"OFFSET(Data!U51,Offsets!$A$33,Offsets!$A$31)","v":51.714285714285715},{"$f":"OFFSET(Data!V51,Offsets!$A$33,Offsets!$A$31)","v":33.857142857142854},{"$f":"OFFSET(Data!W51,Offsets!$A$33,Offsets!$A$31)","v":11},{"$f":"OFFSET(Data!X51,Offsets!$A$33,Offsets!$A$31)","v":2},{"$f":"OFFSET(Data!Y51,Offsets!$A$33,Offsets!$A$31)","v":0.14285714285714285},{"$f":"OFFSET(Data!Z51,Offsets!$A$33,Offsets!$A$31)","v":0.14285714285714285},{"$f":"OFFSET(Data!AA51,Offsets!$A$33,Offsets!$A$31)","v":0},{"$f":"OFFSET(Data!AB51,Offsets!$A$33,Offsets!$A$31)","v":0},{"$f":"OFFSET(Data!AC51,Offsets!$A$33,Offsets!$A$31)","v":0},{"$f":"OFFSET(Data!AD51,Offsets!$A$33,Offsets!$A$31)","v":0},{"$f":"OFFSET(Data!AE51,Offsets!$A$33,Offsets!$A$31)","v":0},{"$f":"OFFSET(Data!AF51,Offsets!$A$33,Offsets!$A$31)","v":0},{"$f":"OFFSET(Data!AG51,Offsets!$A$33,Offsets!$A$31)","v":0},{"$f":"OFFSET(Data!AH51,Offsets!$A$33,Offsets!$A$31)","v":0},null,{"$f":"OFFSET(Data!AI51,Offsets!$A$33,Offsets!$A$31)","v":36.133873324940801},{"$f":"IF(OFFSET(Data!AJ51,Offsets!$A$33,Offsets!$A$31)=\"\", \"-\", OFFSET(Data!AJ51,Offsets!$A$33,Offsets!$A$31))","v":42.371428571428567},{"$f":"OFFSET(Data!AK51,Offsets!$A$33,Offsets!$A$31)","v":8.9},{"$f":"OFFSET(Data!AL51,Offsets!$A$33,Offsets!$A$31)","v":62.9}]
[null,"11:45:00",null,{"$f":"OFFSET(Data!O52,Offsets!$A$33,Offsets!$A$31)","v":0},{"$f":"OFFSET(Data!P52,Offsets!$A$33,Offsets!$A$31)","v":0.2857142857142857},{"$f":"OFFSET(Data!Q52,Offsets!$A$33,Offsets!$A$31)","v":2},{"$f":"OFFSET(Data!R52,Offsets!$A$33,Offsets!$A$31)","v":9},{"$f":"OFFSET(Data!S52,Offsets!$A$33,Offsets!$A$31)","v":29.571428571428573},{"$f":"OFFSET(Data!T52,Offsets!$A$33,Offsets!$A$31)","v":45},{"$f":"OFFSET(Data!U52,Offsets!$A$33,Offsets!$A$31)","v":48.285714285714285},{"$f":"OFFSET(Data!V52,Offsets!$A$33,Offsets!$A$31)","v":32.285714285714285},{"$f":"OFFSET(Data!W52,Offsets!$A$33,Offsets!$A$31)","v":9.5714285714285712},{"$f":"OFFSET(Data!X52,Offsets!$A$33,Offsets!$A$31)","v":2.8571428571428572},{"$f":"OFFSET(Data!Y52,Offsets!$A$33,Offsets!$A$31)","v":0.2857142857142857},{"$f":"OFFSET(Data!Z52,Offsets!$A$33,Offsets!$A$31)","v":0.2857142857142857},{"$f":"OFFSET(Data!AA52,Offsets!$A$33,Offsets!$A$31)","v":0},{"$f":"OFFSET(Data!AB52,Offsets!$A$33,Offsets!$A$31)","v":0.14285714285714285},{"$f":"OFFSET(Data!AC52,Offsets!$A$33,Offsets!$A$31)","v":0},{"$f":"OFFSET(Data!AD52,Offsets!$A$33,Offsets!$A$31)","v":0},{"$f":"OFFSET(Data!AE52,Offsets!$A$33,Offsets!$A$31)","v":0},{"$f":"OFFSET(Data!AF52,Offsets!$A$33,Offsets!$A$31)","v":0},{"$f":"OFFSET(Data!AG52,Offsets!$A$33,Offsets!$A$31)","v":0},{"$f":"OFFSET(Data!AH52,Offsets!$A$33,Offsets!$A$31)","v":0.2857142857142857},null,{"$f":"OFFSET(Data!AI52,Offsets!$A$33,Offsets!$A$31)","v":35.55255924374616},{"$f":"IF(OFFSET(Data!AJ52,Offsets!$A$33,Offsets!$A$31)=\"\", \"-\", OFFSET(Data!AJ52,Offsets!$A$33,Offsets!$A$31))","v":42.199999999999996},{"$f":"OFFSET(Data!AK52,Offsets!$A$33,Offsets!$A$31)","v":10.4},{"$f":"OFFSET(Data!AL52,Offsets!$A$33,Offsets!$A$31)","v":120.6}]
[null,"12:00:00",null,{"$f":"OFFSET(Data!O53,Offsets!$A$33,Offsets!$A$31)","v":0},{"$f":"OFFSET(Data!P53,Offsets!$A$33,Offsets!$A$31)","v":0.7142857142857143},{"$f":"OFFSET(Data!Q53,Offsets!$A$33,Offsets!$A$31)","v":1.2857142857142858},{"$f":"OFFSET(Data!R53,Offsets!$A$33,Offsets!$A$31)","v":6.5714285714285712},{"$f":"OFFSET(Data!S53,Offsets!$A$33,Offsets!$A$31)","v":27.285714285714285},{"$f":"OFFSET(Data!T53,Offsets!$A$33,Offsets!$A$31)","v":43},{"$f":"OFFSET(Data!U53,Offsets!$A$33,Offsets!$A$31)","v":52.142857142857146},{"$f":"OFFSET(Data!V53,Offsets!$A$33,Offsets!$A$31)","v":32.714285714285715},{"$f":"OFFSET(Data!W53,Offsets!$A$33,Offsets!$A$31)","v":8.7142857142857135},{"$f":"OFFSET(Data!X53,Offsets!$A$33,Offsets!$A$31)","v":2},{"$f":"OFFSET(Data!Y53,Offsets!$A$33,Offsets!$A$31)","v":0},{"$f":"OFFSET(Data!Z53,Offsets!$A$33,Offsets!$A$31)","v":0},{"$f":"OFFSET(Data!AA53,Offsets!$A$33,Offsets!$A$31)","v":0},{"$f":"OFFSET(Data!AB53,Offsets!$A$33,Offsets!$A$31)","v":0},{"$f":"OFFSET(Data!AC53,Offsets!$A$33,Offsets!$A$31)","v":0},{"$f":"OFFSET(Data!AD53,Offsets!$A$33,Offsets!$A$31)","v":0},{"$f":"OFFSET(Data!AE53,Offsets!$A$33,Offsets!$A$31)","v":0},{"$f":"OFFSET(Data!AF53,Offsets!$A$33,Offsets!$A$31)","v":0},{"$f":"OFFSET(Data!AG53,Offsets!$A$33,Offsets!$A$31)","v":0},{"$f":"OFFSET(Data!AH53,Offsets!$A$33,Offsets!$A$31)","v":0},null,{"$f":"OFFSET(Data!AI53,Offsets!$A$33,Offsets!$A$31)","v":35.477026178908453},{"$f":"IF(OFFSET(Data!AJ53,Offsets!$A$33,Offsets!$A$31)=\"\", \"-\", OFFSET(Data!AJ53,Offsets!$A$33,Offsets!$A$31))","v":41.471428571428568},{"$f":"OFFSET(Data!AK53,Offsets!$A$33,Offsets!$A$31)","v":11.4},{"$f":"OFFSET(Data!AL53,Offsets!$A$33,Offsets!$A$31)","v":55}]
[null,"12:15:00",null,{"$f":"OFFSET(Data!O54,Offsets!$A$33,Offsets!$A$31)","v":0},{"$f":"OFFSET(Data!P54,Offsets!$A$33,Offsets!$A$31)","v":1.2857142857142858},{"$f":"OFFSET(Data!Q54,Offsets!$A$33,Offsets!$A$31)","v":2},{"$f":"OFFSET(Data!R54,Offsets!$A$33,Offsets!$A$31)","v":7.1428571428571432},{"$f":"OFFSET(Data!S54,Offsets!$A$33,Offsets!$A$31)","v":29.428571428571427},{"$f":"OFFSET(Data!T54,Offsets!$A$33,Offsets!$A$31)","v":46.714285714285715},{"$f":"OFFSET(Data!U54,Offsets!$A$33,Offsets!$A$31)","v":54.571428571428569},{"$f":"OFFSET(Data!V54,Offsets!$A$33,Offsets!$A$31)","v":35.142857142857146},{"$f":"OFFSET(Data!W54,Offsets!$A$33,Offsets!$A$31)","v":10.285714285714286},{"$f":"OFFSET(Data!X54,Offsets!$A$33,Offsets!$A$31)","v":3.1428571428571428},{"$f":"OFFSET(Data!Y54,Offsets!$A$33,Offsets!$A$31)","v":0.42857142857142855},{"$f":"OFFSET(Data!Z54,Offsets!$A$33,Offsets!$A$31)","v":0.14285714285714285},{"$f":"OFFSET(Data!AA54,Offsets!$A$33,Offsets!$A$31)","v":0.14285714285714285},{"$f":"OFFSET(Data!AB54,Offsets!$A$33,Offsets!$A$31)","v":0},{"$f":"OFFSET(Data!AC54,Offsets!$A$33,Offsets!$A$31)","v":0},{"$f":"OFFSET(Data!AD54,Offsets!$A$33,Offsets!$A$31)","v":0},{"$f":"OFFSET(Data!AE54,Offsets!$A$33,Offsets!$A$31)","v":0},{"$f":"OFFSET(Data!AF54,Offsets!$A$33,Offsets!$A$31)","v":0},{"$f":"OFFSET(Data!AG54,Offsets!$A$33,Offsets!$A$31)","v":0},{"$f":"OFFSET(Data!AH54,Offsets!$A$33,Offsets!$A$31)","v":0},null,{"$f":"OFFSET(Data!AI54,Offsets!$A$33,Offsets!$A$31)","v":35.542834967865375},{"$f":"IF(OFFSET(Data!AJ54,Offsets!$A$33,Offsets!$A$31)=\"\", \"-\", OFFSET(Data!AJ54,Offsets!$A$33,Offsets!$A$31))","v":41.878571428571433},{"$f":"OFFSET(Data!AK54,Offsets!$A$33,Offsets!$A$31)","v":10.6},{"$f":"OFFSET(Data!AL54,Offsets!$A$33,Offsets!$A$31)","v":66.5}]
[null,"12:30:00",null,{"$f":"OFFSET(Data!O55,Offsets!$A$33,Offsets!$A$31)","v":0.14285714285714285},{"$f":"OFFSET(Data!P55,Offsets!$A$33,Offsets!$A$31)","v":0.8571428571428571},{"$f":"OFFSET(Data!Q55,Offsets!$A$33,Offsets!$A$31)","v":1.5714285714285714},{"$f":"OFFSET(Data!R55,Offsets!$A$33,Offsets!$A$31)","v":6.1428571428571432},{"$f":"OFFSET(Data!S55,Offsets!$A$33,Offsets!$A$31)","v":31.571428571428573},{"$f":"OFFSET(Data!T55,Offsets!$A$33,Offsets!$A$31)","v":49.571428571428569},{"$f":"OFFSET(Data!U55,Offsets!$A$33,Offsets!$A$31)","v":56},{"$f":"OFFSET(Data!V55,Offsets!$A$33,Offsets!$A$31)","v":37.285714285714285},{"$f":"OFFSET(Data!W55,Offsets!$A$33,Offsets!$A$31)","v":10.142857142857142},{"$f":"OFFSET(Data!X55,Offsets!$A$33,Offsets!$A$31)","v":1.4285714285714286},{"$f":"OFFSET(Data!Y55,Offsets!$A$33,Offsets!$A$31)","v":1},{"$f":"OFFSET(Data!Z55,Offsets!$A$33,Offsets!$A$31)","v":0.14285714285714285},{"$f":"OFFSET(Data!AA55,Offsets!$A$33,Offsets!$A$31)","v":0},{"$f":"OFFSET(Data!AB55,Offsets!$A$33,Offsets!$A$31)","v":0},{"$f":"OFFSET(Data!AC55,Offsets!$A$33,Offsets!$A$31)","v":0},{"$f":"OFFSET(Data!AD55,Offsets!$A$33,Offsets!$A$31)","v":0},{"$f":"OFFSET(Data!AE55,Offsets!$A$33,Offsets!$A$31)","v":0.14285714285714285},{"$f":"OFFSET(Data!AF55,Offsets!$A$33,Offsets!$A$31)","v":0},{"$f":"OFFSET(Data!AG55,Offsets!$A$33,Offsets!$A$31)","v":0},{"$f":"OFFSET(Data!AH55,Offsets!$A$33,Offsets!$A$31)","v":0},null,{"$f":"OFFSET(Data!AI55,Offsets!$A$33,Offsets!$A$31)","v":35.601145515954769},{"$f":"IF(OFFSET(Data!AJ55,Offsets!$A$33,Offsets!$A$31)=\"\", \"-\", OFFSET(Data!AJ55,Offsets!$A$33,Offsets!$A$31))","v":41.821428571428569},{"$f":"OFFSET(Data!AK55,Offsets!$A$33,Offsets!$A$31)","v":7.5},{"$f":"OFFSET(Data!AL55,Offsets!$A$33,Offsets!$A$31)","v":86.1}]
[null,"12:45:00",null,{"$f":"OFFSET(Data!O56,Offsets!$A$33,Offsets!$A$31)","v":0.14285714285714285},{"$f":"OFFSET(Data!P56,Offsets!$A$33,Offsets!$A$31)","v":1.5714285714285714},{"$f":"OFFSET(Data!Q56,Offsets!$A$33,Offsets!$A$31)","v":3.4285714285714284},{"$f":"OFFSET(Data!R56,Offsets!$A$33,Offsets!$A$31)","v":4.5714285714285712},{"$f":"OFFSET(Data!S56,Offsets!$A$33,Offsets!$A$31)","v":26},{"$f":"OFFSET(Data!T56,Offsets!$A$33,Offsets!$A$31)","v":39.142857142857146},{"$f":"OFFSET(Data!U56,Offsets!$A$33,Offsets!$A$31)","v":52.857142857142854},{"$f":"OFFSET(Data!V56,Offsets!$A$33,Offsets!$A$31)","v":34.142857142857146},{"$f":"OFFSET(Data!W56,Offsets!$A$33,Offsets!$A$31)","v":12.857142857142858},{"$f":"OFFSET(Data!X56,Offsets!$A$33,Offsets!$A$31)","v":2.8571428571428572},{"$f":"OFFSET(Data!Y56,Offsets!$A$33,Offsets!$A$31)","v":1},{"$f":"OFFSET(Data!Z56,Offsets!$A$33,Offsets!$A$31)","v":0.14285714285714285},{"$f":"OFFSET(Data!AA56,Offsets!$A$33,Offsets!$A$31)","v":0},{"$f":"OFFSET(Data!AB56,Offsets!$A$33,Offsets!$A$31)","v":0},{"$f":"OFFSET(Data!AC56,Offsets!$A$33,Offsets!$A$31)","v":0},{"$f":"OFFSET(Data!AD56,Offsets!$A$33,Offsets!$A$31)","v":0},{"$f":"OFFSET(Data!AE56,Offsets!$A$33,Offsets!$A$31)","v":0},{"$f":"OFFSET(Data!AF56,Offsets!$A$33,Offsets!$A$31)","v":0},{"$f":"OFFSET(Data!AG56,Offsets!$A$33,Offsets!$A$31)","v":0},{"$f":"OFFSET(Data!AH56,Offsets!$A$33,Offsets!$A$31)","v":0},null,{"$f":"OFFSET(Data!AI56,Offsets!$A$33,Offsets!$A$31)","v":35.977068394857028},{"$f":"IF(OFFSET(Data!AJ56,Offsets!$A$33,Offsets!$A$31)=\"\", \"-\", OFFSET(Data!AJ56,Offsets!$A$33,Offsets!$A$31))","v":42.457142857142856},{"$f":"OFFSET(Data!AK56,Offsets!$A$33,Offsets!$A$31)","v":7.7},{"$f":"OFFSET(Data!AL56,Offsets!$A$33,Offsets!$A$31)","v":63.3}]
[null,"13:00:00",null,{"$f":"OFFSET(Data!O57,Offsets!$A$33,Offsets!$A$31)","v":0},{"$f":"OFFSET(Data!P57,Offsets!$A$33,Offsets!$A$31)","v":0.7142857142857143},{"$f":"OFFSET(Data!Q57,Offsets!$A$33,Offsets!$A$31)","v":3.1428571428571428},{"$f":"OFFSET(Data!R57,Offsets!$A$33,Offsets!$A$31)","v":6.1428571428571432},{"$f":"OFFSET(Data!S57,Offsets!$A$33,Offsets!$A$31)","v":23.571428571428573},{"$f":"OFFSET(Data!T57,Offsets!$A$33,Offsets!$A$31)","v":42.714285714285715},{"$f":"OFFSET(Data!U57,Offsets!$A$33,Offsets!$A$31)","v":60.857142857142854},{"$f":"OFFSET(Data!V57,Offsets!$A$33,Offsets!$A$31)","v":37.285714285714285},{"$f":"OFFSET(Data!W57,Offsets!$A$33,Offsets!$A$31)","v":8.5714285714285712},{"$f":"OFFSET(Data!X57,Offsets!$A$33,Offsets!$A$31)","v":1.4285714285714286},{"$f":"OFFSET(Data!Y57,Offsets!$A$33,Offsets!$A$31)","v":0.42857142857142855},{"$f":"OFFSET(Data!Z57,Offsets!$A$33,Offsets!$A$31)","v":0.14285714285714285},{"$f":"OFFSET(Data!AA57,Offsets!$A$33,Offsets!$A$31)","v":0.14285714285714285},{"$f":"OFFSET(Data!AB57,Offsets!$A$33,Offsets!$A$31)","v":0.14285714285714285},{"$f":"OFFSET(Data!AC57,Offsets!$A$33,Offsets!$A$31)","v":0},{"$f":"OFFSET(Data!AD57,Offsets!$A$33,Offsets!$A$31)","v":0},{"$f":"OFFSET(Data!AE57,Offsets!$A$33,Offsets!$A$31)","v":0},{"$f":"OFFSET(Data!AF57,Offsets!$A$33,Offsets!$A$31)","v":0},{"$f":"OFFSET(Data!AG57,Offsets!$A$33,Offsets!$A$31)","v":0},{"$f":"OFFSET(Data!AH57,Offsets!$A$33,Offsets!$A$31)","v":0},null,{"$f":"OFFSET(Data!AI57,Offsets!$A$33,Offsets!$A$31)","v":35.825348307359071},{"$f":"IF(OFFSET(Data!AJ57,Offsets!$A$33,Offsets!$A$31)=\"\", \"-\", OFFSET(Data!AJ57,Offsets!$A$33,Offsets!$A$31))","v":41.792857142857144},{"$f":"OFFSET(Data!AK57,Offsets!$A$33,Offsets!$A$31)","v":11.1},{"$f":"OFFSET(Data!AL57,Offsets!$A$33,Offsets!$A$31)","v":73}]
[null,"13:15:00",null,{"$f":"OFFSET(Data!O58,Offsets!$A$33,Offsets!$A$31)","v":0},{"$f":"OFFSET(Data!P58,Offsets!$A$33,Offsets!$A$31)","v":0.7142857142857143},{"$f":"OFFSET(Data!Q58,Offsets!$A$33,Offsets!$A$31)","v":0.8571428571428571},{"$f":"OFFSET(Data!R58,Offsets!$A$33,Offsets!$A$31)","v":6.2857142857142856},{"$f":"OFFSET(Data!S58,Offsets!$A$33,Offsets!$A$31)","v":27.857142857142858},{"$f":"OFFSET(Data!T58,Offsets!$A$33,Offsets!$A$31)","v":39.857142857142854},{"$f":"OFFSET(Data!U58,Offsets!$A$33,Offsets!$A$31)","v":59},{"$f":"OFFSET(Data!V58,Offsets!$A$33,Offsets!$A$31)","v":33.142857142857146},{"$f":"OFFSET(Data!W58,Offsets!$A$33,Offsets!$A$31)","v":11.142857142857142},{"$f":"OFFSET(Data!X58,Offsets!$A$33,Offsets!$A$31)","v":2.7142857142857144},{"$f":"OFFSET(Data!Y58,Offsets!$A$33,Offsets!$A$31)","v":1.1428571428571428},{"$f":"OFFSET(Data!Z58,Offsets!$A$33,Offsets!$A$31)","v":0},{"$f":"OFFSET(Data!AA58,Offsets!$A$33,Offsets!$A$31)","v":0},{"$f":"OFFSET(Data!AB58,Offsets!$A$33,Offsets!$A$31)","v":0},{"$f":"OFFSET(Data!AC58,Offsets!$A$33,Offsets!$A$31)","v":0},{"$f":"OFFSET(Data!AD58,Offsets!$A$33,Offsets!$A$31)","v":0},{"$f":"OFFSET(Data!AE58,Offsets!$A$33,Offsets!$A$31)","v":0},{"$f":"OFFSET(Data!AF58,Offsets!$A$33,Offsets!$A$31)","v":0},{"$f":"OFFSET(Data!AG58,Offsets!$A$33,Offsets!$A$31)","v":0},{"$f":"OFFSET(Data!AH58,Offsets!$A$33,Offsets!$A$31)","v":0},null,{"$f":"OFFSET(Data!AI58,Offsets!$A$33,Offsets!$A$31)","v":36.01266950659226},{"$f":"IF(OFFSET(Data!AJ58,Offsets!$A$33,Offsets!$A$31)=\"\", \"-\", OFFSET(Data!AJ58,Offsets!$A$33,Offsets!$A$31))","v":42.364285714285714},{"$f":"OFFSET(Data!AK58,Offsets!$A$33,Offsets!$A$31)","v":12.6},{"$f":"OFFSET(Data!AL58,Offsets!$A$33,Offsets!$A$31)","v":59.1}]
[null,"13:30:00",null,{"$f":"OFFSET(Data!O59,Offsets!$A$33,Offsets!$A$31)","v":0.14285714285714285},{"$f":"OFFSET(Data!P59,Offsets!$A$33,Offsets!$A$31)","v":0.7142857142857143},{"$f":"OFFSET(Data!Q59,Offsets!$A$33,Offsets!$A$31)","v":2.1428571428571428},{"$f":"OFFSET(Data!R59,Offsets!$A$33,Offsets!$A$31)","v":7.1428571428571432},{"$f":"OFFSET(Data!S59,Offsets!$A$33,Offsets!$A$31)","v":26.857142857142858},{"$f":"OFFSET(Data!T59,Offsets!$A$33,Offsets!$A$31)","v":42.428571428571431},{"$f":"OFFSET(Data!U59,Offsets!$A$33,Offsets!$A$31)","v":53.285714285714285},{"$f":"OFFSET(Data!V59,Offsets!$A$33,Offsets!$A$31)","v":38.142857142857146},{"$f":"OFFSET(Data!W59,Offsets!$A$33,Offsets!$A$31)","v":11.142857142857142},{"$f":"OFFSET(Data!X59,Offsets!$A$33,Offsets!$A$31)","v":1.8571428571428572},{"$f":"OFFSET(Data!Y59,Offsets!$A$33,Offsets!$A$31)","v":0.7142857142857143},{"$f":"OFFSET(Data!Z59,Offsets!$A$33,Offsets!$A$31)","v":0.14285714285714285},{"$f":"OFFSET(Data!AA59,Offsets!$A$33,Offsets!$A$31)","v":0},{"$f":"OFFSET(Data!AB59,Offsets!$A$33,Offsets!$A$31)","v":0.14285714285714285},{"$f":"OFFSET(Data!AC59,Offsets!$A$33,Offsets!$A$31)","v":0},{"$f":"OFFSET(Data!AD59,Offsets!$A$33,Offsets!$A$31)","v":0},{"$f":"OFFSET(Data!AE59,Offsets!$A$33,Offsets!$A$31)","v":0},{"$f":"OFFSET(Data!AF59,Offsets!$A$33,Offsets!$A$31)","v":0},{"$f":"OFFSET(Data!AG59,Offsets!$A$33,Offsets!$A$31)","v":0},{"$f":"OFFSET(Data!AH59,Offsets!$A$33,Offsets!$A$31)","v":0},null,{"$f":"OFFSET(Data!AI59,Offsets!$A$33,Offsets!$A$31)","v":35.832050933531292},{"$f":"IF(OFFSET(Data!AJ59,Offsets!$A$33,Offsets!$A$31)=\"\", \"-\", OFFSET(Data!AJ59,Offsets!$A$33,Offsets!$A$31))","v":42.214285714285708},{"$f":"OFFSET(Data!AK59,Offsets!$A$33,Offsets!$A$31)","v":9.9},{"$f":"OFFSET(Data!AL59,Offsets!$A$33,Offsets!$A$31)","v":72.3}]
[null,"13:45:00",null,{"$f":"OFFSET(Data!O60,Offsets!$A$33,Offsets!$A$31)","v":0},{"$f":"OFFSET(Data!P60,Offsets!$A$33,Offsets!$A$31)","v":0.8571428571428571},{"$f":"OFFSET(Data!Q60,Offsets!$A$33,Offsets!$A$31)","v":3.4285714285714284},{"$f":"OFFSET(Data!R60,Offsets!$A$33,Offsets!$A$31)","v":6.2857142857142856},{"$f":"OFFSET(Data!S60,Offsets!$A$33,Offsets!$A$31)","v":23.857142857142858},{"$f":"OFFSET(Data!T60,Offsets!$A$33,Offsets!$A$31)","v":46.571428571428569},{"$f":"OFFSET(Data!U60,Offsets!$A$33,Offsets!$A$31)","v":55.714285714285715},{"$f":"OFFSET(Data!V60,Offsets!$A$33,Offsets!$A$31)","v":31.714285714285715},{"$f":"OFFSET(Data!W60,Offsets!$A$33,Offsets!$A$31)","v":7.5714285714285712},{"$f":"OFFSET(Data!X60,Offsets!$A$33,Offsets!$A$31)","v":2.5714285714285716},{"$f":"OFFSET(Data!Y60,Offsets!$A$33,Offsets!$A$31)","v":0.2857142857142857},{"$f":"OFFSET(Data!Z60,Offsets!$A$33,Offsets!$A$31)","v":0},{"$f":"OFFSET(Data!AA60,Offsets!$A$33,Offsets!$A$31)","v":0},{"$f":"OFFSET(Data!AB60,Offsets!$A$33,Offsets!$A$31)","v":0},{"$f":"OFFSET(Data!AC60,Offsets!$A$33,Offsets!$A$31)","v":0},{"$f":"OFFSET(Data!AD60,Offsets!$A$33,Offsets!$A$31)","v":0},{"$f":"OFFSET(Data!AE60,Offsets!$A$33,Offsets!$A$31)","v":0},{"$f":"OFFSET(Data!AF60,Offsets!$A$33,Offsets!$A$31)","v":0},{"$f":"OFFSET(Data!AG60,Offsets!$A$33,Offsets!$A$31)","v":0},{"$f":"OFFSET(Data!AH60,Offsets!$A$33,Offsets!$A$31)","v":0},null,{"$f":"OFFSET(Data!AI60,Offsets!$A$33,Offsets!$A$31)","v":35.459102250149321},{"$f":"IF(OFFSET(Data!AJ60,Offsets!$A$33,Offsets!$A$31)=\"\", \"-\", OFFSET(Data!AJ60,Offsets!$A$33,Offsets!$A$31))","v":41.321428571428569},{"$f":"OFFSET(Data!AK60,Offsets!$A$33,Offsets!$A$31)","v":11.2},{"$f":"OFFSET(Data!AL60,Offsets!$A$33,Offsets!$A$31)","v":59.2}]
[null,"14:00:00",null,{"$f":"OFFSET(Data!O61,Offsets!$A$33,Offsets!$A$31)","v":0.14285714285714285},{"$f":"OFFSET(Data!P61,Offsets!$A$33,Offsets!$A$31)","v":0.42857142857142855},{"$f":"OFFSET(Data!Q61,Offsets!$A$33,Offsets!$A$31)","v":1.5714285714285714},{"$f":"OFFSET(Data!R61,Offsets!$A$33,Offsets!$A$31)","v":5.1428571428571432},{"$f":"OFFSET(Data!S61,Offsets!$A$33,Offsets!$A$31)","v":30.142857142857142},{"$f":"OFFSET(Data!T61,Offsets!$A$33,Offsets!$A$31)","v":48.285714285714285},{"$f":"OFFSET(Data!U61,Offsets!$A$33,Offsets!$A$31)","v":57.428571428571431},{"$f":"OFFSET(Data!V61,Offsets!$A$33,Offsets!$A$31)","v":29.714285714285715},{"$f":"OFFSET(Data!W61,Offsets!$A$33,Offsets!$A$31)","v":8.5714285714285712},{"$f":"OFFSET(Data!X61,Offsets!$A$33,Offsets!$A$31)","v":2.7142857142857144},{"$f":"OFFSET(Data!Y61,Offsets!$A$33,Offsets!$A$31)","v":0.5714285714285714},{"$f":"OFFSET(Data!Z61,Offsets!$A$33,Offsets!$A$31)","v":0.14285714285714285},{"$f":"OFFSET(Data!AA61,Offsets!$A$33,Offsets!$A$31)","v":0},{"$f":"OFFSET(Data!AB61,Offsets!$A$33,Offsets!$A$31)","v":0},{"$f":"OFFSET(Data!AC61,Offsets!$A$33,Offsets!$A$31)","v":0.14285714285714285},{"$f":"OFFSET(Data!AD61,Offsets!$A$33,Offsets!$A$31)","v":0},{"$f":"OFFSET(Data!AE61,Offsets!$A$33,Offsets!$A$31)","v":0},{"$f":"OFFSET(Data!AF61,Offsets!$A$33,Offsets!$A$31)","v":0},{"$f":"OFFSET(Data!AG61,Offsets!$A$33,Offsets!$A$31)","v":0},{"$f":"OFFSET(Data!AH61,Offsets!$A$33,Offsets!$A$31)","v":0},null,{"$f":"OFFSET(Data!AI61,Offsets!$A$33,Offsets!$A$31)","v":35.537667258066406},{"$f":"IF(OFFSET(Data!AJ61,Offsets!$A$33,Offsets!$A$31)=\"\", \"-\", OFFSET(Data!AJ61,Offsets!$A$33,Offsets!$A$31))","v":41.435714285714283},{"$f":"OFFSET(Data!AK61,Offsets!$A$33,Offsets!$A$31)","v":7.7},{"$f":"OFFSET(Data!AL61,Offsets!$A$33,Offsets!$A$31)","v":76.8}]
[null,"14:15:00",null,{"$f":"OFFSET(Data!O62,Offsets!$A$33,Offsets!$A$31)","v":0},{"$f":"OFFSET(Data!P62,Offsets!$A$33,Offsets!$A$31)","v":0.7142857142857143},{"$f":"OFFSET(Data!Q62,Offsets!$A$33,Offsets!$A$31)","v":1.2857142857142858},{"$f":"OFFSET(Data!R62,Offsets!$A$33,Offsets!$A$31)","v":7.1428571428571432},{"$f":"OFFSET(Data!S62,Offsets!$A$33,Offsets!$A$31)","v":30},{"$f":"OFFSET(Data!T62,Offsets!$A$33,Offsets!$A$31)","v":48.285714285714285},{"$f":"OFFSET(Data!U62,Offsets!$A$33,Offsets!$A$31)","v":54},{"$f":"OFFSET(Data!V62,Offsets!$A$33,Offsets!$A$31)","v":33.428571428571431},{"$f":"OFFSET(Data!W62,Offsets!$A$33,Offsets!$A$31)","v":8.5714285714285712},{"$f":"OFFSET(Data!X62,Offsets!$A$33,Offsets!$A$31)","v":2.5714285714285716},{"$f":"OFFSET(Data!Y62,Offsets!$A$33,Offsets!$A$31)","v":0.8571428571428571},{"$f":"OFFSET(Data!Z62,Offsets!$A$33,Offsets!$A$31)","v":0},{"$f":"OFFSET(Data!AA62,Offsets!$A$33,Offsets!$A$31)","v":0.14285714285714285},{"$f":"OFFSET(Data!AB62,Offsets!$A$33,Offsets!$A$31)","v":0.14285714285714285},{"$f":"OFFSET(Data!AC62,Offsets!$A$33,Offsets!$A$31)","v":0},{"$f":"OFFSET(Data!AD62,Offsets!$A$33,Offsets!$A$31)","v":0},{"$f":"OFFSET(Data!AE62,Offsets!$A$33,Offsets!$A$31)","v":0},{"$f":"OFFSET(Data!AF62,Offsets!$A$33,Offsets!$A$31)","v":0},{"$f":"OFFSET(Data!AG62,Offsets!$A$33,Offsets!$A$31)","v":0},{"$f":"OFFSET(Data!AH62,Offsets!$A$33,Offsets!$A$31)","v":0},null,{"$f":"OFFSET(Data!AI62,Offsets!$A$33,Offsets!$A$31)","v":35.504091485222538},{"$f":"IF(OFFSET(Data!AJ62,Offsets!$A$33,Offsets!$A$31)=\"\", \"-\", OFFSET(Data!AJ62,Offsets!$A$33,Offsets!$A$31))","v":41.68571428571429},{"$f":"OFFSET(Data!AK62,Offsets!$A$33,Offsets!$A$31)","v":11.9},{"$f":"OFFSET(Data!AL62,Offsets!$A$33,Offsets!$A$31)","v":71.8}]
[null,"14:30:00",null,{"$f":"OFFSET(Data!O63,Offsets!$A$33,Offsets!$A$31)","v":0},{"$f":"OFFSET(Data!P63,Offsets!$A$33,Offsets!$A$31)","v":0},{"$f":"OFFSET(Data!Q63,Offsets!$A$33,Offsets!$A$31)","v":3.7142857142857144},{"$f":"OFFSET(Data!R63,Offsets!$A$33,Offsets!$A$31)","v":6.4285714285714288},{"$f":"OFFSET(Data!S63,Offsets!$A$33,Offsets!$A$31)","v":27.142857142857142},{"$f":"OFFSET(Data!T63,Offsets!$A$33,Offsets!$A$31)","v":54.428571428571431},{"$f":"OFFSET(Data!U63,Offsets!$A$33,Offsets!$A$31)","v":62.428571428571431},{"$f":"OFFSET(Data!V63,Offsets!$A$33,Offsets!$A$31)","v":30.571428571428573},{"$f":"OFFSET(Data!W63,Offsets!$A$33,Offsets!$A$31)","v":8.2857142857142865},{"$f":"OFFSET(Data!X63,Offsets!$A$33,Offsets!$A$31)","v":2.4285714285714284},{"$f":"OFFSET(Data!Y63,Offsets!$A$33,Offsets!$A$31)","v":0.2857142857142857},{"$f":"OFFSET(Data!Z63,Offsets!$A$33,Offsets!$A$31)","v":0},{"$f":"OFFSET(Data!AA63,Offsets!$A$33,Offsets!$A$31)","v":0},{"$f":"OFFSET(Data!AB63,Offsets!$A$33,Offsets!$A$31)","v":0},{"$f":"OFFSET(Data!AC63,Offsets!$A$33,Offsets!$A$31)","v":0},{"$f":"OFFSET(Data!AD63,Offsets!$A$33,Offsets!$A$31)","v":0},{"$f":"OFFSET(Data!AE63,Offsets!$A$33,Offsets!$A$31)","v":0},{"$f":"OFFSET(Data!AF63,Offsets!$A$33,Offsets!$A$31)","v":0},{"$f":"OFFSET(Data!AG63,Offsets!$A$33,Offsets!$A$31)","v":0},{"$f":"OFFSET(Data!AH63,Offsets!$A$33,Offsets!$A$31)","v":0},null,{"$f":"OFFSET(Data!AI63,Offsets!$A$33,Offsets!$A$31)","v":35.33917563995093},{"$f":"IF(OFFSET(Data!AJ63,Offsets!$A$33,Offsets!$A$31)=\"\", \"-\", OFFSET(Data!AJ63,Offsets!$A$33,Offsets!$A$31))","v":41.278571428571425},{"$f":"OFFSET(Data!AK63,Offsets!$A$33,Offsets!$A$31)","v":15.1},{"$f":"OFFSET(Data!AL63,Offsets!$A$33,Offsets!$A$31)","v":59.1}]
[null,"14:45:00",null,{"$f":"OFFSET(Data!O64,Offsets!$A$33,Offsets!$A$31)","v":0},{"$f":"OFFSET(Data!P64,Offsets!$A$33,Offsets!$A$31)","v":0.5714285714285714},{"$f":"OFFSET(Data!Q64,Offsets!$A$33,Offsets!$A$31)","v":1.2857142857142858},{"$f":"OFFSET(Data!R64,Offsets!$A$33,Offsets!$A$31)","v":5.1428571428571432},{"$f":"OFFSET(Data!S64,Offsets!$A$33,Offsets!$A$31)","v":28.714285714285715},{"$f":"OFFSET(Data!T64,Offsets!$A$33,Offsets!$A$31)","v":52.428571428571431},{"$f":"OFFSET(Data!U64,Offsets!$A$33,Offsets!$A$31)","v":60.857142857142854},{"$f":"OFFSET(Data!V64,Offsets!$A$33,Offsets!$A$31)","v":33.714285714285715},{"$f":"OFFSET(Data!W64,Offsets!$A$33,Offsets!$A$31)","v":10.285714285714286},{"$f":"OFFSET(Data!X64,Offsets!$A$33,Offsets!$A$31)","v":1.5714285714285714},{"$f":"OFFSET(Data!Y64,Offsets!$A$33,Offsets!$A$31)","v":0.2857142857142857},{"$f":"OFFSET(Data!Z64,Offsets!$A$33,Offsets!$A$31)","v":0},{"$f":"OFFSET(Data!AA64,Offsets!$A$33,Offsets!$A$31)","v":0},{"$f":"OFFSET(Data!AB64,Offsets!$A$33,Offsets!$A$31)","v":0},{"$f":"OFFSET(Data!AC64,Offsets!$A$33,Offsets!$A$31)","v":0},{"$f":"OFFSET(Data!AD64,Offsets!$A$33,Offsets!$A$31)","v":0},{"$f":"OFFSET(Data!AE64,Offsets!$A$33,Offsets!$A$31)","v":0},{"$f":"OFFSET(Data!AF64,Offsets!$A$33,Offsets!$A$31)","v":0},{"$f":"OFFSET(Data!AG64,Offsets!$A$33,Offsets!$A$31)","v":0},{"$f":"OFFSET(Data!AH64,Offsets!$A$33,Offsets!$A$31)","v":0},null,{"$f":"OFFSET(Data!AI64,Offsets!$A$33,Offsets!$A$31)","v":35.689265179957935},{"$f":"IF(OFFSET(Data!AJ64,Offsets!$A$33,Offsets!$A$31)=\"\", \"-\", OFFSET(Data!AJ64,Offsets!$A$33,Offsets!$A$31))","v":41.721428571428568},{"$f":"OFFSET(Data!AK64,Offsets!$A$33,Offsets!$A$31)","v":13.3},{"$f":"OFFSET(Data!AL64,Offsets!$A$33,Offsets!$A$31)","v":59.5}]
[null,"15:00:00",null,{"$f":"OFFSET(Data!O65,Offsets!$A$33,Offsets!$A$31)","v":0},{"$f":"OFFSET(Data!P65,Offsets!$A$33,Offsets!$A$31)","v":1.8571428571428572},{"$f":"OFFSET(Data!Q65,Offsets!$A$33,Offsets!$A$31)","v":2.8571428571428572},{"$f":"OFFSET(Data!R65,Offsets!$A$33,Offsets!$A$31)","v":7.8571428571428568},{"$f":"OFFSET(Data!S65,Offsets!$A$33,Offsets!$A$31)","v":24.714285714285715},{"$f":"OFFSET(Data!T65,Offsets!$A$33,Offsets!$A$31)","v":52.571428571428569},{"$f":"OFFSET(Data!U65,Offsets!$A$33,Offsets!$A$31)","v":63.285714285714285},{"$f":"OFFSET(Data!V65,Offsets!$A$33,Offsets!$A$31)","v":29.428571428571427},{"$f":"OFFSET(Data!W65,Offsets!$A$33,Offsets!$A$31)","v":10.428571428571429},{"$f":"OFFSET(Data!X65,Offsets!$A$33,Offsets!$A$31)","v":3.8571428571428572},{"$f":"OFFSET(Data!Y65,Offsets!$A$33,Offsets!$A$31)","v":0.7142857142857143},{"$f":"OFFSET(Data!Z65,Offsets!$A$33,Offsets!$A$31)","v":0.2857142857142857},{"$f":"OFFSET(Data!AA65,Offsets!$A$33,Offsets!$A$31)","v":0},{"$f":"OFFSET(Data!AB65,Offsets!$A$33,Offsets!$A$31)","v":0.14285714285714285},{"$f":"OFFSET(Data!AC65,Offsets!$A$33,Offsets!$A$31)","v":0.42857142857142855},{"$f":"OFFSET(Data!AD65,Offsets!$A$33,Offsets!$A$31)","v":0},{"$f":"OFFSET(Data!AE65,Offsets!$A$33,Offsets!$A$31)","v":0},{"$f":"OFFSET(Data!AF65,Offsets!$A$33,Offsets!$A$31)","v":0},{"$f":"OFFSET(Data!AG65,Offsets!$A$33,Offsets!$A$31)","v":0},{"$f":"OFFSET(Data!AH65,Offsets!$A$33,Offsets!$A$31)","v":0},null,{"$f":"OFFSET(Data!AI65,Offsets!$A$33,Offsets!$A$31)","v":35.73176485898599},{"$f":"IF(OFFSET(Data!AJ65,Offsets!$A$33,Offsets!$A$31)=\"\", \"-\", OFFSET(Data!AJ65,Offsets!$A$33,Offsets!$A$31))","v":42.2},{"$f":"OFFSET(Data!AK65,Offsets!$A$33,Offsets!$A$31)","v":10.9},{"$f":"OFFSET(Data!AL65,Offsets!$A$33,Offsets!$A$31)","v":76.599999999999994}]
[null,"15:15:00",null,{"$f":"OFFSET(Data!O66,Offsets!$A$33,Offsets!$A$31)","v":0},{"$f":"OFFSET(Data!P66,Offsets!$A$33,Offsets!$A$31)","v":1.4285714285714286},{"$f":"OFFSET(Data!Q66,Offsets!$A$33,Offsets!$A$31)","v":4.4285714285714288},{"$f":"OFFSET(Data!R66,Offsets!$A$33,Offsets!$A$31)","v":10.428571428571429},{"$f":"OFFSET(Data!S66,Offsets!$A$33,Offsets!$A$31)","v":34.142857142857146},{"$f":"OFFSET(Data!T66,Offsets!$A$33,Offsets!$A$31)","v":52.428571428571431},{"$f":"OFFSET(Data!U66,Offsets!$A$33,Offsets!$A$31)","v":60.285714285714285},{"$f":"OFFSET(Data!V66,Offsets!$A$33,Offsets!$A$31)","v":37.714285714285715},{"$f":"OFFSET(Data!W66,Offsets!$A$33,Offsets!$A$31)","v":10.428571428571429},{"$f":"OFFSET(Data!X66,Offsets!$A$33,Offsets!$A$31)","v":1.5714285714285714},{"$f":"OFFSET(Data!Y66,Offsets!$A$33,Offsets!$A$31)","v":0.8571428571428571},{"$f":"OFFSET(Data!Z66,Offsets!$A$33,Offsets!$A$31)","v":0.14285714285714285},{"$f":"OFFSET(Data!AA66,Offsets!$A$33,Offsets!$A$31)","v":0},{"$f":"OFFSET(Data!AB66,Offsets!$A$33,Offsets!$A$31)","v":0.2857142857142857},{"$f":"OFFSET(Data!AC66,Offsets!$A$33,Offsets!$A$31)","v":0},{"$f":"OFFSET(Data!AD66,Offsets!$A$33,Offsets!$A$31)","v":0},{"$f":"OFFSET(Data!AE66,Offsets!$A$33,Offsets!$A$31)","v":0},{"$f":"OFFSET(Data!AF66,Offsets!$A$33,Offsets!$A$31)","v":0},{"$f":"OFFSET(Data!AG66,Offsets!$A$33,Offsets!$A$31)","v":0},{"$f":"OFFSET(Data!AH66,Offsets!$A$33,Offsets!$A$31)","v":0.2857142857142857},null,{"$f":"OFFSET(Data!AI66,Offsets!$A$33,Offsets!$A$31)","v":35.160977665891096},{"$f":"IF(OFFSET(Data!AJ66,Offsets!$A$33,Offsets!$A$31)=\"\", \"-\", OFFSET(Data!AJ66,Offsets!$A$33,Offsets!$A$31))","v":41.614285714285714},{"$f":"OFFSET(Data!AK66,Offsets!$A$33,Offsets!$A$31)","v":13.2},{"$f":"OFFSET(Data!AL66,Offsets!$A$33,Offsets!$A$31)","v":110.1}]
[null,"15:30:00",null,{"$f":"OFFSET(Data!O67,Offsets!$A$33,Offsets!$A$31)","v":0.14285714285714285},{"$f":"OFFSET(Data!P67,Offsets!$A$33,Offsets!$A$31)","v":0.8571428571428571},{"$f":"OFFSET(Data!Q67,Offsets!$A$33,Offsets!$A$31)","v":2.1428571428571428},{"$f":"OFFSET(Data!R67,Offsets!$A$33,Offsets!$A$31)","v":8.7142857142857135},{"$f":"OFFSET(Data!S67,Offsets!$A$33,Offsets!$A$31)","v":34},{"$f":"OFFSET(Data!T67,Offsets!$A$33,Offsets!$A$31)","v":55.142857142857146},{"$f":"OFFSET(Data!U67,Offsets!$A$33,Offsets!$A$31)","v":70.142857142857139},{"$f":"OFFSET(Data!V67,Offsets!$A$33,Offsets!$A$31)","v":37.142857142857146},{"$f":"OFFSET(Data!W67,Offsets!$A$33,Offsets!$A$31)","v":9.8571428571428577},{"$f":"OFFSET(Data!X67,Offsets!$A$33,Offsets!$A$31)","v":2.1428571428571428},{"$f":"OFFSET(Data!Y67,Offsets!$A$33,Offsets!$A$31)","v":0.42857142857142855},{"$f":"OFFSET(Data!Z67,Offsets!$A$33,Offsets!$A$31)","v":0.2857142857142857},{"$f":"OFFSET(Data!AA67,Offsets!$A$33,Offsets!$A$31)","v":0},{"$f":"OFFSET(Data!AB67,Offsets!$A$33,Offsets!$A$31)","v":0},{"$f":"OFFSET(Data!AC67,Offsets!$A$33,Offsets!$A$31)","v":0},{"$f":"OFFSET(Data!AD67,Offsets!$A$33,Offsets!$A$31)","v":0},{"$f":"OFFSET(Data!AE67,Offsets!$A$33,Offsets!$A$31)","v":0},{"$f":"OFFSET(Data!AF67,Offsets!$A$33,Offsets!$A$31)","v":0},{"$f":"OFFSET(Data!AG67,Offsets!$A$33,Offsets!$A$31)","v":0},{"$f":"OFFSET(Data!AH67,Offsets!$A$33,Offsets!$A$31)","v":0},null,{"$f":"OFFSET(Data!AI67,Offsets!$A$33,Offsets!$A$31)","v":35.470719153538276},{"$f":"IF(OFFSET(Data!AJ67,Offsets!$A$33,Offsets!$A$31)=\"\", \"-\", OFFSET(Data!AJ67,Offsets!$A$33,Offsets!$A$31))","v":41.728571428571428},{"$f":"OFFSET(Data!AK67,Offsets!$A$33,Offsets!$A$31)","v":9.3000000000000007},{"$f":"OFFSET(Data!AL67,Offsets!$A$33,Offsets!$A$31)","v":65}]
[null,"15:45:00",null,{"$f":"OFFSET(Data!O68,Offsets!$A$33,Offsets!$A$31)","v":0.42857142857142855},{"$f":"OFFSET(Data!P68,Offsets!$A$33,Offsets!$A$31)","v":2.1428571428571428},{"$f":"OFFSET(Data!Q68,Offsets!$A$33,Offsets!$A$31)","v":3.8571428571428572},{"$f":"OFFSET(Data!R68,Offsets!$A$33,Offsets!$A$31)","v":12.428571428571429},{"$f":"OFFSET(Data!S68,Offsets!$A$33,Offsets!$A$31)","v":32.142857142857146},{"$f":"OFFSET(Data!T68,Offsets!$A$33,Offsets!$A$31)","v":55.428571428571431},{"$f":"OFFSET(Data!U68,Offsets!$A$33,Offsets!$A$31)","v":67.142857142857139},{"$f":"OFFSET(Data!V68,Offsets!$A$33,Offsets!$A$31)","v":39.857142857142854},{"$f":"OFFSET(Data!W68,Offsets!$A$33,Offsets!$A$31)","v":11},{"$f":"OFFSET(Data!X68,Offsets!$A$33,Offsets!$A$31)","v":1.5714285714285714},{"$f":"OFFSET(Data!Y68,Offsets!$A$33,Offsets!$A$31)","v":0.2857142857142857},{"$f":"OFFSET(Data!Z68,Offsets!$A$33,Offsets!$A$31)","v":0.14285714285714285},{"$f":"OFFSET(Data!AA68,Offsets!$A$33,Offsets!$A$31)","v":0.14285714285714285},{"$f":"OFFSET(Data!AB68,Offsets!$A$33,Offsets!$A$31)","v":0},{"$f":"OFFSET(Data!AC68,Offsets!$A$33,Offsets!$A$31)","v":0},{"$f":"OFFSET(Data!AD68,Offsets!$A$33,Offsets!$A$31)","v":0},{"$f":"OFFSET(Data!AE68,Offsets!$A$33,Offsets!$A$31)","v":0},{"$f":"OFFSET(Data!AF68,Offsets!$A$33,Offsets!$A$31)","v":0},{"$f":"OFFSET(Data!AG68,Offsets!$A$33,Offsets!$A$31)","v":0},{"$f":"OFFSET(Data!AH68,Offsets!$A$33,Offsets!$A$31)","v":0},null,{"$f":"OFFSET(Data!AI68,Offsets!$A$33,Offsets!$A$31)","v":35.05353870826336},{"$f":"IF(OFFSET(Data!AJ68,Offsets!$A$33,Offsets!$A$31)=\"\", \"-\", OFFSET(Data!AJ68,Offsets!$A$33,Offsets!$A$31))","v":41.49285714285714},{"$f":"OFFSET(Data!AK68,Offsets!$A$33,Offsets!$A$31)","v":8.4},{"$f":"OFFSET(Data!AL68,Offsets!$A$33,Offsets!$A$31)","v":67}]
[null,"16:00:00",null,{"$f":"OFFSET(Data!O69,Offsets!$A$33,Offsets!$A$31)","v":0},{"$f":"OFFSET(Data!P69,Offsets!$A$33,Offsets!$A$31)","v":1.4285714285714286},{"$f":"OFFSET(Data!Q69,Offsets!$A$33,Offsets!$A$31)","v":3.1428571428571428},{"$f":"OFFSET(Data!R69,Offsets!$A$33,Offsets!$A$31)","v":9.7142857142857135},{"$f":"OFFSET(Data!S69,Offsets!$A$33,Offsets!$A$31)","v":40.428571428571431},{"$f":"OFFSET(Data!T69,Offsets!$A$33,Offsets!$A$31)","v":60.285714285714285},{"$f":"OFFSET(Data!U69,Offsets!$A$33,Offsets!$A$31)","v":63.571428571428569},{"$f":"OFFSET(Data!V69,Offsets!$A$33,Offsets!$A$31)","v":40.857142857142854},{"$f":"OFFSET(Data!W69,Offsets!$A$33,Offsets!$A$31)","v":12.428571428571429},{"$f":"OFFSET(Data!X69,Offsets!$A$33,Offsets!$A$31)","v":2.7142857142857144},{"$f":"OFFSET(Data!Y69,Offsets!$A$33,Offsets!$A$31)","v":0.7142857142857143},{"$f":"OFFSET(Data!Z69,Offsets!$A$33,Offsets!$A$31)","v":0},{"$f":"OFFSET(Data!AA69,Offsets!$A$33,Offsets!$A$31)","v":0},{"$f":"OFFSET(Data!AB69,Offsets!$A$33,Offsets!$A$31)","v":0.14285714285714285},{"$f":"OFFSET(Data!AC69,Offsets!$A$33,Offsets!$A$31)","v":0},{"$f":"OFFSET(Data!AD69,Offsets!$A$33,Offsets!$A$31)","v":0},{"$f":"OFFSET(Data!AE69,Offsets!$A$33,Offsets!$A$31)","v":0},{"$f":"OFFSET(Data!AF69,Offsets!$A$33,Offsets!$A$31)","v":0},{"$f":"OFFSET(Data!AG69,Offsets!$A$33,Offsets!$A$31)","v":0.14285714285714285},{"$f":"OFFSET(Data!AH69,Offsets!$A$33,Offsets!$A$31)","v":0.2857142857142857},null,{"$f":"OFFSET(Data!AI69,Offsets!$A$33,Offsets!$A$31)","v":35.377124468802485},{"$f":"IF(OFFSET(Data!AJ69,Offsets!$A$33,Offsets!$A$31)=\"\", \"-\", OFFSET(Data!AJ69,Offsets!$A$33,Offsets!$A$31))","v":41.828571428571436},{"$f":"OFFSET(Data!AK69,Offsets!$A$33,Offsets!$A$31)","v":11.7},{"$f":"OFFSET(Data!AL69,Offsets!$A$33,Offsets!$A$31)","v":122.5}]
[null,"16:15:00",null,{"$f":"OFFSET(Data!O70,Offsets!$A$33,Offsets!$A$31)","v":0},{"$f":"OFFSET(Data!P70,Offsets!$A$33,Offsets!$A$31)","v":2.5714285714285716},{"$f":"OFFSET(Data!Q70,Offsets!$A$33,Offsets!$A$31)","v":5.7142857142857144},{"$f":"OFFSET(Data!R70,Offsets!$A$33,Offsets!$A$31)","v":10.142857142857142},{"$f":"OFFSET(Data!S70,Offsets!$A$33,Offsets!$A$31)","v":29.285714285714285},{"$f":"OFFSET(Data!T70,Offsets!$A$33,Offsets!$A$31)","v":51.428571428571431},{"$f":"OFFSET(Data!U70,Offsets!$A$33,Offsets!$A$31)","v":67.714285714285708},{"$f":"OFFSET(Data!V70,Offsets!$A$33,Offsets!$A$31)","v":40.285714285714285},{"$f":"OFFSET(Data!W70,Offsets!$A$33,Offsets!$A$31)","v":13.571428571428571},{"$f":"OFFSET(Data!X70,Offsets!$A$33,Offsets!$A$31)","v":3.4285714285714284},{"$f":"OFFSET(Data!Y70,Offsets!$A$33,Offsets!$A$31)","v":0.7142857142857143},{"$f":"OFFSET(Data!Z70,Offsets!$A$33,Offsets!$A$31)","v":0.2857142857142857},{"$f":"OFFSET(Data!AA70,Offsets!$A$33,Offsets!$A$31)","v":0},{"$f":"OFFSET(Data!AB70,Offsets!$A$33,Offsets!$A$31)","v":0},{"$f":"OFFSET(Data!AC70,Offsets!$A$33,Offsets!$A$31)","v":0},{"$f":"OFFSET(Data!AD70,Offsets!$A$33,Offsets!$A$31)","v":0},{"$f":"OFFSET(Data!AE70,Offsets!$A$33,Offsets!$A$31)","v":0},{"$f":"OFFSET(Data!AF70,Offsets!$A$33,Offsets!$A$31)","v":0},{"$f":"OFFSET(Data!AG70,Offsets!$A$33,Offsets!$A$31)","v":0},{"$f":"OFFSET(Data!AH70,Offsets!$A$33,Offsets!$A$31)","v":0},null,{"$f":"OFFSET(Data!AI70,Offsets!$A$33,Offsets!$A$31)","v":35.431102276005454},{"$f":"IF(OFFSET(Data!AJ70,Offsets!$A$33,Offsets!$A$31)=\"\", \"-\", OFFSET(Data!AJ70,Offsets!$A$33,Offsets!$A$31))","v":42.221428571428575},{"$f":"OFFSET(Data!AK70,Offsets!$A$33,Offsets!$A$31)","v":11.2},{"$f":"OFFSET(Data!AL70,Offsets!$A$33,Offsets!$A$31)","v":63.8}]
[null,"16:30:00",null,{"$f":"OFFSET(Data!O71,Offsets!$A$33,Offsets!$A$31)","v":0},{"$f":"OFFSET(Data!P71,Offsets!$A$33,Offsets!$A$31)","v":0.14285714285714285},{"$f":"OFFSET(Data!Q71,Offsets!$A$33,Offsets!$A$31)","v":1.4285714285714286},{"$f":"OFFSET(Data!R71,Offsets!$A$33,Offsets!$A$31)","v":5},{"$f":"OFFSET(Data!S71,Offsets!$A$33,Offsets!$A$31)","v":35.142857142857146},{"$f":"OFFSET(Data!T71,Offsets!$A$33,Offsets!$A$31)","v":60.571428571428569},{"$f":"OFFSET(Data!U71,Offsets!$A$33,Offsets!$A$31)","v":67.428571428571431},{"$f":"OFFSET(Data!V71,Offsets!$A$33,Offsets!$A$31)","v":39.428571428571431},{"$f":"OFFSET(Data!W71,Offsets!$A$33,Offsets!$A$31)","v":12.428571428571429},{"$f":"OFFSET(Data!X71,Offsets!$A$33,Offsets!$A$31)","v":2.2857142857142856},{"$f":"OFFSET(Data!Y71,Offsets!$A$33,Offsets!$A$31)","v":0.42857142857142855},{"$f":"OFFSET(Data!Z71,Offsets!$A$33,Offsets!$A$31)","v":0},{"$f":"OFFSET(Data!AA71,Offsets!$A$33,Offsets!$A$31)","v":0},{"$f":"OFFSET(Data!AB71,Offsets!$A$33,Offsets!$A$31)","v":0.14285714285714285},{"$f":"OFFSET(Data!AC71,Offsets!$A$33,Offsets!$A$31)","v":0},{"$f":"OFFSET(Data!AD71,Offsets!$A$33,Offsets!$A$31)","v":0},{"$f":"OFFSET(Data!AE71,Offsets!$A$33,Offsets!$A$31)","v":0},{"$f":"OFFSET(Data!AF71,Offsets!$A$33,Offsets!$A$31)","v":0},{"$f":"OFFSET(Data!AG71,Offsets!$A$33,Offsets!$A$31)","v":0},{"$f":"OFFSET(Data!AH71,Offsets!$A$33,Offsets!$A$31)","v":0.14285714285714285},null,{"$f":"OFFSET(Data!AI71,Offsets!$A$33,Offsets!$A$31)","v":35.871861337860828},{"$f":"IF(OFFSET(Data!AJ71,Offsets!$A$33,Offsets!$A$31)=\"\", \"-\", OFFSET(Data!AJ71,Offsets!$A$33,Offsets!$A$31))","v":41.850000000000009},{"$f":"OFFSET(Data!AK71,Offsets!$A$33,Offsets!$A$31)","v":11.2},{"$f":"OFFSET(Data!AL71,Offsets!$A$33,Offsets!$A$31)","v":108.4}]
[null,"16:45:00",null,{"$f":"OFFSET(Data!O72,Offsets!$A$33,Offsets!$A$31)","v":0},{"$f":"OFFSET(Data!P72,Offsets!$A$33,Offsets!$A$31)","v":0.2857142857142857},{"$f":"OFFSET(Data!Q72,Offsets!$A$33,Offsets!$A$31)","v":1.7142857142857142},{"$f":"OFFSET(Data!R72,Offsets!$A$33,Offsets!$A$31)","v":5},{"$f":"OFFSET(Data!S72,Offsets!$A$33,Offsets!$A$31)","v":31.142857142857142},{"$f":"OFFSET(Data!T72,Offsets!$A$33,Offsets!$A$31)","v":56.714285714285715},{"$f":"OFFSET(Data!U72,Offsets!$A$33,Offsets!$A$31)","v":66.714285714285708},{"$f":"OFFSET(Data!V72,Offsets!$A$33,Offsets!$A$31)","v":36.714285714285715},{"$f":"OFFSET(Data!W72,Offsets!$A$33,Offsets!$A$31)","v":12.142857142857142},{"$f":"OFFSET(Data!X72,Offsets!$A$33,Offsets!$A$31)","v":3.7142857142857144},{"$f":"OFFSET(Data!Y72,Offsets!$A$33,Offsets!$A$31)","v":0.8571428571428571},{"$f":"OFFSET(Data!Z72,Offsets!$A$33,Offsets!$A$31)","v":0.2857142857142857},{"$f":"OFFSET(Data!AA72,Offsets!$A$33,Offsets!$A$31)","v":0},{"$f":"OFFSET(Data!AB72,Offsets!$A$33,Offsets!$A$31)","v":0},{"$f":"OFFSET(Data!AC72,Offsets!$A$33,Offsets!$A$31)","v":0},{"$f":"OFFSET(Data!AD72,Offsets!$A$33,Offsets!$A$31)","v":0},{"$f":"OFFSET(Data!AE72,Offsets!$A$33,Offsets!$A$31)","v":0},{"$f":"OFFSET(Data!AF72,Offsets!$A$33,Offsets!$A$31)","v":0},{"$f":"OFFSET(Data!AG72,Offsets!$A$33,Offsets!$A$31)","v":0},{"$f":"OFFSET(Data!AH72,Offsets!$A$33,Offsets!$A$31)","v":0},null,{"$f":"OFFSET(Data!AI72,Offsets!$A$33,Offsets!$A$31)","v":35.932270032504725},{"$f":"IF(OFFSET(Data!AJ72,Offsets!$A$33,Offsets!$A$31)=\"\", \"-\", OFFSET(Data!AJ72,Offsets!$A$33,Offsets!$A$31))","v":42.342857142857142},{"$f":"OFFSET(Data!AK72,Offsets!$A$33,Offsets!$A$31)","v":12.5},{"$f":"OFFSET(Data!AL72,Offsets!$A$33,Offsets!$A$31)","v":61.6}]
[null,"17:00:00",null,{"$f":"OFFSET(Data!O73,Offsets!$A$33,Offsets!$A$31)","v":0.2857142857142857},{"$f":"OFFSET(Data!P73,Offsets!$A$33,Offsets!$A$31)","v":2.7142857142857144},{"$f":"OFFSET(Data!Q73,Offsets!$A$33,Offsets!$A$31)","v":2.7142857142857144},{"$f":"OFFSET(Data!R73,Offsets!$A$33,Offsets!$A$31)","v":8.7142857142857135},{"$f":"OFFSET(Data!S73,Offsets!$A$33,Offsets!$A$31)","v":29.857142857142858},{"$f":"OFFSET(Data!T73,Offsets!$A$33,Offsets!$A$31)","v":63.857142857142854},{"$f":"OFFSET(Data!U73,Offsets!$A$33,Offsets!$A$31)","v":71.285714285714292},{"$f":"OFFSET(Data!V73,Offsets!$A$33,Offsets!$A$31)","v":37},{"$f":"OFFSET(Data!W73,Offsets!$A$33,Offsets!$A$31)","v":14.285714285714286},{"$f":"OFFSET(Data!X73,Offsets!$A$33,Offsets!$A$31)","v":2.8571428571428572},{"$f":"OFFSET(Data!Y73,Offsets!$A$33,Offsets!$A$31)","v":0.7142857142857143},{"$f":"OFFSET(Data!Z73,Offsets!$A$33,Offsets!$A$31)","v":0.2857142857142857},{"$f":"OFFSET(Data!AA73,Offsets!$A$33,Offsets!$A$31)","v":0.14285714285714285},{"$f":"OFFSET(Data!AB73,Offsets!$A$33,Offsets!$A$31)","v":0},{"$f":"OFFSET(Data!AC73,Offsets!$A$33,Offsets!$A$31)","v":0},{"$f":"OFFSET(Data!AD73,Offsets!$A$33,Offsets!$A$31)","v":0},{"$f":"OFFSET(Data!AE73,Offsets!$A$33,Offsets!$A$31)","v":0},{"$f":"OFFSET(Data!AF73,Offsets!$A$33,Offsets!$A$31)","v":0},{"$f":"OFFSET(Data!AG73,Offsets!$A$33,Offsets!$A$31)","v":0},{"$f":"OFFSET(Data!AH73,Offsets!$A$33,Offsets!$A$31)","v":0},null,{"$f":"OFFSET(Data!AI73,Offsets!$A$33,Offsets!$A$31)","v":35.533638467222069},{"$f":"IF(OFFSET(Data!AJ73,Offsets!$A$33,Offsets!$A$31)=\"\", \"-\", OFFSET(Data!AJ73,Offsets!$A$33,Offsets!$A$31))","v":42.314285714285717},{"$f":"OFFSET(Data!AK73,Offsets!$A$33,Offsets!$A$31)","v":7.1},{"$f":"OFFSET(Data!AL73,Offsets!$A$33,Offsets!$A$31)","v":68.400000000000006}]
[null,"17:15:00",null,{"$f":"OFFSET(Data!O74,Offsets!$A$33,Offsets!$A$31)","v":0.2857142857142857},{"$f":"OFFSET(Data!P74,Offsets!$A$33,Offsets!$A$31)","v":1.5714285714285714},{"$f":"OFFSET(Data!Q74,Offsets!$A$33,Offsets!$A$31)","v":3.4285714285714284},{"$f":"OFFSET(Data!R74,Offsets!$A$33,Offsets!$A$31)","v":9.1428571428571423},{"$f":"OFFSET(Data!S74,Offsets!$A$33,Offsets!$A$31)","v":30.857142857142858},{"$f":"OFFSET(Data!T74,Offsets!$A$33,Offsets!$A$31)","v":52.714285714285715},{"$f":"OFFSET(Data!U74,Offsets!$A$33,Offsets!$A$31)","v":65},{"$f":"OFFSET(Data!V74,Offsets!$A$33,Offsets!$A$31)","v":42.142857142857146},{"$f":"OFFSET(Data!W74,Offsets!$A$33,Offsets!$A$31)","v":13.714285714285714},{"$f":"OFFSET(Data!X74,Offsets!$A$33,Offsets!$A$31)","v":3.2857142857142856},{"$f":"OFFSET(Data!Y74,Offsets!$A$33,Offsets!$A$31)","v":0.42857142857142855},{"$f":"OFFSET(Data!Z74,Offsets!$A$33,Offsets!$A$31)","v":0.2857142857142857},{"$f":"OFFSET(Data!AA74,Offsets!$A$33,Offsets!$A$31)","v":0.14285714285714285},{"$f":"OFFSET(Data!AB74,Offsets!$A$33,Offsets!$A$31)","v":0},{"$f":"OFFSET(Data!AC74,Offsets!$A$33,Offsets!$A$31)","v":0},{"$f":"OFFSET(Data!AD74,Offsets!$A$33,Offsets!$A$31)","v":0},{"$f":"OFFSET(Data!AE74,Offsets!$A$33,Offsets!$A$31)","v":0},{"$f":"OFFSET(Data!AF74,Offsets!$A$33,Offsets!$A$31)","v":0},{"$f":"OFFSET(Data!AG74,Offsets!$A$33,Offsets!$A$31)","v":0},{"$f":"OFFSET(Data!AH74,Offsets!$A$33,Offsets!$A$31)","v":0},null,{"$f":"OFFSET(Data!AI74,Offsets!$A$33,Offsets!$A$31)","v":35.807071733325657},{"$f":"IF(OFFSET(Data!AJ74,Offsets!$A$33,Offsets!$A$31)=\"\", \"-\", OFFSET(Data!AJ74,Offsets!$A$33,Offsets!$A$31))","v":42.51428571428572},{"$f":"OFFSET(Data!AK74,Offsets!$A$33,Offsets!$A$31)","v":5.5},{"$f":"OFFSET(Data!AL74,Offsets!$A$33,Offsets!$A$31)","v":69}]
[null,"17:30:00",null,{"$f":"OFFSET(Data!O75,Offsets!$A$33,Offsets!$A$31)","v":0},{"$f":"OFFSET(Data!P75,Offsets!$A$33,Offsets!$A$31)","v":0.42857142857142855},{"$f":"OFFSET(Data!Q75,Offsets!$A$33,Offsets!$A$31)","v":1.7142857142857142},{"$f":"OFFSET(Data!R75,Offsets!$A$33,Offsets!$A$31)","v":5.8571428571428568},{"$f":"OFFSET(Data!S75,Offsets!$A$33,Offsets!$A$31)","v":27.571428571428573},{"$f":"OFFSET(Data!T75,Offsets!$A$33,Offsets!$A$31)","v":59.857142857142854},{"$f":"OFFSET(Data!U75,Offsets!$A$33,Offsets!$A$31)","v":64.857142857142861},{"$f":"OFFSET(Data!V75,Offsets!$A$33,Offsets!$A$31)","v":40.714285714285715},{"$f":"OFFSET(Data!W75,Offsets!$A$33,Offsets!$A$31)","v":13.285714285714286},{"$f":"OFFSET(Data!X75,Offsets!$A$33,Offsets!$A$31)","v":3.7142857142857144},{"$f":"OFFSET(Data!Y75,Offsets!$A$33,Offsets!$A$31)","v":0.7142857142857143},{"$f":"OFFSET(Data!Z75,Offsets!$A$33,Offsets!$A$31)","v":0.42857142857142855},{"$f":"OFFSET(Data!AA75,Offsets!$A$33,Offsets!$A$31)","v":0.14285714285714285},{"$f":"OFFSET(Data!AB75,Offsets!$A$33,Offsets!$A$31)","v":0},{"$f":"OFFSET(Data!AC75,Offsets!$A$33,Offsets!$A$31)","v":0},{"$f":"OFFSET(Data!AD75,Offsets!$A$33,Offsets!$A$31)","v":0},{"$f":"OFFSET(Data!AE75,Offsets!$A$33,Offsets!$A$31)","v":0},{"$f":"OFFSET(Data!AF75,Offsets!$A$33,Offsets!$A$31)","v":0},{"$f":"OFFSET(Data!AG75,Offsets!$A$33,Offsets!$A$31)","v":0},{"$f":"OFFSET(Data!AH75,Offsets!$A$33,Offsets!$A$31)","v":0},null,{"$f":"OFFSET(Data!AI75,Offsets!$A$33,Offsets!$A$31)","v":36.283901268378933},{"$f":"IF(OFFSET(Data!AJ75,Offsets!$A$33,Offsets!$A$31)=\"\", \"-\", OFFSET(Data!AJ75,Offsets!$A$33,Offsets!$A$31))","v":42.564285714285717},{"$f":"OFFSET(Data!AK75,Offsets!$A$33,Offsets!$A$31)","v":11.7},{"$f":"OFFSET(Data!AL75,Offsets!$A$33,Offsets!$A$31)","v":65.5}]
[null,"17:45:00",null,{"$f":"OFFSET(Data!O76,Offsets!$A$33,Offsets!$A$31)","v":0},{"$f":"OFFSET(Data!P76,Offsets!$A$33,Offsets!$A$31)","v":0.42857142857142855},{"$f":"OFFSET(Data!Q76,Offsets!$A$33,Offsets!$A$31)","v":6.2857142857142856},{"$f":"OFFSET(Data!R76,Offsets!$A$33,Offsets!$A$31)","v":6.7142857142857144},{"$f":"OFFSET(Data!S76,Offsets!$A$33,Offsets!$A$31)","v":26.428571428571427},{"$f":"OFFSET(Data!T76,Offsets!$A$33,Offsets!$A$31)","v":38.714285714285715},{"$f":"OFFSET(Data!U76,Offsets!$A$33,Offsets!$A$31)","v":56.714285714285715},{"$f":"OFFSET(Data!V76,Offsets!$A$33,Offsets!$A$31)","v":38.285714285714285},{"$f":"OFFSET(Data!W76,Offsets!$A$33,Offsets!$A$31)","v":15},{"$f":"OFFSET(Data!X76,Offsets!$A$33,Offsets!$A$31)","v":4.5714285714285712},{"$f":"OFFSET(Data!Y76,Offsets!$A$33,Offsets!$A$31)","v":0.7142857142857143},{"$f":"OFFSET(Data!Z76,Offsets!$A$33,Offsets!$A$31)","v":0.2857142857142857},{"$f":"OFFSET(Data!AA76,Offsets!$A$33,Offsets!$A$31)","v":0},{"$f":"OFFSET(Data!AB76,Offsets!$A$33,Offsets!$A$31)","v":0},{"$f":"OFFSET(Data!AC76,Offsets!$A$33,Offsets!$A$31)","v":0},{"$f":"OFFSET(Data!AD76,Offsets!$A$33,Offsets!$A$31)","v":0},{"$f":"OFFSET(Data!AE76,Offsets!$A$33,Offsets!$A$31)","v":0},{"$f":"OFFSET(Data!AF76,Offsets!$A$33,Offsets!$A$31)","v":0},{"$f":"OFFSET(Data!AG76,Offsets!$A$33,Offsets!$A$31)","v":0},{"$f":"OFFSET(Data!AH76,Offsets!$A$33,Offsets!$A$31)","v":0},null,{"$f":"OFFSET(Data!AI76,Offsets!$A$33,Offsets!$A$31)","v":36.369224696625011},{"$f":"IF(OFFSET(Data!AJ76,Offsets!$A$33,Offsets!$A$31)=\"\", \"-\", OFFSET(Data!AJ76,Offsets!$A$33,Offsets!$A$31))","v":43.114285714285714},{"$f":"OFFSET(Data!AK76,Offsets!$A$33,Offsets!$A$31)","v":13},{"$f":"OFFSET(Data!AL76,Offsets!$A$33,Offsets!$A$31)","v":63.8}]
[null,"18:00:00",null,{"$f":"OFFSET(Data!O77,Offsets!$A$33,Offsets!$A$31)","v":0.42857142857142855},{"$f":"OFFSET(Data!P77,Offsets!$A$33,Offsets!$A$31)","v":0.7142857142857143},{"$f":"OFFSET(Data!Q77,Offsets!$A$33,Offsets!$A$31)","v":2},{"$f":"OFFSET(Data!R77,Offsets!$A$33,Offsets!$A$31)","v":10.142857142857142},{"$f":"OFFSET(Data!S77,Offsets!$A$33,Offsets!$A$31)","v":24.714285714285715},{"$f":"OFFSET(Data!T77,Offsets!$A$33,Offsets!$A$31)","v":46.142857142857146},{"$f":"OFFSET(Data!U77,Offsets!$A$33,Offsets!$A$31)","v":57.857142857142854},{"$f":"OFFSET(Data!V77,Offsets!$A$33,Offsets!$A$31)","v":37.285714285714285},{"$f":"OFFSET(Data!W77,Offsets!$A$33,Offsets!$A$31)","v":10.857142857142858},{"$f":"OFFSET(Data!X77,Offsets!$A$33,Offsets!$A$31)","v":4.8571428571428568},{"$f":"OFFSET(Data!Y77,Offsets!$A$33,Offsets!$A$31)","v":0.5714285714285714},{"$f":"OFFSET(Data!Z77,Offsets!$A$33,Offsets!$A$31)","v":0.42857142857142855},{"$f":"OFFSET(Data!AA77,Offsets!$A$33,Offsets!$A$31)","v":0},{"$f":"OFFSET(Data!AB77,Offsets!$A$33,Offsets!$A$31)","v":0},{"$f":"OFFSET(Data!AC77,Offsets!$A$33,Offsets!$A$31)","v":0},{"$f":"OFFSET(Data!AD77,Offsets!$A$33,Offsets!$A$31)","v":0},{"$f":"OFFSET(Data!AE77,Offsets!$A$33,Offsets!$A$31)","v":0},{"$f":"OFFSET(Data!AF77,Offsets!$A$33,Offsets!$A$31)","v":0},{"$f":"OFFSET(Data!AG77,Offsets!$A$33,Offsets!$A$31)","v":0},{"$f":"OFFSET(Data!AH77,Offsets!$A$33,Offsets!$A$31)","v":0},null,{"$f":"OFFSET(Data!AI77,Offsets!$A$33,Offsets!$A$31)","v":36.072676688358555},{"$f":"IF(OFFSET(Data!AJ77,Offsets!$A$33,Offsets!$A$31)=\"\", \"-\", OFFSET(Data!AJ77,Offsets!$A$33,Offsets!$A$31))","v":42.364285714285721},{"$f":"OFFSET(Data!AK77,Offsets!$A$33,Offsets!$A$31)","v":7.3},{"$f":"OFFSET(Data!AL77,Offsets!$A$33,Offsets!$A$31)","v":63.2}]
[null,"18:15:00",null,{"$f":"OFFSET(Data!O78,Offsets!$A$33,Offsets!$A$31)","v":0},{"$f":"OFFSET(Data!P78,Offsets!$A$33,Offsets!$A$31)","v":0.14285714285714285},{"$f":"OFFSET(Data!Q78,Offsets!$A$33,Offsets!$A$31)","v":1.4285714285714286},{"$f":"OFFSET(Data!R78,Offsets!$A$33,Offsets!$A$31)","v":6},{"$f":"OFFSET(Data!S78,Offsets!$A$33,Offsets!$A$31)","v":18.714285714285715},{"$f":"OFFSET(Data!T78,Offsets!$A$33,Offsets!$A$31)","v":36.285714285714285},{"$f":"OFFSET(Data!U78,Offsets!$A$33,Offsets!$A$31)","v":44.857142857142854},{"$f":"OFFSET(Data!V78,Offsets!$A$33,Offsets!$A$31)","v":37.142857142857146},{"$f":"OFFSET(Data!W78,Offsets!$A$33,Offsets!$A$31)","v":14},{"$f":"OFFSET(Data!X78,Offsets!$A$33,Offsets!$A$31)","v":4.8571428571428568},{"$f":"OFFSET(Data!Y78,Offsets!$A$33,Offsets!$A$31)","v":0.42857142857142855},{"$f":"OFFSET(Data!Z78,Offsets!$A$33,Offsets!$A$31)","v":0.14285714285714285},{"$f":"OFFSET(Data!AA78,Offsets!$A$33,Offsets!$A$31)","v":0.14285714285714285},{"$f":"OFFSET(Data!AB78,Offsets!$A$33,Offsets!$A$31)","v":0},{"$f":"OFFSET(Data!AC78,Offsets!$A$33,Offsets!$A$31)","v":0},{"$f":"OFFSET(Data!AD78,Offsets!$A$33,Offsets!$A$31)","v":0},{"$f":"OFFSET(Data!AE78,Offsets!$A$33,Offsets!$A$31)","v":0},{"$f":"OFFSET(Data!AF78,Offsets!$A$33,Offsets!$A$31)","v":0},{"$f":"OFFSET(Data!AG78,Offsets!$A$33,Offsets!$A$31)","v":0},{"$f":"OFFSET(Data!AH78,Offsets!$A$33,Offsets!$A$31)","v":0},null,{"$f":"OFFSET(Data!AI78,Offsets!$A$33,Offsets!$A$31)","v":37.031005636618815},{"$f":"IF(OFFSET(Data!AJ78,Offsets!$A$33,Offsets!$A$31)=\"\", \"-\", OFFSET(Data!AJ78,Offsets!$A$33,Offsets!$A$31))","v":43.992857142857147},{"$f":"OFFSET(Data!AK78,Offsets!$A$33,Offsets!$A$31)","v":14.2},{"$f":"OFFSET(Data!AL78,Offsets!$A$33,Offsets!$A$31)","v":69.400000000000006}]
[null,"18:30:00",null,{"$f":"OFFSET(Data!O79,Offsets!$A$33,Offsets!$A$31)","v":0.14285714285714285},{"$f":"OFFSET(Data!P79,Offsets!$A$33,Offsets!$A$31)","v":0.5714285714285714},{"$f":"OFFSET(Data!Q79,Offsets!$A$33,Offsets!$A$31)","v":1.2857142857142858},{"$f":"OFFSET(Data!R79,Offsets!$A$33,Offsets!$A$31)","v":3.1428571428571428},{"$f":"OFFSET(Data!S79,Offsets!$A$33,Offsets!$A$31)","v":23.285714285714285},{"$f":"OFFSET(Data!T79,Offsets!$A$33,Offsets!$A$31)","v":43.857142857142854},{"$f":"OFFSET(Data!U79,Offsets!$A$33,Offsets!$A$31)","v":52.857142857142854},{"$f":"OFFSET(Data!V79,Offsets!$A$33,Offsets!$A$31)","v":38.142857142857146},{"$f":"OFFSET(Data!W79,Offsets!$A$33,Offsets!$A$31)","v":17.428571428571427},{"$f":"OFFSET(Data!X79,Offsets!$A$33,Offsets!$A$31)","v":4.7142857142857144},{"$f":"OFFSET(Data!Y79,Offsets!$A$33,Offsets!$A$31)","v":1.5714285714285714},{"$f":"OFFSET(Data!Z79,Offsets!$A$33,Offsets!$A$31)","v":0.2857142857142857},{"$f":"OFFSET(Data!AA79,Offsets!$A$33,Offsets!$A$31)","v":0.14285714285714285},{"$f":"OFFSET(Data!AB79,Offsets!$A$33,Offsets!$A$31)","v":0},{"$f":"OFFSET(Data!AC79,Offsets!$A$33,Offsets!$A$31)","v":0.14285714285714285},{"$f":"OFFSET(Data!AD79,Offsets!$A$33,Offsets!$A$31)","v":0},{"$f":"OFFSET(Data!AE79,Offsets!$A$33,Offsets!$A$31)","v":0},{"$f":"OFFSET(Data!AF79,Offsets!$A$33,Offsets!$A$31)","v":0},{"$f":"OFFSET(Data!AG79,Offsets!$A$33,Offsets!$A$31)","v":0},{"$f":"OFFSET(Data!AH79,Offsets!$A$33,Offsets!$A$31)","v":0},null,{"$f":"OFFSET(Data!AI79,Offsets!$A$33,Offsets!$A$31)","v":37.25153584640892},{"$f":"IF(OFFSET(Data!AJ79,Offsets!$A$33,Offsets!$A$31)=\"\", \"-\", OFFSET(Data!AJ79,Offsets!$A$33,Offsets!$A$31))","v":44.442857142857143},{"$f":"OFFSET(Data!AK79,Offsets!$A$33,Offsets!$A$31)","v":7.8},{"$f":"OFFSET(Data!AL79,Offsets!$A$33,Offsets!$A$31)","v":77.099999999999994}]
[null,"18:45:00",null,{"$f":"OFFSET(Data!O80,Offsets!$A$33,Offsets!$A$31)","v":0},{"$f":"OFFSET(Data!P80,Offsets!$A$33,Offsets!$A$31)","v":1.1428571428571428},{"$f":"OFFSET(Data!Q80,Offsets!$A$33,Offsets!$A$31)","v":3.5714285714285716},{"$f":"OFFSET(Data!R80,Offsets!$A$33,Offsets!$A$31)","v":3.7142857142857144},{"$f":"OFFSET(Data!S80,Offsets!$A$33,Offsets!$A$31)","v":17.285714285714285},{"$f":"OFFSET(Data!T80,Offsets!$A$33,Offsets!$A$31)","v":36.714285714285715},{"$f":"OFFSET(Data!U80,Offsets!$A$33,Offsets!$A$31)","v":47.571428571428569},{"$f":"OFFSET(Data!V80,Offsets!$A$33,Offsets!$A$31)","v":34.571428571428569},{"$f":"OFFSET(Data!W80,Offsets!$A$33,Offsets!$A$31)","v":12},{"$f":"OFFSET(Data!X80,Offsets!$A$33,Offsets!$A$31)","v":4.5714285714285712},{"$f":"OFFSET(Data!Y80,Offsets!$A$33,Offsets!$A$31)","v":1.2857142857142858},{"$f":"OFFSET(Data!Z80,Offsets!$A$33,Offsets!$A$31)","v":0.5714285714285714},{"$f":"OFFSET(Data!AA80,Offsets!$A$33,Offsets!$A$31)","v":0.14285714285714285},{"$f":"OFFSET(Data!AB80,Offsets!$A$33,Offsets!$A$31)","v":0},{"$f":"OFFSET(Data!AC80,Offsets!$A$33,Offsets!$A$31)","v":0},{"$f":"OFFSET(Data!AD80,Offsets!$A$33,Offsets!$A$31)","v":0},{"$f":"OFFSET(Data!AE80,Offsets!$A$33,Offsets!$A$31)","v":0},{"$f":"OFFSET(Data!AF80,Offsets!$A$33,Offsets!$A$31)","v":0},{"$f":"OFFSET(Data!AG80,Offsets!$A$33,Offsets!$A$31)","v":0},{"$f":"OFFSET(Data!AH80,Offsets!$A$33,Offsets!$A$31)","v":0},null,{"$f":"OFFSET(Data!AI80,Offsets!$A$33,Offsets!$A$31)","v":37.069455843311736},{"$f":"IF(OFFSET(Data!AJ80,Offsets!$A$33,Offsets!$A$31)=\"\", \"-\", OFFSET(Data!AJ80,Offsets!$A$33,Offsets!$A$31))","v":44.092857142857142},{"$f":"OFFSET(Data!AK80,Offsets!$A$33,Offsets!$A$31)","v":10.3},{"$f":"OFFSET(Data!AL80,Offsets!$A$33,Offsets!$A$31)","v":65.599999999999994}]
[null,"19:00:00",null,{"$f":"OFFSET(Data!O81,Offsets!$A$33,Offsets!$A$31)","v":0},{"$f":"OFFSET(Data!P81,Offsets!$A$33,Offsets!$A$31)","v":0.14285714285714285},{"$f":"OFFSET(Data!Q81,Offsets!$A$33,Offsets!$A$31)","v":0.8571428571428571},{"$f":"OFFSET(Data!R81,Offsets!$A$33,Offsets!$A$31)","v":4.2857142857142856},{"$f":"OFFSET(Data!S81,Offsets!$A$33,Offsets!$A$31)","v":18.428571428571427},{"$f":"OFFSET(Data!T81,Offsets!$A$33,Offsets!$A$31)","v":34},{"$f":"OFFSET(Data!U81,Offsets!$A$33,Offsets!$A$31)","v":41.142857142857146},{"$f":"OFFSET(Data!V81,Offsets!$A$33,Offsets!$A$31)","v":27.142857142857142},{"$f":"OFFSET(Data!W81,Offsets!$A$33,Offsets!$A$31)","v":14},{"$f":"OFFSET(Data!X81,Offsets!$A$33,Offsets!$A$31)","v":4.5714285714285712},{"$f":"OFFSET(Data!Y81,Offsets!$A$33,Offsets!$A$31)","v":0.5714285714285714},{"$f":"OFFSET(Data!Z81,Offsets!$A$33,Offsets!$A$31)","v":0.42857142857142855},{"$f":"OFFSET(Data!AA81,Offsets!$A$33,Offsets!$A$31)","v":0.14285714285714285},{"$f":"OFFSET(Data!AB81,Offsets!$A$33,Offsets!$A$31)","v":0.2857142857142857},{"$f":"OFFSET(Data!AC81,Offsets!$A$33,Offsets!$A$31)","v":0.2857142857142857},{"$f":"OFFSET(Data!AD81,Offsets!$A$33,Offsets!$A$31)","v":0},{"$f":"OFFSET(Data!AE81,Offsets!$A$33,Offsets!$A$31)","v":0},{"$f":"OFFSET(Data!AF81,Offsets!$A$33,Offsets!$A$31)","v":0},{"$f":"OFFSET(Data!AG81,Offsets!$A$33,Offsets!$A$31)","v":0},{"$f":"OFFSET(Data!AH81,Offsets!$A$33,Offsets!$A$31)","v":0},null,{"$f":"OFFSET(Data!AI81,Offsets!$A$33,Offsets!$A$31)","v":37.298524010710928},{"$f":"IF(OFFSET(Data!AJ81,Offsets!$A$33,Offsets!$A$31)=\"\", \"-\", OFFSET(Data!AJ81,Offsets!$A$33,Offsets!$A$31))","v":44.385714285714286},{"$f":"OFFSET(Data!AK81,Offsets!$A$33,Offsets!$A$31)","v":14.5},{"$f":"OFFSET(Data!AL81,Offsets!$A$33,Offsets!$A$31)","v":75.599999999999994}]
[null,"19:15:00",null,{"$f":"OFFSET(Data!O82,Offsets!$A$33,Offsets!$A$31)","v":0.14285714285714285},{"$f":"OFFSET(Data!P82,Offsets!$A$33,Offsets!$A$31)","v":0.8571428571428571},{"$f":"OFFSET(Data!Q82,Offsets!$A$33,Offsets!$A$31)","v":1.7142857142857142},{"$f":"OFFSET(Data!R82,Offsets!$A$33,Offsets!$A$31)","v":3.5714285714285716},{"$f":"OFFSET(Data!S82,Offsets!$A$33,Offsets!$A$31)","v":15.714285714285714},{"$f":"OFFSET(Data!T82,Offsets!$A$33,Offsets!$A$31)","v":25},{"$f":"OFFSET(Data!U82,Offsets!$A$33,Offsets!$A$31)","v":31.857142857142858},{"$f":"OFFSET(Data!V82,Offsets!$A$33,Offsets!$A$31)","v":26.428571428571427},{"$f":"OFFSET(Data!W82,Offsets!$A$33,Offsets!$A$31)","v":12.285714285714286},{"$f":"OFFSET(Data!X82,Offsets!$A$33,Offsets!$A$31)","v":3.2857142857142856},{"$f":"OFFSET(Data!Y82,Offsets!$A$33,Offsets!$A$31)","v":1.8571428571428572},{"$f":"OFFSET(Data!Z82,Offsets!$A$33,Offsets!$A$31)","v":0.14285714285714285},{"$f":"OFFSET(Data!AA82,Offsets!$A$33,Offsets!$A$31)","v":0.14285714285714285},{"$f":"OFFSET(Data!AB82,Offsets!$A$33,Offsets!$A$31)","v":0},{"$f":"OFFSET(Data!AC82,Offsets!$A$33,Offsets!$A$31)","v":0},{"$f":"OFFSET(Data!AD82,Offsets!$A$33,Offsets!$A$31)","v":0},{"$f":"OFFSET(Data!AE82,Offsets!$A$33,Offsets!$A$31)","v":0},{"$f":"OFFSET(Data!AF82,Offsets!$A$33,Offsets!$A$31)","v":0},{"$f":"OFFSET(Data!AG82,Offsets!$A$33,Offsets!$A$31)","v":0},{"$f":"OFFSET(Data!AH82,Offsets!$A$33,Offsets!$A$31)","v":0},null,{"$f":"OFFSET(Data!AI82,Offsets!$A$33,Offsets!$A$31)","v":37.115635783339727},{"$f":"IF(OFFSET(Data!AJ82,Offsets!$A$33,Offsets!$A$31)=\"\", \"-\", OFFSET(Data!AJ82,Offsets!$A$33,Offsets!$A$31))","v":44.771428571428572},{"$f":"OFFSET(Data!AK82,Offsets!$A$33,Offsets!$A$31)","v":8},{"$f":"OFFSET(Data!AL82,Offsets!$A$33,Offsets!$A$31)","v":65.900000000000006}]
[null,"19:30:00",null,{"$f":"OFFSET(Data!O83,Offsets!$A$33,Offsets!$A$31)","v":0},{"$f":"OFFSET(Data!P83,Offsets!$A$33,Offsets!$A$31)","v":0.7142857142857143},{"$f":"OFFSET(Data!Q83,Offsets!$A$33,Offsets!$A$31)","v":0.5714285714285714},{"$f":"OFFSET(Data!R83,Offsets!$A$33,Offsets!$A$31)","v":2.8571428571428572},{"$f":"OFFSET(Data!S83,Offsets!$A$33,Offsets!$A$31)","v":16},{"$f":"OFFSET(Data!T83,Offsets!$A$33,Offsets!$A$31)","v":26.571428571428573},{"$f":"OFFSET(Data!U83,Offsets!$A$33,Offsets!$A$31)","v":28.428571428571427},{"$f":"OFFSET(Data!V83,Offsets!$A$33,Offsets!$A$31)","v":21.428571428571427},{"$f":"OFFSET(Data!W83,Offsets!$A$33,Offsets!$A$31)","v":11.428571428571429},{"$f":"OFFSET(Data!X83,Offsets!$A$33,Offsets!$A$31)","v":4.8571428571428568},{"$f":"OFFSET(Data!Y83,Offsets!$A$33,Offsets!$A$31)","v":1.1428571428571428},{"$f":"OFFSET(Data!Z83,Offsets!$A$33,Offsets!$A$31)","v":0.42857142857142855},{"$f":"OFFSET(Data!AA83,Offsets!$A$33,Offsets!$A$31)","v":0},{"$f":"OFFSET(Data!AB83,Offsets!$A$33,Offsets!$A$31)","v":0},{"$f":"OFFSET(Data!AC83,Offsets!$A$33,Offsets!$A$31)","v":0},{"$f":"OFFSET(Data!AD83,Offsets!$A$33,Offsets!$A$31)","v":0},{"$f":"OFFSET(Data!AE83,Offsets!$A$33,Offsets!$A$31)","v":0},{"$f":"OFFSET(Data!AF83,Offsets!$A$33,Offsets!$A$31)","v":0},{"$f":"OFFSET(Data!AG83,Offsets!$A$33,Offsets!$A$31)","v":0},{"$f":"OFFSET(Data!AH83,Offsets!$A$33,Offsets!$A$31)","v":0},null,{"$f":"OFFSET(Data!AI83,Offsets!$A$33,Offsets!$A$31)","v":37.203997504201084},{"$f":"IF(OFFSET(Data!AJ83,Offsets!$A$33,Offsets!$A$31)=\"\", \"-\", OFFSET(Data!AJ83,Offsets!$A$33,Offsets!$A$31))","v":44.149999999999991},{"$f":"OFFSET(Data!AK83,Offsets!$A$33,Offsets!$A$31)","v":11.4},{"$f":"OFFSET(Data!AL83,Offsets!$A$33,Offsets!$A$31)","v":63.8}]
[null,"19:45:00",null,{"$f":"OFFSET(Data!O84,Offsets!$A$33,Offsets!$A$31)","v":0},{"$f":"OFFSET(Data!P84,Offsets!$A$33,Offsets!$A$31)","v":0.2857142857142857},{"$f":"OFFSET(Data!Q84,Offsets!$A$33,Offsets!$A$31)","v":0.8571428571428571},{"$f":"OFFSET(Data!R84,Offsets!$A$33,Offsets!$A$31)","v":4.2857142857142856},{"$f":"OFFSET(Data!S84,Offsets!$A$33,Offsets!$A$31)","v":10.142857142857142},{"$f":"OFFSET(Data!T84,Offsets!$A$33,Offsets!$A$31)","v":21},{"$f":"OFFSET(Data!U84,Offsets!$A$33,Offsets!$A$31)","v":26.857142857142858},{"$f":"OFFSET(Data!V84,Offsets!$A$33,Offsets!$A$31)","v":20.285714285714285},{"$f":"OFFSET(Data!W84,Offsets!$A$33,Offsets!$A$31)","v":13.285714285714286},{"$f":"OFFSET(Data!X84,Offsets!$A$33,Offsets!$A$31)","v":5},{"$f":"OFFSET(Data!Y84,Offsets!$A$33,Offsets!$A$31)","v":0.8571428571428571},{"$f":"OFFSET(Data!Z84,Offsets!$A$33,Offsets!$A$31)","v":0.2857142857142857},{"$f":"OFFSET(Data!AA84,Offsets!$A$33,Offsets!$A$31)","v":0},{"$f":"OFFSET(Data!AB84,Offsets!$A$33,Offsets!$A$31)","v":0.14285714285714285},{"$f":"OFFSET(Data!AC84,Offsets!$A$33,Offsets!$A$31)","v":0},{"$f":"OFFSET(Data!AD84,Offsets!$A$33,Offsets!$A$31)","v":0},{"$f":"OFFSET(Data!AE84,Offsets!$A$33,Offsets!$A$31)","v":0},{"$f":"OFFSET(Data!AF84,Offsets!$A$33,Offsets!$A$31)","v":0},{"$f":"OFFSET(Data!AG84,Offsets!$A$33,Offsets!$A$31)","v":0},{"$f":"OFFSET(Data!AH84,Offsets!$A$33,Offsets!$A$31)","v":0},null,{"$f":"OFFSET(Data!AI84,Offsets!$A$33,Offsets!$A$31)","v":37.891683040034472},{"$f":"IF(OFFSET(Data!AJ84,Offsets!$A$33,Offsets!$A$31)=\"\", \"-\", OFFSET(Data!AJ84,Offsets!$A$33,Offsets!$A$31))","v":45.478571428571428},{"$f":"OFFSET(Data!AK84,Offsets!$A$33,Offsets!$A$31)","v":13.8},{"$f":"OFFSET(Data!AL84,Offsets!$A$33,Offsets!$A$31)","v":73.8}]
[null,"20:00:00",null,{"$f":"OFFSET(Data!O85,Offsets!$A$33,Offsets!$A$31)","v":0},{"$f":"OFFSET(Data!P85,Offsets!$A$33,Offsets!$A$31)","v":0.42857142857142855},{"$f":"OFFSET(Data!Q85,Offsets!$A$33,Offsets!$A$31)","v":0.2857142857142857},{"$f":"OFFSET(Data!R85,Offsets!$A$33,Offsets!$A$31)","v":3.1428571428571428},{"$f":"OFFSET(Data!S85,Offsets!$A$33,Offsets!$A$31)","v":10},{"$f":"OFFSET(Data!T85,Offsets!$A$33,Offsets!$A$31)","v":20.857142857142858},{"$f":"OFFSET(Data!U85,Offsets!$A$33,Offsets!$A$31)","v":23.571428571428573},{"$f":"OFFSET(Data!V85,Offsets!$A$33,Offsets!$A$31)","v":19.285714285714285},{"$f":"OFFSET(Data!W85,Offsets!$A$33,Offsets!$A$31)","v":11.714285714285714},{"$f":"OFFSET(Data!X85,Offsets!$A$33,Offsets!$A$31)","v":5},{"$f":"OFFSET(Data!Y85,Offsets!$A$33,Offsets!$A$31)","v":1.4285714285714286},{"$f":"OFFSET(Data!Z85,Offsets!$A$33,Offsets!$A$31)","v":0.42857142857142855},{"$f":"OFFSET(Data!AA85,Offsets!$A$33,Offsets!$A$31)","v":0},{"$f":"OFFSET(Data!AB85,Offsets!$A$33,Offsets!$A$31)","v":0},{"$f":"OFFSET(Data!AC85,Offsets!$A$33,Offsets!$A$31)","v":0},{"$f":"OFFSET(Data!AD85,Offsets!$A$33,Offsets!$A$31)","v":0},{"$f":"OFFSET(Data!AE85,Offsets!$A$33,Offsets!$A$31)","v":0},{"$f":"OFFSET(Data!AF85,Offsets!$A$33,Offsets!$A$31)","v":0},{"$f":"OFFSET(Data!AG85,Offsets!$A$33,Offsets!$A$31)","v":0},{"$f":"OFFSET(Data!AH85,Offsets!$A$33,Offsets!$A$31)","v":0},null,{"$f":"OFFSET(Data!AI85,Offsets!$A$33,Offsets!$A$31)","v":38.120457867036976},{"$f":"IF(OFFSET(Data!AJ85,Offsets!$A$33,Offsets!$A$31)=\"\", \"-\", OFFSET(Data!AJ85,Offsets!$A$33,Offsets!$A$31))","v":45.942857142857143},{"$f":"OFFSET(Data!AK85,Offsets!$A$33,Offsets!$A$31)","v":12.7},{"$f":"OFFSET(Data!AL85,Offsets!$A$33,Offsets!$A$31)","v":63.1}]
[null,"20:15:00",null,{"$f":"OFFSET(Data!O86,Offsets!$A$33,Offsets!$A$31)","v":0},{"$f":"OFFSET(Data!P86,Offsets!$A$33,Offsets!$A$31)","v":0.5714285714285714},{"$f":"OFFSET(Data!Q86,Offsets!$A$33,Offsets!$A$31)","v":1},{"$f":"OFFSET(Data!R86,Offsets!$A$33,Offsets!$A$31)","v":4.2857142857142856},{"$f":"OFFSET(Data!S86,Offsets!$A$33,Offsets!$A$31)","v":10.428571428571429},{"$f":"OFFSET(Data!T86,Offsets!$A$33,Offsets!$A$31)","v":19},{"$f":"OFFSET(Data!U86,Offsets!$A$33,Offsets!$A$31)","v":22},{"$f":"OFFSET(Data!V86,Offsets!$A$33,Offsets!$A$31)","v":19.142857142857142},{"$f":"OFFSET(Data!W86,Offsets!$A$33,Offsets!$A$31)","v":10.571428571428571},{"$f":"OFFSET(Data!X86,Offsets!$A$33,Offsets!$A$31)","v":5.8571428571428568},{"$f":"OFFSET(Data!Y86,Offsets!$A$33,Offsets!$A$31)","v":1.2857142857142858},{"$f":"OFFSET(Data!Z86,Offsets!$A$33,Offsets!$A$31)","v":0.14285714285714285},{"$f":"OFFSET(Data!AA86,Offsets!$A$33,Offsets!$A$31)","v":0.14285714285714285},{"$f":"OFFSET(Data!AB86,Offsets!$A$33,Offsets!$A$31)","v":0},{"$f":"OFFSET(Data!AC86,Offsets!$A$33,Offsets!$A$31)","v":0},{"$f":"OFFSET(Data!AD86,Offsets!$A$33,Offsets!$A$31)","v":0},{"$f":"OFFSET(Data!AE86,Offsets!$A$33,Offsets!$A$31)","v":0},{"$f":"OFFSET(Data!AF86,Offsets!$A$33,Offsets!$A$31)","v":0},{"$f":"OFFSET(Data!AG86,Offsets!$A$33,Offsets!$A$31)","v":0},{"$f":"OFFSET(Data!AH86,Offsets!$A$33,Offsets!$A$31)","v":0},null,{"$f":"OFFSET(Data!AI86,Offsets!$A$33,Offsets!$A$31)","v":37.913857608033346},{"$f":"IF(OFFSET(Data!AJ86,Offsets!$A$33,Offsets!$A$31)=\"\", \"-\", OFFSET(Data!AJ86,Offsets!$A$33,Offsets!$A$31))","v":46.8},{"$f":"OFFSET(Data!AK86,Offsets!$A$33,Offsets!$A$31)","v":12.5},{"$f":"OFFSET(Data!AL86,Offsets!$A$33,Offsets!$A$31)","v":67.7}]
[null,"20:30:00",null,{"$f":"OFFSET(Data!O87,Offsets!$A$33,Offsets!$A$31)","v":0},{"$f":"OFFSET(Data!P87,Offsets!$A$33,Offsets!$A$31)","v":0},{"$f":"OFFSET(Data!Q87,Offsets!$A$33,Offsets!$A$31)","v":1.2857142857142858},{"$f":"OFFSET(Data!R87,Offsets!$A$33,Offsets!$A$31)","v":2.1428571428571428},{"$f":"OFFSET(Data!S87,Offsets!$A$33,Offsets!$A$31)","v":10.857142857142858},{"$f":"OFFSET(Data!T87,Offsets!$A$33,Offsets!$A$31)","v":15.142857142857142},{"$f":"OFFSET(Data!U87,Offsets!$A$33,Offsets!$A$31)","v":18.428571428571427},{"$f":"OFFSET(Data!V87,Offsets!$A$33,Offsets!$A$31)","v":18.428571428571427},{"$f":"OFFSET(Data!W87,Offsets!$A$33,Offsets!$A$31)","v":7.8571428571428568},{"$f":"OFFSET(Data!X87,Offsets!$A$33,Offsets!$A$31)","v":3.5714285714285716},{"$f":"OFFSET(Data!Y87,Offsets!$A$33,Offsets!$A$31)","v":1},{"$f":"OFFSET(Data!Z87,Offsets!$A$33,Offsets!$A$31)","v":0.14285714285714285},{"$f":"OFFSET(Data!AA87,Offsets!$A$33,Offsets!$A$31)","v":0},{"$f":"OFFSET(Data!AB87,Offsets!$A$33,Offsets!$A$31)","v":0},{"$f":"OFFSET(Data!AC87,Offsets!$A$33,Offsets!$A$31)","v":0},{"$f":"OFFSET(Data!AD87,Offsets!$A$33,Offsets!$A$31)","v":0},{"$f":"OFFSET(Data!AE87,Offsets!$A$33,Offsets!$A$31)","v":0},{"$f":"OFFSET(Data!AF87,Offsets!$A$33,Offsets!$A$31)","v":0},{"$f":"OFFSET(Data!AG87,Offsets!$A$33,Offsets!$A$31)","v":0},{"$f":"OFFSET(Data!AH87,Offsets!$A$33,Offsets!$A$31)","v":0},null,{"$f":"OFFSET(Data!AI87,Offsets!$A$33,Offsets!$A$31)","v":37.699903784178439},{"$f":"IF(OFFSET(Data!AJ87,Offsets!$A$33,Offsets!$A$31)=\"\", \"-\", OFFSET(Data!AJ87,Offsets!$A$33,Offsets!$A$31))","v":44.764285714285712},{"$f":"OFFSET(Data!AK87,Offsets!$A$33,Offsets!$A$31)","v":17.2},{"$f":"OFFSET(Data!AL87,Offsets!$A$33,Offsets!$A$31)","v":60.8}]
[null,"20:45:00",null,{"$f":"OFFSET(Data!O88,Offsets!$A$33,Offsets!$A$31)","v":0},{"$f":"OFFSET(Data!P88,Offsets!$A$33,Offsets!$A$31)","v":0},{"$f":"OFFSET(Data!Q88,Offsets!$A$33,Offsets!$A$31)","v":0.42857142857142855},{"$f":"OFFSET(Data!R88,Offsets!$A$33,Offsets!$A$31)","v":3},{"$f":"OFFSET(Data!S88,Offsets!$A$33,Offsets!$A$31)","v":9.7142857142857135},{"$f":"OFFSET(Data!T88,Offsets!$A$33,Offsets!$A$31)","v":15.428571428571429},{"$f":"OFFSET(Data!U88,Offsets!$A$33,Offsets!$A$31)","v":17.428571428571427},{"$f":"OFFSET(Data!V88,Offsets!$A$33,Offsets!$A$31)","v":20.285714285714285},{"$f":"OFFSET(Data!W88,Offsets!$A$33,Offsets!$A$31)","v":9.2857142857142865},{"$f":"OFFSET(Data!X88,Offsets!$A$33,Offsets!$A$31)","v":3},{"$f":"OFFSET(Data!Y88,Offsets!$A$33,Offsets!$A$31)","v":1},{"$f":"OFFSET(Data!Z88,Offsets!$A$33,Offsets!$A$31)","v":0.2857142857142857},{"$f":"OFFSET(Data!AA88,Offsets!$A$33,Offsets!$A$31)","v":0.42857142857142855},{"$f":"OFFSET(Data!AB88,Offsets!$A$33,Offsets!$A$31)","v":0.14285714285714285},{"$f":"OFFSET(Data!AC88,Offsets!$A$33,Offsets!$A$31)","v":0},{"$f":"OFFSET(Data!AD88,Offsets!$A$33,Offsets!$A$31)","v":0},{"$f":"OFFSET(Data!AE88,Offsets!$A$33,Offsets!$A$31)","v":0},{"$f":"OFFSET(Data!AF88,Offsets!$A$33,Offsets!$A$31)","v":0},{"$f":"OFFSET(Data!AG88,Offsets!$A$33,Offsets!$A$31)","v":0},{"$f":"OFFSET(Data!AH88,Offsets!$A$33,Offsets!$A$31)","v":0},null,{"$f":"OFFSET(Data!AI88,Offsets!$A$33,Offsets!$A$31)","v":38.295877748051907},{"$f":"IF(OFFSET(Data!AJ88,Offsets!$A$33,Offsets!$A$31)=\"\", \"-\", OFFSET(Data!AJ88,Offsets!$A$33,Offsets!$A$31))","v":45.45},{"$f":"OFFSET(Data!AK88,Offsets!$A$33,Offsets!$A$31)","v":18.100000000000001},{"$f":"OFFSET(Data!AL88,Offsets!$A$33,Offsets!$A$31)","v":71.3}]
[null,"21:00:00",null,{"$f":"OFFSET(Data!O89,Offsets!$A$33,Offsets!$A$31)","v":0},{"$f":"OFFSET(Data!P89,Offsets!$A$33,Offsets!$A$31)","v":0},{"$f":"OFFSET(Data!Q89,Offsets!$A$33,Offsets!$A$31)","v":0.14285714285714285},{"$f":"OFFSET(Data!R89,Offsets!$A$33,Offsets!$A$31)","v":2},{"$f":"OFFSET(Data!S89,Offsets!$A$33,Offsets!$A$31)","v":8.2857142857142865},{"$f":"OFFSET(Data!T89,Offsets!$A$33,Offsets!$A$31)","v":16.857142857142858},{"$f":"OFFSET(Data!U89,Offsets!$A$33,Offsets!$A$31)","v":18.857142857142858},{"$f":"OFFSET(Data!V89,Offsets!$A$33,Offsets!$A$31)","v":10.857142857142858},{"$f":"OFFSET(Data!W89,Offsets!$A$33,Offsets!$A$31)","v":6.2857142857142856},{"$f":"OFFSET(Data!X89,Offsets!$A$33,Offsets!$A$31)","v":3.4285714285714284},{"$f":"OFFSET(Data!Y89,Offsets!$A$33,Offsets!$A$31)","v":0.7142857142857143},{"$f":"OFFSET(Data!Z89,Offsets!$A$33,Offsets!$A$31)","v":0.2857142857142857},{"$f":"OFFSET(Data!AA89,Offsets!$A$33,Offsets!$A$31)","v":0.2857142857142857},{"$f":"OFFSET(Data!AB89,Offsets!$A$33,Offsets!$A$31)","v":0.14285714285714285},{"$f":"OFFSET(Data!AC89,Offsets!$A$33,Offsets!$A$31)","v":0.42857142857142855},{"$f":"OFFSET(Data!AD89,Offsets!$A$33,Offsets!$A$31)","v":0},{"$f":"OFFSET(Data!AE89,Offsets!$A$33,Offsets!$A$31)","v":0},{"$f":"OFFSET(Data!AF89,Offsets!$A$33,Offsets!$A$31)","v":0},{"$f":"OFFSET(Data!AG89,Offsets!$A$33,Offsets!$A$31)","v":0},{"$f":"OFFSET(Data!AH89,Offsets!$A$33,Offsets!$A$31)","v":0},null,{"$f":"OFFSET(Data!AI89,Offsets!$A$33,Offsets!$A$31)","v":37.919433306271287},{"$f":"IF(OFFSET(Data!AJ89,Offsets!$A$33,Offsets!$A$31)=\"\", \"-\", OFFSET(Data!AJ89,Offsets!$A$33,Offsets!$A$31))","v":45.692857142857143},{"$f":"OFFSET(Data!AK89,Offsets!$A$33,Offsets!$A$31)","v":19.899999999999999},{"$f":"OFFSET(Data!AL89,Offsets!$A$33,Offsets!$A$31)","v":76.099999999999994}]
[null,"21:15:00",null,{"$f":"OFFSET(Data!O90,Offsets!$A$33,Offsets!$A$31)","v":0},{"$f":"OFFSET(Data!P90,Offsets!$A$33,Offsets!$A$31)","v":0},{"$f":"OFFSET(Data!Q90,Offsets!$A$33,Offsets!$A$31)","v":0.7142857142857143},{"$f":"OFFSET(Data!R90,Offsets!$A$33,Offsets!$A$31)","v":1.7142857142857142},{"$f":"OFFSET(Data!S90,Offsets!$A$33,Offsets!$A$31)","v":8},{"$f":"OFFSET(Data!T90,Offsets!$A$33,Offsets!$A$31)","v":14.285714285714286},{"$f":"OFFSET(Data!U90,Offsets!$A$33,Offsets!$A$31)","v":19},{"$f":"OFFSET(Data!V90,Offsets!$A$33,Offsets!$A$31)","v":12.857142857142858},{"$f":"OFFSET(Data!W90,Offsets!$A$33,Offsets!$A$31)","v":6.5714285714285712},{"$f":"OFFSET(Data!X90,Offsets!$A$33,Offsets!$A$31)","v":2.2857142857142856},{"$f":"OFFSET(Data!Y90,Offsets!$A$33,Offsets!$A$31)","v":1.4285714285714286},{"$f":"OFFSET(Data!Z90,Offsets!$A$33,Offsets!$A$31)","v":0.2857142857142857},{"$f":"OFFSET(Data!AA90,Offsets!$A$33,Offsets!$A$31)","v":0},{"$f":"OFFSET(Data!AB90,Offsets!$A$33,Offsets!$A$31)","v":0},{"$f":"OFFSET(Data!AC90,Offsets!$A$33,Offsets!$A$31)","v":0},{"$f":"OFFSET(Data!AD90,Offsets!$A$33,Offsets!$A$31)","v":0},{"$f":"OFFSET(Data!AE90,Offsets!$A$33,Offsets!$A$31)","v":0},{"$f":"OFFSET(Data!AF90,Offsets!$A$33,Offsets!$A$31)","v":0},{"$f":"OFFSET(Data!AG90,Offsets!$A$33,Offsets!$A$31)","v":0},{"$f":"OFFSET(Data!AH90,Offsets!$A$33,Offsets!$A$31)","v":0},null,{"$f":"OFFSET(Data!AI90,Offsets!$A$33,Offsets!$A$31)","v":37.771076008070338},{"$f":"IF(OFFSET(Data!AJ90,Offsets!$A$33,Offsets!$A$31)=\"\", \"-\", OFFSET(Data!AJ90,Offsets!$A$33,Offsets!$A$31))","v":45.114285714285714},{"$f":"OFFSET(Data!AK90,Offsets!$A$33,Offsets!$A$31)","v":16.3},{"$f":"OFFSET(Data!AL90,Offsets!$A$33,Offsets!$A$31)","v":63.3}]
[null,"21:30:00",null,{"$f":"OFFSET(Data!O91,Offsets!$A$33,Offsets!$A$31)","v":0},{"$f":"OFFSET(Data!P91,Offsets!$A$33,Offsets!$A$31)","v":0},{"$f":"OFFSET(Data!Q91,Offsets!$A$33,Offsets!$A$31)","v":0.42857142857142855},{"$f":"OFFSET(Data!R91,Offsets!$A$33,Offsets!$A$31)","v":1.2857142857142858},{"$f":"OFFSET(Data!S91,Offsets!$A$33,Offsets!$A$31)","v":6.8571428571428568},{"$f":"OFFSET(Data!T91,Offsets!$A$33,Offsets!$A$31)","v":12.142857142857142},{"$f":"OFFSET(Data!U91,Offsets!$A$33,Offsets!$A$31)","v":17.571428571428573},{"$f":"OFFSET(Data!V91,Offsets!$A$33,Offsets!$A$31)","v":17.285714285714285},{"$f":"OFFSET(Data!W91,Offsets!$A$33,Offsets!$A$31)","v":7.4285714285714288},{"$f":"OFFSET(Data!X91,Offsets!$A$33,Offsets!$A$31)","v":3.1428571428571428},{"$f":"OFFSET(Data!Y91,Offsets!$A$33,Offsets!$A$31)","v":1.5714285714285714},{"$f":"OFFSET(Data!Z91,Offsets!$A$33,Offsets!$A$31)","v":0},{"$f":"OFFSET(Data!AA91,Offsets!$A$33,Offsets!$A$31)","v":0.2857142857142857},{"$f":"OFFSET(Data!AB91,Offsets!$A$33,Offsets!$A$31)","v":0},{"$f":"OFFSET(Data!AC91,Offsets!$A$33,Offsets!$A$31)","v":0.14285714285714285},{"$f":"OFFSET(Data!AD91,Offsets!$A$33,Offsets!$A$31)","v":0},{"$f":"OFFSET(Data!AE91,Offsets!$A$33,Offsets!$A$31)","v":0},{"$f":"OFFSET(Data!AF91,Offsets!$A$33,Offsets!$A$31)","v":0},{"$f":"OFFSET(Data!AG91,Offsets!$A$33,Offsets!$A$31)","v":0},{"$f":"OFFSET(Data!AH91,Offsets!$A$33,Offsets!$A$31)","v":0},null,{"$f":"OFFSET(Data!AI91,Offsets!$A$33,Offsets!$A$31)","v":39.019140516339561},{"$f":"IF(OFFSET(Data!AJ91,Offsets!$A$33,Offsets!$A$31)=\"\", \"-\", OFFSET(Data!AJ91,Offsets!$A$33,Offsets!$A$31))","v":45.464285714285708},{"$f":"OFFSET(Data!AK91,Offsets!$A$33,Offsets!$A$31)","v":17.5},{"$f":"OFFSET(Data!AL91,Offsets!$A$33,Offsets!$A$31)","v":79.400000000000006}]
[null,"21:45:00",null,{"$f":"OFFSET(Data!O92,Offsets!$A$33,Offsets!$A$31)","v":0},{"$f":"OFFSET(Data!P92,Offsets!$A$33,Offsets!$A$31)","v":0},{"$f":"OFFSET(Data!Q92,Offsets!$A$33,Offsets!$A$31)","v":1.1428571428571428},{"$f":"OFFSET(Data!R92,Offsets!$A$33,Offsets!$A$31)","v":2.8571428571428572},{"$f":"OFFSET(Data!S92,Offsets!$A$33,Offsets!$A$31)","v":9.4285714285714288},{"$f":"OFFSET(Data!T92,Offsets!$A$33,Offsets!$A$31)","v":17.428571428571427},{"$f":"OFFSET(Data!U92,Offsets!$A$33,Offsets!$A$31)","v":18.142857142857142},{"$f":"OFFSET(Data!V92,Offsets!$A$33,Offsets!$A$31)","v":9.4285714285714288},{"$f":"OFFSET(Data!W92,Offsets!$A$33,Offsets!$A$31)","v":4.8571428571428568},{"$f":"OFFSET(Data!X92,Offsets!$A$33,Offsets!$A$31)","v":2.8571428571428572},{"$f":"OFFSET(Data!Y92,Offsets!$A$33,Offsets!$A$31)","v":0.5714285714285714},{"$f":"OFFSET(Data!Z92,Offsets!$A$33,Offsets!$A$31)","v":0.14285714285714285},{"$f":"OFFSET(Data!AA92,Offsets!$A$33,Offsets!$A$31)","v":0},{"$f":"OFFSET(Data!AB92,Offsets!$A$33,Offsets!$A$31)","v":0},{"$f":"OFFSET(Data!AC92,Offsets!$A$33,Offsets!$A$31)","v":0},{"$f":"OFFSET(Data!AD92,Offsets!$A$33,Offsets!$A$31)","v":0},{"$f":"OFFSET(Data!AE92,Offsets!$A$33,Offsets!$A$31)","v":0},{"$f":"OFFSET(Data!AF92,Offsets!$A$33,Offsets!$A$31)","v":0},{"$f":"OFFSET(Data!AG92,Offsets!$A$33,Offsets!$A$31)","v":0},{"$f":"OFFSET(Data!AH92,Offsets!$A$33,Offsets!$A$31)","v":0},null,{"$f":"OFFSET(Data!AI92,Offsets!$A$33,Offsets!$A$31)","v":36.397463868762934},{"$f":"IF(OFFSET(Data!AJ92,Offsets!$A$33,Offsets!$A$31)=\"\", \"-\", OFFSET(Data!AJ92,Offsets!$A$33,Offsets!$A$31))","v":43.835714285714289},{"$f":"OFFSET(Data!AK92,Offsets!$A$33,Offsets!$A$31)","v":16.600000000000001},{"$f":"OFFSET(Data!AL92,Offsets!$A$33,Offsets!$A$31)","v":61.7}]
[null,"22:00:00",null,{"$f":"OFFSET(Data!O93,Offsets!$A$33,Offsets!$A$31)","v":0},{"$f":"OFFSET(Data!P93,Offsets!$A$33,Offsets!$A$31)","v":0},{"$f":"OFFSET(Data!Q93,Offsets!$A$33,Offsets!$A$31)","v":0.42857142857142855},{"$f":"OFFSET(Data!R93,Offsets!$A$33,Offsets!$A$31)","v":2},{"$f":"OFFSET(Data!S93,Offsets!$A$33,Offsets!$A$31)","v":7.2857142857142856},{"$f":"OFFSET(Data!T93,Offsets!$A$33,Offsets!$A$31)","v":14.428571428571429},{"$f":"OFFSET(Data!U93,Offsets!$A$33,Offsets!$A$31)","v":13.142857142857142},{"$f":"OFFSET(Data!V93,Offsets!$A$33,Offsets!$A$31)","v":11.428571428571429},{"$f":"OFFSET(Data!W93,Offsets!$A$33,Offsets!$A$31)","v":5.2857142857142856},{"$f":"OFFSET(Data!X93,Offsets!$A$33,Offsets!$A$31)","v":2.7142857142857144},{"$f":"OFFSET(Data!Y93,Offsets!$A$33,Offsets!$A$31)","v":1},{"$f":"OFFSET(Data!Z93,Offsets!$A$33,Offsets!$A$31)","v":0},{"$f":"OFFSET(Data!AA93,Offsets!$A$33,Offsets!$A$31)","v":0},{"$f":"OFFSET(Data!AB93,Offsets!$A$33,Offsets!$A$31)","v":0},{"$f":"OFFSET(Data!AC93,Offsets!$A$33,Offsets!$A$31)","v":0},{"$f":"OFFSET(Data!AD93,Offsets!$A$33,Offsets!$A$31)","v":0},{"$f":"OFFSET(Data!AE93,Offsets!$A$33,Offsets!$A$31)","v":0},{"$f":"OFFSET(Data!AF93,Offsets!$A$33,Offsets!$A$31)","v":0},{"$f":"OFFSET(Data!AG93,Offsets!$A$33,Offsets!$A$31)","v":0},{"$f":"OFFSET(Data!AH93,Offsets!$A$33,Offsets!$A$31)","v":0},null,{"$f":"OFFSET(Data!AI93,Offsets!$A$33,Offsets!$A$31)","v":37.185270027558261},{"$f":"IF(OFFSET(Data!AJ93,Offsets!$A$33,Offsets!$A$31)=\"\", \"-\", OFFSET(Data!AJ93,Offsets!$A$33,Offsets!$A$31))","v":44.285714285714292},{"$f":"OFFSET(Data!AK93,Offsets!$A$33,Offsets!$A$31)","v":16.7},{"$f":"OFFSET(Data!AL93,Offsets!$A$33,Offsets!$A$31)","v":58.6}]
[null,"22:15:00",null,{"$f":"OFFSET(Data!O94,Offsets!$A$33,Offsets!$A$31)","v":0},{"$f":"OFFSET(Data!P94,Offsets!$A$33,Offsets!$A$31)","v":0},{"$f":"OFFSET(Data!Q94,Offsets!$A$33,Offsets!$A$31)","v":0.5714285714285714},{"$f":"OFFSET(Data!R94,Offsets!$A$33,Offsets!$A$31)","v":1.8571428571428572},{"$f":"OFFSET(Data!S94,Offsets!$A$33,Offsets!$A$31)","v":6.1428571428571432},{"$f":"OFFSET(Data!T94,Offsets!$A$33,Offsets!$A$31)","v":12.142857142857142},{"$f":"OFFSET(Data!U94,Offsets!$A$33,Offsets!$A$31)","v":14.142857142857142},{"$f":"OFFSET(Data!V94,Offsets!$A$33,Offsets!$A$31)","v":12.285714285714286},{"$f":"OFFSET(Data!W94,Offsets!$A$33,Offsets!$A$31)","v":4.1428571428571432},{"$f":"OFFSET(Data!X94,Offsets!$A$33,Offsets!$A$31)","v":1.2857142857142858},{"$f":"OFFSET(Data!Y94,Offsets!$A$33,Offsets!$A$31)","v":1.4285714285714286},{"$f":"OFFSET(Data!Z94,Offsets!$A$33,Offsets!$A$31)","v":0.14285714285714285},{"$f":"OFFSET(Data!AA94,Offsets!$A$33,Offsets!$A$31)","v":0},{"$f":"OFFSET(Data!AB94,Offsets!$A$33,Offsets!$A$31)","v":0},{"$f":"OFFSET(Data!AC94,Offsets!$A$33,Offsets!$A$31)","v":0},{"$f":"OFFSET(Data!AD94,Offsets!$A$33,Offsets!$A$31)","v":0},{"$f":"OFFSET(Data!AE94,Offsets!$A$33,Offsets!$A$31)","v":0},{"$f":"OFFSET(Data!AF94,Offsets!$A$33,Offsets!$A$31)","v":0},{"$f":"OFFSET(Data!AG94,Offsets!$A$33,Offsets!$A$31)","v":0},{"$f":"OFFSET(Data!AH94,Offsets!$A$33,Offsets!$A$31)","v":0},null,{"$f":"OFFSET(Data!AI94,Offsets!$A$33,Offsets!$A$31)","v":37.417356173238531},{"$f":"IF(OFFSET(Data!AJ94,Offsets!$A$33,Offsets!$A$31)=\"\", \"-\", OFFSET(Data!AJ94,Offsets!$A$33,Offsets!$A$31))","v":44.449999999999996},{"$f":"OFFSET(Data!AK94,Offsets!$A$33,Offsets!$A$31)","v":17.7},{"$f":"OFFSET(Data!AL94,Offsets!$A$33,Offsets!$A$31)","v":64.599999999999994}]
[null,"22:30:00",null,{"$f":"OFFSET(Data!O95,Offsets!$A$33,Offsets!$A$31)","v":0},{"$f":"OFFSET(Data!P95,Offsets!$A$33,Offsets!$A$31)","v":0},{"$f":"OFFSET(Data!Q95,Offsets!$A$33,Offsets!$A$31)","v":0.5714285714285714},{"$f":"OFFSET(Data!R95,Offsets!$A$33,Offsets!$A$31)","v":1.4285714285714286},{"$f":"OFFSET(Data!S95,Offsets!$A$33,Offsets!$A$31)","v":5.4285714285714288},{"$f":"OFFSET(Data!T95,Offsets!$A$33,Offsets!$A$31)","v":10.857142857142858},{"$f":"OFFSET(Data!U95,Offsets!$A$33,Offsets!$A$31)","v":11.142857142857142},{"$f":"OFFSET(Data!V95,Offsets!$A$33,Offsets!$A$31)","v":8.5714285714285712},{"$f":"OFFSET(Data!W95,Offsets!$A$33,Offsets!$A$31)","v":5.1428571428571432},{"$f":"OFFSET(Data!X95,Offsets!$A$33,Offsets!$A$31)","v":1.7142857142857142},{"$f":"OFFSET(Data!Y95,Offsets!$A$33,Offsets!$A$31)","v":0.8571428571428571},{"$f":"OFFSET(Data!Z95,Offsets!$A$33,Offsets!$A$31)","v":0.5714285714285714},{"$f":"OFFSET(Data!AA95,Offsets!$A$33,Offsets!$A$31)","v":0},{"$f":"OFFSET(Data!AB95,Offsets!$A$33,Offsets!$A$31)","v":0},{"$f":"OFFSET(Data!AC95,Offsets!$A$33,Offsets!$A$31)","v":0},{"$f":"OFFSET(Data!AD95,Offsets!$A$33,Offsets!$A$31)","v":0},{"$f":"OFFSET(Data!AE95,Offsets!$A$33,Offsets!$A$31)","v":0},{"$f":"OFFSET(Data!AF95,Offsets!$A$33,Offsets!$A$31)","v":0},{"$f":"OFFSET(Data!AG95,Offsets!$A$33,Offsets!$A$31)","v":0},{"$f":"OFFSET(Data!AH95,Offsets!$A$33,Offsets!$A$31)","v":0},null,{"$f":"OFFSET(Data!AI95,Offsets!$A$33,Offsets!$A$31)","v":37.843929224115584},{"$f":"IF(OFFSET(Data!AJ95,Offsets!$A$33,Offsets!$A$31)=\"\", \"-\", OFFSET(Data!AJ95,Offsets!$A$33,Offsets!$A$31))","v":44.891666666666666},{"$f":"OFFSET(Data!AK95,Offsets!$A$33,Offsets!$A$31)","v":17.2},{"$f":"OFFSET(Data!AL95,Offsets!$A$33,Offsets!$A$31)","v":61.7}]
[null,"22:45:00",null,{"$f":"OFFSET(Data!O96,Offsets!$A$33,Offsets!$A$31)","v":0},{"$f":"OFFSET(Data!P96,Offsets!$A$33,Offsets!$A$31)","v":0},{"$f":"OFFSET(Data!Q96,Offsets!$A$33,Offsets!$A$31)","v":0},{"$f":"OFFSET(Data!R96,Offsets!$A$33,Offsets!$A$31)","v":2},{"$f":"OFFSET(Data!S96,Offsets!$A$33,Offsets!$A$31)","v":6.2857142857142856},{"$f":"OFFSET(Data!T96,Offsets!$A$33,Offsets!$A$31)","v":7.7142857142857144},{"$f":"OFFSET(Data!U96,Offsets!$A$33,Offsets!$A$31)","v":10.285714285714286},{"$f":"OFFSET(Data!V96,Offsets!$A$33,Offsets!$A$31)","v":7.4285714285714288},{"$f":"OFFSET(Data!W96,Offsets!$A$33,Offsets!$A$31)","v":4.8571428571428568},{"$f":"OFFSET(Data!X96,Offsets!$A$33,Offsets!$A$31)","v":1.2857142857142858},{"$f":"OFFSET(Data!Y96,Offsets!$A$33,Offsets!$A$31)","v":1.2857142857142858},{"$f":"OFFSET(Data!Z96,Offsets!$A$33,Offsets!$A$31)","v":0.2857142857142857},{"$f":"OFFSET(Data!AA96,Offsets!$A$33,Offsets!$A$31)","v":0},{"$f":"OFFSET(Data!AB96,Offsets!$A$33,Offsets!$A$31)","v":0},{"$f":"OFFSET(Data!AC96,Offsets!$A$33,Offsets!$A$31)","v":0},{"$f":"OFFSET(Data!AD96,Offsets!$A$33,Offsets!$A$31)","v":0},{"$f":"OFFSET(Data!AE96,Offsets!$A$33,Offsets!$A$31)","v":0},{"$f":"OFFSET(Data!AF96,Offsets!$A$33,Offsets!$A$31)","v":0},{"$f":"OFFSET(Data!AG96,Offsets!$A$33,Offsets!$A$31)","v":0},{"$f":"OFFSET(Data!AH96,Offsets!$A$33,Offsets!$A$31)","v":0},null,{"$f":"OFFSET(Data!AI96,Offsets!$A$33,Offsets!$A$31)","v":37.735369739554663},{"$f":"IF(OFFSET(Data!AJ96,Offsets!$A$33,Offsets!$A$31)=\"\", \"-\", OFFSET(Data!AJ96,Offsets!$A$33,Offsets!$A$31))","v":45.751190476190473},{"$f":"OFFSET(Data!AK96,Offsets!$A$33,Offsets!$A$31)","v":20.5},{"$f":"OFFSET(Data!AL96,Offsets!$A$33,Offsets!$A$31)","v":62.9}]
[null,"23:00:00",null,{"$f":"OFFSET(Data!O97,Offsets!$A$33,Offsets!$A$31)","v":0},{"$f":"OFFSET(Data!P97,Offsets!$A$33,Offsets!$A$31)","v":0},{"$f":"OFFSET(Data!Q97,Offsets!$A$33,Offsets!$A$31)","v":0.14285714285714285},{"$f":"OFFSET(Data!R97,Offsets!$A$33,Offsets!$A$31)","v":0.42857142857142855},{"$f":"OFFSET(Data!S97,Offsets!$A$33,Offsets!$A$31)","v":2.7142857142857144},{"$f":"OFFSET(Data!T97,Offsets!$A$33,Offsets!$A$31)","v":5.4285714285714288},{"$f":"OFFSET(Data!U97,Offsets!$A$33,Offsets!$A$31)","v":7.4285714285714288},{"$f":"OFFSET(Data!V97,Offsets!$A$33,Offsets!$A$31)","v":6.1428571428571432},{"$f":"OFFSET(Data!W97,Offsets!$A$33,Offsets!$A$31)","v":5.8571428571428568},{"$f":"OFFSET(Data!X97,Offsets!$A$33,Offsets!$A$31)","v":1.5714285714285714},{"$f":"OFFSET(Data!Y97,Offsets!$A$33,Offsets!$A$31)","v":0.42857142857142855},{"$f":"OFFSET(Data!Z97,Offsets!$A$33,Offsets!$A$31)","v":0.7142857142857143},{"$f":"OFFSET(Data!AA97,Offsets!$A$33,Offsets!$A$31)","v":0},{"$f":"OFFSET(Data!AB97,Offsets!$A$33,Offsets!$A$31)","v":0},{"$f":"OFFSET(Data!AC97,Offsets!$A$33,Offsets!$A$31)","v":0},{"$f":"OFFSET(Data!AD97,Offsets!$A$33,Offsets!$A$31)","v":0},{"$f":"OFFSET(Data!AE97,Offsets!$A$33,Offsets!$A$31)","v":0},{"$f":"OFFSET(Data!AF97,Offsets!$A$33,Offsets!$A$31)","v":0},{"$f":"OFFSET(Data!AG97,Offsets!$A$33,Offsets!$A$31)","v":0},{"$f":"OFFSET(Data!AH97,Offsets!$A$33,Offsets!$A$31)","v":0},null,{"$f":"OFFSET(Data!AI97,Offsets!$A$33,Offsets!$A$31)","v":39.854219543178353},{"$f":"IF(OFFSET(Data!AJ97,Offsets!$A$33,Offsets!$A$31)=\"\", \"-\", OFFSET(Data!AJ97,Offsets!$A$33,Offsets!$A$31))","v":46.429999999999993},{"$f":"OFFSET(Data!AK97,Offsets!$A$33,Offsets!$A$31)","v":19.399999999999999},{"$f":"OFFSET(Data!AL97,Offsets!$A$33,Offsets!$A$31)","v":63.3}]
[null,"23:15:00",null,{"$f":"OFFSET(Data!O98,Offsets!$A$33,Offsets!$A$31)","v":0},{"$f":"OFFSET(Data!P98,Offsets!$A$33,Offsets!$A$31)","v":0},{"$f":"OFFSET(Data!Q98,Offsets!$A$33,Offsets!$A$31)","v":0},{"$f":"OFFSET(Data!R98,Offsets!$A$33,Offsets!$A$31)","v":1.1428571428571428},{"$f":"OFFSET(Data!S98,Offsets!$A$33,Offsets!$A$31)","v":5.1428571428571432},{"$f":"OFFSET(Data!T98,Offsets!$A$33,Offsets!$A$31)","v":5.5714285714285712},{"$f":"OFFSET(Data!U98,Offsets!$A$33,Offsets!$A$31)","v":8.1428571428571423},{"$f":"OFFSET(Data!V98,Offsets!$A$33,Offsets!$A$31)","v":6.5714285714285712},{"$f":"OFFSET(Data!W98,Offsets!$A$33,Offsets!$A$31)","v":3.8571428571428572},{"$f":"OFFSET(Data!X98,Offsets!$A$33,Offsets!$A$31)","v":1.4285714285714286},{"$f":"OFFSET(Data!Y98,Offsets!$A$33,Offsets!$A$31)","v":0},{"$f":"OFFSET(Data!Z98,Offsets!$A$33,Offsets!$A$31)","v":0.42857142857142855},{"$f":"OFFSET(Data!AA98,Offsets!$A$33,Offsets!$A$31)","v":0},{"$f":"OFFSET(Data!AB98,Offsets!$A$33,Offsets!$A$31)","v":0},{"$f":"OFFSET(Data!AC98,Offsets!$A$33,Offsets!$A$31)","v":0},{"$f":"OFFSET(Data!AD98,Offsets!$A$33,Offsets!$A$31)","v":0},{"$f":"OFFSET(Data!AE98,Offsets!$A$33,Offsets!$A$31)","v":0},{"$f":"OFFSET(Data!AF98,Offsets!$A$33,Offsets!$A$31)","v":0},{"$f":"OFFSET(Data!AG98,Offsets!$A$33,Offsets!$A$31)","v":0},{"$f":"OFFSET(Data!AH98,Offsets!$A$33,Offsets!$A$31)","v":0},null,{"$f":"OFFSET(Data!AI98,Offsets!$A$33,Offsets!$A$31)","v":37.625612037497923},{"$f":"IF(OFFSET(Data!AJ98,Offsets!$A$33,Offsets!$A$31)=\"\", \"-\", OFFSET(Data!AJ98,Offsets!$A$33,Offsets!$A$31))","v":43.828571428571422},{"$f":"OFFSET(Data!AK98,Offsets!$A$33,Offsets!$A$31)","v":20.100000000000001},{"$f":"OFFSET(Data!AL98,Offsets!$A$33,Offsets!$A$31)","v":64.5}]
[null,"23:30:00",null,{"$f":"OFFSET(Data!O99,Offsets!$A$33,Offsets!$A$31)","v":0},{"$f":"OFFSET(Data!P99,Offsets!$A$33,Offsets!$A$31)","v":0},{"$f":"OFFSET(Data!Q99,Offsets!$A$33,Offsets!$A$31)","v":0},{"$f":"OFFSET(Data!R99,Offsets!$A$33,Offsets!$A$31)","v":1},{"$f":"OFFSET(Data!S99,Offsets!$A$33,Offsets!$A$31)","v":2.5714285714285716},{"$f":"OFFSET(Data!T99,Offsets!$A$33,Offsets!$A$31)","v":7.5714285714285712},{"$f":"OFFSET(Data!U99,Offsets!$A$33,Offsets!$A$31)","v":4.8571428571428568},{"$f":"OFFSET(Data!V99,Offsets!$A$33,Offsets!$A$31)","v":4.2857142857142856},{"$f":"OFFSET(Data!W99,Offsets!$A$33,Offsets!$A$31)","v":3.8571428571428572},{"$f":"OFFSET(Data!X99,Offsets!$A$33,Offsets!$A$31)","v":2.2857142857142856},{"$f":"OFFSET(Data!Y99,Offsets!$A$33,Offsets!$A$31)","v":1},{"$f":"OFFSET(Data!Z99,Offsets!$A$33,Offsets!$A$31)","v":0.2857142857142857},{"$f":"OFFSET(Data!AA99,Offsets!$A$33,Offsets!$A$31)","v":0},{"$f":"OFFSET(Data!AB99,Offsets!$A$33,Offsets!$A$31)","v":0},{"$f":"OFFSET(Data!AC99,Offsets!$A$33,Offsets!$A$31)","v":0},{"$f":"OFFSET(Data!AD99,Offsets!$A$33,Offsets!$A$31)","v":0},{"$f":"OFFSET(Data!AE99,Offsets!$A$33,Offsets!$A$31)","v":0},{"$f":"OFFSET(Data!AF99,Offsets!$A$33,Offsets!$A$31)","v":0},{"$f":"OFFSET(Data!AG99,Offsets!$A$33,Offsets!$A$31)","v":0},{"$f":"OFFSET(Data!AH99,Offsets!$A$33,Offsets!$A$31)","v":0},null,{"$f":"OFFSET(Data!AI99,Offsets!$A$33,Offsets!$A$31)","v":39.598574539650066},{"$f":"IF(OFFSET(Data!AJ99,Offsets!$A$33,Offsets!$A$31)=\"\", \"-\", OFFSET(Data!AJ99,Offsets!$A$33,Offsets!$A$31))","v":47.752499999999998},{"$f":"OFFSET(Data!AK99,Offsets!$A$33,Offsets!$A$31)","v":20.5},{"$f":"OFFSET(Data!AL99,Offsets!$A$33,Offsets!$A$31)","v":61}]
[null,"23:45:00",null,{"$f":"OFFSET(Data!O100,Offsets!$A$33,Offsets!$A$31)","v":0},{"$f":"OFFSET(Data!P100,Offsets!$A$33,Offsets!$A$31)","v":0},{"$f":"OFFSET(Data!Q100,Offsets!$A$33,Offsets!$A$31)","v":0},{"$f":"OFFSET(Data!R100,Offsets!$A$33,Offsets!$A$31)","v":0.7142857142857143},{"$f":"OFFSET(Data!S100,Offsets!$A$33,Offsets!$A$31)","v":1.7142857142857142},{"$f":"OFFSET(Data!T100,Offsets!$A$33,Offsets!$A$31)","v":4},{"$f":"OFFSET(Data!U100,Offsets!$A$33,Offsets!$A$31)","v":6.4285714285714288},{"$f":"OFFSET(Data!V100,Offsets!$A$33,Offsets!$A$31)","v":4.4285714285714288},{"$f":"OFFSET(Data!W100,Offsets!$A$33,Offsets!$A$31)","v":3.8571428571428572},{"$f":"OFFSET(Data!X100,Offsets!$A$33,Offsets!$A$31)","v":2.5714285714285716},{"$f":"OFFSET(Data!Y100,Offsets!$A$33,Offsets!$A$31)","v":0.7142857142857143},{"$f":"OFFSET(Data!Z100,Offsets!$A$33,Offsets!$A$31)","v":0},{"$f":"OFFSET(Data!AA100,Offsets!$A$33,Offsets!$A$31)","v":0.14285714285714285},{"$f":"OFFSET(Data!AB100,Offsets!$A$33,Offsets!$A$31)","v":0},{"$f":"OFFSET(Data!AC100,Offsets!$A$33,Offsets!$A$31)","v":0},{"$f":"OFFSET(Data!AD100,Offsets!$A$33,Offsets!$A$31)","v":0},{"$f":"OFFSET(Data!AE100,Offsets!$A$33,Offsets!$A$31)","v":0},{"$f":"OFFSET(Data!AF100,Offsets!$A$33,Offsets!$A$31)","v":0},{"$f":"OFFSET(Data!AG100,Offsets!$A$33,Offsets!$A$31)","v":0},{"$f":"OFFSET(Data!AH100,Offsets!$A$33,Offsets!$A$31)","v":0},null,{"$f":"OFFSET(Data!AI100,Offsets!$A$33,Offsets!$A$31)","v":41.223580730148676},{"$f":"IF(OFFSET(Data!AJ100,Offsets!$A$33,Offsets!$A$31)=\"\", \"-\", OFFSET(Data!AJ100,Offsets!$A$33,Offsets!$A$31))","v":45.575000000000003},{"$f":"OFFSET(Data!AK100,Offsets!$A$33,Offsets!$A$31)","v":22.6},{"$f":"OFFSET(Data!AL100,Offsets!$A$33,Offsets!$A$31)","v":68.900000000000006}]
[null,"Total",null,{"$f":"SUM(D21:D116)","v":3.9999999999999987},{"$f":"SUM(E21:E116)","v":44.571428571428591},130.42857142857147,395.14285714285722,1553.571428571428,2532.5714285714284,3087.1428571428569,2094.1428571428564,821.14285714285745,268.14285714285722,76,21.999999999999989,6.1428571428571441,2.5714285714285707,1.857142857142857,0,0.2857142857142857,0,0.14285714285714285,1,{"$f":"SUM(D117:W117)","v":11040.857142857141},{"$f":"IF((SUM(Y21:Y116))=0,\"N/A\",(AVERAGEIF(Y21:Y116,\">0\")))","v":37.731447085081349},{"$f":"IF((SUM(Z21:Z116))=0,\"N/A\",(AVERAGEIF(Z21:Z116,\">0\")))","v":44.237527777777778},{"$f":"IF((SUM(AA21:AA116))=0,\"N/A\",(AVERAGEIF(AA21:AA116,\">0\")))","v":14.817708333333337},{"$f":"IF((SUM(AB21:AB116))=0,\"N/A\",(AVERAGEIF(AB21:AB116,\">0\")))","v":67.92291666666668}]

{"sheet":"ARX Key","index":11,"n_rows":25,"n_cols":7,"rows_kept":25,"cut":false,"hidden":false,"merged":[[13,6,15,6],[16,6,18,6],[19,6,24,6]]}
[null,null,null,null,"Job Number",{"$f":"Offsets!I1","v":"3185-WAL"}]
[null,null,null,null,"Client:",{"$f":"Offsets!L1","v":"WYG"}]
[null,null,null,null,"Project:",{"$f":"Offsets!G1","v":"St Athan"}]
[null,null,null,null,"Location:",{"$f":"Offsets!H3","v":"51.39833, -3.41253"}]
[null,null,null,null,"Site No.",{"$f":"Offsets!I3","v":1}]
[null,null,null,null,"Road",{"$f":"Offsets!G3","v":"B4265"}]
[null,null,null,null,"Start Date:",{"$f":"Offsets!L3","v":"2016-06-07"}]
[null,null,null,null,"Directions",{"$f":"Offsets!J3","v":"Eastbound"},{"$f":"Offsets!K3","v":"Westbound"}]
[]
[]
[]
[]
["Class","Axles","Axle Groups","Description",null,"Dominant Vehicle","Aggregate"]
[1,2,"1 or 2","Very Short - Bicycle or Motorcycle",null,null,"Light"]
[2,2,"1 or 2","Short - Car, 4WD or Light Van"]
[3,"3/4/5",3,"Short Towing - Trailer, Caravan etc."]
[4,2,2,"2-Axle Truck or Bus",null,null,"Medium"]
[5,3,2,"3-Axle Truck or Bus"]
[6,">3",2,"4-Axle Truck"]
[7,3,3,"3-Axle Articulated Vehicle or Rigid Vehicle & Trailer",null,null,"Heavy"]
[8,4,">2","4-Axle Articulated Vehicle or Rigid Vehicle & Trailer"]
[9,5,">2","5-Axle Articulated Vehicle or Rigid Vehicle & Trailer"]
[10,">=6",">2","6 (or more) Axle Articulated Vehicle or Rigid Vehicle & Trailer"]
[11,">6",4,"B-Double or Heavy Truck & Trailer"]
[12,">6",">=5","Double or Triple Heavy Truck & 2 (or more) Trailers"]

{"sheet":"Site Plans","index":12,"n_rows":12,"n_cols":12,"rows_kept":12,"cut":false,"hidden":false,"merged":[[3,9,3,11]]}
[null,null,null,null,null,null,null,"Client:",null,{"$f":"Menu!H2","v":"WYG"}]
[null,null,null,null,null,null,null,"Project:",null,{"$f":"Menu!H3","v":"St Athan"}]
[null,null,null,null,null,null,null,"Job Number",null,{"$f":"Menu!H1","v":"3185-WAL"}]
[null,null,null,null,null,null,null,"Start Date:",null,{"$f":"Menu!H7","v":"2016-06-07"}]
[null,null,null,null,null,null,null,"Site No.",null,{"$f":"VLOOKUP(E12,Offsets!H27:N47,4,0)","v":1}]
[null,null,null,null,null,null,null,"Road",null,{"$f":"VLOOKUP(E12,Offsets!H27:N47,2,0)","v":"B4265"}]
[null,null,null,null,null,null,null,"Location:",null,{"$f":"VLOOKUP(E12,Offsets!H27:N47,3,0)","v":"51.39833, -3.41253"}]
[null,null,null,null,null,null,null,"Directions",null,{"$f":"VLOOKUP(E12,Offsets!H27:N47,5,0)","v":"Eastbound"},null,{"$f":"VLOOKUP(E12,Offsets!H27:N47,6,0)","v":"Westbound"}]
[]
[]
[]
[null,null,null,2,{"$f":"OFFSET(PictureList!A1,D12-1,0,1,1)","v":"1. B4265 - 51.39833, -3.41253"},{"$f":"PictureList!$A$1:$A$20","v":0}]